{"text_format":"3","workbook":"xlsx","n_sheets":9,"sheets":["Title","Registry Full","Report1","Report2","Report3","Report4","Presets","Instruction","Charts"],"not_rendered":{"charts":6,"images":2,"macros":1,"defined_names":13},"read":"whole","date_system":"1900"}

{"sheet":"Title","index":0,"n_rows":21,"n_cols":1,"rows_kept":21,"merged":[[11,0,11,9],[13,0,13,9],[20,0,20,9]]}
{"$rows_empty":11}
["Асоциация по Водоснабдяване и канализация"]
[]
["ДОБРИЧ"]
[]
[]
[]
[]
[]
[]
["Регистър на клиентските жалби и оплаквания"]

{"sheet":"Registry Full","index":1,"n_rows":3006,"n_cols":34,"rows_kept":3006,"merged":[[2,4,2,5],[2,8,2,12],[2,13,2,14],[2,16,4,16],[2,17,2,19],[2,20,4,20],[2,21,4,21],[2,22,2,23],[2,24,3,25],[3,4,4,4],[3,10,3,12]]}
[{"$nulls":3},"Регистър на клиентските оплаквания",null,null,{"$f":"\"Асоциация по ВиК - \"&Title!$A$14","v":"Асоциация по ВиК - ДОБРИЧ"},null,"съгл.чл.198з от ЗВ и чл.12.5 от Договор между АВиК и ВиКО",{"$nulls":24},{"$f":"COLUMN()","v":34}]
[{"$nulls":32},"Въведи име на файла с разширението:","Complaints-register-ViKOSmolyan2015.xlsm"]
["№","Получено/","Вх.№/дата от","Дата на","Подател",null,"Тип","Тип на оплакването","Местоположение на проблема",{"$nulls":4},"Резолюция",null,"Статус/ ","Възложено на:\n(Длъжност)","Отговор",null,null,"Препратено на (институция)","Вх.№/дата в\nприемаща институция","Необходими последващи действия",null,"Разрешен проблем",{"$nulls":7},"Пример:","Complaints-register-ViKOSmolyan2015.xlsm"]
["по","препратено","деловодителски","входиране","(име на физ.лице/фирма/ институция)","Юр.лице/","жалба","(естество на проблема)","Експлоат.","Селище","Адрес",null,null,"Да/","Дата","предприети",null,"Изх.№ от","Дата","Дни",null,null,"Кратко описание","Краен срок"]
["ред","от/чрез","регистър",null,null,"Физ.лице",null,null,"Район",null,"Квартал","Улица","№","Не",null,"действия",null,"делов.рег.",{"$nulls":6},"Дата","Дни"]
[1,2,3,4,5,6,7,8,9,10,11,12,13,14,15,16,17,18,19,20,21,22,23,24,25,26]
[1,"Потребител","АдК13-1/11.01.2021",{"$f":"IF(C7=\"\",0,VALUE(RIGHT(C7,LEN(C7)-FIND(\"/\",C7,LEN(C7)-10))))","v":"2021-01-11"},"Живко Георгиев ","ФЛ","Електронна","Друго по водоснабдяване","Добрич град",null,"м.Гази Баба","ул. Втори път",null,"Да","2021-01-11","Приключило","Р-л Район Добрич 1","АдК*13-1","2021-02-02",{"$f":"IF(OR(D7=0,P7=Presets!$C$67),\"\",IF(S7=0,ROUNDDOWN(NOW()-'Registry Full'!D7,0),S7-D7))","v":22},null,null,"Отстраняване на изкопните материали от улицата",null,"2021-02-02",{"$f":"IF(OR(D7=0,Y7=0),\"\",Y7-D7)","v":22}]
[{"$f":"IF(COUNTA(B8)<>0,A7+1,\"\")","v":2},"Потребител","АД-Ж-1/14.01.2021","2021-01-14","Светла Ангелова","ФЛ","По телефона","Грешка в отчитане","Добрич град",null,"ул. \"П.Хитов\"","бл. 3, вх. В, ап. 3",null,"Не",null,"Приключило","Р-л Район Добрич 1",null,"2021-01-18",{"$f":"IF(OR(D8=0,P8=Presets!$C$67),\"\",IF(S8=0,ROUNDDOWN(NOW()-'Registry Full'!D8,0),S8-D8))","v":4},null,null,"Ангажимент на собственика",null,"2021-01-18",4]
[{"$f":"IF(COUNTA(B9)<>0,A8+1,\"\")","v":3},"Потребител","АД-Ж-2/25.01.2021","2021-01-25","Ангелина Михайлова","ФЛ","\"Лице в лице\"","Липса на вода","Добрич селски район",null,"с. Бранище","ул. \"Трета\"",null,"Не",null,"Приключило","Р-л Район Добрич 2",null,"2021-01-29",{"$f":"IF(OR(D9=0,P9=Presets!$C$67),\"\",IF(S9=0,ROUNDDOWN(NOW()-'Registry Full'!D9,0),S9-D9))","v":4},null,null,"Възникнала авария",null,"2021-01-27",2]
[4,"МРРБ","АВиК-01-13-2/4.02.2021","2021-02-04","Златко Стоянов","ФЛ","Електронна","Друго по водоснабдяване","Добрич град",null,"гр. Добрич","бул.\"25-ти Септември\" ",64,"Да","2021-02-04","Приключило","Р-л Район Добрич 1","Ж-71#3","2021-02-18",{"$f":"IF(OR(D10=0,P10=Presets!$C$67),\"\",IF(S10=0,ROUNDDOWN(NOW()-'Registry Full'!D10,0),S10-D10))","v":14},null,null,"Възникнала авария на водопроводното отклонение",null,"2021-02-18",14]
[5,"Друго","АдК-15-2/10.02.2021","2021-02-10","Община Добричка","ЮЛ","Писмена","Липса на вода","Добрич селски район",null,"с. Медово","с. Медово",null,"Да","2021-02-10","Приключило","Р-л Район Добрич 2","АдК15-2","2021-02-15",{"$f":"IF(OR(D11=0,P11=Presets!$C$67),\"\",IF(S11=0,ROUNDDOWN(NOW()-'Registry Full'!D11,0),S11-D11))","v":5},null,null,"Възникнали аварии",null,"2021-02-15",5]
[6,"Потребител","АВиК-01-13-3/22.2.2021","2021-02-22","Февзи Османов","ЮЛ","Писмена","Липса на вода","Добрич град",null,"с.Поп Груево, с.Божан,с.Честименско","бл. 14, ап. 9",null,"Да","2021-02-22","Приключило","Р-л Район Добрич 1","АВиК-01-13-3/5.03.2021","2021-03-05",{"$f":"IF(OR(D12=0,P12=Presets!$C$67),\"\",IF(S12=0,ROUNDDOWN(NOW()-'Registry Full'!D12,0),S12-D12))","v":11},null,null,"Подмяна на помпен агрегат",null,"2021-03-05",11]
[7,"Потребител","АД-Ж-3/24.02.2021","2021-02-24","Петър Иванов","ФЛ","По телефона","Липса на вода","Балчик",null,"в.з. Изгрев","ул. \"Осма\"",null,"Не",null,"Приключило","Р-л Район Балчик",null,"2021-02-25",{"$f":"IF(OR(D13=0,P13=Presets!$C$67),\"\",IF(S13=0,ROUNDDOWN(NOW()-'Registry Full'!D13,0),S13-D13))","v":1},null,null,"Отстравяване на авария",null,"2021-02-25",1]
[8,"Друго","АВиК-01-13-6/26.03.2021","2021-03-26","Колеж Добрич при Шуменски университет","ЮЛ","Писмена","Друго","Добрич град",null,"гр. Добрич","Университетска",115,"Да","2021-03-26","Приключило","Управител","Ж-14#8","2021-04-16",{"$f":"IF(OR(D14=0,P14=Presets!$C$67),\"\",IF(S14=0,ROUNDDOWN(NOW()-'Registry Full'!D14,0),S14-D14))","v":21},null,null,"Изграждане на водомерна шахта",null,"2021-04-16",21]
[9,"Потребител","АВиК-01-15-4/24.2.2021","2021-02-24","Васил Василев Лазаров","ФЛ","Писмена","Течове","Добрич град",null,"гр. Добрич","ул. \"Дунав\" № 24, вх. Е",null,"Да","2021-02-24","Приключило","Р-л Район Добрич 1","АВиК-01-15-415-3","2021-03-05",{"$f":"IF(OR(D15=0,P15=Presets!$C$67),\"\",IF(S15=0,ROUNDDOWN(NOW()-'Registry Full'!D15,0),S15-D15))","v":9},null,null,"Повреда на тротоарен кран",null,"2021-03-05",9]
[10,"Потребител","АД-Ж-4/09.03.2021","2021-03-09","Детелина Иванова","ФЛ","По телефона","Липса на вода","Добрич селски район",null,"с. Стожер","с. Стожер",null,"Да","2021-03-09","Препратено","Управител","ВиК-2143","2021-03-17",{"$f":"IF(OR(D16=0,P16=Presets!$C$67),\"\",IF(S16=0,ROUNDDOWN(NOW()-'Registry Full'!D16,0),S16-D16))","v":8},null,null,"Профилактика на помпен агрегат",null,"2021-03-17",8]
[11,"МРРБ","АВиК-01-13-4/11.3.2021","2021-03-11","Ваня Истаткова","ФЛ","Електронна","Наводняване от отпад. води","Добрич град",null,"гр. Добрич","ул. \"Д.Списаревски\"",20,"Да","2021-03-11","Приключило","Р-л Район Добрич 1","АВиК01-13-4","2021-03-19",{"$f":"IF(OR(D17=0,P17=Presets!$C$67),\"\",IF(S17=0,ROUNDDOWN(NOW()-'Registry Full'!D17,0),S17-D17))","v":8},null,null,"Канализацията е почистена",null,"2021-03-19",8]
[12,"МРРБ","АВиК-01-13-5/12.3.2021","2021-03-12","Дина Иванова","ФЛ","Електронна","Липса на вода","Добрич селски район",null,"с. Стожер",null,null,"Да","2021-03-12","Приключило","Р-л Район Добрич 2","АВиК01-13-5"," 24.03.2021",{"$f":"IF(OR(D18=0,P18=Presets!$C$67),\"\",IF(S18=0,ROUNDDOWN(NOW()-'Registry Full'!D18,0),S18-D18))","v":{"$error":"#VALUE!"}},null,null,"Проблем с водоснабдяване на селото",null,"2021-03-24",12]
[13,"Друго","АВиК-01-13-3/15.3.2021","2021-03-15","Кабинета на Министър-Председателя","ЮЛ","Електронна","Липса на вода","Тервел",null,"с.Поп  Груево,Божан, Честименско",null,null,"ДА","2021-03-15","Приключило","Зам.управител","ВиК-527#3","2021-03-23",{"$f":"IF(OR(D19=0,P19=Presets!$C$67),\"\",IF(S19=0,ROUNDDOWN(NOW()-'Registry Full'!D19,0),S19-D19))","v":8},null,null,"Изгоряла потопяема помпа на СК ЖФК-гр. Тервел",null,"2021-03-23",8]
[14,"Потребител","АдК-13-12/19.03.2021","2021-03-19","Георги Петров","ФЛ","Писмена","Запушване на канализация","Добрич град",null,"жк \"Балик\"","бл. 17, вх. А и Б",null,"Да","2021-03-19","Приключило","Управител","АдК-13-12","2021-03-21",{"$f":"IF(OR(D20=0,P20=Presets!$C$67),\"\",IF(S20=0,ROUNDDOWN(NOW()-'Registry Full'!D20,0),S20-D20))","v":2},null,null,"Канализационната шахта е почистена",null,"2020-03-21",-363]
[15,"Потребител","АД-Ж-5/23.03.2021","2021-03-23","Стоян Германов","ФЛ","По телефона","Течове","Добрич град",null,"ул. \"Марица\"","около № 21",null,"Не"," ","Приключило","Р-л Район Добрич 1",null,"2021-03-25",{"$f":"IF(OR(D21=0,P21=Presets!$C$67),\"\",IF(S21=0,ROUNDDOWN(NOW()-'Registry Full'!D21,0),S21-D21))","v":2},null,null,"Отстранена авария",null,"2021-03-25",2]
[16,"МРРБ","АВиК-01-15-12/25.3.2021","2021-03-25","Александър Денев","ФЛ","Електронна","Липса на вода","Каварна",null,"с. Българево",null,null,"Да","2021-03-25","Приключило","Р-л Район Каварна","ВиК-881#2","2021-04-05",{"$f":"IF(OR(D22=0,P22=Presets!$C$67),\"\",IF(S22=0,ROUNDDOWN(NOW()-'Registry Full'!D22,0),S22-D22))","v":11},null,null,"Нарушено електрозахранване на ПС Болата",null,"2021-04-05",11]
[17,"Потребител","АВиК-01-14-7/26.03.2021","2021-03-26","Директор ДГ №2 \"Весела\"","ФЛ","Електронна","Наводняване от отпад. води","Добрич град",null,"гр. Добрич","жк \"Дружба\" бл. 54",null,"Да","2021-03-26","Приключило","Управител","ВиК-756#1","2021-04-05",{"$f":"IF(OR(D23=0,P23=Presets!$C$67),\"\",IF(S23=0,ROUNDDOWN(NOW()-'Registry Full'!D23,0),S23-D23))","v":10},null,null,"Канализацията е продухана",null,"2021-04-05",10]
[18,"Потребител","АД-Ж-6/21.3.2021","2021-03-21","Янко Николов","ФЛ","По телефона","Липса на вода","Добрич селски район",null,"с Войсил",null,null,"Не",null,"Приключило",null,null,"2021-03-22",{"$f":"IF(OR(D24=0,P24=Presets!$C$67),\"\",IF(S24=0,ROUNDDOWN(NOW()-'Registry Full'!D24,0),S24-D24))","v":1},null,null,"Отстраняване на авария",null,"2021-03-22",1]
[19,"МРРБ","АВиК-01-13-7/16.04.2021","2021-04-16","Колективна жалба","ЮЛ","Електронна","Липса на вода","Каварна",null,"ул. \"Добротица\"","№ 74,75,79А,81",null,"Да","2021-04-16","Приключило","Р-л Район Каварна","АВиК-01-13-7","2021-04-26",{"$f":"IF(OR(D25=0,P25=Presets!$C$67),\"\",IF(S25=0,ROUNDDOWN(NOW()-'Registry Full'!D25,0),S25-D25))","v":10},null,null,"Проблем с водоснабдяване на улицата.",null,"2021-04-26",10]
[20,"Друго","АВиК-01-13-5/27.5.2021","2021-05-27","Община Добричка","ФЛ","Писмена","Липса на вода","Добрич селски район",null,"с. Стожер",null,null,"Да","2021-05-27","Приключило","Управител","АВиК-01-13-5","2021-06-07",{"$f":"IF(OR(D26=0,P26=Presets!$C$67),\"\",IF(S26=0,ROUNDDOWN(NOW()-'Registry Full'!D26,0),S26-D26))","v":11},null,null,"Проблем със сондажа",null,"2021-06-07",11]
[21,"Потребител","АВиК-01-15-17/11.6.2021","2021-06-11","Жители на с. Градини","ФЛ","Електронна","Липса на вода","Генерал Тошево",null,"с. Градини",null,null,"Да","2021-06-11","Приключило","Управител","АВиК-01-15-17","2021-06-18",{"$f":"IF(OR(D27=0,P27=Presets!$C$67),\"\",IF(S27=0,ROUNDDOWN(NOW()-'Registry Full'!D27,0),S27-D27))","v":7},null,null,"Отстраняване на няколко аварии",null,"2020-06-09",-367]
[22,"Потребител","АД-Ж-7/15.6.2021","2021-06-15","Валентин Симеонов","ФЛ","По телефона","Проверка водомер","Генерал Тошево",null,"гр. Ген. Тошево","ул.\"3-ти Март\" № 39",null,"Не",null,"Приключило","Р-л Район Генерал Тошево",null,"2021-06-17",{"$f":"IF(OR(D28=0,P28=Presets!$C$67),\"\",IF(S28=0,ROUNDDOWN(NOW()-'Registry Full'!D28,0),S28-D28))","v":2},null,null,"Водомера е подменен и засечен",null,"17.06.201",{"$error":"#VALUE!"}]
[23,"МРРБ","АВиК-01-13-8/25.6.2021","2021-06-25","Камелия Стефанова","ФЛ","Електронна","Липса на вода","Добрич селски район",null,"с.Сенокос",null,null,"Да","2021-06-25","Приключило","Р-л Район Добрич 2","АВиК01-13-8","2021-07-05",{"$f":"IF(OR(D29=0,P29=Presets!$C$67),\"\",IF(S29=0,ROUNDDOWN(NOW()-'Registry Full'!D29,0),S29-D29))","v":10},null,null,"Профилактика на помпен агрегат",null,"2021-07-05",10]
[24,"Друго","АВиК-01-14-10/23.6.2021","2021-06-23","Община Добрич ","ЮЛ","Писмена","Запушване на канализация","Добрич град",null,"гр. Добрич","ул. \"Опълченска\"№69-71",null,"Да","2021-06-23","Приключило","Р-л Район Добрич 1","АВиК-01-14-10","2021-06-25",{"$f":"IF(OR(D30=0,P30=Presets!$C$67),\"\",IF(S30=0,ROUNDDOWN(NOW()-'Registry Full'!D30,0),S30-D30))","v":2},null,null,"Почистена е канализацията на улицата",null,"2021-06-25",2]
[25,"МРРБ","АВиК-01-13-9/30.6.2021","2021-06-30","Димитър Иванов","ФЛ","Електронна","Лошо качество вода","Добрич селски район",null,"с. Ново Ботево",null,null,"Да","2021-06-30","Приключило","Р-л Район Добрич 2","АВиК-01-13-9","2021-07-05",{"$f":"IF(OR(D31=0,P31=Presets!$C$67),\"\",IF(S31=0,ROUNDDOWN(NOW()-'Registry Full'!D31,0),S31-D31))","v":5},null,null,"Водата е с мирис на белина",null,"2021-07-05",5]
[26,"МРРБ","АВиК-01-15-19/2.7.2021","2021-07-02","Ваня Захариева","ФЛ","Писмена","Некачествен ремонт водопр.","Добрич град",null,"бул.\"3-ти Март\"","№ 43, вх. А,Б и В",null,"Да","2021-07-02","Приключило","Р-л Район Добрич 1","АВиК01-15-19","2021-07-12",{"$f":"IF(OR(D32=0,P32=Presets!$C$67),\"\",IF(S32=0,ROUNDDOWN(NOW()-'Registry Full'!D32,0),S32-D32))","v":10},null,null,"Невъзстановена настилка след отстраняване на авария",null,"2021-07-12",10]
[27,"Друго","АВиК-01-13-10/1.7.2021","2021-07-01","Димитър Делчев","ФЛ","Електронна","Друго","Добрич град",null,"В и К Добрич",null,null,"Да","2021-07-01","Приключило","Управител","ВиК-2020","2021-07-09",{"$f":"IF(OR(D33=0,P33=Presets!$C$67),\"\",IF(S33=0,ROUNDDOWN(NOW()-'Registry Full'!D33,0),S33-D33))","v":8},null,null,"Проблеми във връзка с предоставяне на ВиК услугите",null,"2021-07-09",8]
[28,"Потребител","АД-Ж-8/6.7.2021","2021-07-06","Ивайло Тодоров","ФЛ","По телефона","Течове","Добрич град",null,"гр. Добрич","ул. \"П.Д. Петков",14,"Не",null,"Приключило","Р-л Район Добрич 1",null,"2021-07-07",{"$f":"IF(OR(D34=0,P34=Presets!$C$67),\"\",IF(S34=0,ROUNDDOWN(NOW()-'Registry Full'!D34,0),S34-D34))","v":1},null,null,"Спукана тръба на водопроводно отклоние",null,"2021-07-07",1]
[29,"МРРБ","АВиК-01-13-5/13.7.2021","2021-07-13","Дияна Иванова","ФЛ","Електронна","Липса на вода","Добрич селски район",null,"с. Стожер",null,null,"Да","2021-07-13","Приключило","Р-л Район Добрич 2","ВиК-2148","2021-07-19",{"$f":"IF(OR(D35=0,P35=Presets!$C$67),\"\",IF(S35=0,ROUNDDOWN(NOW()-'Registry Full'!D35,0),S35-D35))","v":6},null,null,"Проблем със сондажа",null,"2021-07-19",6]
[30,"Потребител","АД-Ж-9/27.7.2021","2021-07-27","Иванка Драгнева","ФЛ","По телефона","Липса на вода","Балчик",null,"в.з. \"Белите скали\"",null,null,"Не",null,"Приключило","Р-л Район Балчик",null,"2021-07-28",{"$f":"IF(OR(D36=0,P36=Presets!$C$67),\"\",IF(S36=0,ROUNDDOWN(NOW()-'Registry Full'!D36,0),S36-D36))","v":1},null,null,"Отстранена авария",null,"2021-07-28",1]
[31,"Потребител","АД-Ж-10/ 30.7.2021","2021-07-30","Живка Петрова","ФЛ","По телефона","Липса на вода","Балчик",null,"вилна зона \"Изгрев\"",null,null,"Не",null,"Приключило","Р-л Район Балчик",null,"2021-07-31",{"$f":"IF(OR(D37=0,P37=Presets!$C$67),\"\",IF(S37=0,ROUNDDOWN(NOW()-'Registry Full'!D37,0),S37-D37))","v":1},null,null,"Спукана тръба на водопроводно отклоние",null,"2021-07-31",1]
[32,"Потребител","АД-Ж-11/1.8.2021","2021-08-01","Живущите на вилна зона \"Изгрев\"","ФЛ","По телефона","Липса на вода","Балчик",null,"вилна зона \"Изгрев\" ",null,8,"Не",null,"Приключило","Р-л Район Балчик",null,"2021-08-02",{"$f":"IF(OR(D38=0,P38=Presets!$C$67),\"\",IF(S38=0,ROUNDDOWN(NOW()-'Registry Full'!D38,0),S38-D38))","v":1},null,null,"Електрозахранване на ПС Оброчище",null,"2021-08-02",1]
[33,"Потребител","АВиК-01-15-20/2.8.2021","2021-08-02","Тодор Спасов Калинов","ФЛ","Писмена","Липса на вода","Балчик",null,"в.з. \"Фиш-Фиш\"ул. \"Четвърта\" № 20",null,null,"Да","2021-08-02","Приключило","Р-л Район Балчик","ВиК-2290","2021-08-07",{"$f":"IF(OR(D39=0,P39=Presets!$C$67),\"\",IF(S39=0,ROUNDDOWN(NOW()-'Registry Full'!D39,0),S39-D39))","v":5},null,null,"Ремонтна дейност",null,"2021-08-07",5]
[34,"МРРБ","АВиК-01-15-21/9.8.2021","2021-08-09","Шенол Асан","ФЛ","Писмена","Грешка в отчитане","Балчик",null,"гр. Балчик","ул.\"Генерал Попов\"",6,"Да","2021-08-09","Приключило","Р-л Район Балчик","ВиК-2310","2021-08-12",{"$f":"IF(OR(D40=0,P40=Presets!$C$67),\"\",IF(S40=0,ROUNDDOWN(NOW()-'Registry Full'!D40,0),S40-D40))","v":3},null,null,"Грешка при отчитане на показанията ",null,"2021-08-12",3]
[35,"МРРБ","АВиК-01-13-13/26.8.2021","2021-08-26","Олег Асенов","ФЛ","Електронна","Прекъсване на услугата","Генерал Тошево",null,"с. Люляково","ул. \"17-та\"",null,"Да","2021-08-26","Приключило","Р-л Район Генерал Тошево",null,"2021-08-31",{"$f":"IF(OR(D41=0,P41=Presets!$C$67),\"\",IF(S41=0,ROUNDDOWN(NOW()-'Registry Full'!D41,0),S41-D41))","v":5},null,null,"Нарушено водоподаване на посочената улеца",null,"2021-08-31",5]
[36,"МРРБ","АВиК-01-13-14/30.8.2021","2021-08-30","Йордан Христов","ФЛ","Електронна","Проблеми с налягане","Добрич селски район",null,"с Владимирово","ул. \"16-та\"",null,"Да","2021-08-30","Приключило","Р-л Район Добрич 2",null,"2021-09-01",{"$f":"IF(OR(D42=0,P42=Presets!$C$67),\"\",IF(S42=0,ROUNDDOWN(NOW()-'Registry Full'!D42,0),S42-D42))","v":2},null,null,"Ниско налягане и липса на водоподаване",null,"2021-09-01",2]
[37,"МРРБ","АВиК-01-13-15/30.8.2021","2021-08-30","Жители на с. Ръковски","ФЛ","Писмена","Липса на вода","Каварна",null,"с. Ръковски",null,null,"Да","2021-08-30","Приключило","Р-л Район Каварна","ВиК-2430","2021-09-17",{"$f":"IF(OR(D43=0,P43=Presets!$C$67),\"\",IF(S43=0,ROUNDDOWN(NOW()-'Registry Full'!D43,0),S43-D43))","v":18},null,null,"Липсва водоподаване по 2-3 дни идва за кратко но със слабо налягане",null,"2021-09-17",18]
[38,"Друго","АВиК-01-14-16/30.8.2021","2021-08-30","Община Добричка","ЮЛ","Писмена","Липса на вода","Добрич селски район",null,"с.Росеново,Божурово,Пчелино,Драганово",null,null,"Да","2021-08-30","Приключило","Р-л Район Добрич 2",null,"2021-09-23",{"$f":"IF(OR(D44=0,P44=Presets!$C$67),\"\",IF(S44=0,ROUNDDOWN(NOW()-'Registry Full'!D44,0),S44-D44))","v":24},null,null,"Липса на вода",null,"2021-09-23",24]
[39,"МРРБ","АВИК-01-13-16/03.9.2021","2021-09-03","Мариана Николова","ФЛ","Електронна","Прекъсване на услугата","Добрич селски район",null,"с. Свобода","ул. \"Втора\" ",11,"Не","2021-09-03","Приключило","Р-л Район Добрич 2","ВиК-2657","2021-09-08",{"$f":"IF(OR(D45=0,P45=Presets!$C$67),\"\",IF(S45=0,ROUNDDOWN(NOW()-'Registry Full'!D45,0),S45-D45))","v":5},null,null,"Имотът е бил необитаем, партидата е  променена",null,"2021-09-08",5]
[40,"Потребител","АД-Ж-12/07.09.2021","2021-09-07","Иван Георгиев","ФЛ","По телефона","Липса на вода","Добрич селски район",null,"с. Драганово  и с. Войсил",null,null,"Не",null,"Приключило","Р-л Район Добрич 2",null,"2021-09-08",{"$f":"IF(OR(D46=0,P46=Presets!$C$67),\"\",IF(S46=0,ROUNDDOWN(NOW()-'Registry Full'!D46,0),S46-D46))","v":1},null,null,"Отстранена авария",null,"2021-09-08",1]
[41,"Потребител","АД-Ж-13/14.09.2021","2021-09-14","Димитър Петков","ФЛ","По телефона","Грешка в сумата","Балчик","Балчик","гр. Балчик","ж.к. \"Балик\"  бл. 10",null,"Не",null,"Приключило","Р-л Район Балчик",null,"2021-09-16",{"$f":"IF(OR(D47=0,P47=Presets!$C$67),\"\",IF(S47=0,ROUNDDOWN(NOW()-'Registry Full'!D47,0),S47-D47))","v":2},null,null,"Грешка няма, сумата се дължи",null,"2021-09-16",2]
[42,"Потребител","АД-Ж-14/29.09.2021","2021-09-29","Нина Александрова ","ФЛ","По телефона","Наводняване от отпад. води","Добрич град",null,"гр. Добрич","ж.к. \"Балик\"  бл. 51, вй. А",null,"Да",null,"Приключило","Р-л Район Добрич 1",null,"2021-10-04",{"$f":"IF(OR(D48=0,P48=Presets!$C$67),\"\",IF(S48=0,ROUNDDOWN(NOW()-'Registry Full'!D48,0),S48-D48))","v":5},null,null,"Отпушване на СКО",null,"2021-10-04",5]
[43,"Друго","АВиК-01-15-24/23.09.2021","2021-09-23","Галя Траянова","ФЛ","Електронна","Липса на вода","Балчик",null,"с. Сенокос","ул. \"9-ти Септември\"",9,"Да","2021-09-23","Приключило","Р-л Район Балчик","ВиК-2792","2021-10-08",{"$f":"IF(OR(D49=0,P49=Presets!$C$67),\"\",IF(S49=0,ROUNDDOWN(NOW()-'Registry Full'!D49,0),S49-D49))","v":15},null,null,"Продължително прекъсване на ел.захранването на ПС Оброчище",null,"2021-10-08",15]
[44,"Потребител","АВиК-01-15-25/23.9.2021","2021-09-23","Живущите в Ж.К.\"Хр.Ботев\" бл. 8","ФЛ","Писмена","Наводняване от отпад. води","Добрич град",null,"гр. Добрич","ж.к. \"Хр.Ботев\" бл.8,вх.А,Б,В",null,"Да","2021-09-23","Приключило","Управител","ВиК-2815","2021-10-13",{"$f":"IF(OR(D50=0,P50=Presets!$C$67),\"\",IF(S50=0,ROUNDDOWN(NOW()-'Registry Full'!D50,0),S50-D50))","v":20},null,null,"Почистена шахта.",null,"2021-10-13",20]
[45,"Потребител","АВиК-01-15-26/30.9.2021","2021-09-30","Живущите на ул. \"Кубадин\"  бл.16 и 17","ФЛ","Писмена","Друго по водоснабдяване","Добрич град",null,"гр. Добрич","ул. \"Кубадин\" бл. 16 и 17",null,"Да","2021-09-30","Приключило","Р-л Район Добрич 1","ВиК-2941","2021-10-12",{"$f":"IF(OR(D51=0,P51=Presets!$C$67),\"\",IF(S51=0,ROUNDDOWN(NOW()-'Registry Full'!D51,0),S51-D51))","v":12},null,null,"Не са прекъснати 2  стари тротоарни крана след монтиране на новите.",null,"2021-10-12",12]
[46,"Потребител","АД-Ж-15/05.10.2021","2021-10-05","Господин Господинов","ФЛ","По телефона","Проблеми с налягане","Добрич селски район",null,"с. Бранище","ул. \"Трета\"",null,"Не",null,"Приключило","Р-л Район Добрич 2",null,"2021-10-07",{"$f":"IF(OR(D52=0,P52=Presets!$C$67),\"\",IF(S52=0,ROUNDDOWN(NOW()-'Registry Full'!D52,0),S52-D52))","v":2},null,null,"Отстраняване на авария",null,"2021-10-07",2]
[47,"Потребител","АД-Ж-16/18.10.2021","2021-10-18","Иванка Миткова","ФЛ","По телефона","Разпределение обща вода","Добрич град",null,"гр. Добрич","ж.к.\"Дружба\" 19, вх. А, ап.9",null,"Не",null,"Приключило","Р-л Район Добрич 1",null,"2021-10-20",{"$f":"IF(OR(D53=0,P53=Presets!$C$67),\"\",IF(S53=0,ROUNDDOWN(NOW()-'Registry Full'!D53,0),S53-D53))","v":2},null,null,"Проверката установи кражба на вода във вход А  на блока",null,"2021-10-20",2]
[48,"Потребител","АД-Ж-17/20.10.2021","2021-10-20","Веселин Димитров","ФЛ","По телефона","Течове","Добрич град",null,"гр. Добрич","ул. Оборище",null,"Не",null,"Приключило","Р-л Район Добрич 1",null,"2021-10-23",{"$f":"IF(OR(D54=0,P54=Presets!$C$67),\"\",IF(S54=0,ROUNDDOWN(NOW()-'Registry Full'!D54,0),S54-D54))","v":3},null,null,"Отстранена  авария",null,null,""]
[49,"МРРБ","АВиК-01-13-3/23.2.2021","2021-02-23","Ваня Петкова","ФЛ","Електронна","Некачествен ремонт водопр.","Добрич град",null,"гр. Добрич","ул.\"Д.Списаревски\" №12и№ 20",null,"Да","2021-02-23","Приключило","Р-л Район Добрич 1","АВиК-01-13-3/5.03.2021","2021-02-26",{"$f":"IF(OR(D55=0,P55=Presets!$C$67),\"\",IF(S55=0,ROUNDDOWN(NOW()-'Registry Full'!D55,0),S55-D55))","v":3},null,null,"Ремонт на положения водопровод по улицата",null,"2021-02-26",3]
[50,"КЕВР","АВиК-01-15-12/19.5.2021","2021-05-19","Драгни Тодоров","ФЛ","Електронна","Друго","Добрич град",null,"гр. Добрич","ул.\"Господин Желязков\" ",3,"Да","2021-05-19","Приключило","Р-л Район Добрич 1","АВиК-01-15-12","2021-05-27",{"$f":"IF(OR(D56=0,P56=Presets!$C$67),\"\",IF(S56=0,ROUNDDOWN(NOW()-'Registry Full'!D56,0),S56-D56))","v":8},null,null,"По съдебно решение е възстановено водоподаването на адреса",null,"2021-05-27",8]
[51,"Потребител","АдК-16-50/27.09.2021","2021-09-27","Митко Стоянов Митев","ФЛ","Писмена","Друго по канализация","Добрич град",null,"гр. Добрич","ул. \"Боряна\"",27,"Да","2021-09-27","Приключило","Р-л Район Добрич 1","АдК-16-50","2021-10-08",{"$f":"IF(OR(D57=0,P57=Presets!$C$67),\"\",IF(S57=0,ROUNDDOWN(NOW()-'Registry Full'!D57,0),S57-D57))","v":11},null,null,"Възстановена е прекъсната от водния цикъл тръба на млъсния канал",null,"2021-10-08",11]
[52,"Потребител","АД-Ж-18/11.10.2021","2021-10-11","Даниела Игнатова","ФЛ","По телефона","Течове","Добрич град",null,"гр. Добрич","ул. \"Максим Горки\"",null,"Не",null,"Приключило","Р-л Район Добрич 1",null,"2021-10-14",{"$f":"IF(OR(D58=0,P58=Presets!$C$67),\"\",IF(S58=0,ROUNDDOWN(NOW()-'Registry Full'!D58,0),S58-D58))","v":3},null,null,"Отстранена авария",null,"2021-10-14",3]
[53,"Потребител","АВиК-01-15-35/18.11.2021","2021-11-18","Росица Пилева","ФЛ","Писмена","Запушване на канализация","Добрич град",null,"гр. Добрич","ж.к \"Добротица\"бл.36,вх.А",null,"Да","2021-11-18","Приключило","Р-л Район Добрич 1","ВиК-3487","2021-11-25",{"$f":"IF(OR(D59=0,P59=Presets!$C$67),\"\",IF(S59=0,ROUNDDOWN(NOW()-'Registry Full'!D59,0),S59-D59))","v":7},null,null,"Отпушени шахти на канализацията",null,"2021-11-25",7]
[54,"Потребител","АВиК-01-15-36/1.12.2021","2021-12-01","Илга Иванова","ФЛ","Писмена","Запушване на канализация","Добрич град",null,"гр. Добрич","бул.\"25 Септември\"№23,вх.Б",null,"Да","2021-12-01","Приключило","Р-л Район Добрич 1","ВиК-3604","2021-12-06",{"$f":"IF(OR(D60=0,P60=Presets!$C$67),\"\",IF(S60=0,ROUNDDOWN(NOW()-'Registry Full'!D60,0),S60-D60))","v":5},null,null,"Почистена е уличната канализацията",null,"2021-12-06",5]
[55,"Потребител","АВиК-01-15-39/14.12.2021","2021-12-14","Светлана Желязкова","ФЛ","Електронна","Липса на вода","Добрич селски район",null,"с.Владимирово","ул. \"Първа\" № 70",null,"Да","2021-12-14","Приключило","Р-л Район Добрич 2","ВиК-3691","2021-12-23",{"$f":"IF(OR(D61=0,P61=Presets!$C$67),\"\",IF(S61=0,ROUNDDOWN(NOW()-'Registry Full'!D61,0),S61-D61))","v":9},null,null,"Отстранена авария",null,"2021-12-23",9]
["",null,null,"00:00:00",{"$nulls":15},{"$f":"IF(OR(D62=0,P62=Presets!$C$67),\"\",IF(S62=0,ROUNDDOWN(NOW()-'Registry Full'!D62,0),S62-D62))","v":""},{"$nulls":5},""]
["",null,null,"00:00:00",{"$nulls":15},{"$f":"IF(OR(D63=0,P63=Presets!$C$67),\"\",IF(S63=0,ROUNDDOWN(NOW()-'Registry Full'!D63,0),S63-D63))","v":""},{"$nulls":5},""]
["",null,null,"00:00:00",{"$nulls":15},{"$f":"IF(OR(D64=0,P64=Presets!$C$67),\"\",IF(S64=0,ROUNDDOWN(NOW()-'Registry Full'!D64,0),S64-D64))","v":""},{"$nulls":5},""]
["",null,null,"00:00:00",{"$nulls":15},{"$f":"IF(OR(D65=0,P65=Presets!$C$67),\"\",IF(S65=0,ROUNDDOWN(NOW()-'Registry Full'!D65,0),S65-D65))","v":""},{"$nulls":5},""]
["",null,null,"00:00:00",{"$nulls":15},{"$f":"IF(OR(D66=0,P66=Presets!$C$67),\"\",IF(S66=0,ROUNDDOWN(NOW()-'Registry Full'!D66,0),S66-D66))","v":""},{"$nulls":5},""]
["",null,null,"00:00:00",{"$nulls":15},{"$f":"IF(OR(D67=0,P67=Presets!$C$67),\"\",IF(S67=0,ROUNDDOWN(NOW()-'Registry Full'!D67,0),S67-D67))","v":""},{"$nulls":5},""]
["",null,null,"00:00:00",{"$nulls":15},{"$f":"IF(OR(D68=0,P68=Presets!$C$67),\"\",IF(S68=0,ROUNDDOWN(NOW()-'Registry Full'!D68,0),S68-D68))","v":""},{"$nulls":5},""]
["",null,null,"00:00:00",{"$nulls":15},{"$f":"IF(OR(D69=0,P69=Presets!$C$67),\"\",IF(S69=0,ROUNDDOWN(NOW()-'Registry Full'!D69,0),S69-D69))","v":""},{"$nulls":5},""]
["",null,null,"00:00:00",{"$nulls":15},{"$f":"IF(OR(D70=0,P70=Presets!$C$67),\"\",IF(S70=0,ROUNDDOWN(NOW()-'Registry Full'!D70,0),S70-D70))","v":""},{"$nulls":5},""]
["",null,null,"00:00:00",{"$nulls":15},{"$f":"IF(OR(D71=0,P71=Presets!$C$67),\"\",IF(S71=0,ROUNDDOWN(NOW()-'Registry Full'!D71,0),S71-D71))","v":""},{"$nulls":5},{"$f":"IF(OR(D71=0,Y71=0),\"\",Y71-D71)","v":""}]
["",null,null,{"$f":"IF(C72=\"\",0,VALUE(RIGHT(C72,LEN(C72)-FIND(\"/\",C72,LEN(C72)-10))))","v":"00:00:00"},{"$nulls":15},{"$f":"IF(OR(D72=0,P72=Presets!$C$67),\"\",IF(S72=0,ROUNDDOWN(NOW()-'Registry Full'!D72,0),S72-D72))","v":""},{"$nulls":5},""]
[{"$f":"IF(COUNTA(B73)<>0,A72+1,\"\")","v":""},null,null,"00:00:00",{"$nulls":15},{"$f":"IF(OR(D73=0,P73=Presets!$C$67),\"\",IF(S73=0,ROUNDDOWN(NOW()-'Registry Full'!D73,0),S73-D73))","v":""},{"$nulls":5},""]
["",null,null,"00:00:00",{"$nulls":15},{"$f":"IF(OR(D74=0,P74=Presets!$C$67),\"\",IF(S74=0,ROUNDDOWN(NOW()-'Registry Full'!D74,0),S74-D74))","v":""},{"$nulls":5},""]
["",null,null,"00:00:00",{"$nulls":15},{"$f":"IF(OR(D75=0,P75=Presets!$C$67),\"\",IF(S75=0,ROUNDDOWN(NOW()-'Registry Full'!D75,0),S75-D75))","v":""},{"$nulls":5},""]
["",null,null,"00:00:00",{"$nulls":15},{"$f":"IF(OR(D76=0,P76=Presets!$C$67),\"\",IF(S76=0,ROUNDDOWN(NOW()-'Registry Full'!D76,0),S76-D76))","v":""},{"$nulls":5},""]
["",null,null,"00:00:00",{"$nulls":15},{"$f":"IF(OR(D77=0,P77=Presets!$C$67),\"\",IF(S77=0,ROUNDDOWN(NOW()-'Registry Full'!D77,0),S77-D77))","v":""},{"$nulls":5},""]
["",null,null,"00:00:00",{"$nulls":15},{"$f":"IF(OR(D78=0,P78=Presets!$C$67),\"\",IF(S78=0,ROUNDDOWN(NOW()-'Registry Full'!D78,0),S78-D78))","v":""},{"$nulls":5},""]
["",null,null,"00:00:00",{"$nulls":15},{"$f":"IF(OR(D79=0,P79=Presets!$C$67),\"\",IF(S79=0,ROUNDDOWN(NOW()-'Registry Full'!D79,0),S79-D79))","v":""},{"$nulls":5},""]
["",null,null,"00:00:00",{"$nulls":15},{"$f":"IF(OR(D80=0,P80=Presets!$C$67),\"\",IF(S80=0,ROUNDDOWN(NOW()-'Registry Full'!D80,0),S80-D80))","v":""},{"$nulls":5},""]
["",null,null,"00:00:00",{"$nulls":15},{"$f":"IF(OR(D81=0,P81=Presets!$C$67),\"\",IF(S81=0,ROUNDDOWN(NOW()-'Registry Full'!D81,0),S81-D81))","v":""},{"$nulls":5},""]
["",null,null,"00:00:00",{"$nulls":15},{"$f":"IF(OR(D82=0,P82=Presets!$C$67),\"\",IF(S82=0,ROUNDDOWN(NOW()-'Registry Full'!D82,0),S82-D82))","v":""},{"$nulls":5},""]
["",null,null,"00:00:00",{"$nulls":15},{"$f":"IF(OR(D83=0,P83=Presets!$C$67),\"\",IF(S83=0,ROUNDDOWN(NOW()-'Registry Full'!D83,0),S83-D83))","v":""},{"$nulls":5},""]
["",null,null,"00:00:00",{"$nulls":15},{"$f":"IF(OR(D84=0,P84=Presets!$C$67),\"\",IF(S84=0,ROUNDDOWN(NOW()-'Registry Full'!D84,0),S84-D84))","v":""},{"$nulls":5},""]
["",null,null,"00:00:00",{"$nulls":15},{"$f":"IF(OR(D85=0,P85=Presets!$C$67),\"\",IF(S85=0,ROUNDDOWN(NOW()-'Registry Full'!D85,0),S85-D85))","v":""},{"$nulls":5},""]
["",null,null,"00:00:00",{"$nulls":15},{"$f":"IF(OR(D86=0,P86=Presets!$C$67),\"\",IF(S86=0,ROUNDDOWN(NOW()-'Registry Full'!D86,0),S86-D86))","v":""},{"$nulls":5},""]
["",null,null,"00:00:00",{"$nulls":15},{"$f":"IF(OR(D87=0,P87=Presets!$C$67),\"\",IF(S87=0,ROUNDDOWN(NOW()-'Registry Full'!D87,0),S87-D87))","v":""},{"$nulls":5},""]
["",null,null,"00:00:00",{"$nulls":15},{"$f":"IF(OR(D88=0,P88=Presets!$C$67),\"\",IF(S88=0,ROUNDDOWN(NOW()-'Registry Full'!D88,0),S88-D88))","v":""},{"$nulls":5},""]
["",null,null,"00:00:00",{"$nulls":15},{"$f":"IF(OR(D89=0,P89=Presets!$C$67),\"\",IF(S89=0,ROUNDDOWN(NOW()-'Registry Full'!D89,0),S89-D89))","v":""},{"$nulls":5},""]
["",null,null,"00:00:00",{"$nulls":15},{"$f":"IF(OR(D90=0,P90=Presets!$C$67),\"\",IF(S90=0,ROUNDDOWN(NOW()-'Registry Full'!D90,0),S90-D90))","v":""},{"$nulls":5},""]
["",null,null,"00:00:00",{"$nulls":15},{"$f":"IF(OR(D91=0,P91=Presets!$C$67),\"\",IF(S91=0,ROUNDDOWN(NOW()-'Registry Full'!D91,0),S91-D91))","v":""},{"$nulls":5},""]
["",null,null,"00:00:00",{"$nulls":15},{"$f":"IF(OR(D92=0,P92=Presets!$C$67),\"\",IF(S92=0,ROUNDDOWN(NOW()-'Registry Full'!D92,0),S92-D92))","v":""},{"$nulls":5},""]
["",null,null,"00:00:00",{"$nulls":15},{"$f":"IF(OR(D93=0,P93=Presets!$C$67),\"\",IF(S93=0,ROUNDDOWN(NOW()-'Registry Full'!D93,0),S93-D93))","v":""},{"$nulls":5},""]
["",null,null,"00:00:00",{"$nulls":15},{"$f":"IF(OR(D94=0,P94=Presets!$C$67),\"\",IF(S94=0,ROUNDDOWN(NOW()-'Registry Full'!D94,0),S94-D94))","v":""},{"$nulls":5},""]
["",null,null,"00:00:00",{"$nulls":15},{"$f":"IF(OR(D95=0,P95=Presets!$C$67),\"\",IF(S95=0,ROUNDDOWN(NOW()-'Registry Full'!D95,0),S95-D95))","v":""},{"$nulls":5},""]
["",null,null,"00:00:00",{"$nulls":15},{"$f":"IF(OR(D96=0,P96=Presets!$C$67),\"\",IF(S96=0,ROUNDDOWN(NOW()-'Registry Full'!D96,0),S96-D96))","v":""},{"$nulls":5},""]
["",null,null,"00:00:00",{"$nulls":15},{"$f":"IF(OR(D97=0,P97=Presets!$C$67),\"\",IF(S97=0,ROUNDDOWN(NOW()-'Registry Full'!D97,0),S97-D97))","v":""},{"$nulls":5},""]
["",null,null,"00:00:00",{"$nulls":15},{"$f":"IF(OR(D98=0,P98=Presets!$C$67),\"\",IF(S98=0,ROUNDDOWN(NOW()-'Registry Full'!D98,0),S98-D98))","v":""},{"$nulls":5},""]
["",null,null,"00:00:00",{"$nulls":15},{"$f":"IF(OR(D99=0,P99=Presets!$C$67),\"\",IF(S99=0,ROUNDDOWN(NOW()-'Registry Full'!D99,0),S99-D99))","v":""},{"$nulls":5},""]
["",null,null,"00:00:00",{"$nulls":15},{"$f":"IF(OR(D100=0,P100=Presets!$C$67),\"\",IF(S100=0,ROUNDDOWN(NOW()-'Registry Full'!D100,0),S100-D100))","v":""},{"$nulls":5},""]
["",null,null,"00:00:00",{"$nulls":15},{"$f":"IF(OR(D101=0,P101=Presets!$C$67),\"\",IF(S101=0,ROUNDDOWN(NOW()-'Registry Full'!D101,0),S101-D101))","v":""},{"$nulls":5},""]
["",null,null,"00:00:00",{"$nulls":15},{"$f":"IF(OR(D102=0,P102=Presets!$C$67),\"\",IF(S102=0,ROUNDDOWN(NOW()-'Registry Full'!D102,0),S102-D102))","v":""},{"$nulls":5},""]
["",null,null,"00:00:00",{"$nulls":15},{"$f":"IF(OR(D103=0,P103=Presets!$C$67),\"\",IF(S103=0,ROUNDDOWN(NOW()-'Registry Full'!D103,0),S103-D103))","v":""},{"$nulls":5},""]
["",null,null,"00:00:00",{"$nulls":15},{"$f":"IF(OR(D104=0,P104=Presets!$C$67),\"\",IF(S104=0,ROUNDDOWN(NOW()-'Registry Full'!D104,0),S104-D104))","v":""},{"$nulls":5},""]
["",null,null,"00:00:00",{"$nulls":15},{"$f":"IF(OR(D105=0,P105=Presets!$C$67),\"\",IF(S105=0,ROUNDDOWN(NOW()-'Registry Full'!D105,0),S105-D105))","v":""},{"$nulls":5},""]
["",null,null,"00:00:00",{"$nulls":15},{"$f":"IF(OR(D106=0,P106=Presets!$C$67),\"\",IF(S106=0,ROUNDDOWN(NOW()-'Registry Full'!D106,0),S106-D106))","v":""},{"$nulls":5},""]
["",null,null,"00:00:00",{"$nulls":15},{"$f":"IF(OR(D107=0,P107=Presets!$C$67),\"\",IF(S107=0,ROUNDDOWN(NOW()-'Registry Full'!D107,0),S107-D107))","v":""},{"$nulls":5},""]
["",null,null,"00:00:00",{"$nulls":15},{"$f":"IF(OR(D108=0,P108=Presets!$C$67),\"\",IF(S108=0,ROUNDDOWN(NOW()-'Registry Full'!D108,0),S108-D108))","v":""},{"$nulls":5},""]
["",null,null,"00:00:00",{"$nulls":15},{"$f":"IF(OR(D109=0,P109=Presets!$C$67),\"\",IF(S109=0,ROUNDDOWN(NOW()-'Registry Full'!D109,0),S109-D109))","v":""},{"$nulls":5},""]
["",null,null,"00:00:00",{"$nulls":15},{"$f":"IF(OR(D110=0,P110=Presets!$C$67),\"\",IF(S110=0,ROUNDDOWN(NOW()-'Registry Full'!D110,0),S110-D110))","v":""},{"$nulls":5},""]
["",null,null,"00:00:00",{"$nulls":15},{"$f":"IF(OR(D111=0,P111=Presets!$C$67),\"\",IF(S111=0,ROUNDDOWN(NOW()-'Registry Full'!D111,0),S111-D111))","v":""},{"$nulls":5},""]
["",null,null,"00:00:00",{"$nulls":15},{"$f":"IF(OR(D112=0,P112=Presets!$C$67),\"\",IF(S112=0,ROUNDDOWN(NOW()-'Registry Full'!D112,0),S112-D112))","v":""},{"$nulls":5},""]
["",null,null,"00:00:00",{"$nulls":15},{"$f":"IF(OR(D113=0,P113=Presets!$C$67),\"\",IF(S113=0,ROUNDDOWN(NOW()-'Registry Full'!D113,0),S113-D113))","v":""},{"$nulls":5},""]
["",null,null,"00:00:00",{"$nulls":15},{"$f":"IF(OR(D114=0,P114=Presets!$C$67),\"\",IF(S114=0,ROUNDDOWN(NOW()-'Registry Full'!D114,0),S114-D114))","v":""},{"$nulls":5},""]
["",null,null,"00:00:00",{"$nulls":15},{"$f":"IF(OR(D115=0,P115=Presets!$C$67),\"\",IF(S115=0,ROUNDDOWN(NOW()-'Registry Full'!D115,0),S115-D115))","v":""},{"$nulls":5},""]
["",null,null,"00:00:00",{"$nulls":15},{"$f":"IF(OR(D116=0,P116=Presets!$C$67),\"\",IF(S116=0,ROUNDDOWN(NOW()-'Registry Full'!D116,0),S116-D116))","v":""},{"$nulls":5},""]
["",null,null,"00:00:00",{"$nulls":15},{"$f":"IF(OR(D117=0,P117=Presets!$C$67),\"\",IF(S117=0,ROUNDDOWN(NOW()-'Registry Full'!D117,0),S117-D117))","v":""},{"$nulls":5},""]
["",null,null,"00:00:00",{"$nulls":15},{"$f":"IF(OR(D118=0,P118=Presets!$C$67),\"\",IF(S118=0,ROUNDDOWN(NOW()-'Registry Full'!D118,0),S118-D118))","v":""},{"$nulls":5},""]
["",null,null,"00:00:00",{"$nulls":15},{"$f":"IF(OR(D119=0,P119=Presets!$C$67),\"\",IF(S119=0,ROUNDDOWN(NOW()-'Registry Full'!D119,0),S119-D119))","v":""},{"$nulls":5},""]
["",null,null,"00:00:00",{"$nulls":15},{"$f":"IF(OR(D120=0,P120=Presets!$C$67),\"\",IF(S120=0,ROUNDDOWN(NOW()-'Registry Full'!D120,0),S120-D120))","v":""},{"$nulls":5},""]
["",null,null,"00:00:00",{"$nulls":15},{"$f":"IF(OR(D121=0,P121=Presets!$C$67),\"\",IF(S121=0,ROUNDDOWN(NOW()-'Registry Full'!D121,0),S121-D121))","v":""},{"$nulls":5},""]
["",null,null,"00:00:00",{"$nulls":15},{"$f":"IF(OR(D122=0,P122=Presets!$C$67),\"\",IF(S122=0,ROUNDDOWN(NOW()-'Registry Full'!D122,0),S122-D122))","v":""},{"$nulls":5},""]
["",null,null,"00:00:00",{"$nulls":15},{"$f":"IF(OR(D123=0,P123=Presets!$C$67),\"\",IF(S123=0,ROUNDDOWN(NOW()-'Registry Full'!D123,0),S123-D123))","v":""},{"$nulls":5},""]
["",null,null,"00:00:00",{"$nulls":15},{"$f":"IF(OR(D124=0,P124=Presets!$C$67),\"\",IF(S124=0,ROUNDDOWN(NOW()-'Registry Full'!D124,0),S124-D124))","v":""},{"$nulls":5},""]
["",null,null,"00:00:00",{"$nulls":15},{"$f":"IF(OR(D125=0,P125=Presets!$C$67),\"\",IF(S125=0,ROUNDDOWN(NOW()-'Registry Full'!D125,0),S125-D125))","v":""},{"$nulls":5},""]
["",null,null,"00:00:00",{"$nulls":15},{"$f":"IF(OR(D126=0,P126=Presets!$C$67),\"\",IF(S126=0,ROUNDDOWN(NOW()-'Registry Full'!D126,0),S126-D126))","v":""},{"$nulls":5},""]
["",null,null,"00:00:00",{"$nulls":15},{"$f":"IF(OR(D127=0,P127=Presets!$C$67),\"\",IF(S127=0,ROUNDDOWN(NOW()-'Registry Full'!D127,0),S127-D127))","v":""},{"$nulls":5},""]
["",null,null,"00:00:00",{"$nulls":15},{"$f":"IF(OR(D128=0,P128=Presets!$C$67),\"\",IF(S128=0,ROUNDDOWN(NOW()-'Registry Full'!D128,0),S128-D128))","v":""},{"$nulls":5},""]
["",null,null,"00:00:00",{"$nulls":15},{"$f":"IF(OR(D129=0,P129=Presets!$C$67),\"\",IF(S129=0,ROUNDDOWN(NOW()-'Registry Full'!D129,0),S129-D129))","v":""},{"$nulls":5},""]
["",null,null,"00:00:00",{"$nulls":15},{"$f":"IF(OR(D130=0,P130=Presets!$C$67),\"\",IF(S130=0,ROUNDDOWN(NOW()-'Registry Full'!D130,0),S130-D130))","v":""},{"$nulls":5},""]
["",null,null,"00:00:00",{"$nulls":15},{"$f":"IF(OR(D131=0,P131=Presets!$C$67),\"\",IF(S131=0,ROUNDDOWN(NOW()-'Registry Full'!D131,0),S131-D131))","v":""},{"$nulls":5},""]
["",null,null,"00:00:00",{"$nulls":15},{"$f":"IF(OR(D132=0,P132=Presets!$C$67),\"\",IF(S132=0,ROUNDDOWN(NOW()-'Registry Full'!D132,0),S132-D132))","v":""},{"$nulls":5},""]
["",null,null,"00:00:00",{"$nulls":15},{"$f":"IF(OR(D133=0,P133=Presets!$C$67),\"\",IF(S133=0,ROUNDDOWN(NOW()-'Registry Full'!D133,0),S133-D133))","v":""},{"$nulls":5},""]
["",null,null,"00:00:00",{"$nulls":15},{"$f":"IF(OR(D134=0,P134=Presets!$C$67),\"\",IF(S134=0,ROUNDDOWN(NOW()-'Registry Full'!D134,0),S134-D134))","v":""},{"$nulls":5},""]
["",null,null,"00:00:00",{"$nulls":15},{"$f":"IF(OR(D135=0,P135=Presets!$C$67),\"\",IF(S135=0,ROUNDDOWN(NOW()-'Registry Full'!D135,0),S135-D135))","v":""},{"$nulls":5},{"$f":"IF(OR(D135=0,Y135=0),\"\",Y135-D135)","v":""}]
["",null,null,{"$f":"IF(C136=\"\",0,VALUE(RIGHT(C136,LEN(C136)-FIND(\"/\",C136,LEN(C136)-10))))","v":"00:00:00"},{"$nulls":15},{"$f":"IF(OR(D136=0,P136=Presets!$C$67),\"\",IF(S136=0,ROUNDDOWN(NOW()-'Registry Full'!D136,0),S136-D136))","v":""},{"$nulls":5},""]
[{"$f":"IF(COUNTA(B137)<>0,A136+1,\"\")","v":""},null,null,"00:00:00",{"$nulls":15},{"$f":"IF(OR(D137=0,P137=Presets!$C$67),\"\",IF(S137=0,ROUNDDOWN(NOW()-'Registry Full'!D137,0),S137-D137))","v":""},{"$nulls":5},""]
["",null,null,"00:00:00",{"$nulls":15},{"$f":"IF(OR(D138=0,P138=Presets!$C$67),\"\",IF(S138=0,ROUNDDOWN(NOW()-'Registry Full'!D138,0),S138-D138))","v":""},{"$nulls":5},""]
["",null,null,"00:00:00",{"$nulls":15},{"$f":"IF(OR(D139=0,P139=Presets!$C$67),\"\",IF(S139=0,ROUNDDOWN(NOW()-'Registry Full'!D139,0),S139-D139))","v":""},{"$nulls":5},""]
["",null,null,"00:00:00",{"$nulls":15},{"$f":"IF(OR(D140=0,P140=Presets!$C$67),\"\",IF(S140=0,ROUNDDOWN(NOW()-'Registry Full'!D140,0),S140-D140))","v":""},{"$nulls":5},""]
["",null,null,"00:00:00",{"$nulls":15},{"$f":"IF(OR(D141=0,P141=Presets!$C$67),\"\",IF(S141=0,ROUNDDOWN(NOW()-'Registry Full'!D141,0),S141-D141))","v":""},{"$nulls":5},""]
["",null,null,"00:00:00",{"$nulls":15},{"$f":"IF(OR(D142=0,P142=Presets!$C$67),\"\",IF(S142=0,ROUNDDOWN(NOW()-'Registry Full'!D142,0),S142-D142))","v":""},{"$nulls":5},""]
["",null,null,"00:00:00",{"$nulls":15},{"$f":"IF(OR(D143=0,P143=Presets!$C$67),\"\",IF(S143=0,ROUNDDOWN(NOW()-'Registry Full'!D143,0),S143-D143))","v":""},{"$nulls":5},""]
["",null,null,"00:00:00",{"$nulls":15},{"$f":"IF(OR(D144=0,P144=Presets!$C$67),\"\",IF(S144=0,ROUNDDOWN(NOW()-'Registry Full'!D144,0),S144-D144))","v":""},{"$nulls":5},""]
["",null,null,"00:00:00",{"$nulls":15},{"$f":"IF(OR(D145=0,P145=Presets!$C$67),\"\",IF(S145=0,ROUNDDOWN(NOW()-'Registry Full'!D145,0),S145-D145))","v":""},{"$nulls":5},""]
["",null,null,"00:00:00",{"$nulls":15},{"$f":"IF(OR(D146=0,P146=Presets!$C$67),\"\",IF(S146=0,ROUNDDOWN(NOW()-'Registry Full'!D146,0),S146-D146))","v":""},{"$nulls":5},""]
["",null,null,"00:00:00",{"$nulls":15},{"$f":"IF(OR(D147=0,P147=Presets!$C$67),\"\",IF(S147=0,ROUNDDOWN(NOW()-'Registry Full'!D147,0),S147-D147))","v":""},{"$nulls":5},""]
["",null,null,"00:00:00",{"$nulls":15},{"$f":"IF(OR(D148=0,P148=Presets!$C$67),\"\",IF(S148=0,ROUNDDOWN(NOW()-'Registry Full'!D148,0),S148-D148))","v":""},{"$nulls":5},""]
["",null,null,"00:00:00",{"$nulls":15},{"$f":"IF(OR(D149=0,P149=Presets!$C$67),\"\",IF(S149=0,ROUNDDOWN(NOW()-'Registry Full'!D149,0),S149-D149))","v":""},{"$nulls":5},""]
["",null,null,"00:00:00",{"$nulls":15},{"$f":"IF(OR(D150=0,P150=Presets!$C$67),\"\",IF(S150=0,ROUNDDOWN(NOW()-'Registry Full'!D150,0),S150-D150))","v":""},{"$nulls":5},""]
["",null,null,"00:00:00",{"$nulls":15},{"$f":"IF(OR(D151=0,P151=Presets!$C$67),\"\",IF(S151=0,ROUNDDOWN(NOW()-'Registry Full'!D151,0),S151-D151))","v":""},{"$nulls":5},""]
["",null,null,"00:00:00",{"$nulls":15},{"$f":"IF(OR(D152=0,P152=Presets!$C$67),\"\",IF(S152=0,ROUNDDOWN(NOW()-'Registry Full'!D152,0),S152-D152))","v":""},{"$nulls":5},""]
["",null,null,"00:00:00",{"$nulls":15},{"$f":"IF(OR(D153=0,P153=Presets!$C$67),\"\",IF(S153=0,ROUNDDOWN(NOW()-'Registry Full'!D153,0),S153-D153))","v":""},{"$nulls":5},""]
["",null,null,"00:00:00",{"$nulls":15},{"$f":"IF(OR(D154=0,P154=Presets!$C$67),\"\",IF(S154=0,ROUNDDOWN(NOW()-'Registry Full'!D154,0),S154-D154))","v":""},{"$nulls":5},""]
["",null,null,"00:00:00",{"$nulls":15},{"$f":"IF(OR(D155=0,P155=Presets!$C$67),\"\",IF(S155=0,ROUNDDOWN(NOW()-'Registry Full'!D155,0),S155-D155))","v":""},{"$nulls":5},""]
["",null,null,"00:00:00",{"$nulls":15},{"$f":"IF(OR(D156=0,P156=Presets!$C$67),\"\",IF(S156=0,ROUNDDOWN(NOW()-'Registry Full'!D156,0),S156-D156))","v":""},{"$nulls":5},""]
["",null,null,"00:00:00",{"$nulls":15},{"$f":"IF(OR(D157=0,P157=Presets!$C$67),\"\",IF(S157=0,ROUNDDOWN(NOW()-'Registry Full'!D157,0),S157-D157))","v":""},{"$nulls":5},""]
["",null,null,"00:00:00",{"$nulls":15},{"$f":"IF(OR(D158=0,P158=Presets!$C$67),\"\",IF(S158=0,ROUNDDOWN(NOW()-'Registry Full'!D158,0),S158-D158))","v":""},{"$nulls":5},""]
["",null,null,"00:00:00",{"$nulls":15},{"$f":"IF(OR(D159=0,P159=Presets!$C$67),\"\",IF(S159=0,ROUNDDOWN(NOW()-'Registry Full'!D159,0),S159-D159))","v":""},{"$nulls":5},""]
["",null,null,"00:00:00",{"$nulls":15},{"$f":"IF(OR(D160=0,P160=Presets!$C$67),\"\",IF(S160=0,ROUNDDOWN(NOW()-'Registry Full'!D160,0),S160-D160))","v":""},{"$nulls":5},""]
["",null,null,"00:00:00",{"$nulls":15},{"$f":"IF(OR(D161=0,P161=Presets!$C$67),\"\",IF(S161=0,ROUNDDOWN(NOW()-'Registry Full'!D161,0),S161-D161))","v":""},{"$nulls":5},""]
["",null,null,"00:00:00",{"$nulls":15},{"$f":"IF(OR(D162=0,P162=Presets!$C$67),\"\",IF(S162=0,ROUNDDOWN(NOW()-'Registry Full'!D162,0),S162-D162))","v":""},{"$nulls":5},""]
["",null,null,"00:00:00",{"$nulls":15},{"$f":"IF(OR(D163=0,P163=Presets!$C$67),\"\",IF(S163=0,ROUNDDOWN(NOW()-'Registry Full'!D163,0),S163-D163))","v":""},{"$nulls":5},""]
["",null,null,"00:00:00",{"$nulls":15},{"$f":"IF(OR(D164=0,P164=Presets!$C$67),\"\",IF(S164=0,ROUNDDOWN(NOW()-'Registry Full'!D164,0),S164-D164))","v":""},{"$nulls":5},""]
["",null,null,"00:00:00",{"$nulls":15},{"$f":"IF(OR(D165=0,P165=Presets!$C$67),\"\",IF(S165=0,ROUNDDOWN(NOW()-'Registry Full'!D165,0),S165-D165))","v":""},{"$nulls":5},""]
["",null,null,"00:00:00",{"$nulls":15},{"$f":"IF(OR(D166=0,P166=Presets!$C$67),\"\",IF(S166=0,ROUNDDOWN(NOW()-'Registry Full'!D166,0),S166-D166))","v":""},{"$nulls":5},""]
["",null,null,"00:00:00",{"$nulls":15},{"$f":"IF(OR(D167=0,P167=Presets!$C$67),\"\",IF(S167=0,ROUNDDOWN(NOW()-'Registry Full'!D167,0),S167-D167))","v":""},{"$nulls":5},""]
["",null,null,"00:00:00",{"$nulls":15},{"$f":"IF(OR(D168=0,P168=Presets!$C$67),\"\",IF(S168=0,ROUNDDOWN(NOW()-'Registry Full'!D168,0),S168-D168))","v":""},{"$nulls":5},""]
["",null,null,"00:00:00",{"$nulls":15},{"$f":"IF(OR(D169=0,P169=Presets!$C$67),\"\",IF(S169=0,ROUNDDOWN(NOW()-'Registry Full'!D169,0),S169-D169))","v":""},{"$nulls":5},""]
["",null,null,"00:00:00",{"$nulls":15},{"$f":"IF(OR(D170=0,P170=Presets!$C$67),\"\",IF(S170=0,ROUNDDOWN(NOW()-'Registry Full'!D170,0),S170-D170))","v":""},{"$nulls":5},""]
["",null,null,"00:00:00",{"$nulls":15},{"$f":"IF(OR(D171=0,P171=Presets!$C$67),\"\",IF(S171=0,ROUNDDOWN(NOW()-'Registry Full'!D171,0),S171-D171))","v":""},{"$nulls":5},""]
["",null,null,"00:00:00",{"$nulls":15},{"$f":"IF(OR(D172=0,P172=Presets!$C$67),\"\",IF(S172=0,ROUNDDOWN(NOW()-'Registry Full'!D172,0),S172-D172))","v":""},{"$nulls":5},""]
["",null,null,"00:00:00",{"$nulls":15},{"$f":"IF(OR(D173=0,P173=Presets!$C$67),\"\",IF(S173=0,ROUNDDOWN(NOW()-'Registry Full'!D173,0),S173-D173))","v":""},{"$nulls":5},""]
["",null,null,"00:00:00",{"$nulls":15},{"$f":"IF(OR(D174=0,P174=Presets!$C$67),\"\",IF(S174=0,ROUNDDOWN(NOW()-'Registry Full'!D174,0),S174-D174))","v":""},{"$nulls":5},""]
["",null,null,"00:00:00",{"$nulls":15},{"$f":"IF(OR(D175=0,P175=Presets!$C$67),\"\",IF(S175=0,ROUNDDOWN(NOW()-'Registry Full'!D175,0),S175-D175))","v":""},{"$nulls":5},""]
["",null,null,"00:00:00",{"$nulls":15},{"$f":"IF(OR(D176=0,P176=Presets!$C$67),\"\",IF(S176=0,ROUNDDOWN(NOW()-'Registry Full'!D176,0),S176-D176))","v":""},{"$nulls":5},""]
["",null,null,"00:00:00",{"$nulls":15},{"$f":"IF(OR(D177=0,P177=Presets!$C$67),\"\",IF(S177=0,ROUNDDOWN(NOW()-'Registry Full'!D177,0),S177-D177))","v":""},{"$nulls":5},""]
["",null,null,"00:00:00",{"$nulls":15},{"$f":"IF(OR(D178=0,P178=Presets!$C$67),\"\",IF(S178=0,ROUNDDOWN(NOW()-'Registry Full'!D178,0),S178-D178))","v":""},{"$nulls":5},""]
["",null,null,"00:00:00",{"$nulls":15},{"$f":"IF(OR(D179=0,P179=Presets!$C$67),\"\",IF(S179=0,ROUNDDOWN(NOW()-'Registry Full'!D179,0),S179-D179))","v":""},{"$nulls":5},""]
["",null,null,"00:00:00",{"$nulls":15},{"$f":"IF(OR(D180=0,P180=Presets!$C$67),\"\",IF(S180=0,ROUNDDOWN(NOW()-'Registry Full'!D180,0),S180-D180))","v":""},{"$nulls":5},""]
["",null,null,"00:00:00",{"$nulls":15},{"$f":"IF(OR(D181=0,P181=Presets!$C$67),\"\",IF(S181=0,ROUNDDOWN(NOW()-'Registry Full'!D181,0),S181-D181))","v":""},{"$nulls":5},""]
["",null,null,"00:00:00",{"$nulls":15},{"$f":"IF(OR(D182=0,P182=Presets!$C$67),\"\",IF(S182=0,ROUNDDOWN(NOW()-'Registry Full'!D182,0),S182-D182))","v":""},{"$nulls":5},""]
["",null,null,"00:00:00",{"$nulls":15},{"$f":"IF(OR(D183=0,P183=Presets!$C$67),\"\",IF(S183=0,ROUNDDOWN(NOW()-'Registry Full'!D183,0),S183-D183))","v":""},{"$nulls":5},""]
["",null,null,"00:00:00",{"$nulls":15},{"$f":"IF(OR(D184=0,P184=Presets!$C$67),\"\",IF(S184=0,ROUNDDOWN(NOW()-'Registry Full'!D184,0),S184-D184))","v":""},{"$nulls":5},""]
["",null,null,"00:00:00",{"$nulls":15},{"$f":"IF(OR(D185=0,P185=Presets!$C$67),\"\",IF(S185=0,ROUNDDOWN(NOW()-'Registry Full'!D185,0),S185-D185))","v":""},{"$nulls":5},""]
["",null,null,"00:00:00",{"$nulls":15},{"$f":"IF(OR(D186=0,P186=Presets!$C$67),\"\",IF(S186=0,ROUNDDOWN(NOW()-'Registry Full'!D186,0),S186-D186))","v":""},{"$nulls":5},""]
["",null,null,"00:00:00",{"$nulls":15},{"$f":"IF(OR(D187=0,P187=Presets!$C$67),\"\",IF(S187=0,ROUNDDOWN(NOW()-'Registry Full'!D187,0),S187-D187))","v":""},{"$nulls":5},""]
["",null,null,"00:00:00",{"$nulls":15},{"$f":"IF(OR(D188=0,P188=Presets!$C$67),\"\",IF(S188=0,ROUNDDOWN(NOW()-'Registry Full'!D188,0),S188-D188))","v":""},{"$nulls":5},""]
["",null,null,{"$f":"IF(C189=\"\",0,VALUE(RIGHT(C189,LEN(C189)-FIND(\"/\",C189,LEN(C189)-10))))","v":"00:00:00"},{"$nulls":15},{"$f":"IF(OR(D189=0,P189=Presets!$C$67),\"\",IF(S189=0,ROUNDDOWN(NOW()-'Registry Full'!D189,0),S189-D189))","v":""},{"$nulls":5},""]
["",null,null,"00:00:00",{"$nulls":15},{"$f":"IF(OR(D190=0,P190=Presets!$C$67),\"\",IF(S190=0,ROUNDDOWN(NOW()-'Registry Full'!D190,0),S190-D190))","v":""},{"$nulls":5},""]
["",null,null,"00:00:00",{"$nulls":15},{"$f":"IF(OR(D191=0,P191=Presets!$C$67),\"\",IF(S191=0,ROUNDDOWN(NOW()-'Registry Full'!D191,0),S191-D191))","v":""},{"$nulls":5},""]
["",null,null,"00:00:00",{"$nulls":15},{"$f":"IF(OR(D192=0,P192=Presets!$C$67),\"\",IF(S192=0,ROUNDDOWN(NOW()-'Registry Full'!D192,0),S192-D192))","v":""},{"$nulls":5},""]
["",null,null,"00:00:00",{"$nulls":15},{"$f":"IF(OR(D193=0,P193=Presets!$C$67),\"\",IF(S193=0,ROUNDDOWN(NOW()-'Registry Full'!D193,0),S193-D193))","v":""},{"$nulls":5},""]
["",null,null,"00:00:00",{"$nulls":15},{"$f":"IF(OR(D194=0,P194=Presets!$C$67),\"\",IF(S194=0,ROUNDDOWN(NOW()-'Registry Full'!D194,0),S194-D194))","v":""},{"$nulls":5},""]
["",null,null,"00:00:00",{"$nulls":15},{"$f":"IF(OR(D195=0,P195=Presets!$C$67),\"\",IF(S195=0,ROUNDDOWN(NOW()-'Registry Full'!D195,0),S195-D195))","v":""},{"$nulls":5},""]
["",null,null,"00:00:00",{"$nulls":15},{"$f":"IF(OR(D196=0,P196=Presets!$C$67),\"\",IF(S196=0,ROUNDDOWN(NOW()-'Registry Full'!D196,0),S196-D196))","v":""},{"$nulls":5},""]
["",null,null,{"$f":"IF(C197=\"\",0,VALUE(RIGHT(C197,LEN(C197)-FIND(\"/\",C197,LEN(C197)-10))))","v":"00:00:00"},{"$nulls":15},{"$f":"IF(OR(D197=0,P197=Presets!$C$67),\"\",IF(S197=0,ROUNDDOWN(NOW()-'Registry Full'!D197,0),S197-D197))","v":""},{"$nulls":5},""]
["",null,null,{"$f":"IF(C198=\"\",0,VALUE(RIGHT(C198,LEN(C198)-FIND(\"/\",C198,LEN(C198)-10))))","v":"00:00:00"},{"$nulls":15},{"$f":"IF(OR(D198=0,P198=Presets!$C$67),\"\",IF(S198=0,ROUNDDOWN(NOW()-'Registry Full'!D198,0),S198-D198))","v":""},{"$nulls":5},""]
["",null,null,"00:00:00",{"$nulls":15},{"$f":"IF(OR(D199=0,P199=Presets!$C$67),\"\",IF(S199=0,ROUNDDOWN(NOW()-'Registry Full'!D199,0),S199-D199))","v":""},{"$nulls":5},{"$f":"IF(OR(D199=0,Y199=0),\"\",Y199-D199)","v":""}]
["",null,null,"00:00:00",{"$nulls":15},{"$f":"IF(OR(D200=0,P200=Presets!$C$67),\"\",IF(S200=0,ROUNDDOWN(NOW()-'Registry Full'!D200,0),S200-D200))","v":""},{"$nulls":5},""]
[{"$f":"IF(COUNTA(B201)<>0,A200+1,\"\")","v":""},null,null,"00:00:00",{"$nulls":15},{"$f":"IF(OR(D201=0,P201=Presets!$C$67),\"\",IF(S201=0,ROUNDDOWN(NOW()-'Registry Full'!D201,0),S201-D201))","v":""},{"$nulls":5},""]
["",null,null,"00:00:00",{"$nulls":15},{"$f":"IF(OR(D202=0,P202=Presets!$C$67),\"\",IF(S202=0,ROUNDDOWN(NOW()-'Registry Full'!D202,0),S202-D202))","v":""},{"$nulls":5},""]
["",null,null,"00:00:00",{"$nulls":15},{"$f":"IF(OR(D203=0,P203=Presets!$C$67),\"\",IF(S203=0,ROUNDDOWN(NOW()-'Registry Full'!D203,0),S203-D203))","v":""},{"$nulls":5},""]
["",null,null,"00:00:00",{"$nulls":15},{"$f":"IF(OR(D204=0,P204=Presets!$C$67),\"\",IF(S204=0,ROUNDDOWN(NOW()-'Registry Full'!D204,0),S204-D204))","v":""},{"$nulls":5},""]
["",null,null,"00:00:00",{"$nulls":15},{"$f":"IF(OR(D205=0,P205=Presets!$C$67),\"\",IF(S205=0,ROUNDDOWN(NOW()-'Registry Full'!D205,0),S205-D205))","v":""},{"$nulls":5},""]
["",null,null,"00:00:00",{"$nulls":15},{"$f":"IF(OR(D206=0,P206=Presets!$C$67),\"\",IF(S206=0,ROUNDDOWN(NOW()-'Registry Full'!D206,0),S206-D206))","v":""},{"$nulls":5},""]
["",null,null,"00:00:00",{"$nulls":15},{"$f":"IF(OR(D207=0,P207=Presets!$C$67),\"\",IF(S207=0,ROUNDDOWN(NOW()-'Registry Full'!D207,0),S207-D207))","v":""},{"$nulls":5},""]
["",null,null,"00:00:00",{"$nulls":15},{"$f":"IF(OR(D208=0,P208=Presets!$C$67),\"\",IF(S208=0,ROUNDDOWN(NOW()-'Registry Full'!D208,0),S208-D208))","v":""},{"$nulls":5},""]
["",null,null,"00:00:00",{"$nulls":15},{"$f":"IF(OR(D209=0,P209=Presets!$C$67),\"\",IF(S209=0,ROUNDDOWN(NOW()-'Registry Full'!D209,0),S209-D209))","v":""},{"$nulls":5},""]
["",null,null,"00:00:00",{"$nulls":15},{"$f":"IF(OR(D210=0,P210=Presets!$C$67),\"\",IF(S210=0,ROUNDDOWN(NOW()-'Registry Full'!D210,0),S210-D210))","v":""},{"$nulls":5},""]
["",null,null,"00:00:00",{"$nulls":15},{"$f":"IF(OR(D211=0,P211=Presets!$C$67),\"\",IF(S211=0,ROUNDDOWN(NOW()-'Registry Full'!D211,0),S211-D211))","v":""},{"$nulls":5},""]
["",null,null,"00:00:00",{"$nulls":15},{"$f":"IF(OR(D212=0,P212=Presets!$C$67),\"\",IF(S212=0,ROUNDDOWN(NOW()-'Registry Full'!D212,0),S212-D212))","v":""},{"$nulls":5},""]
["",null,null,"00:00:00",{"$nulls":15},{"$f":"IF(OR(D213=0,P213=Presets!$C$67),\"\",IF(S213=0,ROUNDDOWN(NOW()-'Registry Full'!D213,0),S213-D213))","v":""},{"$nulls":5},""]
["",null,null,"00:00:00",{"$nulls":15},{"$f":"IF(OR(D214=0,P214=Presets!$C$67),\"\",IF(S214=0,ROUNDDOWN(NOW()-'Registry Full'!D214,0),S214-D214))","v":""},{"$nulls":5},""]
["",null,null,"00:00:00",{"$nulls":15},{"$f":"IF(OR(D215=0,P215=Presets!$C$67),\"\",IF(S215=0,ROUNDDOWN(NOW()-'Registry Full'!D215,0),S215-D215))","v":""},{"$nulls":5},""]
["",null,null,"00:00:00",{"$nulls":15},{"$f":"IF(OR(D216=0,P216=Presets!$C$67),\"\",IF(S216=0,ROUNDDOWN(NOW()-'Registry Full'!D216,0),S216-D216))","v":""},{"$nulls":5},""]
["",null,null,"00:00:00",{"$nulls":15},{"$f":"IF(OR(D217=0,P217=Presets!$C$67),\"\",IF(S217=0,ROUNDDOWN(NOW()-'Registry Full'!D217,0),S217-D217))","v":""},{"$nulls":5},""]
["",null,null,"00:00:00",{"$nulls":15},{"$f":"IF(OR(D218=0,P218=Presets!$C$67),\"\",IF(S218=0,ROUNDDOWN(NOW()-'Registry Full'!D218,0),S218-D218))","v":""},{"$nulls":5},""]
["",null,null,"00:00:00",{"$nulls":15},{"$f":"IF(OR(D219=0,P219=Presets!$C$67),\"\",IF(S219=0,ROUNDDOWN(NOW()-'Registry Full'!D219,0),S219-D219))","v":""},{"$nulls":5},""]
["",null,null,"00:00:00",{"$nulls":15},{"$f":"IF(OR(D220=0,P220=Presets!$C$67),\"\",IF(S220=0,ROUNDDOWN(NOW()-'Registry Full'!D220,0),S220-D220))","v":""},{"$nulls":5},""]
["",null,null,"00:00:00",{"$nulls":15},{"$f":"IF(OR(D221=0,P221=Presets!$C$67),\"\",IF(S221=0,ROUNDDOWN(NOW()-'Registry Full'!D221,0),S221-D221))","v":""},{"$nulls":5},""]
["",null,null,"00:00:00",{"$nulls":15},{"$f":"IF(OR(D222=0,P222=Presets!$C$67),\"\",IF(S222=0,ROUNDDOWN(NOW()-'Registry Full'!D222,0),S222-D222))","v":""},{"$nulls":5},""]
["",null,null,"00:00:00",{"$nulls":15},{"$f":"IF(OR(D223=0,P223=Presets!$C$67),\"\",IF(S223=0,ROUNDDOWN(NOW()-'Registry Full'!D223,0),S223-D223))","v":""},{"$nulls":5},""]
["",null,null,"00:00:00",{"$nulls":15},{"$f":"IF(OR(D224=0,P224=Presets!$C$67),\"\",IF(S224=0,ROUNDDOWN(NOW()-'Registry Full'!D224,0),S224-D224))","v":""},{"$nulls":5},""]
["",null,null,"00:00:00",{"$nulls":15},{"$f":"IF(OR(D225=0,P225=Presets!$C$67),\"\",IF(S225=0,ROUNDDOWN(NOW()-'Registry Full'!D225,0),S225-D225))","v":""},{"$nulls":5},""]
["",null,null,"00:00:00",{"$nulls":15},{"$f":"IF(OR(D226=0,P226=Presets!$C$67),\"\",IF(S226=0,ROUNDDOWN(NOW()-'Registry Full'!D226,0),S226-D226))","v":""},{"$nulls":5},""]
["",null,null,"00:00:00",{"$nulls":15},{"$f":"IF(OR(D227=0,P227=Presets!$C$67),\"\",IF(S227=0,ROUNDDOWN(NOW()-'Registry Full'!D227,0),S227-D227))","v":""},{"$nulls":5},""]
["",null,null,"00:00:00",{"$nulls":15},{"$f":"IF(OR(D228=0,P228=Presets!$C$67),\"\",IF(S228=0,ROUNDDOWN(NOW()-'Registry Full'!D228,0),S228-D228))","v":""},{"$nulls":5},""]
["",null,null,"00:00:00",{"$nulls":15},{"$f":"IF(OR(D229=0,P229=Presets!$C$67),\"\",IF(S229=0,ROUNDDOWN(NOW()-'Registry Full'!D229,0),S229-D229))","v":""},{"$nulls":5},""]
["",null,null,"00:00:00",{"$nulls":15},{"$f":"IF(OR(D230=0,P230=Presets!$C$67),\"\",IF(S230=0,ROUNDDOWN(NOW()-'Registry Full'!D230,0),S230-D230))","v":""},{"$nulls":5},""]
["",null,null,"00:00:00",{"$nulls":15},{"$f":"IF(OR(D231=0,P231=Presets!$C$67),\"\",IF(S231=0,ROUNDDOWN(NOW()-'Registry Full'!D231,0),S231-D231))","v":""},{"$nulls":5},""]
["",null,null,"00:00:00",{"$nulls":15},{"$f":"IF(OR(D232=0,P232=Presets!$C$67),\"\",IF(S232=0,ROUNDDOWN(NOW()-'Registry Full'!D232,0),S232-D232))","v":""},{"$nulls":5},""]
["",null,null,"00:00:00",{"$nulls":15},{"$f":"IF(OR(D233=0,P233=Presets!$C$67),\"\",IF(S233=0,ROUNDDOWN(NOW()-'Registry Full'!D233,0),S233-D233))","v":""},{"$nulls":5},""]
["",null,null,"00:00:00",{"$nulls":15},{"$f":"IF(OR(D234=0,P234=Presets!$C$67),\"\",IF(S234=0,ROUNDDOWN(NOW()-'Registry Full'!D234,0),S234-D234))","v":""},{"$nulls":5},""]
["",null,null,"00:00:00",{"$nulls":15},{"$f":"IF(OR(D235=0,P235=Presets!$C$67),\"\",IF(S235=0,ROUNDDOWN(NOW()-'Registry Full'!D235,0),S235-D235))","v":""},{"$nulls":5},""]
["",null,null,"00:00:00",{"$nulls":15},{"$f":"IF(OR(D236=0,P236=Presets!$C$67),\"\",IF(S236=0,ROUNDDOWN(NOW()-'Registry Full'!D236,0),S236-D236))","v":""},{"$nulls":5},""]
["",null,null,"00:00:00",{"$nulls":15},{"$f":"IF(OR(D237=0,P237=Presets!$C$67),\"\",IF(S237=0,ROUNDDOWN(NOW()-'Registry Full'!D237,0),S237-D237))","v":""},{"$nulls":5},""]
["",null,null,"00:00:00",{"$nulls":15},{"$f":"IF(OR(D238=0,P238=Presets!$C$67),\"\",IF(S238=0,ROUNDDOWN(NOW()-'Registry Full'!D238,0),S238-D238))","v":""},{"$nulls":5},""]
["",null,null,"00:00:00",{"$nulls":15},{"$f":"IF(OR(D239=0,P239=Presets!$C$67),\"\",IF(S239=0,ROUNDDOWN(NOW()-'Registry Full'!D239,0),S239-D239))","v":""},{"$nulls":5},""]
["",null,null,"00:00:00",{"$nulls":15},{"$f":"IF(OR(D240=0,P240=Presets!$C$67),\"\",IF(S240=0,ROUNDDOWN(NOW()-'Registry Full'!D240,0),S240-D240))","v":""},{"$nulls":5},""]
["",null,null,"00:00:00",{"$nulls":15},{"$f":"IF(OR(D241=0,P241=Presets!$C$67),\"\",IF(S241=0,ROUNDDOWN(NOW()-'Registry Full'!D241,0),S241-D241))","v":""},{"$nulls":5},""]
["",null,null,"00:00:00",{"$nulls":15},{"$f":"IF(OR(D242=0,P242=Presets!$C$67),\"\",IF(S242=0,ROUNDDOWN(NOW()-'Registry Full'!D242,0),S242-D242))","v":""},{"$nulls":5},""]
["",null,null,"00:00:00",{"$nulls":15},{"$f":"IF(OR(D243=0,P243=Presets!$C$67),\"\",IF(S243=0,ROUNDDOWN(NOW()-'Registry Full'!D243,0),S243-D243))","v":""},{"$nulls":5},""]
["",null,null,"00:00:00",{"$nulls":15},{"$f":"IF(OR(D244=0,P244=Presets!$C$67),\"\",IF(S244=0,ROUNDDOWN(NOW()-'Registry Full'!D244,0),S244-D244))","v":""},{"$nulls":5},""]
["",null,null,"00:00:00",{"$nulls":15},{"$f":"IF(OR(D245=0,P245=Presets!$C$67),\"\",IF(S245=0,ROUNDDOWN(NOW()-'Registry Full'!D245,0),S245-D245))","v":""},{"$nulls":5},""]
["",null,null,"00:00:00",{"$nulls":15},{"$f":"IF(OR(D246=0,P246=Presets!$C$67),\"\",IF(S246=0,ROUNDDOWN(NOW()-'Registry Full'!D246,0),S246-D246))","v":""},{"$nulls":5},""]
["",null,null,"00:00:00",{"$nulls":15},{"$f":"IF(OR(D247=0,P247=Presets!$C$67),\"\",IF(S247=0,ROUNDDOWN(NOW()-'Registry Full'!D247,0),S247-D247))","v":""},{"$nulls":5},""]
["",null,null,"00:00:00",{"$nulls":15},{"$f":"IF(OR(D248=0,P248=Presets!$C$67),\"\",IF(S248=0,ROUNDDOWN(NOW()-'Registry Full'!D248,0),S248-D248))","v":""},{"$nulls":5},""]
["",null,null,"00:00:00",{"$nulls":15},{"$f":"IF(OR(D249=0,P249=Presets!$C$67),\"\",IF(S249=0,ROUNDDOWN(NOW()-'Registry Full'!D249,0),S249-D249))","v":""},{"$nulls":5},""]
["",null,null,"00:00:00",{"$nulls":15},{"$f":"IF(OR(D250=0,P250=Presets!$C$67),\"\",IF(S250=0,ROUNDDOWN(NOW()-'Registry Full'!D250,0),S250-D250))","v":""},{"$nulls":5},""]
["",null,null,"00:00:00",{"$nulls":15},{"$f":"IF(OR(D251=0,P251=Presets!$C$67),\"\",IF(S251=0,ROUNDDOWN(NOW()-'Registry Full'!D251,0),S251-D251))","v":""},{"$nulls":5},""]
["",null,null,"00:00:00",{"$nulls":15},{"$f":"IF(OR(D252=0,P252=Presets!$C$67),\"\",IF(S252=0,ROUNDDOWN(NOW()-'Registry Full'!D252,0),S252-D252))","v":""},{"$nulls":5},""]
["",null,null,"00:00:00",{"$nulls":15},{"$f":"IF(OR(D253=0,P253=Presets!$C$67),\"\",IF(S253=0,ROUNDDOWN(NOW()-'Registry Full'!D253,0),S253-D253))","v":""},{"$nulls":5},""]
["",null,null,"00:00:00",{"$nulls":15},{"$f":"IF(OR(D254=0,P254=Presets!$C$67),\"\",IF(S254=0,ROUNDDOWN(NOW()-'Registry Full'!D254,0),S254-D254))","v":""},{"$nulls":5},""]
["",null,null,"00:00:00",{"$nulls":15},{"$f":"IF(OR(D255=0,P255=Presets!$C$67),\"\",IF(S255=0,ROUNDDOWN(NOW()-'Registry Full'!D255,0),S255-D255))","v":""},{"$nulls":5},""]
["",null,null,"00:00:00",{"$nulls":15},{"$f":"IF(OR(D256=0,P256=Presets!$C$67),\"\",IF(S256=0,ROUNDDOWN(NOW()-'Registry Full'!D256,0),S256-D256))","v":""},{"$nulls":5},""]
["",null,null,"00:00:00",{"$nulls":15},{"$f":"IF(OR(D257=0,P257=Presets!$C$67),\"\",IF(S257=0,ROUNDDOWN(NOW()-'Registry Full'!D257,0),S257-D257))","v":""},{"$nulls":5},""]
["",null,null,"00:00:00",{"$nulls":15},{"$f":"IF(OR(D258=0,P258=Presets!$C$67),\"\",IF(S258=0,ROUNDDOWN(NOW()-'Registry Full'!D258,0),S258-D258))","v":""},{"$nulls":5},""]
["",null,null,"00:00:00",{"$nulls":15},{"$f":"IF(OR(D259=0,P259=Presets!$C$67),\"\",IF(S259=0,ROUNDDOWN(NOW()-'Registry Full'!D259,0),S259-D259))","v":""},{"$nulls":5},""]
["",null,null,"00:00:00",{"$nulls":15},{"$f":"IF(OR(D260=0,P260=Presets!$C$67),\"\",IF(S260=0,ROUNDDOWN(NOW()-'Registry Full'!D260,0),S260-D260))","v":""},{"$nulls":5},""]
["",null,null,"00:00:00",{"$nulls":15},{"$f":"IF(OR(D261=0,P261=Presets!$C$67),\"\",IF(S261=0,ROUNDDOWN(NOW()-'Registry Full'!D261,0),S261-D261))","v":""},{"$nulls":5},""]
["",null,null,{"$f":"IF(C262=\"\",0,VALUE(RIGHT(C262,LEN(C262)-FIND(\"/\",C262,LEN(C262)-10))))","v":"00:00:00"},{"$nulls":15},{"$f":"IF(OR(D262=0,P262=Presets!$C$67),\"\",IF(S262=0,ROUNDDOWN(NOW()-'Registry Full'!D262,0),S262-D262))","v":""},{"$nulls":5},""]
["",null,null,"00:00:00",{"$nulls":15},{"$f":"IF(OR(D263=0,P263=Presets!$C$67),\"\",IF(S263=0,ROUNDDOWN(NOW()-'Registry Full'!D263,0),S263-D263))","v":""},{"$nulls":5},{"$f":"IF(OR(D263=0,Y263=0),\"\",Y263-D263)","v":""}]
["",null,null,"00:00:00",{"$nulls":15},{"$f":"IF(OR(D264=0,P264=Presets!$C$67),\"\",IF(S264=0,ROUNDDOWN(NOW()-'Registry Full'!D264,0),S264-D264))","v":""},{"$nulls":5},""]
[{"$f":"IF(COUNTA(B265)<>0,A264+1,\"\")","v":""},null,null,"00:00:00",{"$nulls":15},{"$f":"IF(OR(D265=0,P265=Presets!$C$67),\"\",IF(S265=0,ROUNDDOWN(NOW()-'Registry Full'!D265,0),S265-D265))","v":""},{"$nulls":5},""]
["",null,null,"00:00:00",{"$nulls":15},{"$f":"IF(OR(D266=0,P266=Presets!$C$67),\"\",IF(S266=0,ROUNDDOWN(NOW()-'Registry Full'!D266,0),S266-D266))","v":""},{"$nulls":5},""]
["",null,null,"00:00:00",{"$nulls":15},{"$f":"IF(OR(D267=0,P267=Presets!$C$67),\"\",IF(S267=0,ROUNDDOWN(NOW()-'Registry Full'!D267,0),S267-D267))","v":""},{"$nulls":5},""]
["",null,null,"00:00:00",{"$nulls":15},{"$f":"IF(OR(D268=0,P268=Presets!$C$67),\"\",IF(S268=0,ROUNDDOWN(NOW()-'Registry Full'!D268,0),S268-D268))","v":""},{"$nulls":5},""]
["",null,null,"00:00:00",{"$nulls":15},{"$f":"IF(OR(D269=0,P269=Presets!$C$67),\"\",IF(S269=0,ROUNDDOWN(NOW()-'Registry Full'!D269,0),S269-D269))","v":""},{"$nulls":5},""]
["",null,null,"00:00:00",{"$nulls":15},{"$f":"IF(OR(D270=0,P270=Presets!$C$67),\"\",IF(S270=0,ROUNDDOWN(NOW()-'Registry Full'!D270,0),S270-D270))","v":""},{"$nulls":5},""]
["",null,null,"00:00:00",{"$nulls":15},{"$f":"IF(OR(D271=0,P271=Presets!$C$67),\"\",IF(S271=0,ROUNDDOWN(NOW()-'Registry Full'!D271,0),S271-D271))","v":""},{"$nulls":5},""]
["",null,null,"00:00:00",{"$nulls":15},{"$f":"IF(OR(D272=0,P272=Presets!$C$67),\"\",IF(S272=0,ROUNDDOWN(NOW()-'Registry Full'!D272,0),S272-D272))","v":""},{"$nulls":5},""]
["",null,null,"00:00:00",{"$nulls":15},{"$f":"IF(OR(D273=0,P273=Presets!$C$67),\"\",IF(S273=0,ROUNDDOWN(NOW()-'Registry Full'!D273,0),S273-D273))","v":""},{"$nulls":5},""]
["",null,null,"00:00:00",{"$nulls":15},{"$f":"IF(OR(D274=0,P274=Presets!$C$67),\"\",IF(S274=0,ROUNDDOWN(NOW()-'Registry Full'!D274,0),S274-D274))","v":""},{"$nulls":5},""]
["",null,null,"00:00:00",{"$nulls":15},{"$f":"IF(OR(D275=0,P275=Presets!$C$67),\"\",IF(S275=0,ROUNDDOWN(NOW()-'Registry Full'!D275,0),S275-D275))","v":""},{"$nulls":5},""]
["",null,null,"00:00:00",{"$nulls":15},{"$f":"IF(OR(D276=0,P276=Presets!$C$67),\"\",IF(S276=0,ROUNDDOWN(NOW()-'Registry Full'!D276,0),S276-D276))","v":""},{"$nulls":5},""]
["",null,null,"00:00:00",{"$nulls":15},{"$f":"IF(OR(D277=0,P277=Presets!$C$67),\"\",IF(S277=0,ROUNDDOWN(NOW()-'Registry Full'!D277,0),S277-D277))","v":""},{"$nulls":5},""]
["",null,null,"00:00:00",{"$nulls":15},{"$f":"IF(OR(D278=0,P278=Presets!$C$67),\"\",IF(S278=0,ROUNDDOWN(NOW()-'Registry Full'!D278,0),S278-D278))","v":""},{"$nulls":5},""]
["",null,null,"00:00:00",{"$nulls":15},{"$f":"IF(OR(D279=0,P279=Presets!$C$67),\"\",IF(S279=0,ROUNDDOWN(NOW()-'Registry Full'!D279,0),S279-D279))","v":""},{"$nulls":5},""]
["",null,null,"00:00:00",{"$nulls":15},{"$f":"IF(OR(D280=0,P280=Presets!$C$67),\"\",IF(S280=0,ROUNDDOWN(NOW()-'Registry Full'!D280,0),S280-D280))","v":""},{"$nulls":5},""]
["",null,null,"00:00:00",{"$nulls":15},{"$f":"IF(OR(D281=0,P281=Presets!$C$67),\"\",IF(S281=0,ROUNDDOWN(NOW()-'Registry Full'!D281,0),S281-D281))","v":""},{"$nulls":5},""]
["",null,null,"00:00:00",{"$nulls":15},{"$f":"IF(OR(D282=0,P282=Presets!$C$67),\"\",IF(S282=0,ROUNDDOWN(NOW()-'Registry Full'!D282,0),S282-D282))","v":""},{"$nulls":5},""]
["",null,null,"00:00:00",{"$nulls":15},{"$f":"IF(OR(D283=0,P283=Presets!$C$67),\"\",IF(S283=0,ROUNDDOWN(NOW()-'Registry Full'!D283,0),S283-D283))","v":""},{"$nulls":5},""]
["",null,null,"00:00:00",{"$nulls":15},{"$f":"IF(OR(D284=0,P284=Presets!$C$67),\"\",IF(S284=0,ROUNDDOWN(NOW()-'Registry Full'!D284,0),S284-D284))","v":""},{"$nulls":5},""]
["",null,null,"00:00:00",{"$nulls":15},{"$f":"IF(OR(D285=0,P285=Presets!$C$67),\"\",IF(S285=0,ROUNDDOWN(NOW()-'Registry Full'!D285,0),S285-D285))","v":""},{"$nulls":5},""]
["",null,null,"00:00:00",{"$nulls":15},{"$f":"IF(OR(D286=0,P286=Presets!$C$67),\"\",IF(S286=0,ROUNDDOWN(NOW()-'Registry Full'!D286,0),S286-D286))","v":""},{"$nulls":5},""]
["",null,null,"00:00:00",{"$nulls":15},{"$f":"IF(OR(D287=0,P287=Presets!$C$67),\"\",IF(S287=0,ROUNDDOWN(NOW()-'Registry Full'!D287,0),S287-D287))","v":""},{"$nulls":5},""]
["",null,null,"00:00:00",{"$nulls":15},{"$f":"IF(OR(D288=0,P288=Presets!$C$67),\"\",IF(S288=0,ROUNDDOWN(NOW()-'Registry Full'!D288,0),S288-D288))","v":""},{"$nulls":5},""]
["",null,null,"00:00:00",{"$nulls":15},{"$f":"IF(OR(D289=0,P289=Presets!$C$67),\"\",IF(S289=0,ROUNDDOWN(NOW()-'Registry Full'!D289,0),S289-D289))","v":""},{"$nulls":5},""]
["",null,null,"00:00:00",{"$nulls":15},{"$f":"IF(OR(D290=0,P290=Presets!$C$67),\"\",IF(S290=0,ROUNDDOWN(NOW()-'Registry Full'!D290,0),S290-D290))","v":""},{"$nulls":5},""]
["",null,null,"00:00:00",{"$nulls":15},{"$f":"IF(OR(D291=0,P291=Presets!$C$67),\"\",IF(S291=0,ROUNDDOWN(NOW()-'Registry Full'!D291,0),S291-D291))","v":""},{"$nulls":5},""]
["",null,null,"00:00:00",{"$nulls":15},{"$f":"IF(OR(D292=0,P292=Presets!$C$67),\"\",IF(S292=0,ROUNDDOWN(NOW()-'Registry Full'!D292,0),S292-D292))","v":""},{"$nulls":5},""]
["",null,null,"00:00:00",{"$nulls":15},{"$f":"IF(OR(D293=0,P293=Presets!$C$67),\"\",IF(S293=0,ROUNDDOWN(NOW()-'Registry Full'!D293,0),S293-D293))","v":""},{"$nulls":5},""]
["",null,null,"00:00:00",{"$nulls":15},{"$f":"IF(OR(D294=0,P294=Presets!$C$67),\"\",IF(S294=0,ROUNDDOWN(NOW()-'Registry Full'!D294,0),S294-D294))","v":""},{"$nulls":5},""]
["",null,null,"00:00:00",{"$nulls":15},{"$f":"IF(OR(D295=0,P295=Presets!$C$67),\"\",IF(S295=0,ROUNDDOWN(NOW()-'Registry Full'!D295,0),S295-D295))","v":""},{"$nulls":5},""]
["",null,null,"00:00:00",{"$nulls":15},{"$f":"IF(OR(D296=0,P296=Presets!$C$67),\"\",IF(S296=0,ROUNDDOWN(NOW()-'Registry Full'!D296,0),S296-D296))","v":""},{"$nulls":5},""]
["",null,null,"00:00:00",{"$nulls":15},{"$f":"IF(OR(D297=0,P297=Presets!$C$67),\"\",IF(S297=0,ROUNDDOWN(NOW()-'Registry Full'!D297,0),S297-D297))","v":""},{"$nulls":5},""]
["",null,null,"00:00:00",{"$nulls":15},{"$f":"IF(OR(D298=0,P298=Presets!$C$67),\"\",IF(S298=0,ROUNDDOWN(NOW()-'Registry Full'!D298,0),S298-D298))","v":""},{"$nulls":5},""]
["",null,null,"00:00:00",{"$nulls":15},{"$f":"IF(OR(D299=0,P299=Presets!$C$67),\"\",IF(S299=0,ROUNDDOWN(NOW()-'Registry Full'!D299,0),S299-D299))","v":""},{"$nulls":5},""]
["",null,null,"00:00:00",{"$nulls":15},{"$f":"IF(OR(D300=0,P300=Presets!$C$67),\"\",IF(S300=0,ROUNDDOWN(NOW()-'Registry Full'!D300,0),S300-D300))","v":""},{"$nulls":5},""]
["",null,null,"00:00:00",{"$nulls":15},{"$f":"IF(OR(D301=0,P301=Presets!$C$67),\"\",IF(S301=0,ROUNDDOWN(NOW()-'Registry Full'!D301,0),S301-D301))","v":""},{"$nulls":5},""]
["",null,null,"00:00:00",{"$nulls":15},{"$f":"IF(OR(D302=0,P302=Presets!$C$67),\"\",IF(S302=0,ROUNDDOWN(NOW()-'Registry Full'!D302,0),S302-D302))","v":""},{"$nulls":5},""]
["",null,null,"00:00:00",{"$nulls":15},{"$f":"IF(OR(D303=0,P303=Presets!$C$67),\"\",IF(S303=0,ROUNDDOWN(NOW()-'Registry Full'!D303,0),S303-D303))","v":""},{"$nulls":5},""]
["",null,null,"00:00:00",{"$nulls":15},{"$f":"IF(OR(D304=0,P304=Presets!$C$67),\"\",IF(S304=0,ROUNDDOWN(NOW()-'Registry Full'!D304,0),S304-D304))","v":""},{"$nulls":5},""]
["",null,null,"00:00:00",{"$nulls":15},{"$f":"IF(OR(D305=0,P305=Presets!$C$67),\"\",IF(S305=0,ROUNDDOWN(NOW()-'Registry Full'!D305,0),S305-D305))","v":""},{"$nulls":5},""]
["",null,null,"00:00:00",{"$nulls":15},{"$f":"IF(OR(D306=0,P306=Presets!$C$67),\"\",IF(S306=0,ROUNDDOWN(NOW()-'Registry Full'!D306,0),S306-D306))","v":""},{"$nulls":5},""]
["",null,null,"00:00:00",{"$nulls":15},{"$f":"IF(OR(D307=0,P307=Presets!$C$67),\"\",IF(S307=0,ROUNDDOWN(NOW()-'Registry Full'!D307,0),S307-D307))","v":""},{"$nulls":5},""]
["",null,null,"00:00:00",{"$nulls":15},{"$f":"IF(OR(D308=0,P308=Presets!$C$67),\"\",IF(S308=0,ROUNDDOWN(NOW()-'Registry Full'!D308,0),S308-D308))","v":""},{"$nulls":5},""]
["",null,null,"00:00:00",{"$nulls":15},{"$f":"IF(OR(D309=0,P309=Presets!$C$67),\"\",IF(S309=0,ROUNDDOWN(NOW()-'Registry Full'!D309,0),S309-D309))","v":""},{"$nulls":5},""]
["",null,null,"00:00:00",{"$nulls":15},{"$f":"IF(OR(D310=0,P310=Presets!$C$67),\"\",IF(S310=0,ROUNDDOWN(NOW()-'Registry Full'!D310,0),S310-D310))","v":""},{"$nulls":5},""]
["",null,null,"00:00:00",{"$nulls":15},{"$f":"IF(OR(D311=0,P311=Presets!$C$67),\"\",IF(S311=0,ROUNDDOWN(NOW()-'Registry Full'!D311,0),S311-D311))","v":""},{"$nulls":5},""]
["",null,null,"00:00:00",{"$nulls":15},{"$f":"IF(OR(D312=0,P312=Presets!$C$67),\"\",IF(S312=0,ROUNDDOWN(NOW()-'Registry Full'!D312,0),S312-D312))","v":""},{"$nulls":5},""]
["",null,null,"00:00:00",{"$nulls":15},{"$f":"IF(OR(D313=0,P313=Presets!$C$67),\"\",IF(S313=0,ROUNDDOWN(NOW()-'Registry Full'!D313,0),S313-D313))","v":""},{"$nulls":5},""]
["",null,null,"00:00:00",{"$nulls":15},{"$f":"IF(OR(D314=0,P314=Presets!$C$67),\"\",IF(S314=0,ROUNDDOWN(NOW()-'Registry Full'!D314,0),S314-D314))","v":""},{"$nulls":5},""]
["",null,null,"00:00:00",{"$nulls":15},{"$f":"IF(OR(D315=0,P315=Presets!$C$67),\"\",IF(S315=0,ROUNDDOWN(NOW()-'Registry Full'!D315,0),S315-D315))","v":""},{"$nulls":5},""]
["",null,null,"00:00:00",{"$nulls":15},{"$f":"IF(OR(D316=0,P316=Presets!$C$67),\"\",IF(S316=0,ROUNDDOWN(NOW()-'Registry Full'!D316,0),S316-D316))","v":""},{"$nulls":5},""]
["",null,null,"00:00:00",{"$nulls":15},{"$f":"IF(OR(D317=0,P317=Presets!$C$67),\"\",IF(S317=0,ROUNDDOWN(NOW()-'Registry Full'!D317,0),S317-D317))","v":""},{"$nulls":5},""]
["",null,null,"00:00:00",{"$nulls":15},{"$f":"IF(OR(D318=0,P318=Presets!$C$67),\"\",IF(S318=0,ROUNDDOWN(NOW()-'Registry Full'!D318,0),S318-D318))","v":""},{"$nulls":5},""]
["",null,null,"00:00:00",{"$nulls":15},{"$f":"IF(OR(D319=0,P319=Presets!$C$67),\"\",IF(S319=0,ROUNDDOWN(NOW()-'Registry Full'!D319,0),S319-D319))","v":""},{"$nulls":5},""]
["",null,null,"00:00:00",{"$nulls":15},{"$f":"IF(OR(D320=0,P320=Presets!$C$67),\"\",IF(S320=0,ROUNDDOWN(NOW()-'Registry Full'!D320,0),S320-D320))","v":""},{"$nulls":5},""]
["",null,null,"00:00:00",{"$nulls":15},{"$f":"IF(OR(D321=0,P321=Presets!$C$67),\"\",IF(S321=0,ROUNDDOWN(NOW()-'Registry Full'!D321,0),S321-D321))","v":""},{"$nulls":5},""]
["",null,null,"00:00:00",{"$nulls":15},{"$f":"IF(OR(D322=0,P322=Presets!$C$67),\"\",IF(S322=0,ROUNDDOWN(NOW()-'Registry Full'!D322,0),S322-D322))","v":""},{"$nulls":5},""]
["",null,null,"00:00:00",{"$nulls":15},{"$f":"IF(OR(D323=0,P323=Presets!$C$67),\"\",IF(S323=0,ROUNDDOWN(NOW()-'Registry Full'!D323,0),S323-D323))","v":""},{"$nulls":5},""]
["",null,null,"00:00:00",{"$nulls":15},{"$f":"IF(OR(D324=0,P324=Presets!$C$67),\"\",IF(S324=0,ROUNDDOWN(NOW()-'Registry Full'!D324,0),S324-D324))","v":""},{"$nulls":5},""]
["",null,null,"00:00:00",{"$nulls":15},{"$f":"IF(OR(D325=0,P325=Presets!$C$67),\"\",IF(S325=0,ROUNDDOWN(NOW()-'Registry Full'!D325,0),S325-D325))","v":""},{"$nulls":5},""]
["",null,null,{"$f":"IF(C326=\"\",0,VALUE(RIGHT(C326,LEN(C326)-FIND(\"/\",C326,LEN(C326)-10))))","v":"00:00:00"},{"$nulls":15},{"$f":"IF(OR(D326=0,P326=Presets!$C$67),\"\",IF(S326=0,ROUNDDOWN(NOW()-'Registry Full'!D326,0),S326-D326))","v":""},{"$nulls":5},""]
["",null,null,"00:00:00",{"$nulls":15},{"$f":"IF(OR(D327=0,P327=Presets!$C$67),\"\",IF(S327=0,ROUNDDOWN(NOW()-'Registry Full'!D327,0),S327-D327))","v":""},{"$nulls":5},{"$f":"IF(OR(D327=0,Y327=0),\"\",Y327-D327)","v":""}]
["",null,null,"00:00:00",{"$nulls":15},{"$f":"IF(OR(D328=0,P328=Presets!$C$67),\"\",IF(S328=0,ROUNDDOWN(NOW()-'Registry Full'!D328,0),S328-D328))","v":""},{"$nulls":5},""]
[{"$f":"IF(COUNTA(B329)<>0,A328+1,\"\")","v":""},null,null,"00:00:00",{"$nulls":15},{"$f":"IF(OR(D329=0,P329=Presets!$C$67),\"\",IF(S329=0,ROUNDDOWN(NOW()-'Registry Full'!D329,0),S329-D329))","v":""},{"$nulls":5},""]
["",null,null,"00:00:00",{"$nulls":15},{"$f":"IF(OR(D330=0,P330=Presets!$C$67),\"\",IF(S330=0,ROUNDDOWN(NOW()-'Registry Full'!D330,0),S330-D330))","v":""},{"$nulls":5},""]
["",null,null,"00:00:00",{"$nulls":15},{"$f":"IF(OR(D331=0,P331=Presets!$C$67),\"\",IF(S331=0,ROUNDDOWN(NOW()-'Registry Full'!D331,0),S331-D331))","v":""},{"$nulls":5},""]
["",null,null,"00:00:00",{"$nulls":15},{"$f":"IF(OR(D332=0,P332=Presets!$C$67),\"\",IF(S332=0,ROUNDDOWN(NOW()-'Registry Full'!D332,0),S332-D332))","v":""},{"$nulls":5},""]
["",null,null,"00:00:00",{"$nulls":15},{"$f":"IF(OR(D333=0,P333=Presets!$C$67),\"\",IF(S333=0,ROUNDDOWN(NOW()-'Registry Full'!D333,0),S333-D333))","v":""},{"$nulls":5},""]
["",null,null,"00:00:00",{"$nulls":15},{"$f":"IF(OR(D334=0,P334=Presets!$C$67),\"\",IF(S334=0,ROUNDDOWN(NOW()-'Registry Full'!D334,0),S334-D334))","v":""},{"$nulls":5},""]
["",null,null,"00:00:00",{"$nulls":15},{"$f":"IF(OR(D335=0,P335=Presets!$C$67),\"\",IF(S335=0,ROUNDDOWN(NOW()-'Registry Full'!D335,0),S335-D335))","v":""},{"$nulls":5},""]
["",null,null,"00:00:00",{"$nulls":15},{"$f":"IF(OR(D336=0,P336=Presets!$C$67),\"\",IF(S336=0,ROUNDDOWN(NOW()-'Registry Full'!D336,0),S336-D336))","v":""},{"$nulls":5},""]
["",null,null,"00:00:00",{"$nulls":15},{"$f":"IF(OR(D337=0,P337=Presets!$C$67),\"\",IF(S337=0,ROUNDDOWN(NOW()-'Registry Full'!D337,0),S337-D337))","v":""},{"$nulls":5},""]
["",null,null,"00:00:00",{"$nulls":15},{"$f":"IF(OR(D338=0,P338=Presets!$C$67),\"\",IF(S338=0,ROUNDDOWN(NOW()-'Registry Full'!D338,0),S338-D338))","v":""},{"$nulls":5},""]
["",null,null,"00:00:00",{"$nulls":15},{"$f":"IF(OR(D339=0,P339=Presets!$C$67),\"\",IF(S339=0,ROUNDDOWN(NOW()-'Registry Full'!D339,0),S339-D339))","v":""},{"$nulls":5},""]
["",null,null,"00:00:00",{"$nulls":15},{"$f":"IF(OR(D340=0,P340=Presets!$C$67),\"\",IF(S340=0,ROUNDDOWN(NOW()-'Registry Full'!D340,0),S340-D340))","v":""},{"$nulls":5},""]
["",null,null,"00:00:00",{"$nulls":15},{"$f":"IF(OR(D341=0,P341=Presets!$C$67),\"\",IF(S341=0,ROUNDDOWN(NOW()-'Registry Full'!D341,0),S341-D341))","v":""},{"$nulls":5},""]
["",null,null,"00:00:00",{"$nulls":15},{"$f":"IF(OR(D342=0,P342=Presets!$C$67),\"\",IF(S342=0,ROUNDDOWN(NOW()-'Registry Full'!D342,0),S342-D342))","v":""},{"$nulls":5},""]
["",null,null,"00:00:00",{"$nulls":15},{"$f":"IF(OR(D343=0,P343=Presets!$C$67),\"\",IF(S343=0,ROUNDDOWN(NOW()-'Registry Full'!D343,0),S343-D343))","v":""},{"$nulls":5},""]
["",null,null,"00:00:00",{"$nulls":15},{"$f":"IF(OR(D344=0,P344=Presets!$C$67),\"\",IF(S344=0,ROUNDDOWN(NOW()-'Registry Full'!D344,0),S344-D344))","v":""},{"$nulls":5},""]
["",null,null,"00:00:00",{"$nulls":15},{"$f":"IF(OR(D345=0,P345=Presets!$C$67),\"\",IF(S345=0,ROUNDDOWN(NOW()-'Registry Full'!D345,0),S345-D345))","v":""},{"$nulls":5},""]
["",null,null,"00:00:00",{"$nulls":15},{"$f":"IF(OR(D346=0,P346=Presets!$C$67),\"\",IF(S346=0,ROUNDDOWN(NOW()-'Registry Full'!D346,0),S346-D346))","v":""},{"$nulls":5},""]
["",null,null,"00:00:00",{"$nulls":15},{"$f":"IF(OR(D347=0,P347=Presets!$C$67),\"\",IF(S347=0,ROUNDDOWN(NOW()-'Registry Full'!D347,0),S347-D347))","v":""},{"$nulls":5},""]
["",null,null,"00:00:00",{"$nulls":15},{"$f":"IF(OR(D348=0,P348=Presets!$C$67),\"\",IF(S348=0,ROUNDDOWN(NOW()-'Registry Full'!D348,0),S348-D348))","v":""},{"$nulls":5},""]
["",null,null,"00:00:00",{"$nulls":15},{"$f":"IF(OR(D349=0,P349=Presets!$C$67),\"\",IF(S349=0,ROUNDDOWN(NOW()-'Registry Full'!D349,0),S349-D349))","v":""},{"$nulls":5},""]
["",null,null,"00:00:00",{"$nulls":15},{"$f":"IF(OR(D350=0,P350=Presets!$C$67),\"\",IF(S350=0,ROUNDDOWN(NOW()-'Registry Full'!D350,0),S350-D350))","v":""},{"$nulls":5},""]
["",null,null,"00:00:00",{"$nulls":15},{"$f":"IF(OR(D351=0,P351=Presets!$C$67),\"\",IF(S351=0,ROUNDDOWN(NOW()-'Registry Full'!D351,0),S351-D351))","v":""},{"$nulls":5},""]
["",null,null,"00:00:00",{"$nulls":15},{"$f":"IF(OR(D352=0,P352=Presets!$C$67),\"\",IF(S352=0,ROUNDDOWN(NOW()-'Registry Full'!D352,0),S352-D352))","v":""},{"$nulls":5},""]
["",null,null,"00:00:00",{"$nulls":15},{"$f":"IF(OR(D353=0,P353=Presets!$C$67),\"\",IF(S353=0,ROUNDDOWN(NOW()-'Registry Full'!D353,0),S353-D353))","v":""},{"$nulls":5},""]
["",null,null,"00:00:00",{"$nulls":15},{"$f":"IF(OR(D354=0,P354=Presets!$C$67),\"\",IF(S354=0,ROUNDDOWN(NOW()-'Registry Full'!D354,0),S354-D354))","v":""},{"$nulls":5},""]
["",null,null,"00:00:00",{"$nulls":15},{"$f":"IF(OR(D355=0,P355=Presets!$C$67),\"\",IF(S355=0,ROUNDDOWN(NOW()-'Registry Full'!D355,0),S355-D355))","v":""},{"$nulls":5},""]
["",null,null,"00:00:00",{"$nulls":15},{"$f":"IF(OR(D356=0,P356=Presets!$C$67),\"\",IF(S356=0,ROUNDDOWN(NOW()-'Registry Full'!D356,0),S356-D356))","v":""},{"$nulls":5},""]
["",null,null,"00:00:00",{"$nulls":15},{"$f":"IF(OR(D357=0,P357=Presets!$C$67),\"\",IF(S357=0,ROUNDDOWN(NOW()-'Registry Full'!D357,0),S357-D357))","v":""},{"$nulls":5},""]
["",null,null,"00:00:00",{"$nulls":15},{"$f":"IF(OR(D358=0,P358=Presets!$C$67),\"\",IF(S358=0,ROUNDDOWN(NOW()-'Registry Full'!D358,0),S358-D358))","v":""},{"$nulls":5},""]
["",null,null,"00:00:00",{"$nulls":15},{"$f":"IF(OR(D359=0,P359=Presets!$C$67),\"\",IF(S359=0,ROUNDDOWN(NOW()-'Registry Full'!D359,0),S359-D359))","v":""},{"$nulls":5},""]
["",null,null,"00:00:00",{"$nulls":15},{"$f":"IF(OR(D360=0,P360=Presets!$C$67),\"\",IF(S360=0,ROUNDDOWN(NOW()-'Registry Full'!D360,0),S360-D360))","v":""},{"$nulls":5},""]
["",null,null,"00:00:00",{"$nulls":15},{"$f":"IF(OR(D361=0,P361=Presets!$C$67),\"\",IF(S361=0,ROUNDDOWN(NOW()-'Registry Full'!D361,0),S361-D361))","v":""},{"$nulls":5},""]
["",null,null,"00:00:00",{"$nulls":15},{"$f":"IF(OR(D362=0,P362=Presets!$C$67),\"\",IF(S362=0,ROUNDDOWN(NOW()-'Registry Full'!D362,0),S362-D362))","v":""},{"$nulls":5},""]
["",null,null,"00:00:00",{"$nulls":15},{"$f":"IF(OR(D363=0,P363=Presets!$C$67),\"\",IF(S363=0,ROUNDDOWN(NOW()-'Registry Full'!D363,0),S363-D363))","v":""},{"$nulls":5},""]
["",null,null,"00:00:00",{"$nulls":15},{"$f":"IF(OR(D364=0,P364=Presets!$C$67),\"\",IF(S364=0,ROUNDDOWN(NOW()-'Registry Full'!D364,0),S364-D364))","v":""},{"$nulls":5},""]
["",null,null,"00:00:00",{"$nulls":15},{"$f":"IF(OR(D365=0,P365=Presets!$C$67),\"\",IF(S365=0,ROUNDDOWN(NOW()-'Registry Full'!D365,0),S365-D365))","v":""},{"$nulls":5},""]
["",null,null,"00:00:00",{"$nulls":15},{"$f":"IF(OR(D366=0,P366=Presets!$C$67),\"\",IF(S366=0,ROUNDDOWN(NOW()-'Registry Full'!D366,0),S366-D366))","v":""},{"$nulls":5},""]
["",null,null,"00:00:00",{"$nulls":15},{"$f":"IF(OR(D367=0,P367=Presets!$C$67),\"\",IF(S367=0,ROUNDDOWN(NOW()-'Registry Full'!D367,0),S367-D367))","v":""},{"$nulls":5},""]
["",null,null,"00:00:00",{"$nulls":15},{"$f":"IF(OR(D368=0,P368=Presets!$C$67),\"\",IF(S368=0,ROUNDDOWN(NOW()-'Registry Full'!D368,0),S368-D368))","v":""},{"$nulls":5},""]
["",null,null,"00:00:00",{"$nulls":15},{"$f":"IF(OR(D369=0,P369=Presets!$C$67),\"\",IF(S369=0,ROUNDDOWN(NOW()-'Registry Full'!D369,0),S369-D369))","v":""},{"$nulls":5},""]
["",null,null,"00:00:00",{"$nulls":15},{"$f":"IF(OR(D370=0,P370=Presets!$C$67),\"\",IF(S370=0,ROUNDDOWN(NOW()-'Registry Full'!D370,0),S370-D370))","v":""},{"$nulls":5},""]
["",null,null,"00:00:00",{"$nulls":15},{"$f":"IF(OR(D371=0,P371=Presets!$C$67),\"\",IF(S371=0,ROUNDDOWN(NOW()-'Registry Full'!D371,0),S371-D371))","v":""},{"$nulls":5},""]
["",null,null,"00:00:00",{"$nulls":15},{"$f":"IF(OR(D372=0,P372=Presets!$C$67),\"\",IF(S372=0,ROUNDDOWN(NOW()-'Registry Full'!D372,0),S372-D372))","v":""},{"$nulls":5},""]
["",null,null,"00:00:00",{"$nulls":15},{"$f":"IF(OR(D373=0,P373=Presets!$C$67),\"\",IF(S373=0,ROUNDDOWN(NOW()-'Registry Full'!D373,0),S373-D373))","v":""},{"$nulls":5},""]
["",null,null,"00:00:00",{"$nulls":15},{"$f":"IF(OR(D374=0,P374=Presets!$C$67),\"\",IF(S374=0,ROUNDDOWN(NOW()-'Registry Full'!D374,0),S374-D374))","v":""},{"$nulls":5},""]
["",null,null,"00:00:00",{"$nulls":15},{"$f":"IF(OR(D375=0,P375=Presets!$C$67),\"\",IF(S375=0,ROUNDDOWN(NOW()-'Registry Full'!D375,0),S375-D375))","v":""},{"$nulls":5},""]
["",null,null,"00:00:00",{"$nulls":15},{"$f":"IF(OR(D376=0,P376=Presets!$C$67),\"\",IF(S376=0,ROUNDDOWN(NOW()-'Registry Full'!D376,0),S376-D376))","v":""},{"$nulls":5},""]
["",null,null,"00:00:00",{"$nulls":15},{"$f":"IF(OR(D377=0,P377=Presets!$C$67),\"\",IF(S377=0,ROUNDDOWN(NOW()-'Registry Full'!D377,0),S377-D377))","v":""},{"$nulls":5},""]
["",null,null,"00:00:00",{"$nulls":15},{"$f":"IF(OR(D378=0,P378=Presets!$C$67),\"\",IF(S378=0,ROUNDDOWN(NOW()-'Registry Full'!D378,0),S378-D378))","v":""},{"$nulls":5},""]
["",null,null,"00:00:00",{"$nulls":15},{"$f":"IF(OR(D379=0,P379=Presets!$C$67),\"\",IF(S379=0,ROUNDDOWN(NOW()-'Registry Full'!D379,0),S379-D379))","v":""},{"$nulls":5},""]
["",null,null,"00:00:00",{"$nulls":15},{"$f":"IF(OR(D380=0,P380=Presets!$C$67),\"\",IF(S380=0,ROUNDDOWN(NOW()-'Registry Full'!D380,0),S380-D380))","v":""},{"$nulls":5},""]
["",null,null,"00:00:00",{"$nulls":15},{"$f":"IF(OR(D381=0,P381=Presets!$C$67),\"\",IF(S381=0,ROUNDDOWN(NOW()-'Registry Full'!D381,0),S381-D381))","v":""},{"$nulls":5},""]
["",null,null,"00:00:00",{"$nulls":15},{"$f":"IF(OR(D382=0,P382=Presets!$C$67),\"\",IF(S382=0,ROUNDDOWN(NOW()-'Registry Full'!D382,0),S382-D382))","v":""},{"$nulls":5},""]
["",null,null,"00:00:00",{"$nulls":15},{"$f":"IF(OR(D383=0,P383=Presets!$C$67),\"\",IF(S383=0,ROUNDDOWN(NOW()-'Registry Full'!D383,0),S383-D383))","v":""},{"$nulls":5},""]
["",null,null,"00:00:00",{"$nulls":15},{"$f":"IF(OR(D384=0,P384=Presets!$C$67),\"\",IF(S384=0,ROUNDDOWN(NOW()-'Registry Full'!D384,0),S384-D384))","v":""},{"$nulls":5},""]
["",null,null,"00:00:00",{"$nulls":15},{"$f":"IF(OR(D385=0,P385=Presets!$C$67),\"\",IF(S385=0,ROUNDDOWN(NOW()-'Registry Full'!D385,0),S385-D385))","v":""},{"$nulls":5},""]
["",null,null,"00:00:00",{"$nulls":15},{"$f":"IF(OR(D386=0,P386=Presets!$C$67),\"\",IF(S386=0,ROUNDDOWN(NOW()-'Registry Full'!D386,0),S386-D386))","v":""},{"$nulls":5},""]
["",null,null,"00:00:00",{"$nulls":15},{"$f":"IF(OR(D387=0,P387=Presets!$C$67),\"\",IF(S387=0,ROUNDDOWN(NOW()-'Registry Full'!D387,0),S387-D387))","v":""},{"$nulls":5},""]
["",null,null,"00:00:00",{"$nulls":15},{"$f":"IF(OR(D388=0,P388=Presets!$C$67),\"\",IF(S388=0,ROUNDDOWN(NOW()-'Registry Full'!D388,0),S388-D388))","v":""},{"$nulls":5},""]
["",null,null,"00:00:00",{"$nulls":15},{"$f":"IF(OR(D389=0,P389=Presets!$C$67),\"\",IF(S389=0,ROUNDDOWN(NOW()-'Registry Full'!D389,0),S389-D389))","v":""},{"$nulls":5},""]
["",null,null,{"$f":"IF(C390=\"\",0,VALUE(RIGHT(C390,LEN(C390)-FIND(\"/\",C390,LEN(C390)-10))))","v":"00:00:00"},{"$nulls":15},{"$f":"IF(OR(D390=0,P390=Presets!$C$67),\"\",IF(S390=0,ROUNDDOWN(NOW()-'Registry Full'!D390,0),S390-D390))","v":""},{"$nulls":5},""]
["",null,null,"00:00:00",{"$nulls":15},{"$f":"IF(OR(D391=0,P391=Presets!$C$67),\"\",IF(S391=0,ROUNDDOWN(NOW()-'Registry Full'!D391,0),S391-D391))","v":""},{"$nulls":5},{"$f":"IF(OR(D391=0,Y391=0),\"\",Y391-D391)","v":""}]
["",null,null,"00:00:00",{"$nulls":15},{"$f":"IF(OR(D392=0,P392=Presets!$C$67),\"\",IF(S392=0,ROUNDDOWN(NOW()-'Registry Full'!D392,0),S392-D392))","v":""},{"$nulls":5},""]
[{"$f":"IF(COUNTA(B393)<>0,A392+1,\"\")","v":""},null,null,"00:00:00",{"$nulls":15},{"$f":"IF(OR(D393=0,P393=Presets!$C$67),\"\",IF(S393=0,ROUNDDOWN(NOW()-'Registry Full'!D393,0),S393-D393))","v":""},{"$nulls":5},""]
["",null,null,"00:00:00",{"$nulls":15},{"$f":"IF(OR(D394=0,P394=Presets!$C$67),\"\",IF(S394=0,ROUNDDOWN(NOW()-'Registry Full'!D394,0),S394-D394))","v":""},{"$nulls":5},""]
["",null,null,"00:00:00",{"$nulls":15},{"$f":"IF(OR(D395=0,P395=Presets!$C$67),\"\",IF(S395=0,ROUNDDOWN(NOW()-'Registry Full'!D395,0),S395-D395))","v":""},{"$nulls":5},""]
["",null,null,"00:00:00",{"$nulls":15},{"$f":"IF(OR(D396=0,P396=Presets!$C$67),\"\",IF(S396=0,ROUNDDOWN(NOW()-'Registry Full'!D396,0),S396-D396))","v":""},{"$nulls":5},""]
["",null,null,"00:00:00",{"$nulls":15},{"$f":"IF(OR(D397=0,P397=Presets!$C$67),\"\",IF(S397=0,ROUNDDOWN(NOW()-'Registry Full'!D397,0),S397-D397))","v":""},{"$nulls":5},""]
["",null,null,"00:00:00",{"$nulls":15},{"$f":"IF(OR(D398=0,P398=Presets!$C$67),\"\",IF(S398=0,ROUNDDOWN(NOW()-'Registry Full'!D398,0),S398-D398))","v":""},{"$nulls":5},""]
["",null,null,"00:00:00",{"$nulls":15},{"$f":"IF(OR(D399=0,P399=Presets!$C$67),\"\",IF(S399=0,ROUNDDOWN(NOW()-'Registry Full'!D399,0),S399-D399))","v":""},{"$nulls":5},""]
["",null,null,"00:00:00",{"$nulls":15},{"$f":"IF(OR(D400=0,P400=Presets!$C$67),\"\",IF(S400=0,ROUNDDOWN(NOW()-'Registry Full'!D400,0),S400-D400))","v":""},{"$nulls":5},""]
["",null,null,"00:00:00",{"$nulls":15},{"$f":"IF(OR(D401=0,P401=Presets!$C$67),\"\",IF(S401=0,ROUNDDOWN(NOW()-'Registry Full'!D401,0),S401-D401))","v":""},{"$nulls":5},""]
["",null,null,"00:00:00",{"$nulls":15},{"$f":"IF(OR(D402=0,P402=Presets!$C$67),\"\",IF(S402=0,ROUNDDOWN(NOW()-'Registry Full'!D402,0),S402-D402))","v":""},{"$nulls":5},""]
["",null,null,"00:00:00",{"$nulls":15},{"$f":"IF(OR(D403=0,P403=Presets!$C$67),\"\",IF(S403=0,ROUNDDOWN(NOW()-'Registry Full'!D403,0),S403-D403))","v":""},{"$nulls":5},""]
["",null,null,"00:00:00",{"$nulls":15},{"$f":"IF(OR(D404=0,P404=Presets!$C$67),\"\",IF(S404=0,ROUNDDOWN(NOW()-'Registry Full'!D404,0),S404-D404))","v":""},{"$nulls":5},""]
["",null,null,"00:00:00",{"$nulls":15},{"$f":"IF(OR(D405=0,P405=Presets!$C$67),\"\",IF(S405=0,ROUNDDOWN(NOW()-'Registry Full'!D405,0),S405-D405))","v":""},{"$nulls":5},""]
["",null,null,"00:00:00",{"$nulls":15},{"$f":"IF(OR(D406=0,P406=Presets!$C$67),\"\",IF(S406=0,ROUNDDOWN(NOW()-'Registry Full'!D406,0),S406-D406))","v":""},{"$nulls":5},""]
[{"$f":"IF(COUNTA(B407)<>0,A406+1,\"\")","v":""},null,null,"00:00:00",{"$nulls":15},{"$f":"IF(OR(D407=0,P407=Presets!$C$67),\"\",IF(S407=0,ROUNDDOWN(NOW()-'Registry Full'!D407,0),S407-D407))","v":""},{"$nulls":5},""]
["",null,null,"00:00:00",{"$nulls":15},{"$f":"IF(OR(D408=0,P408=Presets!$C$67),\"\",IF(S408=0,ROUNDDOWN(NOW()-'Registry Full'!D408,0),S408-D408))","v":""},{"$nulls":5},""]
["",null,null,"00:00:00",{"$nulls":15},{"$f":"IF(OR(D409=0,P409=Presets!$C$67),\"\",IF(S409=0,ROUNDDOWN(NOW()-'Registry Full'!D409,0),S409-D409))","v":""},{"$nulls":5},""]
["",null,null,"00:00:00",{"$nulls":15},{"$f":"IF(OR(D410=0,P410=Presets!$C$67),\"\",IF(S410=0,ROUNDDOWN(NOW()-'Registry Full'!D410,0),S410-D410))","v":""},{"$nulls":5},""]
["",null,null,"00:00:00",{"$nulls":15},{"$f":"IF(OR(D411=0,P411=Presets!$C$67),\"\",IF(S411=0,ROUNDDOWN(NOW()-'Registry Full'!D411,0),S411-D411))","v":""},{"$nulls":5},""]
["",null,null,"00:00:00",{"$nulls":15},{"$f":"IF(OR(D412=0,P412=Presets!$C$67),\"\",IF(S412=0,ROUNDDOWN(NOW()-'Registry Full'!D412,0),S412-D412))","v":""},{"$nulls":5},""]
["",null,null,"00:00:00",{"$nulls":15},{"$f":"IF(OR(D413=0,P413=Presets!$C$67),\"\",IF(S413=0,ROUNDDOWN(NOW()-'Registry Full'!D413,0),S413-D413))","v":""},{"$nulls":5},""]
["",null,null,"00:00:00",{"$nulls":15},{"$f":"IF(OR(D414=0,P414=Presets!$C$67),\"\",IF(S414=0,ROUNDDOWN(NOW()-'Registry Full'!D414,0),S414-D414))","v":""},{"$nulls":5},""]
["",null,null,"00:00:00",{"$nulls":15},{"$f":"IF(OR(D415=0,P415=Presets!$C$67),\"\",IF(S415=0,ROUNDDOWN(NOW()-'Registry Full'!D415,0),S415-D415))","v":""},{"$nulls":5},""]
["",null,null,"00:00:00",{"$nulls":15},{"$f":"IF(OR(D416=0,P416=Presets!$C$67),\"\",IF(S416=0,ROUNDDOWN(NOW()-'Registry Full'!D416,0),S416-D416))","v":""},{"$nulls":5},""]
["",null,null,"00:00:00",{"$nulls":15},{"$f":"IF(OR(D417=0,P417=Presets!$C$67),\"\",IF(S417=0,ROUNDDOWN(NOW()-'Registry Full'!D417,0),S417-D417))","v":""},{"$nulls":5},""]
["",null,null,"00:00:00",{"$nulls":15},{"$f":"IF(OR(D418=0,P418=Presets!$C$67),\"\",IF(S418=0,ROUNDDOWN(NOW()-'Registry Full'!D418,0),S418-D418))","v":""},{"$nulls":5},""]
["",null,null,"00:00:00",{"$nulls":15},{"$f":"IF(OR(D419=0,P419=Presets!$C$67),\"\",IF(S419=0,ROUNDDOWN(NOW()-'Registry Full'!D419,0),S419-D419))","v":""},{"$nulls":5},""]
["",null,null,"00:00:00",{"$nulls":15},{"$f":"IF(OR(D420=0,P420=Presets!$C$67),\"\",IF(S420=0,ROUNDDOWN(NOW()-'Registry Full'!D420,0),S420-D420))","v":""},{"$nulls":5},""]
["",null,null,"00:00:00",{"$nulls":15},{"$f":"IF(OR(D421=0,P421=Presets!$C$67),\"\",IF(S421=0,ROUNDDOWN(NOW()-'Registry Full'!D421,0),S421-D421))","v":""},{"$nulls":5},""]
["",null,null,"00:00:00",{"$nulls":15},{"$f":"IF(OR(D422=0,P422=Presets!$C$67),\"\",IF(S422=0,ROUNDDOWN(NOW()-'Registry Full'!D422,0),S422-D422))","v":""},{"$nulls":5},""]
["",null,null,"00:00:00",{"$nulls":15},{"$f":"IF(OR(D423=0,P423=Presets!$C$67),\"\",IF(S423=0,ROUNDDOWN(NOW()-'Registry Full'!D423,0),S423-D423))","v":""},{"$nulls":5},""]
["",null,null,"00:00:00",{"$nulls":15},{"$f":"IF(OR(D424=0,P424=Presets!$C$67),\"\",IF(S424=0,ROUNDDOWN(NOW()-'Registry Full'!D424,0),S424-D424))","v":""},{"$nulls":5},""]
["",null,null,"00:00:00",{"$nulls":15},{"$f":"IF(OR(D425=0,P425=Presets!$C$67),\"\",IF(S425=0,ROUNDDOWN(NOW()-'Registry Full'!D425,0),S425-D425))","v":""},{"$nulls":5},""]
["",null,null,"00:00:00",{"$nulls":15},{"$f":"IF(OR(D426=0,P426=Presets!$C$67),\"\",IF(S426=0,ROUNDDOWN(NOW()-'Registry Full'!D426,0),S426-D426))","v":""},{"$nulls":5},""]
["",null,null,"00:00:00",{"$nulls":15},{"$f":"IF(OR(D427=0,P427=Presets!$C$67),\"\",IF(S427=0,ROUNDDOWN(NOW()-'Registry Full'!D427,0),S427-D427))","v":""},{"$nulls":5},""]
["",null,null,"00:00:00",{"$nulls":15},{"$f":"IF(OR(D428=0,P428=Presets!$C$67),\"\",IF(S428=0,ROUNDDOWN(NOW()-'Registry Full'!D428,0),S428-D428))","v":""},{"$nulls":5},""]
["",null,null,"00:00:00",{"$nulls":15},{"$f":"IF(OR(D429=0,P429=Presets!$C$67),\"\",IF(S429=0,ROUNDDOWN(NOW()-'Registry Full'!D429,0),S429-D429))","v":""},{"$nulls":5},""]
["",null,null,"00:00:00",{"$nulls":15},{"$f":"IF(OR(D430=0,P430=Presets!$C$67),\"\",IF(S430=0,ROUNDDOWN(NOW()-'Registry Full'!D430,0),S430-D430))","v":""},{"$nulls":5},""]
["",null,null,"00:00:00",{"$nulls":15},{"$f":"IF(OR(D431=0,P431=Presets!$C$67),\"\",IF(S431=0,ROUNDDOWN(NOW()-'Registry Full'!D431,0),S431-D431))","v":""},{"$nulls":5},""]
["",null,null,"00:00:00",{"$nulls":15},{"$f":"IF(OR(D432=0,P432=Presets!$C$67),\"\",IF(S432=0,ROUNDDOWN(NOW()-'Registry Full'!D432,0),S432-D432))","v":""},{"$nulls":5},""]
["",null,null,"00:00:00",{"$nulls":15},{"$f":"IF(OR(D433=0,P433=Presets!$C$67),\"\",IF(S433=0,ROUNDDOWN(NOW()-'Registry Full'!D433,0),S433-D433))","v":""},{"$nulls":5},""]
["",null,null,"00:00:00",{"$nulls":15},{"$f":"IF(OR(D434=0,P434=Presets!$C$67),\"\",IF(S434=0,ROUNDDOWN(NOW()-'Registry Full'!D434,0),S434-D434))","v":""},{"$nulls":5},""]
["",null,null,"00:00:00",{"$nulls":15},{"$f":"IF(OR(D435=0,P435=Presets!$C$67),\"\",IF(S435=0,ROUNDDOWN(NOW()-'Registry Full'!D435,0),S435-D435))","v":""},{"$nulls":5},""]
["",null,null,"00:00:00",{"$nulls":15},{"$f":"IF(OR(D436=0,P436=Presets!$C$67),\"\",IF(S436=0,ROUNDDOWN(NOW()-'Registry Full'!D436,0),S436-D436))","v":""},{"$nulls":5},""]
["",null,null,"00:00:00",{"$nulls":15},{"$f":"IF(OR(D437=0,P437=Presets!$C$67),\"\",IF(S437=0,ROUNDDOWN(NOW()-'Registry Full'!D437,0),S437-D437))","v":""},{"$nulls":5},""]
["",null,null,"00:00:00",{"$nulls":15},{"$f":"IF(OR(D438=0,P438=Presets!$C$67),\"\",IF(S438=0,ROUNDDOWN(NOW()-'Registry Full'!D438,0),S438-D438))","v":""},{"$nulls":5},""]
["",null,null,"00:00:00",{"$nulls":15},{"$f":"IF(OR(D439=0,P439=Presets!$C$67),\"\",IF(S439=0,ROUNDDOWN(NOW()-'Registry Full'!D439,0),S439-D439))","v":""},{"$nulls":5},""]
["",null,null,"00:00:00",{"$nulls":15},{"$f":"IF(OR(D440=0,P440=Presets!$C$67),\"\",IF(S440=0,ROUNDDOWN(NOW()-'Registry Full'!D440,0),S440-D440))","v":""},{"$nulls":5},""]
["",null,null,"00:00:00",{"$nulls":15},{"$f":"IF(OR(D441=0,P441=Presets!$C$67),\"\",IF(S441=0,ROUNDDOWN(NOW()-'Registry Full'!D441,0),S441-D441))","v":""},{"$nulls":5},""]
["",null,null,"00:00:00",{"$nulls":15},{"$f":"IF(OR(D442=0,P442=Presets!$C$67),\"\",IF(S442=0,ROUNDDOWN(NOW()-'Registry Full'!D442,0),S442-D442))","v":""},{"$nulls":5},""]
["",null,null,"00:00:00",{"$nulls":15},{"$f":"IF(OR(D443=0,P443=Presets!$C$67),\"\",IF(S443=0,ROUNDDOWN(NOW()-'Registry Full'!D443,0),S443-D443))","v":""},{"$nulls":5},""]
["",null,null,"00:00:00",{"$nulls":15},{"$f":"IF(OR(D444=0,P444=Presets!$C$67),\"\",IF(S444=0,ROUNDDOWN(NOW()-'Registry Full'!D444,0),S444-D444))","v":""},{"$nulls":5},""]
["",null,null,"00:00:00",{"$nulls":15},{"$f":"IF(OR(D445=0,P445=Presets!$C$67),\"\",IF(S445=0,ROUNDDOWN(NOW()-'Registry Full'!D445,0),S445-D445))","v":""},{"$nulls":5},""]
["",null,null,"00:00:00",{"$nulls":15},{"$f":"IF(OR(D446=0,P446=Presets!$C$67),\"\",IF(S446=0,ROUNDDOWN(NOW()-'Registry Full'!D446,0),S446-D446))","v":""},{"$nulls":5},""]
["",null,null,"00:00:00",{"$nulls":15},{"$f":"IF(OR(D447=0,P447=Presets!$C$67),\"\",IF(S447=0,ROUNDDOWN(NOW()-'Registry Full'!D447,0),S447-D447))","v":""},{"$nulls":5},""]
["",null,null,"00:00:00",{"$nulls":15},{"$f":"IF(OR(D448=0,P448=Presets!$C$67),\"\",IF(S448=0,ROUNDDOWN(NOW()-'Registry Full'!D448,0),S448-D448))","v":""},{"$nulls":5},""]
["",null,null,"00:00:00",{"$nulls":15},{"$f":"IF(OR(D449=0,P449=Presets!$C$67),\"\",IF(S449=0,ROUNDDOWN(NOW()-'Registry Full'!D449,0),S449-D449))","v":""},{"$nulls":5},""]
["",null,null,"00:00:00",{"$nulls":15},{"$f":"IF(OR(D450=0,P450=Presets!$C$67),\"\",IF(S450=0,ROUNDDOWN(NOW()-'Registry Full'!D450,0),S450-D450))","v":""},{"$nulls":5},""]
["",null,null,"00:00:00",{"$nulls":15},{"$f":"IF(OR(D451=0,P451=Presets!$C$67),\"\",IF(S451=0,ROUNDDOWN(NOW()-'Registry Full'!D451,0),S451-D451))","v":""},{"$nulls":5},""]
["",null,null,"00:00:00",{"$nulls":15},{"$f":"IF(OR(D452=0,P452=Presets!$C$67),\"\",IF(S452=0,ROUNDDOWN(NOW()-'Registry Full'!D452,0),S452-D452))","v":""},{"$nulls":5},""]
["",null,null,"00:00:00",{"$nulls":15},{"$f":"IF(OR(D453=0,P453=Presets!$C$67),\"\",IF(S453=0,ROUNDDOWN(NOW()-'Registry Full'!D453,0),S453-D453))","v":""},{"$nulls":5},""]
["",null,null,{"$f":"IF(C454=\"\",0,VALUE(RIGHT(C454,LEN(C454)-FIND(\"/\",C454,LEN(C454)-10))))","v":"00:00:00"},{"$nulls":15},{"$f":"IF(OR(D454=0,P454=Presets!$C$67),\"\",IF(S454=0,ROUNDDOWN(NOW()-'Registry Full'!D454,0),S454-D454))","v":""},{"$nulls":5},""]
["",null,null,"00:00:00",{"$nulls":15},{"$f":"IF(OR(D455=0,P455=Presets!$C$67),\"\",IF(S455=0,ROUNDDOWN(NOW()-'Registry Full'!D455,0),S455-D455))","v":""},{"$nulls":5},{"$f":"IF(OR(D455=0,Y455=0),\"\",Y455-D455)","v":""}]
["",null,null,"00:00:00",{"$nulls":15},{"$f":"IF(OR(D456=0,P456=Presets!$C$67),\"\",IF(S456=0,ROUNDDOWN(NOW()-'Registry Full'!D456,0),S456-D456))","v":""},{"$nulls":5},""]
["",null,null,"00:00:00",{"$nulls":15},{"$f":"IF(OR(D457=0,P457=Presets!$C$67),\"\",IF(S457=0,ROUNDDOWN(NOW()-'Registry Full'!D457,0),S457-D457))","v":""},{"$nulls":5},""]
["",null,null,"00:00:00",{"$nulls":15},{"$f":"IF(OR(D458=0,P458=Presets!$C$67),\"\",IF(S458=0,ROUNDDOWN(NOW()-'Registry Full'!D458,0),S458-D458))","v":""},{"$nulls":5},""]
["",null,null,"00:00:00",{"$nulls":15},{"$f":"IF(OR(D459=0,P459=Presets!$C$67),\"\",IF(S459=0,ROUNDDOWN(NOW()-'Registry Full'!D459,0),S459-D459))","v":""},{"$nulls":5},""]
["",null,null,"00:00:00",{"$nulls":15},{"$f":"IF(OR(D460=0,P460=Presets!$C$67),\"\",IF(S460=0,ROUNDDOWN(NOW()-'Registry Full'!D460,0),S460-D460))","v":""},{"$nulls":5},""]
["",null,null,"00:00:00",{"$nulls":15},{"$f":"IF(OR(D461=0,P461=Presets!$C$67),\"\",IF(S461=0,ROUNDDOWN(NOW()-'Registry Full'!D461,0),S461-D461))","v":""},{"$nulls":5},""]
["",null,null,"00:00:00",{"$nulls":15},{"$f":"IF(OR(D462=0,P462=Presets!$C$67),\"\",IF(S462=0,ROUNDDOWN(NOW()-'Registry Full'!D462,0),S462-D462))","v":""},{"$nulls":5},""]
["",null,null,"00:00:00",{"$nulls":15},{"$f":"IF(OR(D463=0,P463=Presets!$C$67),\"\",IF(S463=0,ROUNDDOWN(NOW()-'Registry Full'!D463,0),S463-D463))","v":""},{"$nulls":5},""]
["",null,null,"00:00:00",{"$nulls":15},{"$f":"IF(OR(D464=0,P464=Presets!$C$67),\"\",IF(S464=0,ROUNDDOWN(NOW()-'Registry Full'!D464,0),S464-D464))","v":""},{"$nulls":5},""]
["",null,null,"00:00:00",{"$nulls":15},{"$f":"IF(OR(D465=0,P465=Presets!$C$67),\"\",IF(S465=0,ROUNDDOWN(NOW()-'Registry Full'!D465,0),S465-D465))","v":""},{"$nulls":5},""]
["",null,null,"00:00:00",{"$nulls":15},{"$f":"IF(OR(D466=0,P466=Presets!$C$67),\"\",IF(S466=0,ROUNDDOWN(NOW()-'Registry Full'!D466,0),S466-D466))","v":""},{"$nulls":5},""]
["",null,null,"00:00:00",{"$nulls":15},{"$f":"IF(OR(D467=0,P467=Presets!$C$67),\"\",IF(S467=0,ROUNDDOWN(NOW()-'Registry Full'!D467,0),S467-D467))","v":""},{"$nulls":5},""]
["",null,null,"00:00:00",{"$nulls":15},{"$f":"IF(OR(D468=0,P468=Presets!$C$67),\"\",IF(S468=0,ROUNDDOWN(NOW()-'Registry Full'!D468,0),S468-D468))","v":""},{"$nulls":5},""]
["",null,null,"00:00:00",{"$nulls":15},{"$f":"IF(OR(D469=0,P469=Presets!$C$67),\"\",IF(S469=0,ROUNDDOWN(NOW()-'Registry Full'!D469,0),S469-D469))","v":""},{"$nulls":5},""]
["",null,null,"00:00:00",{"$nulls":15},{"$f":"IF(OR(D470=0,P470=Presets!$C$67),\"\",IF(S470=0,ROUNDDOWN(NOW()-'Registry Full'!D470,0),S470-D470))","v":""},{"$nulls":5},""]
[{"$f":"IF(COUNTA(B471)<>0,A470+1,\"\")","v":""},null,null,"00:00:00",{"$nulls":15},{"$f":"IF(OR(D471=0,P471=Presets!$C$67),\"\",IF(S471=0,ROUNDDOWN(NOW()-'Registry Full'!D471,0),S471-D471))","v":""},{"$nulls":5},""]
["",null,null,"00:00:00",{"$nulls":15},{"$f":"IF(OR(D472=0,P472=Presets!$C$67),\"\",IF(S472=0,ROUNDDOWN(NOW()-'Registry Full'!D472,0),S472-D472))","v":""},{"$nulls":5},""]
["",null,null,"00:00:00",{"$nulls":15},{"$f":"IF(OR(D473=0,P473=Presets!$C$67),\"\",IF(S473=0,ROUNDDOWN(NOW()-'Registry Full'!D473,0),S473-D473))","v":""},{"$nulls":5},""]
["",null,null,"00:00:00",{"$nulls":15},{"$f":"IF(OR(D474=0,P474=Presets!$C$67),\"\",IF(S474=0,ROUNDDOWN(NOW()-'Registry Full'!D474,0),S474-D474))","v":""},{"$nulls":5},""]
["",null,null,"00:00:00",{"$nulls":15},{"$f":"IF(OR(D475=0,P475=Presets!$C$67),\"\",IF(S475=0,ROUNDDOWN(NOW()-'Registry Full'!D475,0),S475-D475))","v":""},{"$nulls":5},""]
["",null,null,"00:00:00",{"$nulls":15},{"$f":"IF(OR(D476=0,P476=Presets!$C$67),\"\",IF(S476=0,ROUNDDOWN(NOW()-'Registry Full'!D476,0),S476-D476))","v":""},{"$nulls":5},""]
["",null,null,"00:00:00",{"$nulls":15},{"$f":"IF(OR(D477=0,P477=Presets!$C$67),\"\",IF(S477=0,ROUNDDOWN(NOW()-'Registry Full'!D477,0),S477-D477))","v":""},{"$nulls":5},""]
["",null,null,"00:00:00",{"$nulls":15},{"$f":"IF(OR(D478=0,P478=Presets!$C$67),\"\",IF(S478=0,ROUNDDOWN(NOW()-'Registry Full'!D478,0),S478-D478))","v":""},{"$nulls":5},""]
["",null,null,"00:00:00",{"$nulls":15},{"$f":"IF(OR(D479=0,P479=Presets!$C$67),\"\",IF(S479=0,ROUNDDOWN(NOW()-'Registry Full'!D479,0),S479-D479))","v":""},{"$nulls":5},""]
["",null,null,"00:00:00",{"$nulls":15},{"$f":"IF(OR(D480=0,P480=Presets!$C$67),\"\",IF(S480=0,ROUNDDOWN(NOW()-'Registry Full'!D480,0),S480-D480))","v":""},{"$nulls":5},""]
["",null,null,"00:00:00",{"$nulls":15},{"$f":"IF(OR(D481=0,P481=Presets!$C$67),\"\",IF(S481=0,ROUNDDOWN(NOW()-'Registry Full'!D481,0),S481-D481))","v":""},{"$nulls":5},""]
["",null,null,"00:00:00",{"$nulls":15},{"$f":"IF(OR(D482=0,P482=Presets!$C$67),\"\",IF(S482=0,ROUNDDOWN(NOW()-'Registry Full'!D482,0),S482-D482))","v":""},{"$nulls":5},""]
["",null,null,"00:00:00",{"$nulls":15},{"$f":"IF(OR(D483=0,P483=Presets!$C$67),\"\",IF(S483=0,ROUNDDOWN(NOW()-'Registry Full'!D483,0),S483-D483))","v":""},{"$nulls":5},""]
["",null,null,"00:00:00",{"$nulls":15},{"$f":"IF(OR(D484=0,P484=Presets!$C$67),\"\",IF(S484=0,ROUNDDOWN(NOW()-'Registry Full'!D484,0),S484-D484))","v":""},{"$nulls":5},""]
["",null,null,"00:00:00",{"$nulls":15},{"$f":"IF(OR(D485=0,P485=Presets!$C$67),\"\",IF(S485=0,ROUNDDOWN(NOW()-'Registry Full'!D485,0),S485-D485))","v":""},{"$nulls":5},""]
["",null,null,"00:00:00",{"$nulls":15},{"$f":"IF(OR(D486=0,P486=Presets!$C$67),\"\",IF(S486=0,ROUNDDOWN(NOW()-'Registry Full'!D486,0),S486-D486))","v":""},{"$nulls":5},""]
["",null,null,"00:00:00",{"$nulls":15},{"$f":"IF(OR(D487=0,P487=Presets!$C$67),\"\",IF(S487=0,ROUNDDOWN(NOW()-'Registry Full'!D487,0),S487-D487))","v":""},{"$nulls":5},""]
["",null,null,"00:00:00",{"$nulls":15},{"$f":"IF(OR(D488=0,P488=Presets!$C$67),\"\",IF(S488=0,ROUNDDOWN(NOW()-'Registry Full'!D488,0),S488-D488))","v":""},{"$nulls":5},""]
["",null,null,"00:00:00",{"$nulls":15},{"$f":"IF(OR(D489=0,P489=Presets!$C$67),\"\",IF(S489=0,ROUNDDOWN(NOW()-'Registry Full'!D489,0),S489-D489))","v":""},{"$nulls":5},""]
["",null,null,"00:00:00",{"$nulls":15},{"$f":"IF(OR(D490=0,P490=Presets!$C$67),\"\",IF(S490=0,ROUNDDOWN(NOW()-'Registry Full'!D490,0),S490-D490))","v":""},{"$nulls":5},""]
["",null,null,"00:00:00",{"$nulls":15},{"$f":"IF(OR(D491=0,P491=Presets!$C$67),\"\",IF(S491=0,ROUNDDOWN(NOW()-'Registry Full'!D491,0),S491-D491))","v":""},{"$nulls":5},""]
["",null,null,"00:00:00",{"$nulls":15},{"$f":"IF(OR(D492=0,P492=Presets!$C$67),\"\",IF(S492=0,ROUNDDOWN(NOW()-'Registry Full'!D492,0),S492-D492))","v":""},{"$nulls":5},""]
["",null,null,"00:00:00",{"$nulls":15},{"$f":"IF(OR(D493=0,P493=Presets!$C$67),\"\",IF(S493=0,ROUNDDOWN(NOW()-'Registry Full'!D493,0),S493-D493))","v":""},{"$nulls":5},""]
["",null,null,"00:00:00",{"$nulls":15},{"$f":"IF(OR(D494=0,P494=Presets!$C$67),\"\",IF(S494=0,ROUNDDOWN(NOW()-'Registry Full'!D494,0),S494-D494))","v":""},{"$nulls":5},""]
["",null,null,"00:00:00",{"$nulls":15},{"$f":"IF(OR(D495=0,P495=Presets!$C$67),\"\",IF(S495=0,ROUNDDOWN(NOW()-'Registry Full'!D495,0),S495-D495))","v":""},{"$nulls":5},""]
["",null,null,"00:00:00",{"$nulls":15},{"$f":"IF(OR(D496=0,P496=Presets!$C$67),\"\",IF(S496=0,ROUNDDOWN(NOW()-'Registry Full'!D496,0),S496-D496))","v":""},{"$nulls":5},""]
["",null,null,"00:00:00",{"$nulls":15},{"$f":"IF(OR(D497=0,P497=Presets!$C$67),\"\",IF(S497=0,ROUNDDOWN(NOW()-'Registry Full'!D497,0),S497-D497))","v":""},{"$nulls":5},""]
["",null,null,"00:00:00",{"$nulls":15},{"$f":"IF(OR(D498=0,P498=Presets!$C$67),\"\",IF(S498=0,ROUNDDOWN(NOW()-'Registry Full'!D498,0),S498-D498))","v":""},{"$nulls":5},""]
["",null,null,"00:00:00",{"$nulls":15},{"$f":"IF(OR(D499=0,P499=Presets!$C$67),\"\",IF(S499=0,ROUNDDOWN(NOW()-'Registry Full'!D499,0),S499-D499))","v":""},{"$nulls":5},""]
["",null,null,"00:00:00",{"$nulls":15},{"$f":"IF(OR(D500=0,P500=Presets!$C$67),\"\",IF(S500=0,ROUNDDOWN(NOW()-'Registry Full'!D500,0),S500-D500))","v":""},{"$nulls":5},""]
["",null,null,"00:00:00",{"$nulls":15},{"$f":"IF(OR(D501=0,P501=Presets!$C$67),\"\",IF(S501=0,ROUNDDOWN(NOW()-'Registry Full'!D501,0),S501-D501))","v":""},{"$nulls":5},""]
["",null,null,"00:00:00",{"$nulls":15},{"$f":"IF(OR(D502=0,P502=Presets!$C$67),\"\",IF(S502=0,ROUNDDOWN(NOW()-'Registry Full'!D502,0),S502-D502))","v":""},{"$nulls":5},""]
["",null,null,"00:00:00",{"$nulls":15},{"$f":"IF(OR(D503=0,P503=Presets!$C$67),\"\",IF(S503=0,ROUNDDOWN(NOW()-'Registry Full'!D503,0),S503-D503))","v":""},{"$nulls":5},""]
["",null,null,"00:00:00",{"$nulls":15},{"$f":"IF(OR(D504=0,P504=Presets!$C$67),\"\",IF(S504=0,ROUNDDOWN(NOW()-'Registry Full'!D504,0),S504-D504))","v":""},{"$nulls":5},""]
["",null,null,"00:00:00",{"$nulls":15},{"$f":"IF(OR(D505=0,P505=Presets!$C$67),\"\",IF(S505=0,ROUNDDOWN(NOW()-'Registry Full'!D505,0),S505-D505))","v":""},{"$nulls":5},""]
["",null,null,"00:00:00",{"$nulls":15},{"$f":"IF(OR(D506=0,P506=Presets!$C$67),\"\",IF(S506=0,ROUNDDOWN(NOW()-'Registry Full'!D506,0),S506-D506))","v":""},{"$nulls":5},""]
["",null,null,"00:00:00",{"$nulls":15},{"$f":"IF(OR(D507=0,P507=Presets!$C$67),\"\",IF(S507=0,ROUNDDOWN(NOW()-'Registry Full'!D507,0),S507-D507))","v":""},{"$nulls":5},""]
["",null,null,"00:00:00",{"$nulls":15},{"$f":"IF(OR(D508=0,P508=Presets!$C$67),\"\",IF(S508=0,ROUNDDOWN(NOW()-'Registry Full'!D508,0),S508-D508))","v":""},{"$nulls":5},""]
["",null,null,"00:00:00",{"$nulls":15},{"$f":"IF(OR(D509=0,P509=Presets!$C$67),\"\",IF(S509=0,ROUNDDOWN(NOW()-'Registry Full'!D509,0),S509-D509))","v":""},{"$nulls":5},""]
["",null,null,"00:00:00",{"$nulls":15},{"$f":"IF(OR(D510=0,P510=Presets!$C$67),\"\",IF(S510=0,ROUNDDOWN(NOW()-'Registry Full'!D510,0),S510-D510))","v":""},{"$nulls":5},""]
["",null,null,"00:00:00",{"$nulls":15},{"$f":"IF(OR(D511=0,P511=Presets!$C$67),\"\",IF(S511=0,ROUNDDOWN(NOW()-'Registry Full'!D511,0),S511-D511))","v":""},{"$nulls":5},""]
["",null,null,"00:00:00",{"$nulls":15},{"$f":"IF(OR(D512=0,P512=Presets!$C$67),\"\",IF(S512=0,ROUNDDOWN(NOW()-'Registry Full'!D512,0),S512-D512))","v":""},{"$nulls":5},""]
["",null,null,"00:00:00",{"$nulls":15},{"$f":"IF(OR(D513=0,P513=Presets!$C$67),\"\",IF(S513=0,ROUNDDOWN(NOW()-'Registry Full'!D513,0),S513-D513))","v":""},{"$nulls":5},""]
["",null,null,"00:00:00",{"$nulls":15},{"$f":"IF(OR(D514=0,P514=Presets!$C$67),\"\",IF(S514=0,ROUNDDOWN(NOW()-'Registry Full'!D514,0),S514-D514))","v":""},{"$nulls":5},""]
["",null,null,"00:00:00",{"$nulls":15},{"$f":"IF(OR(D515=0,P515=Presets!$C$67),\"\",IF(S515=0,ROUNDDOWN(NOW()-'Registry Full'!D515,0),S515-D515))","v":""},{"$nulls":5},""]
["",null,null,"00:00:00",{"$nulls":15},{"$f":"IF(OR(D516=0,P516=Presets!$C$67),\"\",IF(S516=0,ROUNDDOWN(NOW()-'Registry Full'!D516,0),S516-D516))","v":""},{"$nulls":5},""]
["",null,null,"00:00:00",{"$nulls":15},{"$f":"IF(OR(D517=0,P517=Presets!$C$67),\"\",IF(S517=0,ROUNDDOWN(NOW()-'Registry Full'!D517,0),S517-D517))","v":""},{"$nulls":5},""]
["",null,null,{"$f":"IF(C518=\"\",0,VALUE(RIGHT(C518,LEN(C518)-FIND(\"/\",C518,LEN(C518)-10))))","v":"00:00:00"},{"$nulls":15},{"$f":"IF(OR(D518=0,P518=Presets!$C$67),\"\",IF(S518=0,ROUNDDOWN(NOW()-'Registry Full'!D518,0),S518-D518))","v":""},{"$nulls":5},""]
["",null,null,"00:00:00",{"$nulls":15},{"$f":"IF(OR(D519=0,P519=Presets!$C$67),\"\",IF(S519=0,ROUNDDOWN(NOW()-'Registry Full'!D519,0),S519-D519))","v":""},{"$nulls":5},{"$f":"IF(OR(D519=0,Y519=0),\"\",Y519-D519)","v":""}]
["",null,null,"00:00:00",{"$nulls":15},{"$f":"IF(OR(D520=0,P520=Presets!$C$67),\"\",IF(S520=0,ROUNDDOWN(NOW()-'Registry Full'!D520,0),S520-D520))","v":""},{"$nulls":5},""]
["",null,null,"00:00:00",{"$nulls":15},{"$f":"IF(OR(D521=0,P521=Presets!$C$67),\"\",IF(S521=0,ROUNDDOWN(NOW()-'Registry Full'!D521,0),S521-D521))","v":""},{"$nulls":5},""]
["",null,null,"00:00:00",{"$nulls":15},{"$f":"IF(OR(D522=0,P522=Presets!$C$67),\"\",IF(S522=0,ROUNDDOWN(NOW()-'Registry Full'!D522,0),S522-D522))","v":""},{"$nulls":5},""]
["",null,null,"00:00:00",{"$nulls":15},{"$f":"IF(OR(D523=0,P523=Presets!$C$67),\"\",IF(S523=0,ROUNDDOWN(NOW()-'Registry Full'!D523,0),S523-D523))","v":""},{"$nulls":5},""]
["",null,null,"00:00:00",{"$nulls":15},{"$f":"IF(OR(D524=0,P524=Presets!$C$67),\"\",IF(S524=0,ROUNDDOWN(NOW()-'Registry Full'!D524,0),S524-D524))","v":""},{"$nulls":5},""]
["",null,null,"00:00:00",{"$nulls":15},{"$f":"IF(OR(D525=0,P525=Presets!$C$67),\"\",IF(S525=0,ROUNDDOWN(NOW()-'Registry Full'!D525,0),S525-D525))","v":""},{"$nulls":5},""]
["",null,null,"00:00:00",{"$nulls":15},{"$f":"IF(OR(D526=0,P526=Presets!$C$67),\"\",IF(S526=0,ROUNDDOWN(NOW()-'Registry Full'!D526,0),S526-D526))","v":""},{"$nulls":5},""]
["",null,null,"00:00:00",{"$nulls":15},{"$f":"IF(OR(D527=0,P527=Presets!$C$67),\"\",IF(S527=0,ROUNDDOWN(NOW()-'Registry Full'!D527,0),S527-D527))","v":""},{"$nulls":5},""]
["",null,null,"00:00:00",{"$nulls":15},{"$f":"IF(OR(D528=0,P528=Presets!$C$67),\"\",IF(S528=0,ROUNDDOWN(NOW()-'Registry Full'!D528,0),S528-D528))","v":""},{"$nulls":5},""]
["",null,null,"00:00:00",{"$nulls":15},{"$f":"IF(OR(D529=0,P529=Presets!$C$67),\"\",IF(S529=0,ROUNDDOWN(NOW()-'Registry Full'!D529,0),S529-D529))","v":""},{"$nulls":5},""]
["",null,null,"00:00:00",{"$nulls":15},{"$f":"IF(OR(D530=0,P530=Presets!$C$67),\"\",IF(S530=0,ROUNDDOWN(NOW()-'Registry Full'!D530,0),S530-D530))","v":""},{"$nulls":5},""]
["",null,null,"00:00:00",{"$nulls":15},{"$f":"IF(OR(D531=0,P531=Presets!$C$67),\"\",IF(S531=0,ROUNDDOWN(NOW()-'Registry Full'!D531,0),S531-D531))","v":""},{"$nulls":5},""]
["",null,null,"00:00:00",{"$nulls":15},{"$f":"IF(OR(D532=0,P532=Presets!$C$67),\"\",IF(S532=0,ROUNDDOWN(NOW()-'Registry Full'!D532,0),S532-D532))","v":""},{"$nulls":5},""]
["",null,null,"00:00:00",{"$nulls":15},{"$f":"IF(OR(D533=0,P533=Presets!$C$67),\"\",IF(S533=0,ROUNDDOWN(NOW()-'Registry Full'!D533,0),S533-D533))","v":""},{"$nulls":5},""]
["",null,null,"00:00:00",{"$nulls":15},{"$f":"IF(OR(D534=0,P534=Presets!$C$67),\"\",IF(S534=0,ROUNDDOWN(NOW()-'Registry Full'!D534,0),S534-D534))","v":""},{"$nulls":5},""]
[{"$f":"IF(COUNTA(B535)<>0,A534+1,\"\")","v":""},null,null,"00:00:00",{"$nulls":15},{"$f":"IF(OR(D535=0,P535=Presets!$C$67),\"\",IF(S535=0,ROUNDDOWN(NOW()-'Registry Full'!D535,0),S535-D535))","v":""},{"$nulls":5},""]
["",null,null,"00:00:00",{"$nulls":15},{"$f":"IF(OR(D536=0,P536=Presets!$C$67),\"\",IF(S536=0,ROUNDDOWN(NOW()-'Registry Full'!D536,0),S536-D536))","v":""},{"$nulls":5},""]
["",null,null,"00:00:00",{"$nulls":15},{"$f":"IF(OR(D537=0,P537=Presets!$C$67),\"\",IF(S537=0,ROUNDDOWN(NOW()-'Registry Full'!D537,0),S537-D537))","v":""},{"$nulls":5},""]
["",null,null,"00:00:00",{"$nulls":15},{"$f":"IF(OR(D538=0,P538=Presets!$C$67),\"\",IF(S538=0,ROUNDDOWN(NOW()-'Registry Full'!D538,0),S538-D538))","v":""},{"$nulls":5},""]
["",null,null,"00:00:00",{"$nulls":15},{"$f":"IF(OR(D539=0,P539=Presets!$C$67),\"\",IF(S539=0,ROUNDDOWN(NOW()-'Registry Full'!D539,0),S539-D539))","v":""},{"$nulls":5},""]
["",null,null,"00:00:00",{"$nulls":15},{"$f":"IF(OR(D540=0,P540=Presets!$C$67),\"\",IF(S540=0,ROUNDDOWN(NOW()-'Registry Full'!D540,0),S540-D540))","v":""},{"$nulls":5},""]
["",null,null,"00:00:00",{"$nulls":15},{"$f":"IF(OR(D541=0,P541=Presets!$C$67),\"\",IF(S541=0,ROUNDDOWN(NOW()-'Registry Full'!D541,0),S541-D541))","v":""},{"$nulls":5},""]
["",null,null,"00:00:00",{"$nulls":15},{"$f":"IF(OR(D542=0,P542=Presets!$C$67),\"\",IF(S542=0,ROUNDDOWN(NOW()-'Registry Full'!D542,0),S542-D542))","v":""},{"$nulls":5},""]
["",null,null,"00:00:00",{"$nulls":15},{"$f":"IF(OR(D543=0,P543=Presets!$C$67),\"\",IF(S543=0,ROUNDDOWN(NOW()-'Registry Full'!D543,0),S543-D543))","v":""},{"$nulls":5},""]
["",null,null,"00:00:00",{"$nulls":15},{"$f":"IF(OR(D544=0,P544=Presets!$C$67),\"\",IF(S544=0,ROUNDDOWN(NOW()-'Registry Full'!D544,0),S544-D544))","v":""},{"$nulls":5},""]
["",null,null,"00:00:00",{"$nulls":15},{"$f":"IF(OR(D545=0,P545=Presets!$C$67),\"\",IF(S545=0,ROUNDDOWN(NOW()-'Registry Full'!D545,0),S545-D545))","v":""},{"$nulls":5},""]
["",null,null,"00:00:00",{"$nulls":15},{"$f":"IF(OR(D546=0,P546=Presets!$C$67),\"\",IF(S546=0,ROUNDDOWN(NOW()-'Registry Full'!D546,0),S546-D546))","v":""},{"$nulls":5},""]
["",null,null,"00:00:00",{"$nulls":15},{"$f":"IF(OR(D547=0,P547=Presets!$C$67),\"\",IF(S547=0,ROUNDDOWN(NOW()-'Registry Full'!D547,0),S547-D547))","v":""},{"$nulls":5},""]
["",null,null,"00:00:00",{"$nulls":15},{"$f":"IF(OR(D548=0,P548=Presets!$C$67),\"\",IF(S548=0,ROUNDDOWN(NOW()-'Registry Full'!D548,0),S548-D548))","v":""},{"$nulls":5},""]
["",null,null,"00:00:00",{"$nulls":15},{"$f":"IF(OR(D549=0,P549=Presets!$C$67),\"\",IF(S549=0,ROUNDDOWN(NOW()-'Registry Full'!D549,0),S549-D549))","v":""},{"$nulls":5},""]
["",null,null,"00:00:00",{"$nulls":15},{"$f":"IF(OR(D550=0,P550=Presets!$C$67),\"\",IF(S550=0,ROUNDDOWN(NOW()-'Registry Full'!D550,0),S550-D550))","v":""},{"$nulls":5},""]
["",null,null,"00:00:00",{"$nulls":15},{"$f":"IF(OR(D551=0,P551=Presets!$C$67),\"\",IF(S551=0,ROUNDDOWN(NOW()-'Registry Full'!D551,0),S551-D551))","v":""},{"$nulls":5},""]
["",null,null,"00:00:00",{"$nulls":15},{"$f":"IF(OR(D552=0,P552=Presets!$C$67),\"\",IF(S552=0,ROUNDDOWN(NOW()-'Registry Full'!D552,0),S552-D552))","v":""},{"$nulls":5},""]
["",null,null,"00:00:00",{"$nulls":15},{"$f":"IF(OR(D553=0,P553=Presets!$C$67),\"\",IF(S553=0,ROUNDDOWN(NOW()-'Registry Full'!D553,0),S553-D553))","v":""},{"$nulls":5},""]
["",null,null,"00:00:00",{"$nulls":15},{"$f":"IF(OR(D554=0,P554=Presets!$C$67),\"\",IF(S554=0,ROUNDDOWN(NOW()-'Registry Full'!D554,0),S554-D554))","v":""},{"$nulls":5},""]
["",null,null,"00:00:00",{"$nulls":15},{"$f":"IF(OR(D555=0,P555=Presets!$C$67),\"\",IF(S555=0,ROUNDDOWN(NOW()-'Registry Full'!D555,0),S555-D555))","v":""},{"$nulls":5},""]
["",null,null,"00:00:00",{"$nulls":15},{"$f":"IF(OR(D556=0,P556=Presets!$C$67),\"\",IF(S556=0,ROUNDDOWN(NOW()-'Registry Full'!D556,0),S556-D556))","v":""},{"$nulls":5},""]
["",null,null,"00:00:00",{"$nulls":15},{"$f":"IF(OR(D557=0,P557=Presets!$C$67),\"\",IF(S557=0,ROUNDDOWN(NOW()-'Registry Full'!D557,0),S557-D557))","v":""},{"$nulls":5},""]
["",null,null,"00:00:00",{"$nulls":15},{"$f":"IF(OR(D558=0,P558=Presets!$C$67),\"\",IF(S558=0,ROUNDDOWN(NOW()-'Registry Full'!D558,0),S558-D558))","v":""},{"$nulls":5},""]
["",null,null,"00:00:00",{"$nulls":15},{"$f":"IF(OR(D559=0,P559=Presets!$C$67),\"\",IF(S559=0,ROUNDDOWN(NOW()-'Registry Full'!D559,0),S559-D559))","v":""},{"$nulls":5},""]
["",null,null,"00:00:00",{"$nulls":15},{"$f":"IF(OR(D560=0,P560=Presets!$C$67),\"\",IF(S560=0,ROUNDDOWN(NOW()-'Registry Full'!D560,0),S560-D560))","v":""},{"$nulls":5},""]
["",null,null,"00:00:00",{"$nulls":15},{"$f":"IF(OR(D561=0,P561=Presets!$C$67),\"\",IF(S561=0,ROUNDDOWN(NOW()-'Registry Full'!D561,0),S561-D561))","v":""},{"$nulls":5},""]
["",null,null,"00:00:00",{"$nulls":15},{"$f":"IF(OR(D562=0,P562=Presets!$C$67),\"\",IF(S562=0,ROUNDDOWN(NOW()-'Registry Full'!D562,0),S562-D562))","v":""},{"$nulls":5},""]
["",null,null,"00:00:00",{"$nulls":15},{"$f":"IF(OR(D563=0,P563=Presets!$C$67),\"\",IF(S563=0,ROUNDDOWN(NOW()-'Registry Full'!D563,0),S563-D563))","v":""},{"$nulls":5},""]
["",null,null,"00:00:00",{"$nulls":15},{"$f":"IF(OR(D564=0,P564=Presets!$C$67),\"\",IF(S564=0,ROUNDDOWN(NOW()-'Registry Full'!D564,0),S564-D564))","v":""},{"$nulls":5},""]
["",null,null,"00:00:00",{"$nulls":15},{"$f":"IF(OR(D565=0,P565=Presets!$C$67),\"\",IF(S565=0,ROUNDDOWN(NOW()-'Registry Full'!D565,0),S565-D565))","v":""},{"$nulls":5},""]
["",null,null,"00:00:00",{"$nulls":15},{"$f":"IF(OR(D566=0,P566=Presets!$C$67),\"\",IF(S566=0,ROUNDDOWN(NOW()-'Registry Full'!D566,0),S566-D566))","v":""},{"$nulls":5},""]
["",null,null,"00:00:00",{"$nulls":15},{"$f":"IF(OR(D567=0,P567=Presets!$C$67),\"\",IF(S567=0,ROUNDDOWN(NOW()-'Registry Full'!D567,0),S567-D567))","v":""},{"$nulls":5},""]
["",null,null,"00:00:00",{"$nulls":15},{"$f":"IF(OR(D568=0,P568=Presets!$C$67),\"\",IF(S568=0,ROUNDDOWN(NOW()-'Registry Full'!D568,0),S568-D568))","v":""},{"$nulls":5},""]
["",null,null,"00:00:00",{"$nulls":15},{"$f":"IF(OR(D569=0,P569=Presets!$C$67),\"\",IF(S569=0,ROUNDDOWN(NOW()-'Registry Full'!D569,0),S569-D569))","v":""},{"$nulls":5},""]
["",null,null,"00:00:00",{"$nulls":15},{"$f":"IF(OR(D570=0,P570=Presets!$C$67),\"\",IF(S570=0,ROUNDDOWN(NOW()-'Registry Full'!D570,0),S570-D570))","v":""},{"$nulls":5},""]
["",null,null,"00:00:00",{"$nulls":15},{"$f":"IF(OR(D571=0,P571=Presets!$C$67),\"\",IF(S571=0,ROUNDDOWN(NOW()-'Registry Full'!D571,0),S571-D571))","v":""},{"$nulls":5},""]
["",null,null,"00:00:00",{"$nulls":15},{"$f":"IF(OR(D572=0,P572=Presets!$C$67),\"\",IF(S572=0,ROUNDDOWN(NOW()-'Registry Full'!D572,0),S572-D572))","v":""},{"$nulls":5},""]
["",null,null,"00:00:00",{"$nulls":15},{"$f":"IF(OR(D573=0,P573=Presets!$C$67),\"\",IF(S573=0,ROUNDDOWN(NOW()-'Registry Full'!D573,0),S573-D573))","v":""},{"$nulls":5},""]
["",null,null,"00:00:00",{"$nulls":15},{"$f":"IF(OR(D574=0,P574=Presets!$C$67),\"\",IF(S574=0,ROUNDDOWN(NOW()-'Registry Full'!D574,0),S574-D574))","v":""},{"$nulls":5},""]
["",null,null,"00:00:00",{"$nulls":15},{"$f":"IF(OR(D575=0,P575=Presets!$C$67),\"\",IF(S575=0,ROUNDDOWN(NOW()-'Registry Full'!D575,0),S575-D575))","v":""},{"$nulls":5},""]
["",null,null,"00:00:00",{"$nulls":15},{"$f":"IF(OR(D576=0,P576=Presets!$C$67),\"\",IF(S576=0,ROUNDDOWN(NOW()-'Registry Full'!D576,0),S576-D576))","v":""},{"$nulls":5},""]
["",null,null,"00:00:00",{"$nulls":15},{"$f":"IF(OR(D577=0,P577=Presets!$C$67),\"\",IF(S577=0,ROUNDDOWN(NOW()-'Registry Full'!D577,0),S577-D577))","v":""},{"$nulls":5},""]
["",null,null,"00:00:00",{"$nulls":15},{"$f":"IF(OR(D578=0,P578=Presets!$C$67),\"\",IF(S578=0,ROUNDDOWN(NOW()-'Registry Full'!D578,0),S578-D578))","v":""},{"$nulls":5},""]
["",null,null,"00:00:00",{"$nulls":15},{"$f":"IF(OR(D579=0,P579=Presets!$C$67),\"\",IF(S579=0,ROUNDDOWN(NOW()-'Registry Full'!D579,0),S579-D579))","v":""},{"$nulls":5},""]
["",null,null,"00:00:00",{"$nulls":15},{"$f":"IF(OR(D580=0,P580=Presets!$C$67),\"\",IF(S580=0,ROUNDDOWN(NOW()-'Registry Full'!D580,0),S580-D580))","v":""},{"$nulls":5},""]
["",null,null,"00:00:00",{"$nulls":15},{"$f":"IF(OR(D581=0,P581=Presets!$C$67),\"\",IF(S581=0,ROUNDDOWN(NOW()-'Registry Full'!D581,0),S581-D581))","v":""},{"$nulls":5},""]
["",null,null,{"$f":"IF(C582=\"\",0,VALUE(RIGHT(C582,LEN(C582)-FIND(\"/\",C582,LEN(C582)-10))))","v":"00:00:00"},{"$nulls":15},{"$f":"IF(OR(D582=0,P582=Presets!$C$67),\"\",IF(S582=0,ROUNDDOWN(NOW()-'Registry Full'!D582,0),S582-D582))","v":""},{"$nulls":5},""]
["",null,null,"00:00:00",{"$nulls":15},{"$f":"IF(OR(D583=0,P583=Presets!$C$67),\"\",IF(S583=0,ROUNDDOWN(NOW()-'Registry Full'!D583,0),S583-D583))","v":""},{"$nulls":5},{"$f":"IF(OR(D583=0,Y583=0),\"\",Y583-D583)","v":""}]
["",null,null,"00:00:00",{"$nulls":15},{"$f":"IF(OR(D584=0,P584=Presets!$C$67),\"\",IF(S584=0,ROUNDDOWN(NOW()-'Registry Full'!D584,0),S584-D584))","v":""},{"$nulls":5},""]
["",null,null,"00:00:00",{"$nulls":15},{"$f":"IF(OR(D585=0,P585=Presets!$C$67),\"\",IF(S585=0,ROUNDDOWN(NOW()-'Registry Full'!D585,0),S585-D585))","v":""},{"$nulls":5},""]
["",null,null,"00:00:00",{"$nulls":15},{"$f":"IF(OR(D586=0,P586=Presets!$C$67),\"\",IF(S586=0,ROUNDDOWN(NOW()-'Registry Full'!D586,0),S586-D586))","v":""},{"$nulls":5},""]
["",null,null,"00:00:00",{"$nulls":15},{"$f":"IF(OR(D587=0,P587=Presets!$C$67),\"\",IF(S587=0,ROUNDDOWN(NOW()-'Registry Full'!D587,0),S587-D587))","v":""},{"$nulls":5},""]
["",null,null,"00:00:00",{"$nulls":15},{"$f":"IF(OR(D588=0,P588=Presets!$C$67),\"\",IF(S588=0,ROUNDDOWN(NOW()-'Registry Full'!D588,0),S588-D588))","v":""},{"$nulls":5},""]
["",null,null,"00:00:00",{"$nulls":15},{"$f":"IF(OR(D589=0,P589=Presets!$C$67),\"\",IF(S589=0,ROUNDDOWN(NOW()-'Registry Full'!D589,0),S589-D589))","v":""},{"$nulls":5},""]
["",null,null,"00:00:00",{"$nulls":15},{"$f":"IF(OR(D590=0,P590=Presets!$C$67),\"\",IF(S590=0,ROUNDDOWN(NOW()-'Registry Full'!D590,0),S590-D590))","v":""},{"$nulls":5},""]
["",null,null,"00:00:00",{"$nulls":15},{"$f":"IF(OR(D591=0,P591=Presets!$C$67),\"\",IF(S591=0,ROUNDDOWN(NOW()-'Registry Full'!D591,0),S591-D591))","v":""},{"$nulls":5},""]
["",null,null,"00:00:00",{"$nulls":15},{"$f":"IF(OR(D592=0,P592=Presets!$C$67),\"\",IF(S592=0,ROUNDDOWN(NOW()-'Registry Full'!D592,0),S592-D592))","v":""},{"$nulls":5},""]
["",null,null,"00:00:00",{"$nulls":15},{"$f":"IF(OR(D593=0,P593=Presets!$C$67),\"\",IF(S593=0,ROUNDDOWN(NOW()-'Registry Full'!D593,0),S593-D593))","v":""},{"$nulls":5},""]
["",null,null,"00:00:00",{"$nulls":15},{"$f":"IF(OR(D594=0,P594=Presets!$C$67),\"\",IF(S594=0,ROUNDDOWN(NOW()-'Registry Full'!D594,0),S594-D594))","v":""},{"$nulls":5},""]
["",null,null,"00:00:00",{"$nulls":15},{"$f":"IF(OR(D595=0,P595=Presets!$C$67),\"\",IF(S595=0,ROUNDDOWN(NOW()-'Registry Full'!D595,0),S595-D595))","v":""},{"$nulls":5},""]
["",null,null,"00:00:00",{"$nulls":15},{"$f":"IF(OR(D596=0,P596=Presets!$C$67),\"\",IF(S596=0,ROUNDDOWN(NOW()-'Registry Full'!D596,0),S596-D596))","v":""},{"$nulls":5},""]
["",null,null,"00:00:00",{"$nulls":15},{"$f":"IF(OR(D597=0,P597=Presets!$C$67),\"\",IF(S597=0,ROUNDDOWN(NOW()-'Registry Full'!D597,0),S597-D597))","v":""},{"$nulls":5},""]
["",null,null,"00:00:00",{"$nulls":15},{"$f":"IF(OR(D598=0,P598=Presets!$C$67),\"\",IF(S598=0,ROUNDDOWN(NOW()-'Registry Full'!D598,0),S598-D598))","v":""},{"$nulls":5},""]
[{"$f":"IF(COUNTA(B599)<>0,A598+1,\"\")","v":""},null,null,"00:00:00",{"$nulls":15},{"$f":"IF(OR(D599=0,P599=Presets!$C$67),\"\",IF(S599=0,ROUNDDOWN(NOW()-'Registry Full'!D599,0),S599-D599))","v":""},{"$nulls":5},""]
["",null,null,"00:00:00",{"$nulls":15},{"$f":"IF(OR(D600=0,P600=Presets!$C$67),\"\",IF(S600=0,ROUNDDOWN(NOW()-'Registry Full'!D600,0),S600-D600))","v":""},{"$nulls":5},""]
["",null,null,"00:00:00",{"$nulls":15},{"$f":"IF(OR(D601=0,P601=Presets!$C$67),\"\",IF(S601=0,ROUNDDOWN(NOW()-'Registry Full'!D601,0),S601-D601))","v":""},{"$nulls":5},""]
["",null,null,"00:00:00",{"$nulls":15},{"$f":"IF(OR(D602=0,P602=Presets!$C$67),\"\",IF(S602=0,ROUNDDOWN(NOW()-'Registry Full'!D602,0),S602-D602))","v":""},{"$nulls":5},""]
["",null,null,"00:00:00",{"$nulls":15},{"$f":"IF(OR(D603=0,P603=Presets!$C$67),\"\",IF(S603=0,ROUNDDOWN(NOW()-'Registry Full'!D603,0),S603-D603))","v":""},{"$nulls":5},""]
["",null,null,"00:00:00",{"$nulls":15},{"$f":"IF(OR(D604=0,P604=Presets!$C$67),\"\",IF(S604=0,ROUNDDOWN(NOW()-'Registry Full'!D604,0),S604-D604))","v":""},{"$nulls":5},""]
["",null,null,"00:00:00",{"$nulls":15},{"$f":"IF(OR(D605=0,P605=Presets!$C$67),\"\",IF(S605=0,ROUNDDOWN(NOW()-'Registry Full'!D605,0),S605-D605))","v":""},{"$nulls":5},""]
["",null,null,"00:00:00",{"$nulls":15},{"$f":"IF(OR(D606=0,P606=Presets!$C$67),\"\",IF(S606=0,ROUNDDOWN(NOW()-'Registry Full'!D606,0),S606-D606))","v":""},{"$nulls":5},""]
["",null,null,"00:00:00",{"$nulls":15},{"$f":"IF(OR(D607=0,P607=Presets!$C$67),\"\",IF(S607=0,ROUNDDOWN(NOW()-'Registry Full'!D607,0),S607-D607))","v":""},{"$nulls":5},""]
["",null,null,"00:00:00",{"$nulls":15},{"$f":"IF(OR(D608=0,P608=Presets!$C$67),\"\",IF(S608=0,ROUNDDOWN(NOW()-'Registry Full'!D608,0),S608-D608))","v":""},{"$nulls":5},""]
["",null,null,"00:00:00",{"$nulls":15},{"$f":"IF(OR(D609=0,P609=Presets!$C$67),\"\",IF(S609=0,ROUNDDOWN(NOW()-'Registry Full'!D609,0),S609-D609))","v":""},{"$nulls":5},""]
["",null,null,"00:00:00",{"$nulls":15},{"$f":"IF(OR(D610=0,P610=Presets!$C$67),\"\",IF(S610=0,ROUNDDOWN(NOW()-'Registry Full'!D610,0),S610-D610))","v":""},{"$nulls":5},""]
["",null,null,"00:00:00",{"$nulls":15},{"$f":"IF(OR(D611=0,P611=Presets!$C$67),\"\",IF(S611=0,ROUNDDOWN(NOW()-'Registry Full'!D611,0),S611-D611))","v":""},{"$nulls":5},""]
["",null,null,"00:00:00",{"$nulls":15},{"$f":"IF(OR(D612=0,P612=Presets!$C$67),\"\",IF(S612=0,ROUNDDOWN(NOW()-'Registry Full'!D612,0),S612-D612))","v":""},{"$nulls":5},""]
["",null,null,"00:00:00",{"$nulls":15},{"$f":"IF(OR(D613=0,P613=Presets!$C$67),\"\",IF(S613=0,ROUNDDOWN(NOW()-'Registry Full'!D613,0),S613-D613))","v":""},{"$nulls":5},""]
["",null,null,"00:00:00",{"$nulls":15},{"$f":"IF(OR(D614=0,P614=Presets!$C$67),\"\",IF(S614=0,ROUNDDOWN(NOW()-'Registry Full'!D614,0),S614-D614))","v":""},{"$nulls":5},""]
["",null,null,"00:00:00",{"$nulls":15},{"$f":"IF(OR(D615=0,P615=Presets!$C$67),\"\",IF(S615=0,ROUNDDOWN(NOW()-'Registry Full'!D615,0),S615-D615))","v":""},{"$nulls":5},""]
["",null,null,"00:00:00",{"$nulls":15},{"$f":"IF(OR(D616=0,P616=Presets!$C$67),\"\",IF(S616=0,ROUNDDOWN(NOW()-'Registry Full'!D616,0),S616-D616))","v":""},{"$nulls":5},""]
["",null,null,"00:00:00",{"$nulls":15},{"$f":"IF(OR(D617=0,P617=Presets!$C$67),\"\",IF(S617=0,ROUNDDOWN(NOW()-'Registry Full'!D617,0),S617-D617))","v":""},{"$nulls":5},""]
["",null,null,"00:00:00",{"$nulls":15},{"$f":"IF(OR(D618=0,P618=Presets!$C$67),\"\",IF(S618=0,ROUNDDOWN(NOW()-'Registry Full'!D618,0),S618-D618))","v":""},{"$nulls":5},""]
["",null,null,"00:00:00",{"$nulls":15},{"$f":"IF(OR(D619=0,P619=Presets!$C$67),\"\",IF(S619=0,ROUNDDOWN(NOW()-'Registry Full'!D619,0),S619-D619))","v":""},{"$nulls":5},""]
["",null,null,"00:00:00",{"$nulls":15},{"$f":"IF(OR(D620=0,P620=Presets!$C$67),\"\",IF(S620=0,ROUNDDOWN(NOW()-'Registry Full'!D620,0),S620-D620))","v":""},{"$nulls":5},""]
["",null,null,"00:00:00",{"$nulls":15},{"$f":"IF(OR(D621=0,P621=Presets!$C$67),\"\",IF(S621=0,ROUNDDOWN(NOW()-'Registry Full'!D621,0),S621-D621))","v":""},{"$nulls":5},""]
["",null,null,"00:00:00",{"$nulls":15},{"$f":"IF(OR(D622=0,P622=Presets!$C$67),\"\",IF(S622=0,ROUNDDOWN(NOW()-'Registry Full'!D622,0),S622-D622))","v":""},{"$nulls":5},""]
["",null,null,"00:00:00",{"$nulls":15},{"$f":"IF(OR(D623=0,P623=Presets!$C$67),\"\",IF(S623=0,ROUNDDOWN(NOW()-'Registry Full'!D623,0),S623-D623))","v":""},{"$nulls":5},""]
["",null,null,"00:00:00",{"$nulls":15},{"$f":"IF(OR(D624=0,P624=Presets!$C$67),\"\",IF(S624=0,ROUNDDOWN(NOW()-'Registry Full'!D624,0),S624-D624))","v":""},{"$nulls":5},""]
["",null,null,"00:00:00",{"$nulls":15},{"$f":"IF(OR(D625=0,P625=Presets!$C$67),\"\",IF(S625=0,ROUNDDOWN(NOW()-'Registry Full'!D625,0),S625-D625))","v":""},{"$nulls":5},""]
["",null,null,"00:00:00",{"$nulls":15},{"$f":"IF(OR(D626=0,P626=Presets!$C$67),\"\",IF(S626=0,ROUNDDOWN(NOW()-'Registry Full'!D626,0),S626-D626))","v":""},{"$nulls":5},""]
["",null,null,"00:00:00",{"$nulls":15},{"$f":"IF(OR(D627=0,P627=Presets!$C$67),\"\",IF(S627=0,ROUNDDOWN(NOW()-'Registry Full'!D627,0),S627-D627))","v":""},{"$nulls":5},""]
["",null,null,"00:00:00",{"$nulls":15},{"$f":"IF(OR(D628=0,P628=Presets!$C$67),\"\",IF(S628=0,ROUNDDOWN(NOW()-'Registry Full'!D628,0),S628-D628))","v":""},{"$nulls":5},""]
["",null,null,"00:00:00",{"$nulls":15},{"$f":"IF(OR(D629=0,P629=Presets!$C$67),\"\",IF(S629=0,ROUNDDOWN(NOW()-'Registry Full'!D629,0),S629-D629))","v":""},{"$nulls":5},""]
["",null,null,"00:00:00",{"$nulls":15},{"$f":"IF(OR(D630=0,P630=Presets!$C$67),\"\",IF(S630=0,ROUNDDOWN(NOW()-'Registry Full'!D630,0),S630-D630))","v":""},{"$nulls":5},""]
["",null,null,"00:00:00",{"$nulls":15},{"$f":"IF(OR(D631=0,P631=Presets!$C$67),\"\",IF(S631=0,ROUNDDOWN(NOW()-'Registry Full'!D631,0),S631-D631))","v":""},{"$nulls":5},""]
["",null,null,"00:00:00",{"$nulls":15},{"$f":"IF(OR(D632=0,P632=Presets!$C$67),\"\",IF(S632=0,ROUNDDOWN(NOW()-'Registry Full'!D632,0),S632-D632))","v":""},{"$nulls":5},""]
["",null,null,"00:00:00",{"$nulls":15},{"$f":"IF(OR(D633=0,P633=Presets!$C$67),\"\",IF(S633=0,ROUNDDOWN(NOW()-'Registry Full'!D633,0),S633-D633))","v":""},{"$nulls":5},""]
["",null,null,"00:00:00",{"$nulls":15},{"$f":"IF(OR(D634=0,P634=Presets!$C$67),\"\",IF(S634=0,ROUNDDOWN(NOW()-'Registry Full'!D634,0),S634-D634))","v":""},{"$nulls":5},""]
["",null,null,"00:00:00",{"$nulls":15},{"$f":"IF(OR(D635=0,P635=Presets!$C$67),\"\",IF(S635=0,ROUNDDOWN(NOW()-'Registry Full'!D635,0),S635-D635))","v":""},{"$nulls":5},""]
["",null,null,"00:00:00",{"$nulls":15},{"$f":"IF(OR(D636=0,P636=Presets!$C$67),\"\",IF(S636=0,ROUNDDOWN(NOW()-'Registry Full'!D636,0),S636-D636))","v":""},{"$nulls":5},""]
["",null,null,"00:00:00",{"$nulls":15},{"$f":"IF(OR(D637=0,P637=Presets!$C$67),\"\",IF(S637=0,ROUNDDOWN(NOW()-'Registry Full'!D637,0),S637-D637))","v":""},{"$nulls":5},""]
["",null,null,"00:00:00",{"$nulls":15},{"$f":"IF(OR(D638=0,P638=Presets!$C$67),\"\",IF(S638=0,ROUNDDOWN(NOW()-'Registry Full'!D638,0),S638-D638))","v":""},{"$nulls":5},""]
["",null,null,"00:00:00",{"$nulls":15},{"$f":"IF(OR(D639=0,P639=Presets!$C$67),\"\",IF(S639=0,ROUNDDOWN(NOW()-'Registry Full'!D639,0),S639-D639))","v":""},{"$nulls":5},""]
["",null,null,"00:00:00",{"$nulls":15},{"$f":"IF(OR(D640=0,P640=Presets!$C$67),\"\",IF(S640=0,ROUNDDOWN(NOW()-'Registry Full'!D640,0),S640-D640))","v":""},{"$nulls":5},""]
["",null,null,"00:00:00",{"$nulls":15},{"$f":"IF(OR(D641=0,P641=Presets!$C$67),\"\",IF(S641=0,ROUNDDOWN(NOW()-'Registry Full'!D641,0),S641-D641))","v":""},{"$nulls":5},""]
["",null,null,"00:00:00",{"$nulls":15},{"$f":"IF(OR(D642=0,P642=Presets!$C$67),\"\",IF(S642=0,ROUNDDOWN(NOW()-'Registry Full'!D642,0),S642-D642))","v":""},{"$nulls":5},""]
["",null,null,"00:00:00",{"$nulls":15},{"$f":"IF(OR(D643=0,P643=Presets!$C$67),\"\",IF(S643=0,ROUNDDOWN(NOW()-'Registry Full'!D643,0),S643-D643))","v":""},{"$nulls":5},""]
["",null,null,"00:00:00",{"$nulls":15},{"$f":"IF(OR(D644=0,P644=Presets!$C$67),\"\",IF(S644=0,ROUNDDOWN(NOW()-'Registry Full'!D644,0),S644-D644))","v":""},{"$nulls":5},""]
["",null,null,"00:00:00",{"$nulls":15},{"$f":"IF(OR(D645=0,P645=Presets!$C$67),\"\",IF(S645=0,ROUNDDOWN(NOW()-'Registry Full'!D645,0),S645-D645))","v":""},{"$nulls":5},""]
["",null,null,{"$f":"IF(C646=\"\",0,VALUE(RIGHT(C646,LEN(C646)-FIND(\"/\",C646,LEN(C646)-10))))","v":"00:00:00"},{"$nulls":15},{"$f":"IF(OR(D646=0,P646=Presets!$C$67),\"\",IF(S646=0,ROUNDDOWN(NOW()-'Registry Full'!D646,0),S646-D646))","v":""},{"$nulls":5},""]
["",null,null,"00:00:00",{"$nulls":15},{"$f":"IF(OR(D647=0,P647=Presets!$C$67),\"\",IF(S647=0,ROUNDDOWN(NOW()-'Registry Full'!D647,0),S647-D647))","v":""},{"$nulls":5},{"$f":"IF(OR(D647=0,Y647=0),\"\",Y647-D647)","v":""}]
["",null,null,"00:00:00",{"$nulls":15},{"$f":"IF(OR(D648=0,P648=Presets!$C$67),\"\",IF(S648=0,ROUNDDOWN(NOW()-'Registry Full'!D648,0),S648-D648))","v":""},{"$nulls":5},""]
["",null,null,"00:00:00",{"$nulls":15},{"$f":"IF(OR(D649=0,P649=Presets!$C$67),\"\",IF(S649=0,ROUNDDOWN(NOW()-'Registry Full'!D649,0),S649-D649))","v":""},{"$nulls":5},""]
["",null,null,"00:00:00",{"$nulls":15},{"$f":"IF(OR(D650=0,P650=Presets!$C$67),\"\",IF(S650=0,ROUNDDOWN(NOW()-'Registry Full'!D650,0),S650-D650))","v":""},{"$nulls":5},""]
["",null,null,"00:00:00",{"$nulls":15},{"$f":"IF(OR(D651=0,P651=Presets!$C$67),\"\",IF(S651=0,ROUNDDOWN(NOW()-'Registry Full'!D651,0),S651-D651))","v":""},{"$nulls":5},""]
["",null,null,"00:00:00",{"$nulls":15},{"$f":"IF(OR(D652=0,P652=Presets!$C$67),\"\",IF(S652=0,ROUNDDOWN(NOW()-'Registry Full'!D652,0),S652-D652))","v":""},{"$nulls":5},""]
["",null,null,"00:00:00",{"$nulls":15},{"$f":"IF(OR(D653=0,P653=Presets!$C$67),\"\",IF(S653=0,ROUNDDOWN(NOW()-'Registry Full'!D653,0),S653-D653))","v":""},{"$nulls":5},""]
["",null,null,"00:00:00",{"$nulls":15},{"$f":"IF(OR(D654=0,P654=Presets!$C$67),\"\",IF(S654=0,ROUNDDOWN(NOW()-'Registry Full'!D654,0),S654-D654))","v":""},{"$nulls":5},""]
["",null,null,"00:00:00",{"$nulls":15},{"$f":"IF(OR(D655=0,P655=Presets!$C$67),\"\",IF(S655=0,ROUNDDOWN(NOW()-'Registry Full'!D655,0),S655-D655))","v":""},{"$nulls":5},""]
["",null,null,"00:00:00",{"$nulls":15},{"$f":"IF(OR(D656=0,P656=Presets!$C$67),\"\",IF(S656=0,ROUNDDOWN(NOW()-'Registry Full'!D656,0),S656-D656))","v":""},{"$nulls":5},""]
["",null,null,"00:00:00",{"$nulls":15},{"$f":"IF(OR(D657=0,P657=Presets!$C$67),\"\",IF(S657=0,ROUNDDOWN(NOW()-'Registry Full'!D657,0),S657-D657))","v":""},{"$nulls":5},""]
["",null,null,"00:00:00",{"$nulls":15},{"$f":"IF(OR(D658=0,P658=Presets!$C$67),\"\",IF(S658=0,ROUNDDOWN(NOW()-'Registry Full'!D658,0),S658-D658))","v":""},{"$nulls":5},""]
["",null,null,"00:00:00",{"$nulls":15},{"$f":"IF(OR(D659=0,P659=Presets!$C$67),\"\",IF(S659=0,ROUNDDOWN(NOW()-'Registry Full'!D659,0),S659-D659))","v":""},{"$nulls":5},""]
["",null,null,"00:00:00",{"$nulls":15},{"$f":"IF(OR(D660=0,P660=Presets!$C$67),\"\",IF(S660=0,ROUNDDOWN(NOW()-'Registry Full'!D660,0),S660-D660))","v":""},{"$nulls":5},""]
["",null,null,"00:00:00",{"$nulls":15},{"$f":"IF(OR(D661=0,P661=Presets!$C$67),\"\",IF(S661=0,ROUNDDOWN(NOW()-'Registry Full'!D661,0),S661-D661))","v":""},{"$nulls":5},""]
["",null,null,"00:00:00",{"$nulls":15},{"$f":"IF(OR(D662=0,P662=Presets!$C$67),\"\",IF(S662=0,ROUNDDOWN(NOW()-'Registry Full'!D662,0),S662-D662))","v":""},{"$nulls":5},""]
[{"$f":"IF(COUNTA(B663)<>0,A662+1,\"\")","v":""},null,null,"00:00:00",{"$nulls":15},{"$f":"IF(OR(D663=0,P663=Presets!$C$67),\"\",IF(S663=0,ROUNDDOWN(NOW()-'Registry Full'!D663,0),S663-D663))","v":""},{"$nulls":5},""]
["",null,null,"00:00:00",{"$nulls":15},{"$f":"IF(OR(D664=0,P664=Presets!$C$67),\"\",IF(S664=0,ROUNDDOWN(NOW()-'Registry Full'!D664,0),S664-D664))","v":""},{"$nulls":5},""]
["",null,null,"00:00:00",{"$nulls":15},{"$f":"IF(OR(D665=0,P665=Presets!$C$67),\"\",IF(S665=0,ROUNDDOWN(NOW()-'Registry Full'!D665,0),S665-D665))","v":""},{"$nulls":5},""]
["",null,null,"00:00:00",{"$nulls":15},{"$f":"IF(OR(D666=0,P666=Presets!$C$67),\"\",IF(S666=0,ROUNDDOWN(NOW()-'Registry Full'!D666,0),S666-D666))","v":""},{"$nulls":5},""]
["",null,null,"00:00:00",{"$nulls":15},{"$f":"IF(OR(D667=0,P667=Presets!$C$67),\"\",IF(S667=0,ROUNDDOWN(NOW()-'Registry Full'!D667,0),S667-D667))","v":""},{"$nulls":5},""]
["",null,null,"00:00:00",{"$nulls":15},{"$f":"IF(OR(D668=0,P668=Presets!$C$67),\"\",IF(S668=0,ROUNDDOWN(NOW()-'Registry Full'!D668,0),S668-D668))","v":""},{"$nulls":5},""]
["",null,null,"00:00:00",{"$nulls":15},{"$f":"IF(OR(D669=0,P669=Presets!$C$67),\"\",IF(S669=0,ROUNDDOWN(NOW()-'Registry Full'!D669,0),S669-D669))","v":""},{"$nulls":5},""]
["",null,null,"00:00:00",{"$nulls":15},{"$f":"IF(OR(D670=0,P670=Presets!$C$67),\"\",IF(S670=0,ROUNDDOWN(NOW()-'Registry Full'!D670,0),S670-D670))","v":""},{"$nulls":5},""]
["",null,null,"00:00:00",{"$nulls":15},{"$f":"IF(OR(D671=0,P671=Presets!$C$67),\"\",IF(S671=0,ROUNDDOWN(NOW()-'Registry Full'!D671,0),S671-D671))","v":""},{"$nulls":5},""]
["",null,null,"00:00:00",{"$nulls":15},{"$f":"IF(OR(D672=0,P672=Presets!$C$67),\"\",IF(S672=0,ROUNDDOWN(NOW()-'Registry Full'!D672,0),S672-D672))","v":""},{"$nulls":5},""]
["",null,null,"00:00:00",{"$nulls":15},{"$f":"IF(OR(D673=0,P673=Presets!$C$67),\"\",IF(S673=0,ROUNDDOWN(NOW()-'Registry Full'!D673,0),S673-D673))","v":""},{"$nulls":5},""]
["",null,null,"00:00:00",{"$nulls":15},{"$f":"IF(OR(D674=0,P674=Presets!$C$67),\"\",IF(S674=0,ROUNDDOWN(NOW()-'Registry Full'!D674,0),S674-D674))","v":""},{"$nulls":5},""]
["",null,null,"00:00:00",{"$nulls":15},{"$f":"IF(OR(D675=0,P675=Presets!$C$67),\"\",IF(S675=0,ROUNDDOWN(NOW()-'Registry Full'!D675,0),S675-D675))","v":""},{"$nulls":5},""]
["",null,null,"00:00:00",{"$nulls":15},{"$f":"IF(OR(D676=0,P676=Presets!$C$67),\"\",IF(S676=0,ROUNDDOWN(NOW()-'Registry Full'!D676,0),S676-D676))","v":""},{"$nulls":5},""]
["",null,null,"00:00:00",{"$nulls":15},{"$f":"IF(OR(D677=0,P677=Presets!$C$67),\"\",IF(S677=0,ROUNDDOWN(NOW()-'Registry Full'!D677,0),S677-D677))","v":""},{"$nulls":5},""]
["",null,null,"00:00:00",{"$nulls":15},{"$f":"IF(OR(D678=0,P678=Presets!$C$67),\"\",IF(S678=0,ROUNDDOWN(NOW()-'Registry Full'!D678,0),S678-D678))","v":""},{"$nulls":5},""]
["",null,null,"00:00:00",{"$nulls":15},{"$f":"IF(OR(D679=0,P679=Presets!$C$67),\"\",IF(S679=0,ROUNDDOWN(NOW()-'Registry Full'!D679,0),S679-D679))","v":""},{"$nulls":5},""]
["",null,null,"00:00:00",{"$nulls":15},{"$f":"IF(OR(D680=0,P680=Presets!$C$67),\"\",IF(S680=0,ROUNDDOWN(NOW()-'Registry Full'!D680,0),S680-D680))","v":""},{"$nulls":5},""]
["",null,null,"00:00:00",{"$nulls":15},{"$f":"IF(OR(D681=0,P681=Presets!$C$67),\"\",IF(S681=0,ROUNDDOWN(NOW()-'Registry Full'!D681,0),S681-D681))","v":""},{"$nulls":5},""]
["",null,null,"00:00:00",{"$nulls":15},{"$f":"IF(OR(D682=0,P682=Presets!$C$67),\"\",IF(S682=0,ROUNDDOWN(NOW()-'Registry Full'!D682,0),S682-D682))","v":""},{"$nulls":5},""]
["",null,null,"00:00:00",{"$nulls":15},{"$f":"IF(OR(D683=0,P683=Presets!$C$67),\"\",IF(S683=0,ROUNDDOWN(NOW()-'Registry Full'!D683,0),S683-D683))","v":""},{"$nulls":5},""]
["",null,null,"00:00:00",{"$nulls":15},{"$f":"IF(OR(D684=0,P684=Presets!$C$67),\"\",IF(S684=0,ROUNDDOWN(NOW()-'Registry Full'!D684,0),S684-D684))","v":""},{"$nulls":5},""]
["",null,null,"00:00:00",{"$nulls":15},{"$f":"IF(OR(D685=0,P685=Presets!$C$67),\"\",IF(S685=0,ROUNDDOWN(NOW()-'Registry Full'!D685,0),S685-D685))","v":""},{"$nulls":5},""]
["",null,null,"00:00:00",{"$nulls":15},{"$f":"IF(OR(D686=0,P686=Presets!$C$67),\"\",IF(S686=0,ROUNDDOWN(NOW()-'Registry Full'!D686,0),S686-D686))","v":""},{"$nulls":5},""]
["",null,null,"00:00:00",{"$nulls":15},{"$f":"IF(OR(D687=0,P687=Presets!$C$67),\"\",IF(S687=0,ROUNDDOWN(NOW()-'Registry Full'!D687,0),S687-D687))","v":""},{"$nulls":5},""]
["",null,null,"00:00:00",{"$nulls":15},{"$f":"IF(OR(D688=0,P688=Presets!$C$67),\"\",IF(S688=0,ROUNDDOWN(NOW()-'Registry Full'!D688,0),S688-D688))","v":""},{"$nulls":5},""]
["",null,null,"00:00:00",{"$nulls":15},{"$f":"IF(OR(D689=0,P689=Presets!$C$67),\"\",IF(S689=0,ROUNDDOWN(NOW()-'Registry Full'!D689,0),S689-D689))","v":""},{"$nulls":5},""]
["",null,null,"00:00:00",{"$nulls":15},{"$f":"IF(OR(D690=0,P690=Presets!$C$67),\"\",IF(S690=0,ROUNDDOWN(NOW()-'Registry Full'!D690,0),S690-D690))","v":""},{"$nulls":5},""]
["",null,null,"00:00:00",{"$nulls":15},{"$f":"IF(OR(D691=0,P691=Presets!$C$67),\"\",IF(S691=0,ROUNDDOWN(NOW()-'Registry Full'!D691,0),S691-D691))","v":""},{"$nulls":5},""]
["",null,null,"00:00:00",{"$nulls":15},{"$f":"IF(OR(D692=0,P692=Presets!$C$67),\"\",IF(S692=0,ROUNDDOWN(NOW()-'Registry Full'!D692,0),S692-D692))","v":""},{"$nulls":5},""]
["",null,null,"00:00:00",{"$nulls":15},{"$f":"IF(OR(D693=0,P693=Presets!$C$67),\"\",IF(S693=0,ROUNDDOWN(NOW()-'Registry Full'!D693,0),S693-D693))","v":""},{"$nulls":5},""]
["",null,null,"00:00:00",{"$nulls":15},{"$f":"IF(OR(D694=0,P694=Presets!$C$67),\"\",IF(S694=0,ROUNDDOWN(NOW()-'Registry Full'!D694,0),S694-D694))","v":""},{"$nulls":5},""]
["",null,null,"00:00:00",{"$nulls":15},{"$f":"IF(OR(D695=0,P695=Presets!$C$67),\"\",IF(S695=0,ROUNDDOWN(NOW()-'Registry Full'!D695,0),S695-D695))","v":""},{"$nulls":5},""]
["",null,null,"00:00:00",{"$nulls":15},{"$f":"IF(OR(D696=0,P696=Presets!$C$67),\"\",IF(S696=0,ROUNDDOWN(NOW()-'Registry Full'!D696,0),S696-D696))","v":""},{"$nulls":5},""]
["",null,null,"00:00:00",{"$nulls":15},{"$f":"IF(OR(D697=0,P697=Presets!$C$67),\"\",IF(S697=0,ROUNDDOWN(NOW()-'Registry Full'!D697,0),S697-D697))","v":""},{"$nulls":5},""]
["",null,null,"00:00:00",{"$nulls":15},{"$f":"IF(OR(D698=0,P698=Presets!$C$67),\"\",IF(S698=0,ROUNDDOWN(NOW()-'Registry Full'!D698,0),S698-D698))","v":""},{"$nulls":5},""]
["",null,null,"00:00:00",{"$nulls":15},{"$f":"IF(OR(D699=0,P699=Presets!$C$67),\"\",IF(S699=0,ROUNDDOWN(NOW()-'Registry Full'!D699,0),S699-D699))","v":""},{"$nulls":5},""]
["",null,null,"00:00:00",{"$nulls":15},{"$f":"IF(OR(D700=0,P700=Presets!$C$67),\"\",IF(S700=0,ROUNDDOWN(NOW()-'Registry Full'!D700,0),S700-D700))","v":""},{"$nulls":5},""]
["",null,null,"00:00:00",{"$nulls":15},{"$f":"IF(OR(D701=0,P701=Presets!$C$67),\"\",IF(S701=0,ROUNDDOWN(NOW()-'Registry Full'!D701,0),S701-D701))","v":""},{"$nulls":5},""]
["",null,null,"00:00:00",{"$nulls":15},{"$f":"IF(OR(D702=0,P702=Presets!$C$67),\"\",IF(S702=0,ROUNDDOWN(NOW()-'Registry Full'!D702,0),S702-D702))","v":""},{"$nulls":5},""]
["",null,null,"00:00:00",{"$nulls":15},{"$f":"IF(OR(D703=0,P703=Presets!$C$67),\"\",IF(S703=0,ROUNDDOWN(NOW()-'Registry Full'!D703,0),S703-D703))","v":""},{"$nulls":5},""]
["",null,null,"00:00:00",{"$nulls":15},{"$f":"IF(OR(D704=0,P704=Presets!$C$67),\"\",IF(S704=0,ROUNDDOWN(NOW()-'Registry Full'!D704,0),S704-D704))","v":""},{"$nulls":5},""]
["",null,null,"00:00:00",{"$nulls":15},{"$f":"IF(OR(D705=0,P705=Presets!$C$67),\"\",IF(S705=0,ROUNDDOWN(NOW()-'Registry Full'!D705,0),S705-D705))","v":""},{"$nulls":5},""]
["",null,null,"00:00:00",{"$nulls":15},{"$f":"IF(OR(D706=0,P706=Presets!$C$67),\"\",IF(S706=0,ROUNDDOWN(NOW()-'Registry Full'!D706,0),S706-D706))","v":""},{"$nulls":5},""]
["",null,null,"00:00:00",{"$nulls":15},{"$f":"IF(OR(D707=0,P707=Presets!$C$67),\"\",IF(S707=0,ROUNDDOWN(NOW()-'Registry Full'!D707,0),S707-D707))","v":""},{"$nulls":5},""]
["",null,null,"00:00:00",{"$nulls":15},{"$f":"IF(OR(D708=0,P708=Presets!$C$67),\"\",IF(S708=0,ROUNDDOWN(NOW()-'Registry Full'!D708,0),S708-D708))","v":""},{"$nulls":5},""]
["",null,null,"00:00:00",{"$nulls":15},{"$f":"IF(OR(D709=0,P709=Presets!$C$67),\"\",IF(S709=0,ROUNDDOWN(NOW()-'Registry Full'!D709,0),S709-D709))","v":""},{"$nulls":5},""]
["",null,null,{"$f":"IF(C710=\"\",0,VALUE(RIGHT(C710,LEN(C710)-FIND(\"/\",C710,LEN(C710)-10))))","v":"00:00:00"},{"$nulls":15},{"$f":"IF(OR(D710=0,P710=Presets!$C$67),\"\",IF(S710=0,ROUNDDOWN(NOW()-'Registry Full'!D710,0),S710-D710))","v":""},{"$nulls":5},""]
["",null,null,"00:00:00",{"$nulls":15},{"$f":"IF(OR(D711=0,P711=Presets!$C$67),\"\",IF(S711=0,ROUNDDOWN(NOW()-'Registry Full'!D711,0),S711-D711))","v":""},{"$nulls":5},{"$f":"IF(OR(D711=0,Y711=0),\"\",Y711-D711)","v":""}]
["",null,null,"00:00:00",{"$nulls":15},{"$f":"IF(OR(D712=0,P712=Presets!$C$67),\"\",IF(S712=0,ROUNDDOWN(NOW()-'Registry Full'!D712,0),S712-D712))","v":""},{"$nulls":5},""]
["",null,null,"00:00:00",{"$nulls":15},{"$f":"IF(OR(D713=0,P713=Presets!$C$67),\"\",IF(S713=0,ROUNDDOWN(NOW()-'Registry Full'!D713,0),S713-D713))","v":""},{"$nulls":5},""]
["",null,null,"00:00:00",{"$nulls":15},{"$f":"IF(OR(D714=0,P714=Presets!$C$67),\"\",IF(S714=0,ROUNDDOWN(NOW()-'Registry Full'!D714,0),S714-D714))","v":""},{"$nulls":5},""]
["",null,null,"00:00:00",{"$nulls":15},{"$f":"IF(OR(D715=0,P715=Presets!$C$67),\"\",IF(S715=0,ROUNDDOWN(NOW()-'Registry Full'!D715,0),S715-D715))","v":""},{"$nulls":5},""]
["",null,null,"00:00:00",{"$nulls":15},{"$f":"IF(OR(D716=0,P716=Presets!$C$67),\"\",IF(S716=0,ROUNDDOWN(NOW()-'Registry Full'!D716,0),S716-D716))","v":""},{"$nulls":5},""]
["",null,null,"00:00:00",{"$nulls":15},{"$f":"IF(OR(D717=0,P717=Presets!$C$67),\"\",IF(S717=0,ROUNDDOWN(NOW()-'Registry Full'!D717,0),S717-D717))","v":""},{"$nulls":5},""]
["",null,null,"00:00:00",{"$nulls":15},{"$f":"IF(OR(D718=0,P718=Presets!$C$67),\"\",IF(S718=0,ROUNDDOWN(NOW()-'Registry Full'!D718,0),S718-D718))","v":""},{"$nulls":5},""]
["",null,null,"00:00:00",{"$nulls":15},{"$f":"IF(OR(D719=0,P719=Presets!$C$67),\"\",IF(S719=0,ROUNDDOWN(NOW()-'Registry Full'!D719,0),S719-D719))","v":""},{"$nulls":5},""]
["",null,null,"00:00:00",{"$nulls":15},{"$f":"IF(OR(D720=0,P720=Presets!$C$67),\"\",IF(S720=0,ROUNDDOWN(NOW()-'Registry Full'!D720,0),S720-D720))","v":""},{"$nulls":5},""]
["",null,null,"00:00:00",{"$nulls":15},{"$f":"IF(OR(D721=0,P721=Presets!$C$67),\"\",IF(S721=0,ROUNDDOWN(NOW()-'Registry Full'!D721,0),S721-D721))","v":""},{"$nulls":5},""]
["",null,null,"00:00:00",{"$nulls":15},{"$f":"IF(OR(D722=0,P722=Presets!$C$67),\"\",IF(S722=0,ROUNDDOWN(NOW()-'Registry Full'!D722,0),S722-D722))","v":""},{"$nulls":5},""]
["",null,null,"00:00:00",{"$nulls":15},{"$f":"IF(OR(D723=0,P723=Presets!$C$67),\"\",IF(S723=0,ROUNDDOWN(NOW()-'Registry Full'!D723,0),S723-D723))","v":""},{"$nulls":5},""]
["",null,null,"00:00:00",{"$nulls":15},{"$f":"IF(OR(D724=0,P724=Presets!$C$67),\"\",IF(S724=0,ROUNDDOWN(NOW()-'Registry Full'!D724,0),S724-D724))","v":""},{"$nulls":5},""]
["",null,null,"00:00:00",{"$nulls":15},{"$f":"IF(OR(D725=0,P725=Presets!$C$67),\"\",IF(S725=0,ROUNDDOWN(NOW()-'Registry Full'!D725,0),S725-D725))","v":""},{"$nulls":5},""]
["",null,null,"00:00:00",{"$nulls":15},{"$f":"IF(OR(D726=0,P726=Presets!$C$67),\"\",IF(S726=0,ROUNDDOWN(NOW()-'Registry Full'!D726,0),S726-D726))","v":""},{"$nulls":5},""]
[{"$f":"IF(COUNTA(B727)<>0,A726+1,\"\")","v":""},null,null,"00:00:00",{"$nulls":15},{"$f":"IF(OR(D727=0,P727=Presets!$C$67),\"\",IF(S727=0,ROUNDDOWN(NOW()-'Registry Full'!D727,0),S727-D727))","v":""},{"$nulls":5},""]
["",null,null,"00:00:00",{"$nulls":15},{"$f":"IF(OR(D728=0,P728=Presets!$C$67),\"\",IF(S728=0,ROUNDDOWN(NOW()-'Registry Full'!D728,0),S728-D728))","v":""},{"$nulls":5},""]
["",null,null,"00:00:00",{"$nulls":15},{"$f":"IF(OR(D729=0,P729=Presets!$C$67),\"\",IF(S729=0,ROUNDDOWN(NOW()-'Registry Full'!D729,0),S729-D729))","v":""},{"$nulls":5},""]
["",null,null,"00:00:00",{"$nulls":15},{"$f":"IF(OR(D730=0,P730=Presets!$C$67),\"\",IF(S730=0,ROUNDDOWN(NOW()-'Registry Full'!D730,0),S730-D730))","v":""},{"$nulls":5},""]
["",null,null,"00:00:00",{"$nulls":15},{"$f":"IF(OR(D731=0,P731=Presets!$C$67),\"\",IF(S731=0,ROUNDDOWN(NOW()-'Registry Full'!D731,0),S731-D731))","v":""},{"$nulls":5},""]
["",null,null,"00:00:00",{"$nulls":15},{"$f":"IF(OR(D732=0,P732=Presets!$C$67),\"\",IF(S732=0,ROUNDDOWN(NOW()-'Registry Full'!D732,0),S732-D732))","v":""},{"$nulls":5},""]
["",null,null,"00:00:00",{"$nulls":15},{"$f":"IF(OR(D733=0,P733=Presets!$C$67),\"\",IF(S733=0,ROUNDDOWN(NOW()-'Registry Full'!D733,0),S733-D733))","v":""},{"$nulls":5},""]
["",null,null,"00:00:00",{"$nulls":15},{"$f":"IF(OR(D734=0,P734=Presets!$C$67),\"\",IF(S734=0,ROUNDDOWN(NOW()-'Registry Full'!D734,0),S734-D734))","v":""},{"$nulls":5},""]
["",null,null,"00:00:00",{"$nulls":15},{"$f":"IF(OR(D735=0,P735=Presets!$C$67),\"\",IF(S735=0,ROUNDDOWN(NOW()-'Registry Full'!D735,0),S735-D735))","v":""},{"$nulls":5},""]
["",null,null,"00:00:00",{"$nulls":15},{"$f":"IF(OR(D736=0,P736=Presets!$C$67),\"\",IF(S736=0,ROUNDDOWN(NOW()-'Registry Full'!D736,0),S736-D736))","v":""},{"$nulls":5},""]
["",null,null,"00:00:00",{"$nulls":15},{"$f":"IF(OR(D737=0,P737=Presets!$C$67),\"\",IF(S737=0,ROUNDDOWN(NOW()-'Registry Full'!D737,0),S737-D737))","v":""},{"$nulls":5},""]
["",null,null,"00:00:00",{"$nulls":15},{"$f":"IF(OR(D738=0,P738=Presets!$C$67),\"\",IF(S738=0,ROUNDDOWN(NOW()-'Registry Full'!D738,0),S738-D738))","v":""},{"$nulls":5},""]
["",null,null,"00:00:00",{"$nulls":15},{"$f":"IF(OR(D739=0,P739=Presets!$C$67),\"\",IF(S739=0,ROUNDDOWN(NOW()-'Registry Full'!D739,0),S739-D739))","v":""},{"$nulls":5},""]
["",null,null,"00:00:00",{"$nulls":15},{"$f":"IF(OR(D740=0,P740=Presets!$C$67),\"\",IF(S740=0,ROUNDDOWN(NOW()-'Registry Full'!D740,0),S740-D740))","v":""},{"$nulls":5},""]
["",null,null,"00:00:00",{"$nulls":15},{"$f":"IF(OR(D741=0,P741=Presets!$C$67),\"\",IF(S741=0,ROUNDDOWN(NOW()-'Registry Full'!D741,0),S741-D741))","v":""},{"$nulls":5},""]
["",null,null,"00:00:00",{"$nulls":15},{"$f":"IF(OR(D742=0,P742=Presets!$C$67),\"\",IF(S742=0,ROUNDDOWN(NOW()-'Registry Full'!D742,0),S742-D742))","v":""},{"$nulls":5},""]
["",null,null,"00:00:00",{"$nulls":15},{"$f":"IF(OR(D743=0,P743=Presets!$C$67),\"\",IF(S743=0,ROUNDDOWN(NOW()-'Registry Full'!D743,0),S743-D743))","v":""},{"$nulls":5},""]
["",null,null,"00:00:00",{"$nulls":15},{"$f":"IF(OR(D744=0,P744=Presets!$C$67),\"\",IF(S744=0,ROUNDDOWN(NOW()-'Registry Full'!D744,0),S744-D744))","v":""},{"$nulls":5},""]
["",null,null,"00:00:00",{"$nulls":15},{"$f":"IF(OR(D745=0,P745=Presets!$C$67),\"\",IF(S745=0,ROUNDDOWN(NOW()-'Registry Full'!D745,0),S745-D745))","v":""},{"$nulls":5},""]
["",null,null,"00:00:00",{"$nulls":15},{"$f":"IF(OR(D746=0,P746=Presets!$C$67),\"\",IF(S746=0,ROUNDDOWN(NOW()-'Registry Full'!D746,0),S746-D746))","v":""},{"$nulls":5},""]
["",null,null,"00:00:00",{"$nulls":15},{"$f":"IF(OR(D747=0,P747=Presets!$C$67),\"\",IF(S747=0,ROUNDDOWN(NOW()-'Registry Full'!D747,0),S747-D747))","v":""},{"$nulls":5},""]
["",null,null,"00:00:00",{"$nulls":15},{"$f":"IF(OR(D748=0,P748=Presets!$C$67),\"\",IF(S748=0,ROUNDDOWN(NOW()-'Registry Full'!D748,0),S748-D748))","v":""},{"$nulls":5},""]
["",null,null,"00:00:00",{"$nulls":15},{"$f":"IF(OR(D749=0,P749=Presets!$C$67),\"\",IF(S749=0,ROUNDDOWN(NOW()-'Registry Full'!D749,0),S749-D749))","v":""},{"$nulls":5},""]
["",null,null,"00:00:00",{"$nulls":15},{"$f":"IF(OR(D750=0,P750=Presets!$C$67),\"\",IF(S750=0,ROUNDDOWN(NOW()-'Registry Full'!D750,0),S750-D750))","v":""},{"$nulls":5},""]
["",null,null,"00:00:00",{"$nulls":15},{"$f":"IF(OR(D751=0,P751=Presets!$C$67),\"\",IF(S751=0,ROUNDDOWN(NOW()-'Registry Full'!D751,0),S751-D751))","v":""},{"$nulls":5},""]
["",null,null,"00:00:00",{"$nulls":15},{"$f":"IF(OR(D752=0,P752=Presets!$C$67),\"\",IF(S752=0,ROUNDDOWN(NOW()-'Registry Full'!D752,0),S752-D752))","v":""},{"$nulls":5},""]
["",null,null,"00:00:00",{"$nulls":15},{"$f":"IF(OR(D753=0,P753=Presets!$C$67),\"\",IF(S753=0,ROUNDDOWN(NOW()-'Registry Full'!D753,0),S753-D753))","v":""},{"$nulls":5},""]
["",null,null,"00:00:00",{"$nulls":15},{"$f":"IF(OR(D754=0,P754=Presets!$C$67),\"\",IF(S754=0,ROUNDDOWN(NOW()-'Registry Full'!D754,0),S754-D754))","v":""},{"$nulls":5},""]
["",null,null,"00:00:00",{"$nulls":15},{"$f":"IF(OR(D755=0,P755=Presets!$C$67),\"\",IF(S755=0,ROUNDDOWN(NOW()-'Registry Full'!D755,0),S755-D755))","v":""},{"$nulls":5},""]
["",null,null,"00:00:00",{"$nulls":15},{"$f":"IF(OR(D756=0,P756=Presets!$C$67),\"\",IF(S756=0,ROUNDDOWN(NOW()-'Registry Full'!D756,0),S756-D756))","v":""},{"$nulls":5},""]
["",null,null,"00:00:00",{"$nulls":15},{"$f":"IF(OR(D757=0,P757=Presets!$C$67),\"\",IF(S757=0,ROUNDDOWN(NOW()-'Registry Full'!D757,0),S757-D757))","v":""},{"$nulls":5},""]
["",null,null,"00:00:00",{"$nulls":15},{"$f":"IF(OR(D758=0,P758=Presets!$C$67),\"\",IF(S758=0,ROUNDDOWN(NOW()-'Registry Full'!D758,0),S758-D758))","v":""},{"$nulls":5},""]
["",null,null,"00:00:00",{"$nulls":15},{"$f":"IF(OR(D759=0,P759=Presets!$C$67),\"\",IF(S759=0,ROUNDDOWN(NOW()-'Registry Full'!D759,0),S759-D759))","v":""},{"$nulls":5},""]
["",null,null,"00:00:00",{"$nulls":15},{"$f":"IF(OR(D760=0,P760=Presets!$C$67),\"\",IF(S760=0,ROUNDDOWN(NOW()-'Registry Full'!D760,0),S760-D760))","v":""},{"$nulls":5},""]
["",null,null,"00:00:00",{"$nulls":15},{"$f":"IF(OR(D761=0,P761=Presets!$C$67),\"\",IF(S761=0,ROUNDDOWN(NOW()-'Registry Full'!D761,0),S761-D761))","v":""},{"$nulls":5},""]
["",null,null,"00:00:00",{"$nulls":15},{"$f":"IF(OR(D762=0,P762=Presets!$C$67),\"\",IF(S762=0,ROUNDDOWN(NOW()-'Registry Full'!D762,0),S762-D762))","v":""},{"$nulls":5},""]
["",null,null,"00:00:00",{"$nulls":15},{"$f":"IF(OR(D763=0,P763=Presets!$C$67),\"\",IF(S763=0,ROUNDDOWN(NOW()-'Registry Full'!D763,0),S763-D763))","v":""},{"$nulls":5},""]
["",null,null,"00:00:00",{"$nulls":15},{"$f":"IF(OR(D764=0,P764=Presets!$C$67),\"\",IF(S764=0,ROUNDDOWN(NOW()-'Registry Full'!D764,0),S764-D764))","v":""},{"$nulls":5},""]
["",null,null,"00:00:00",{"$nulls":15},{"$f":"IF(OR(D765=0,P765=Presets!$C$67),\"\",IF(S765=0,ROUNDDOWN(NOW()-'Registry Full'!D765,0),S765-D765))","v":""},{"$nulls":5},""]
["",null,null,"00:00:00",{"$nulls":15},{"$f":"IF(OR(D766=0,P766=Presets!$C$67),\"\",IF(S766=0,ROUNDDOWN(NOW()-'Registry Full'!D766,0),S766-D766))","v":""},{"$nulls":5},""]
["",null,null,"00:00:00",{"$nulls":15},{"$f":"IF(OR(D767=0,P767=Presets!$C$67),\"\",IF(S767=0,ROUNDDOWN(NOW()-'Registry Full'!D767,0),S767-D767))","v":""},{"$nulls":5},""]
["",null,null,"00:00:00",{"$nulls":15},{"$f":"IF(OR(D768=0,P768=Presets!$C$67),\"\",IF(S768=0,ROUNDDOWN(NOW()-'Registry Full'!D768,0),S768-D768))","v":""},{"$nulls":5},""]
["",null,null,"00:00:00",{"$nulls":15},{"$f":"IF(OR(D769=0,P769=Presets!$C$67),\"\",IF(S769=0,ROUNDDOWN(NOW()-'Registry Full'!D769,0),S769-D769))","v":""},{"$nulls":5},""]
["",null,null,"00:00:00",{"$nulls":15},{"$f":"IF(OR(D770=0,P770=Presets!$C$67),\"\",IF(S770=0,ROUNDDOWN(NOW()-'Registry Full'!D770,0),S770-D770))","v":""},{"$nulls":5},""]
["",null,null,"00:00:00",{"$nulls":15},{"$f":"IF(OR(D771=0,P771=Presets!$C$67),\"\",IF(S771=0,ROUNDDOWN(NOW()-'Registry Full'!D771,0),S771-D771))","v":""},{"$nulls":5},""]
["",null,null,"00:00:00",{"$nulls":15},{"$f":"IF(OR(D772=0,P772=Presets!$C$67),\"\",IF(S772=0,ROUNDDOWN(NOW()-'Registry Full'!D772,0),S772-D772))","v":""},{"$nulls":5},""]
["",null,null,"00:00:00",{"$nulls":15},{"$f":"IF(OR(D773=0,P773=Presets!$C$67),\"\",IF(S773=0,ROUNDDOWN(NOW()-'Registry Full'!D773,0),S773-D773))","v":""},{"$nulls":5},""]
["",null,null,{"$f":"IF(C774=\"\",0,VALUE(RIGHT(C774,LEN(C774)-FIND(\"/\",C774,LEN(C774)-10))))","v":"00:00:00"},{"$nulls":15},{"$f":"IF(OR(D774=0,P774=Presets!$C$67),\"\",IF(S774=0,ROUNDDOWN(NOW()-'Registry Full'!D774,0),S774-D774))","v":""},{"$nulls":5},""]
["",null,null,"00:00:00",{"$nulls":15},{"$f":"IF(OR(D775=0,P775=Presets!$C$67),\"\",IF(S775=0,ROUNDDOWN(NOW()-'Registry Full'!D775,0),S775-D775))","v":""},{"$nulls":5},{"$f":"IF(OR(D775=0,Y775=0),\"\",Y775-D775)","v":""}]
["",null,null,"00:00:00",{"$nulls":15},{"$f":"IF(OR(D776=0,P776=Presets!$C$67),\"\",IF(S776=0,ROUNDDOWN(NOW()-'Registry Full'!D776,0),S776-D776))","v":""},{"$nulls":5},""]
["",null,null,"00:00:00",{"$nulls":15},{"$f":"IF(OR(D777=0,P777=Presets!$C$67),\"\",IF(S777=0,ROUNDDOWN(NOW()-'Registry Full'!D777,0),S777-D777))","v":""},{"$nulls":5},""]
["",null,null,"00:00:00",{"$nulls":15},{"$f":"IF(OR(D778=0,P778=Presets!$C$67),\"\",IF(S778=0,ROUNDDOWN(NOW()-'Registry Full'!D778,0),S778-D778))","v":""},{"$nulls":5},""]
["",null,null,"00:00:00",{"$nulls":15},{"$f":"IF(OR(D779=0,P779=Presets!$C$67),\"\",IF(S779=0,ROUNDDOWN(NOW()-'Registry Full'!D779,0),S779-D779))","v":""},{"$nulls":5},""]
["",null,null,"00:00:00",{"$nulls":15},{"$f":"IF(OR(D780=0,P780=Presets!$C$67),\"\",IF(S780=0,ROUNDDOWN(NOW()-'Registry Full'!D780,0),S780-D780))","v":""},{"$nulls":5},""]
["",null,null,"00:00:00",{"$nulls":15},{"$f":"IF(OR(D781=0,P781=Presets!$C$67),\"\",IF(S781=0,ROUNDDOWN(NOW()-'Registry Full'!D781,0),S781-D781))","v":""},{"$nulls":5},""]
["",null,null,"00:00:00",{"$nulls":15},{"$f":"IF(OR(D782=0,P782=Presets!$C$67),\"\",IF(S782=0,ROUNDDOWN(NOW()-'Registry Full'!D782,0),S782-D782))","v":""},{"$nulls":5},""]
["",null,null,"00:00:00",{"$nulls":15},{"$f":"IF(OR(D783=0,P783=Presets!$C$67),\"\",IF(S783=0,ROUNDDOWN(NOW()-'Registry Full'!D783,0),S783-D783))","v":""},{"$nulls":5},""]
["",null,null,"00:00:00",{"$nulls":15},{"$f":"IF(OR(D784=0,P784=Presets!$C$67),\"\",IF(S784=0,ROUNDDOWN(NOW()-'Registry Full'!D784,0),S784-D784))","v":""},{"$nulls":5},""]
["",null,null,"00:00:00",{"$nulls":15},{"$f":"IF(OR(D785=0,P785=Presets!$C$67),\"\",IF(S785=0,ROUNDDOWN(NOW()-'Registry Full'!D785,0),S785-D785))","v":""},{"$nulls":5},""]
["",null,null,"00:00:00",{"$nulls":15},{"$f":"IF(OR(D786=0,P786=Presets!$C$67),\"\",IF(S786=0,ROUNDDOWN(NOW()-'Registry Full'!D786,0),S786-D786))","v":""},{"$nulls":5},""]
["",null,null,"00:00:00",{"$nulls":15},{"$f":"IF(OR(D787=0,P787=Presets!$C$67),\"\",IF(S787=0,ROUNDDOWN(NOW()-'Registry Full'!D787,0),S787-D787))","v":""},{"$nulls":5},""]
["",null,null,"00:00:00",{"$nulls":15},{"$f":"IF(OR(D788=0,P788=Presets!$C$67),\"\",IF(S788=0,ROUNDDOWN(NOW()-'Registry Full'!D788,0),S788-D788))","v":""},{"$nulls":5},""]
["",null,null,"00:00:00",{"$nulls":15},{"$f":"IF(OR(D789=0,P789=Presets!$C$67),\"\",IF(S789=0,ROUNDDOWN(NOW()-'Registry Full'!D789,0),S789-D789))","v":""},{"$nulls":5},""]
["",null,null,"00:00:00",{"$nulls":15},{"$f":"IF(OR(D790=0,P790=Presets!$C$67),\"\",IF(S790=0,ROUNDDOWN(NOW()-'Registry Full'!D790,0),S790-D790))","v":""},{"$nulls":5},""]
[{"$f":"IF(COUNTA(B791)<>0,A790+1,\"\")","v":""},null,null,"00:00:00",{"$nulls":15},{"$f":"IF(OR(D791=0,P791=Presets!$C$67),\"\",IF(S791=0,ROUNDDOWN(NOW()-'Registry Full'!D791,0),S791-D791))","v":""},{"$nulls":5},""]
["",null,null,"00:00:00",{"$nulls":15},{"$f":"IF(OR(D792=0,P792=Presets!$C$67),\"\",IF(S792=0,ROUNDDOWN(NOW()-'Registry Full'!D792,0),S792-D792))","v":""},{"$nulls":5},""]
["",null,null,"00:00:00",{"$nulls":15},{"$f":"IF(OR(D793=0,P793=Presets!$C$67),\"\",IF(S793=0,ROUNDDOWN(NOW()-'Registry Full'!D793,0),S793-D793))","v":""},{"$nulls":5},""]
["",null,null,"00:00:00",{"$nulls":15},{"$f":"IF(OR(D794=0,P794=Presets!$C$67),\"\",IF(S794=0,ROUNDDOWN(NOW()-'Registry Full'!D794,0),S794-D794))","v":""},{"$nulls":5},""]
["",null,null,"00:00:00",{"$nulls":15},{"$f":"IF(OR(D795=0,P795=Presets!$C$67),\"\",IF(S795=0,ROUNDDOWN(NOW()-'Registry Full'!D795,0),S795-D795))","v":""},{"$nulls":5},""]
["",null,null,"00:00:00",{"$nulls":15},{"$f":"IF(OR(D796=0,P796=Presets!$C$67),\"\",IF(S796=0,ROUNDDOWN(NOW()-'Registry Full'!D796,0),S796-D796))","v":""},{"$nulls":5},""]
["",null,null,"00:00:00",{"$nulls":15},{"$f":"IF(OR(D797=0,P797=Presets!$C$67),\"\",IF(S797=0,ROUNDDOWN(NOW()-'Registry Full'!D797,0),S797-D797))","v":""},{"$nulls":5},""]
["",null,null,"00:00:00",{"$nulls":15},{"$f":"IF(OR(D798=0,P798=Presets!$C$67),\"\",IF(S798=0,ROUNDDOWN(NOW()-'Registry Full'!D798,0),S798-D798))","v":""},{"$nulls":5},""]
["",null,null,"00:00:00",{"$nulls":15},{"$f":"IF(OR(D799=0,P799=Presets!$C$67),\"\",IF(S799=0,ROUNDDOWN(NOW()-'Registry Full'!D799,0),S799-D799))","v":""},{"$nulls":5},""]
["",null,null,"00:00:00",{"$nulls":15},{"$f":"IF(OR(D800=0,P800=Presets!$C$67),\"\",IF(S800=0,ROUNDDOWN(NOW()-'Registry Full'!D800,0),S800-D800))","v":""},{"$nulls":5},""]
["",null,null,"00:00:00",{"$nulls":15},{"$f":"IF(OR(D801=0,P801=Presets!$C$67),\"\",IF(S801=0,ROUNDDOWN(NOW()-'Registry Full'!D801,0),S801-D801))","v":""},{"$nulls":5},""]
["",null,null,"00:00:00",{"$nulls":15},{"$f":"IF(OR(D802=0,P802=Presets!$C$67),\"\",IF(S802=0,ROUNDDOWN(NOW()-'Registry Full'!D802,0),S802-D802))","v":""},{"$nulls":5},""]
["",null,null,"00:00:00",{"$nulls":15},{"$f":"IF(OR(D803=0,P803=Presets!$C$67),\"\",IF(S803=0,ROUNDDOWN(NOW()-'Registry Full'!D803,0),S803-D803))","v":""},{"$nulls":5},""]
["",null,null,"00:00:00",{"$nulls":15},{"$f":"IF(OR(D804=0,P804=Presets!$C$67),\"\",IF(S804=0,ROUNDDOWN(NOW()-'Registry Full'!D804,0),S804-D804))","v":""},{"$nulls":5},""]
["",null,null,"00:00:00",{"$nulls":15},{"$f":"IF(OR(D805=0,P805=Presets!$C$67),\"\",IF(S805=0,ROUNDDOWN(NOW()-'Registry Full'!D805,0),S805-D805))","v":""},{"$nulls":5},""]
["",null,null,"00:00:00",{"$nulls":15},{"$f":"IF(OR(D806=0,P806=Presets!$C$67),\"\",IF(S806=0,ROUNDDOWN(NOW()-'Registry Full'!D806,0),S806-D806))","v":""},{"$nulls":5},""]
["",null,null,"00:00:00",{"$nulls":15},{"$f":"IF(OR(D807=0,P807=Presets!$C$67),\"\",IF(S807=0,ROUNDDOWN(NOW()-'Registry Full'!D807,0),S807-D807))","v":""},{"$nulls":5},""]
["",null,null,"00:00:00",{"$nulls":15},{"$f":"IF(OR(D808=0,P808=Presets!$C$67),\"\",IF(S808=0,ROUNDDOWN(NOW()-'Registry Full'!D808,0),S808-D808))","v":""},{"$nulls":5},""]
["",null,null,"00:00:00",{"$nulls":15},{"$f":"IF(OR(D809=0,P809=Presets!$C$67),\"\",IF(S809=0,ROUNDDOWN(NOW()-'Registry Full'!D809,0),S809-D809))","v":""},{"$nulls":5},""]
["",null,null,"00:00:00",{"$nulls":15},{"$f":"IF(OR(D810=0,P810=Presets!$C$67),\"\",IF(S810=0,ROUNDDOWN(NOW()-'Registry Full'!D810,0),S810-D810))","v":""},{"$nulls":5},""]
["",null,null,"00:00:00",{"$nulls":15},{"$f":"IF(OR(D811=0,P811=Presets!$C$67),\"\",IF(S811=0,ROUNDDOWN(NOW()-'Registry Full'!D811,0),S811-D811))","v":""},{"$nulls":5},""]
["",null,null,"00:00:00",{"$nulls":15},{"$f":"IF(OR(D812=0,P812=Presets!$C$67),\"\",IF(S812=0,ROUNDDOWN(NOW()-'Registry Full'!D812,0),S812-D812))","v":""},{"$nulls":5},""]
["",null,null,"00:00:00",{"$nulls":15},{"$f":"IF(OR(D813=0,P813=Presets!$C$67),\"\",IF(S813=0,ROUNDDOWN(NOW()-'Registry Full'!D813,0),S813-D813))","v":""},{"$nulls":5},""]
["",null,null,"00:00:00",{"$nulls":15},{"$f":"IF(OR(D814=0,P814=Presets!$C$67),\"\",IF(S814=0,ROUNDDOWN(NOW()-'Registry Full'!D814,0),S814-D814))","v":""},{"$nulls":5},""]
["",null,null,"00:00:00",{"$nulls":15},{"$f":"IF(OR(D815=0,P815=Presets!$C$67),\"\",IF(S815=0,ROUNDDOWN(NOW()-'Registry Full'!D815,0),S815-D815))","v":""},{"$nulls":5},""]
["",null,null,"00:00:00",{"$nulls":15},{"$f":"IF(OR(D816=0,P816=Presets!$C$67),\"\",IF(S816=0,ROUNDDOWN(NOW()-'Registry Full'!D816,0),S816-D816))","v":""},{"$nulls":5},""]
["",null,null,"00:00:00",{"$nulls":15},{"$f":"IF(OR(D817=0,P817=Presets!$C$67),\"\",IF(S817=0,ROUNDDOWN(NOW()-'Registry Full'!D817,0),S817-D817))","v":""},{"$nulls":5},""]
["",null,null,"00:00:00",{"$nulls":15},{"$f":"IF(OR(D818=0,P818=Presets!$C$67),\"\",IF(S818=0,ROUNDDOWN(NOW()-'Registry Full'!D818,0),S818-D818))","v":""},{"$nulls":5},""]
["",null,null,"00:00:00",{"$nulls":15},{"$f":"IF(OR(D819=0,P819=Presets!$C$67),\"\",IF(S819=0,ROUNDDOWN(NOW()-'Registry Full'!D819,0),S819-D819))","v":""},{"$nulls":5},""]
["",null,null,"00:00:00",{"$nulls":15},{"$f":"IF(OR(D820=0,P820=Presets!$C$67),\"\",IF(S820=0,ROUNDDOWN(NOW()-'Registry Full'!D820,0),S820-D820))","v":""},{"$nulls":5},""]
["",null,null,"00:00:00",{"$nulls":15},{"$f":"IF(OR(D821=0,P821=Presets!$C$67),\"\",IF(S821=0,ROUNDDOWN(NOW()-'Registry Full'!D821,0),S821-D821))","v":""},{"$nulls":5},""]
["",null,null,"00:00:00",{"$nulls":15},{"$f":"IF(OR(D822=0,P822=Presets!$C$67),\"\",IF(S822=0,ROUNDDOWN(NOW()-'Registry Full'!D822,0),S822-D822))","v":""},{"$nulls":5},""]
["",null,null,"00:00:00",{"$nulls":15},{"$f":"IF(OR(D823=0,P823=Presets!$C$67),\"\",IF(S823=0,ROUNDDOWN(NOW()-'Registry Full'!D823,0),S823-D823))","v":""},{"$nulls":5},""]
["",null,null,"00:00:00",{"$nulls":15},{"$f":"IF(OR(D824=0,P824=Presets!$C$67),\"\",IF(S824=0,ROUNDDOWN(NOW()-'Registry Full'!D824,0),S824-D824))","v":""},{"$nulls":5},""]
["",null,null,"00:00:00",{"$nulls":15},{"$f":"IF(OR(D825=0,P825=Presets!$C$67),\"\",IF(S825=0,ROUNDDOWN(NOW()-'Registry Full'!D825,0),S825-D825))","v":""},{"$nulls":5},""]
["",null,null,"00:00:00",{"$nulls":15},{"$f":"IF(OR(D826=0,P826=Presets!$C$67),\"\",IF(S826=0,ROUNDDOWN(NOW()-'Registry Full'!D826,0),S826-D826))","v":""},{"$nulls":5},""]
["",null,null,"00:00:00",{"$nulls":15},{"$f":"IF(OR(D827=0,P827=Presets!$C$67),\"\",IF(S827=0,ROUNDDOWN(NOW()-'Registry Full'!D827,0),S827-D827))","v":""},{"$nulls":5},""]
["",null,null,"00:00:00",{"$nulls":15},{"$f":"IF(OR(D828=0,P828=Presets!$C$67),\"\",IF(S828=0,ROUNDDOWN(NOW()-'Registry Full'!D828,0),S828-D828))","v":""},{"$nulls":5},""]
["",null,null,"00:00:00",{"$nulls":15},{"$f":"IF(OR(D829=0,P829=Presets!$C$67),\"\",IF(S829=0,ROUNDDOWN(NOW()-'Registry Full'!D829,0),S829-D829))","v":""},{"$nulls":5},""]
["",null,null,"00:00:00",{"$nulls":15},{"$f":"IF(OR(D830=0,P830=Presets!$C$67),\"\",IF(S830=0,ROUNDDOWN(NOW()-'Registry Full'!D830,0),S830-D830))","v":""},{"$nulls":5},""]
["",null,null,"00:00:00",{"$nulls":15},{"$f":"IF(OR(D831=0,P831=Presets!$C$67),\"\",IF(S831=0,ROUNDDOWN(NOW()-'Registry Full'!D831,0),S831-D831))","v":""},{"$nulls":5},""]
["",null,null,"00:00:00",{"$nulls":15},{"$f":"IF(OR(D832=0,P832=Presets!$C$67),\"\",IF(S832=0,ROUNDDOWN(NOW()-'Registry Full'!D832,0),S832-D832))","v":""},{"$nulls":5},""]
["",null,null,"00:00:00",{"$nulls":15},{"$f":"IF(OR(D833=0,P833=Presets!$C$67),\"\",IF(S833=0,ROUNDDOWN(NOW()-'Registry Full'!D833,0),S833-D833))","v":""},{"$nulls":5},""]
["",null,null,"00:00:00",{"$nulls":15},{"$f":"IF(OR(D834=0,P834=Presets!$C$67),\"\",IF(S834=0,ROUNDDOWN(NOW()-'Registry Full'!D834,0),S834-D834))","v":""},{"$nulls":5},""]
["",null,null,"00:00:00",{"$nulls":15},{"$f":"IF(OR(D835=0,P835=Presets!$C$67),\"\",IF(S835=0,ROUNDDOWN(NOW()-'Registry Full'!D835,0),S835-D835))","v":""},{"$nulls":5},""]
["",null,null,"00:00:00",{"$nulls":15},{"$f":"IF(OR(D836=0,P836=Presets!$C$67),\"\",IF(S836=0,ROUNDDOWN(NOW()-'Registry Full'!D836,0),S836-D836))","v":""},{"$nulls":5},""]
["",null,null,"00:00:00",{"$nulls":15},{"$f":"IF(OR(D837=0,P837=Presets!$C$67),\"\",IF(S837=0,ROUNDDOWN(NOW()-'Registry Full'!D837,0),S837-D837))","v":""},{"$nulls":5},""]
["",null,null,{"$f":"IF(C838=\"\",0,VALUE(RIGHT(C838,LEN(C838)-FIND(\"/\",C838,LEN(C838)-10))))","v":"00:00:00"},{"$nulls":15},{"$f":"IF(OR(D838=0,P838=Presets!$C$67),\"\",IF(S838=0,ROUNDDOWN(NOW()-'Registry Full'!D838,0),S838-D838))","v":""},{"$nulls":5},""]
["",null,null,"00:00:00",{"$nulls":15},{"$f":"IF(OR(D839=0,P839=Presets!$C$67),\"\",IF(S839=0,ROUNDDOWN(NOW()-'Registry Full'!D839,0),S839-D839))","v":""},{"$nulls":5},{"$f":"IF(OR(D839=0,Y839=0),\"\",Y839-D839)","v":""}]
["",null,null,"00:00:00",{"$nulls":15},{"$f":"IF(OR(D840=0,P840=Presets!$C$67),\"\",IF(S840=0,ROUNDDOWN(NOW()-'Registry Full'!D840,0),S840-D840))","v":""},{"$nulls":5},""]
["",null,null,"00:00:00",{"$nulls":15},{"$f":"IF(OR(D841=0,P841=Presets!$C$67),\"\",IF(S841=0,ROUNDDOWN(NOW()-'Registry Full'!D841,0),S841-D841))","v":""},{"$nulls":5},""]
["",null,null,"00:00:00",{"$nulls":15},{"$f":"IF(OR(D842=0,P842=Presets!$C$67),\"\",IF(S842=0,ROUNDDOWN(NOW()-'Registry Full'!D842,0),S842-D842))","v":""},{"$nulls":5},""]
["",null,null,"00:00:00",{"$nulls":15},{"$f":"IF(OR(D843=0,P843=Presets!$C$67),\"\",IF(S843=0,ROUNDDOWN(NOW()-'Registry Full'!D843,0),S843-D843))","v":""},{"$nulls":5},""]
["",null,null,"00:00:00",{"$nulls":15},{"$f":"IF(OR(D844=0,P844=Presets!$C$67),\"\",IF(S844=0,ROUNDDOWN(NOW()-'Registry Full'!D844,0),S844-D844))","v":""},{"$nulls":5},""]
["",null,null,"00:00:00",{"$nulls":15},{"$f":"IF(OR(D845=0,P845=Presets!$C$67),\"\",IF(S845=0,ROUNDDOWN(NOW()-'Registry Full'!D845,0),S845-D845))","v":""},{"$nulls":5},""]
["",null,null,"00:00:00",{"$nulls":15},{"$f":"IF(OR(D846=0,P846=Presets!$C$67),\"\",IF(S846=0,ROUNDDOWN(NOW()-'Registry Full'!D846,0),S846-D846))","v":""},{"$nulls":5},""]
["",null,null,"00:00:00",{"$nulls":15},{"$f":"IF(OR(D847=0,P847=Presets!$C$67),\"\",IF(S847=0,ROUNDDOWN(NOW()-'Registry Full'!D847,0),S847-D847))","v":""},{"$nulls":5},""]
["",null,null,"00:00:00",{"$nulls":15},{"$f":"IF(OR(D848=0,P848=Presets!$C$67),\"\",IF(S848=0,ROUNDDOWN(NOW()-'Registry Full'!D848,0),S848-D848))","v":""},{"$nulls":5},""]
["",null,null,"00:00:00",{"$nulls":15},{"$f":"IF(OR(D849=0,P849=Presets!$C$67),\"\",IF(S849=0,ROUNDDOWN(NOW()-'Registry Full'!D849,0),S849-D849))","v":""},{"$nulls":5},""]
["",null,null,"00:00:00",{"$nulls":15},{"$f":"IF(OR(D850=0,P850=Presets!$C$67),\"\",IF(S850=0,ROUNDDOWN(NOW()-'Registry Full'!D850,0),S850-D850))","v":""},{"$nulls":5},""]
["",null,null,"00:00:00",{"$nulls":15},{"$f":"IF(OR(D851=0,P851=Presets!$C$67),\"\",IF(S851=0,ROUNDDOWN(NOW()-'Registry Full'!D851,0),S851-D851))","v":""},{"$nulls":5},""]
["",null,null,"00:00:00",{"$nulls":15},{"$f":"IF(OR(D852=0,P852=Presets!$C$67),\"\",IF(S852=0,ROUNDDOWN(NOW()-'Registry Full'!D852,0),S852-D852))","v":""},{"$nulls":5},""]
["",null,null,"00:00:00",{"$nulls":15},{"$f":"IF(OR(D853=0,P853=Presets!$C$67),\"\",IF(S853=0,ROUNDDOWN(NOW()-'Registry Full'!D853,0),S853-D853))","v":""},{"$nulls":5},""]
["",null,null,"00:00:00",{"$nulls":15},{"$f":"IF(OR(D854=0,P854=Presets!$C$67),\"\",IF(S854=0,ROUNDDOWN(NOW()-'Registry Full'!D854,0),S854-D854))","v":""},{"$nulls":5},""]
[{"$f":"IF(COUNTA(B855)<>0,A854+1,\"\")","v":""},null,null,"00:00:00",{"$nulls":15},{"$f":"IF(OR(D855=0,P855=Presets!$C$67),\"\",IF(S855=0,ROUNDDOWN(NOW()-'Registry Full'!D855,0),S855-D855))","v":""},{"$nulls":5},""]
["",null,null,"00:00:00",{"$nulls":15},{"$f":"IF(OR(D856=0,P856=Presets!$C$67),\"\",IF(S856=0,ROUNDDOWN(NOW()-'Registry Full'!D856,0),S856-D856))","v":""},{"$nulls":5},""]
["",null,null,"00:00:00",{"$nulls":15},{"$f":"IF(OR(D857=0,P857=Presets!$C$67),\"\",IF(S857=0,ROUNDDOWN(NOW()-'Registry Full'!D857,0),S857-D857))","v":""},{"$nulls":5},""]
["",null,null,"00:00:00",{"$nulls":15},{"$f":"IF(OR(D858=0,P858=Presets!$C$67),\"\",IF(S858=0,ROUNDDOWN(NOW()-'Registry Full'!D858,0),S858-D858))","v":""},{"$nulls":5},""]
["",null,null,"00:00:00",{"$nulls":15},{"$f":"IF(OR(D859=0,P859=Presets!$C$67),\"\",IF(S859=0,ROUNDDOWN(NOW()-'Registry Full'!D859,0),S859-D859))","v":""},{"$nulls":5},""]
["",null,null,"00:00:00",{"$nulls":15},{"$f":"IF(OR(D860=0,P860=Presets!$C$67),\"\",IF(S860=0,ROUNDDOWN(NOW()-'Registry Full'!D860,0),S860-D860))","v":""},{"$nulls":5},""]
["",null,null,"00:00:00",{"$nulls":15},{"$f":"IF(OR(D861=0,P861=Presets!$C$67),\"\",IF(S861=0,ROUNDDOWN(NOW()-'Registry Full'!D861,0),S861-D861))","v":""},{"$nulls":5},""]
["",null,null,"00:00:00",{"$nulls":15},{"$f":"IF(OR(D862=0,P862=Presets!$C$67),\"\",IF(S862=0,ROUNDDOWN(NOW()-'Registry Full'!D862,0),S862-D862))","v":""},{"$nulls":5},""]
["",null,null,"00:00:00",{"$nulls":15},{"$f":"IF(OR(D863=0,P863=Presets!$C$67),\"\",IF(S863=0,ROUNDDOWN(NOW()-'Registry Full'!D863,0),S863-D863))","v":""},{"$nulls":5},""]
["",null,null,"00:00:00",{"$nulls":15},{"$f":"IF(OR(D864=0,P864=Presets!$C$67),\"\",IF(S864=0,ROUNDDOWN(NOW()-'Registry Full'!D864,0),S864-D864))","v":""},{"$nulls":5},""]
["",null,null,"00:00:00",{"$nulls":15},{"$f":"IF(OR(D865=0,P865=Presets!$C$67),\"\",IF(S865=0,ROUNDDOWN(NOW()-'Registry Full'!D865,0),S865-D865))","v":""},{"$nulls":5},""]
["",null,null,"00:00:00",{"$nulls":15},{"$f":"IF(OR(D866=0,P866=Presets!$C$67),\"\",IF(S866=0,ROUNDDOWN(NOW()-'Registry Full'!D866,0),S866-D866))","v":""},{"$nulls":5},""]
["",null,null,"00:00:00",{"$nulls":15},{"$f":"IF(OR(D867=0,P867=Presets!$C$67),\"\",IF(S867=0,ROUNDDOWN(NOW()-'Registry Full'!D867,0),S867-D867))","v":""},{"$nulls":5},""]
["",null,null,"00:00:00",{"$nulls":15},{"$f":"IF(OR(D868=0,P868=Presets!$C$67),\"\",IF(S868=0,ROUNDDOWN(NOW()-'Registry Full'!D868,0),S868-D868))","v":""},{"$nulls":5},""]
["",null,null,"00:00:00",{"$nulls":15},{"$f":"IF(OR(D869=0,P869=Presets!$C$67),\"\",IF(S869=0,ROUNDDOWN(NOW()-'Registry Full'!D869,0),S869-D869))","v":""},{"$nulls":5},""]
["",null,null,"00:00:00",{"$nulls":15},{"$f":"IF(OR(D870=0,P870=Presets!$C$67),\"\",IF(S870=0,ROUNDDOWN(NOW()-'Registry Full'!D870,0),S870-D870))","v":""},{"$nulls":5},""]
["",null,null,"00:00:00",{"$nulls":15},{"$f":"IF(OR(D871=0,P871=Presets!$C$67),\"\",IF(S871=0,ROUNDDOWN(NOW()-'Registry Full'!D871,0),S871-D871))","v":""},{"$nulls":5},""]
["",null,null,"00:00:00",{"$nulls":15},{"$f":"IF(OR(D872=0,P872=Presets!$C$67),\"\",IF(S872=0,ROUNDDOWN(NOW()-'Registry Full'!D872,0),S872-D872))","v":""},{"$nulls":5},""]
["",null,null,"00:00:00",{"$nulls":15},{"$f":"IF(OR(D873=0,P873=Presets!$C$67),\"\",IF(S873=0,ROUNDDOWN(NOW()-'Registry Full'!D873,0),S873-D873))","v":""},{"$nulls":5},""]
["",null,null,"00:00:00",{"$nulls":15},{"$f":"IF(OR(D874=0,P874=Presets!$C$67),\"\",IF(S874=0,ROUNDDOWN(NOW()-'Registry Full'!D874,0),S874-D874))","v":""},{"$nulls":5},""]
["",null,null,"00:00:00",{"$nulls":15},{"$f":"IF(OR(D875=0,P875=Presets!$C$67),\"\",IF(S875=0,ROUNDDOWN(NOW()-'Registry Full'!D875,0),S875-D875))","v":""},{"$nulls":5},""]
["",null,null,"00:00:00",{"$nulls":15},{"$f":"IF(OR(D876=0,P876=Presets!$C$67),\"\",IF(S876=0,ROUNDDOWN(NOW()-'Registry Full'!D876,0),S876-D876))","v":""},{"$nulls":5},""]
["",null,null,"00:00:00",{"$nulls":15},{"$f":"IF(OR(D877=0,P877=Presets!$C$67),\"\",IF(S877=0,ROUNDDOWN(NOW()-'Registry Full'!D877,0),S877-D877))","v":""},{"$nulls":5},""]
["",null,null,"00:00:00",{"$nulls":15},{"$f":"IF(OR(D878=0,P878=Presets!$C$67),\"\",IF(S878=0,ROUNDDOWN(NOW()-'Registry Full'!D878,0),S878-D878))","v":""},{"$nulls":5},""]
["",null,null,"00:00:00",{"$nulls":15},{"$f":"IF(OR(D879=0,P879=Presets!$C$67),\"\",IF(S879=0,ROUNDDOWN(NOW()-'Registry Full'!D879,0),S879-D879))","v":""},{"$nulls":5},""]
["",null,null,"00:00:00",{"$nulls":15},{"$f":"IF(OR(D880=0,P880=Presets!$C$67),\"\",IF(S880=0,ROUNDDOWN(NOW()-'Registry Full'!D880,0),S880-D880))","v":""},{"$nulls":5},""]
["",null,null,"00:00:00",{"$nulls":15},{"$f":"IF(OR(D881=0,P881=Presets!$C$67),\"\",IF(S881=0,ROUNDDOWN(NOW()-'Registry Full'!D881,0),S881-D881))","v":""},{"$nulls":5},""]
["",null,null,"00:00:00",{"$nulls":15},{"$f":"IF(OR(D882=0,P882=Presets!$C$67),\"\",IF(S882=0,ROUNDDOWN(NOW()-'Registry Full'!D882,0),S882-D882))","v":""},{"$nulls":5},""]
["",null,null,"00:00:00",{"$nulls":15},{"$f":"IF(OR(D883=0,P883=Presets!$C$67),\"\",IF(S883=0,ROUNDDOWN(NOW()-'Registry Full'!D883,0),S883-D883))","v":""},{"$nulls":5},""]
["",null,null,"00:00:00",{"$nulls":15},{"$f":"IF(OR(D884=0,P884=Presets!$C$67),\"\",IF(S884=0,ROUNDDOWN(NOW()-'Registry Full'!D884,0),S884-D884))","v":""},{"$nulls":5},""]
["",null,null,"00:00:00",{"$nulls":15},{"$f":"IF(OR(D885=0,P885=Presets!$C$67),\"\",IF(S885=0,ROUNDDOWN(NOW()-'Registry Full'!D885,0),S885-D885))","v":""},{"$nulls":5},""]
["",null,null,"00:00:00",{"$nulls":15},{"$f":"IF(OR(D886=0,P886=Presets!$C$67),\"\",IF(S886=0,ROUNDDOWN(NOW()-'Registry Full'!D886,0),S886-D886))","v":""},{"$nulls":5},""]
["",null,null,"00:00:00",{"$nulls":15},{"$f":"IF(OR(D887=0,P887=Presets!$C$67),\"\",IF(S887=0,ROUNDDOWN(NOW()-'Registry Full'!D887,0),S887-D887))","v":""},{"$nulls":5},""]
["",null,null,"00:00:00",{"$nulls":15},{"$f":"IF(OR(D888=0,P888=Presets!$C$67),\"\",IF(S888=0,ROUNDDOWN(NOW()-'Registry Full'!D888,0),S888-D888))","v":""},{"$nulls":5},""]
["",null,null,"00:00:00",{"$nulls":15},{"$f":"IF(OR(D889=0,P889=Presets!$C$67),\"\",IF(S889=0,ROUNDDOWN(NOW()-'Registry Full'!D889,0),S889-D889))","v":""},{"$nulls":5},""]
["",null,null,"00:00:00",{"$nulls":15},{"$f":"IF(OR(D890=0,P890=Presets!$C$67),\"\",IF(S890=0,ROUNDDOWN(NOW()-'Registry Full'!D890,0),S890-D890))","v":""},{"$nulls":5},""]
["",null,null,"00:00:00",{"$nulls":15},{"$f":"IF(OR(D891=0,P891=Presets!$C$67),\"\",IF(S891=0,ROUNDDOWN(NOW()-'Registry Full'!D891,0),S891-D891))","v":""},{"$nulls":5},""]
["",null,null,"00:00:00",{"$nulls":15},{"$f":"IF(OR(D892=0,P892=Presets!$C$67),\"\",IF(S892=0,ROUNDDOWN(NOW()-'Registry Full'!D892,0),S892-D892))","v":""},{"$nulls":5},""]
["",null,null,"00:00:00",{"$nulls":15},{"$f":"IF(OR(D893=0,P893=Presets!$C$67),\"\",IF(S893=0,ROUNDDOWN(NOW()-'Registry Full'!D893,0),S893-D893))","v":""},{"$nulls":5},""]
["",null,null,"00:00:00",{"$nulls":15},{"$f":"IF(OR(D894=0,P894=Presets!$C$67),\"\",IF(S894=0,ROUNDDOWN(NOW()-'Registry Full'!D894,0),S894-D894))","v":""},{"$nulls":5},""]
["",null,null,"00:00:00",{"$nulls":15},{"$f":"IF(OR(D895=0,P895=Presets!$C$67),\"\",IF(S895=0,ROUNDDOWN(NOW()-'Registry Full'!D895,0),S895-D895))","v":""},{"$nulls":5},""]
["",null,null,"00:00:00",{"$nulls":15},{"$f":"IF(OR(D896=0,P896=Presets!$C$67),\"\",IF(S896=0,ROUNDDOWN(NOW()-'Registry Full'!D896,0),S896-D896))","v":""},{"$nulls":5},""]
["",null,null,"00:00:00",{"$nulls":15},{"$f":"IF(OR(D897=0,P897=Presets!$C$67),\"\",IF(S897=0,ROUNDDOWN(NOW()-'Registry Full'!D897,0),S897-D897))","v":""},{"$nulls":5},""]
["",null,null,"00:00:00",{"$nulls":15},{"$f":"IF(OR(D898=0,P898=Presets!$C$67),\"\",IF(S898=0,ROUNDDOWN(NOW()-'Registry Full'!D898,0),S898-D898))","v":""},{"$nulls":5},""]
["",null,null,"00:00:00",{"$nulls":15},{"$f":"IF(OR(D899=0,P899=Presets!$C$67),\"\",IF(S899=0,ROUNDDOWN(NOW()-'Registry Full'!D899,0),S899-D899))","v":""},{"$nulls":5},""]
["",null,null,"00:00:00",{"$nulls":15},{"$f":"IF(OR(D900=0,P900=Presets!$C$67),\"\",IF(S900=0,ROUNDDOWN(NOW()-'Registry Full'!D900,0),S900-D900))","v":""},{"$nulls":5},""]
["",null,null,"00:00:00",{"$nulls":15},{"$f":"IF(OR(D901=0,P901=Presets!$C$67),\"\",IF(S901=0,ROUNDDOWN(NOW()-'Registry Full'!D901,0),S901-D901))","v":""},{"$nulls":5},""]
["",null,null,{"$f":"IF(C902=\"\",0,VALUE(RIGHT(C902,LEN(C902)-FIND(\"/\",C902,LEN(C902)-10))))","v":"00:00:00"},{"$nulls":15},{"$f":"IF(OR(D902=0,P902=Presets!$C$67),\"\",IF(S902=0,ROUNDDOWN(NOW()-'Registry Full'!D902,0),S902-D902))","v":""},{"$nulls":5},""]
["",null,null,"00:00:00",{"$nulls":15},{"$f":"IF(OR(D903=0,P903=Presets!$C$67),\"\",IF(S903=0,ROUNDDOWN(NOW()-'Registry Full'!D903,0),S903-D903))","v":""},{"$nulls":5},{"$f":"IF(OR(D903=0,Y903=0),\"\",Y903-D903)","v":""}]
["",null,null,"00:00:00",{"$nulls":15},{"$f":"IF(OR(D904=0,P904=Presets!$C$67),\"\",IF(S904=0,ROUNDDOWN(NOW()-'Registry Full'!D904,0),S904-D904))","v":""},{"$nulls":5},""]
["",null,null,"00:00:00",{"$nulls":15},{"$f":"IF(OR(D905=0,P905=Presets!$C$67),\"\",IF(S905=0,ROUNDDOWN(NOW()-'Registry Full'!D905,0),S905-D905))","v":""},{"$nulls":5},""]
["",null,null,"00:00:00",{"$nulls":15},{"$f":"IF(OR(D906=0,P906=Presets!$C$67),\"\",IF(S906=0,ROUNDDOWN(NOW()-'Registry Full'!D906,0),S906-D906))","v":""},{"$nulls":5},""]
["",null,null,"00:00:00",{"$nulls":15},{"$f":"IF(OR(D907=0,P907=Presets!$C$67),\"\",IF(S907=0,ROUNDDOWN(NOW()-'Registry Full'!D907,0),S907-D907))","v":""},{"$nulls":5},""]
["",null,null,"00:00:00",{"$nulls":15},{"$f":"IF(OR(D908=0,P908=Presets!$C$67),\"\",IF(S908=0,ROUNDDOWN(NOW()-'Registry Full'!D908,0),S908-D908))","v":""},{"$nulls":5},""]
["",null,null,"00:00:00",{"$nulls":15},{"$f":"IF(OR(D909=0,P909=Presets!$C$67),\"\",IF(S909=0,ROUNDDOWN(NOW()-'Registry Full'!D909,0),S909-D909))","v":""},{"$nulls":5},""]
["",null,null,"00:00:00",{"$nulls":15},{"$f":"IF(OR(D910=0,P910=Presets!$C$67),\"\",IF(S910=0,ROUNDDOWN(NOW()-'Registry Full'!D910,0),S910-D910))","v":""},{"$nulls":5},""]
["",null,null,"00:00:00",{"$nulls":15},{"$f":"IF(OR(D911=0,P911=Presets!$C$67),\"\",IF(S911=0,ROUNDDOWN(NOW()-'Registry Full'!D911,0),S911-D911))","v":""},{"$nulls":5},""]
["",null,null,"00:00:00",{"$nulls":15},{"$f":"IF(OR(D912=0,P912=Presets!$C$67),\"\",IF(S912=0,ROUNDDOWN(NOW()-'Registry Full'!D912,0),S912-D912))","v":""},{"$nulls":5},""]
["",null,null,"00:00:00",{"$nulls":15},{"$f":"IF(OR(D913=0,P913=Presets!$C$67),\"\",IF(S913=0,ROUNDDOWN(NOW()-'Registry Full'!D913,0),S913-D913))","v":""},{"$nulls":5},""]
["",null,null,"00:00:00",{"$nulls":15},{"$f":"IF(OR(D914=0,P914=Presets!$C$67),\"\",IF(S914=0,ROUNDDOWN(NOW()-'Registry Full'!D914,0),S914-D914))","v":""},{"$nulls":5},""]
["",null,null,"00:00:00",{"$nulls":15},{"$f":"IF(OR(D915=0,P915=Presets!$C$67),\"\",IF(S915=0,ROUNDDOWN(NOW()-'Registry Full'!D915,0),S915-D915))","v":""},{"$nulls":5},""]
["",null,null,"00:00:00",{"$nulls":15},{"$f":"IF(OR(D916=0,P916=Presets!$C$67),\"\",IF(S916=0,ROUNDDOWN(NOW()-'Registry Full'!D916,0),S916-D916))","v":""},{"$nulls":5},""]
["",null,null,"00:00:00",{"$nulls":15},{"$f":"IF(OR(D917=0,P917=Presets!$C$67),\"\",IF(S917=0,ROUNDDOWN(NOW()-'Registry Full'!D917,0),S917-D917))","v":""},{"$nulls":5},""]
["",null,null,"00:00:00",{"$nulls":15},{"$f":"IF(OR(D918=0,P918=Presets!$C$67),\"\",IF(S918=0,ROUNDDOWN(NOW()-'Registry Full'!D918,0),S918-D918))","v":""},{"$nulls":5},""]
[{"$f":"IF(COUNTA(B919)<>0,A918+1,\"\")","v":""},null,null,"00:00:00",{"$nulls":15},{"$f":"IF(OR(D919=0,P919=Presets!$C$67),\"\",IF(S919=0,ROUNDDOWN(NOW()-'Registry Full'!D919,0),S919-D919))","v":""},{"$nulls":5},""]
["",null,null,"00:00:00",{"$nulls":15},{"$f":"IF(OR(D920=0,P920=Presets!$C$67),\"\",IF(S920=0,ROUNDDOWN(NOW()-'Registry Full'!D920,0),S920-D920))","v":""},{"$nulls":5},""]
["",null,null,"00:00:00",{"$nulls":15},{"$f":"IF(OR(D921=0,P921=Presets!$C$67),\"\",IF(S921=0,ROUNDDOWN(NOW()-'Registry Full'!D921,0),S921-D921))","v":""},{"$nulls":5},""]
["",null,null,"00:00:00",{"$nulls":15},{"$f":"IF(OR(D922=0,P922=Presets!$C$67),\"\",IF(S922=0,ROUNDDOWN(NOW()-'Registry Full'!D922,0),S922-D922))","v":""},{"$nulls":5},""]
["",null,null,"00:00:00",{"$nulls":15},{"$f":"IF(OR(D923=0,P923=Presets!$C$67),\"\",IF(S923=0,ROUNDDOWN(NOW()-'Registry Full'!D923,0),S923-D923))","v":""},{"$nulls":5},""]
["",null,null,"00:00:00",{"$nulls":15},{"$f":"IF(OR(D924=0,P924=Presets!$C$67),\"\",IF(S924=0,ROUNDDOWN(NOW()-'Registry Full'!D924,0),S924-D924))","v":""},{"$nulls":5},""]
["",null,null,"00:00:00",{"$nulls":15},{"$f":"IF(OR(D925=0,P925=Presets!$C$67),\"\",IF(S925=0,ROUNDDOWN(NOW()-'Registry Full'!D925,0),S925-D925))","v":""},{"$nulls":5},""]
["",null,null,"00:00:00",{"$nulls":15},{"$f":"IF(OR(D926=0,P926=Presets!$C$67),\"\",IF(S926=0,ROUNDDOWN(NOW()-'Registry Full'!D926,0),S926-D926))","v":""},{"$nulls":5},""]
["",null,null,"00:00:00",{"$nulls":15},{"$f":"IF(OR(D927=0,P927=Presets!$C$67),\"\",IF(S927=0,ROUNDDOWN(NOW()-'Registry Full'!D927,0),S927-D927))","v":""},{"$nulls":5},""]
["",null,null,"00:00:00",{"$nulls":15},{"$f":"IF(OR(D928=0,P928=Presets!$C$67),\"\",IF(S928=0,ROUNDDOWN(NOW()-'Registry Full'!D928,0),S928-D928))","v":""},{"$nulls":5},""]
["",null,null,"00:00:00",{"$nulls":15},{"$f":"IF(OR(D929=0,P929=Presets!$C$67),\"\",IF(S929=0,ROUNDDOWN(NOW()-'Registry Full'!D929,0),S929-D929))","v":""},{"$nulls":5},""]
["",null,null,"00:00:00",{"$nulls":15},{"$f":"IF(OR(D930=0,P930=Presets!$C$67),\"\",IF(S930=0,ROUNDDOWN(NOW()-'Registry Full'!D930,0),S930-D930))","v":""},{"$nulls":5},""]
["",null,null,"00:00:00",{"$nulls":15},{"$f":"IF(OR(D931=0,P931=Presets!$C$67),\"\",IF(S931=0,ROUNDDOWN(NOW()-'Registry Full'!D931,0),S931-D931))","v":""},{"$nulls":5},""]
["",null,null,"00:00:00",{"$nulls":15},{"$f":"IF(OR(D932=0,P932=Presets!$C$67),\"\",IF(S932=0,ROUNDDOWN(NOW()-'Registry Full'!D932,0),S932-D932))","v":""},{"$nulls":5},""]
["",null,null,"00:00:00",{"$nulls":15},{"$f":"IF(OR(D933=0,P933=Presets!$C$67),\"\",IF(S933=0,ROUNDDOWN(NOW()-'Registry Full'!D933,0),S933-D933))","v":""},{"$nulls":5},""]
["",null,null,"00:00:00",{"$nulls":15},{"$f":"IF(OR(D934=0,P934=Presets!$C$67),\"\",IF(S934=0,ROUNDDOWN(NOW()-'Registry Full'!D934,0),S934-D934))","v":""},{"$nulls":5},""]
["",null,null,"00:00:00",{"$nulls":15},{"$f":"IF(OR(D935=0,P935=Presets!$C$67),\"\",IF(S935=0,ROUNDDOWN(NOW()-'Registry Full'!D935,0),S935-D935))","v":""},{"$nulls":5},""]
["",null,null,"00:00:00",{"$nulls":15},{"$f":"IF(OR(D936=0,P936=Presets!$C$67),\"\",IF(S936=0,ROUNDDOWN(NOW()-'Registry Full'!D936,0),S936-D936))","v":""},{"$nulls":5},""]
["",null,null,"00:00:00",{"$nulls":15},{"$f":"IF(OR(D937=0,P937=Presets!$C$67),\"\",IF(S937=0,ROUNDDOWN(NOW()-'Registry Full'!D937,0),S937-D937))","v":""},{"$nulls":5},""]
["",null,null,"00:00:00",{"$nulls":15},{"$f":"IF(OR(D938=0,P938=Presets!$C$67),\"\",IF(S938=0,ROUNDDOWN(NOW()-'Registry Full'!D938,0),S938-D938))","v":""},{"$nulls":5},""]
["",null,null,"00:00:00",{"$nulls":15},{"$f":"IF(OR(D939=0,P939=Presets!$C$67),\"\",IF(S939=0,ROUNDDOWN(NOW()-'Registry Full'!D939,0),S939-D939))","v":""},{"$nulls":5},""]
["",null,null,"00:00:00",{"$nulls":15},{"$f":"IF(OR(D940=0,P940=Presets!$C$67),\"\",IF(S940=0,ROUNDDOWN(NOW()-'Registry Full'!D940,0),S940-D940))","v":""},{"$nulls":5},""]
["",null,null,"00:00:00",{"$nulls":15},{"$f":"IF(OR(D941=0,P941=Presets!$C$67),\"\",IF(S941=0,ROUNDDOWN(NOW()-'Registry Full'!D941,0),S941-D941))","v":""},{"$nulls":5},""]
["",null,null,"00:00:00",{"$nulls":15},{"$f":"IF(OR(D942=0,P942=Presets!$C$67),\"\",IF(S942=0,ROUNDDOWN(NOW()-'Registry Full'!D942,0),S942-D942))","v":""},{"$nulls":5},""]
["",null,null,"00:00:00",{"$nulls":15},{"$f":"IF(OR(D943=0,P943=Presets!$C$67),\"\",IF(S943=0,ROUNDDOWN(NOW()-'Registry Full'!D943,0),S943-D943))","v":""},{"$nulls":5},""]
["",null,null,"00:00:00",{"$nulls":15},{"$f":"IF(OR(D944=0,P944=Presets!$C$67),\"\",IF(S944=0,ROUNDDOWN(NOW()-'Registry Full'!D944,0),S944-D944))","v":""},{"$nulls":5},""]
["",null,null,"00:00:00",{"$nulls":15},{"$f":"IF(OR(D945=0,P945=Presets!$C$67),\"\",IF(S945=0,ROUNDDOWN(NOW()-'Registry Full'!D945,0),S945-D945))","v":""},{"$nulls":5},""]
["",null,null,"00:00:00",{"$nulls":15},{"$f":"IF(OR(D946=0,P946=Presets!$C$67),\"\",IF(S946=0,ROUNDDOWN(NOW()-'Registry Full'!D946,0),S946-D946))","v":""},{"$nulls":5},""]
["",null,null,"00:00:00",{"$nulls":15},{"$f":"IF(OR(D947=0,P947=Presets!$C$67),\"\",IF(S947=0,ROUNDDOWN(NOW()-'Registry Full'!D947,0),S947-D947))","v":""},{"$nulls":5},""]
["",null,null,"00:00:00",{"$nulls":15},{"$f":"IF(OR(D948=0,P948=Presets!$C$67),\"\",IF(S948=0,ROUNDDOWN(NOW()-'Registry Full'!D948,0),S948-D948))","v":""},{"$nulls":5},""]
["",null,null,"00:00:00",{"$nulls":15},{"$f":"IF(OR(D949=0,P949=Presets!$C$67),\"\",IF(S949=0,ROUNDDOWN(NOW()-'Registry Full'!D949,0),S949-D949))","v":""},{"$nulls":5},""]
["",null,null,"00:00:00",{"$nulls":15},{"$f":"IF(OR(D950=0,P950=Presets!$C$67),\"\",IF(S950=0,ROUNDDOWN(NOW()-'Registry Full'!D950,0),S950-D950))","v":""},{"$nulls":5},""]
["",null,null,"00:00:00",{"$nulls":15},{"$f":"IF(OR(D951=0,P951=Presets!$C$67),\"\",IF(S951=0,ROUNDDOWN(NOW()-'Registry Full'!D951,0),S951-D951))","v":""},{"$nulls":5},""]
["",null,null,"00:00:00",{"$nulls":15},{"$f":"IF(OR(D952=0,P952=Presets!$C$67),\"\",IF(S952=0,ROUNDDOWN(NOW()-'Registry Full'!D952,0),S952-D952))","v":""},{"$nulls":5},""]
["",null,null,"00:00:00",{"$nulls":15},{"$f":"IF(OR(D953=0,P953=Presets!$C$67),\"\",IF(S953=0,ROUNDDOWN(NOW()-'Registry Full'!D953,0),S953-D953))","v":""},{"$nulls":5},""]
["",null,null,"00:00:00",{"$nulls":15},{"$f":"IF(OR(D954=0,P954=Presets!$C$67),\"\",IF(S954=0,ROUNDDOWN(NOW()-'Registry Full'!D954,0),S954-D954))","v":""},{"$nulls":5},""]
["",null,null,"00:00:00",{"$nulls":15},{"$f":"IF(OR(D955=0,P955=Presets!$C$67),\"\",IF(S955=0,ROUNDDOWN(NOW()-'Registry Full'!D955,0),S955-D955))","v":""},{"$nulls":5},""]
["",null,null,"00:00:00",{"$nulls":15},{"$f":"IF(OR(D956=0,P956=Presets!$C$67),\"\",IF(S956=0,ROUNDDOWN(NOW()-'Registry Full'!D956,0),S956-D956))","v":""},{"$nulls":5},""]
["",null,null,"00:00:00",{"$nulls":15},{"$f":"IF(OR(D957=0,P957=Presets!$C$67),\"\",IF(S957=0,ROUNDDOWN(NOW()-'Registry Full'!D957,0),S957-D957))","v":""},{"$nulls":5},""]
["",null,null,"00:00:00",{"$nulls":15},{"$f":"IF(OR(D958=0,P958=Presets!$C$67),\"\",IF(S958=0,ROUNDDOWN(NOW()-'Registry Full'!D958,0),S958-D958))","v":""},{"$nulls":5},""]
["",null,null,"00:00:00",{"$nulls":15},{"$f":"IF(OR(D959=0,P959=Presets!$C$67),\"\",IF(S959=0,ROUNDDOWN(NOW()-'Registry Full'!D959,0),S959-D959))","v":""},{"$nulls":5},""]
["",null,null,"00:00:00",{"$nulls":15},{"$f":"IF(OR(D960=0,P960=Presets!$C$67),\"\",IF(S960=0,ROUNDDOWN(NOW()-'Registry Full'!D960,0),S960-D960))","v":""},{"$nulls":5},""]
["",null,null,"00:00:00",{"$nulls":15},{"$f":"IF(OR(D961=0,P961=Presets!$C$67),\"\",IF(S961=0,ROUNDDOWN(NOW()-'Registry Full'!D961,0),S961-D961))","v":""},{"$nulls":5},""]
["",null,null,"00:00:00",{"$nulls":15},{"$f":"IF(OR(D962=0,P962=Presets!$C$67),\"\",IF(S962=0,ROUNDDOWN(NOW()-'Registry Full'!D962,0),S962-D962))","v":""},{"$nulls":5},""]
["",null,null,"00:00:00",{"$nulls":15},{"$f":"IF(OR(D963=0,P963=Presets!$C$67),\"\",IF(S963=0,ROUNDDOWN(NOW()-'Registry Full'!D963,0),S963-D963))","v":""},{"$nulls":5},""]
["",null,null,"00:00:00",{"$nulls":15},{"$f":"IF(OR(D964=0,P964=Presets!$C$67),\"\",IF(S964=0,ROUNDDOWN(NOW()-'Registry Full'!D964,0),S964-D964))","v":""},{"$nulls":5},""]
["",null,null,"00:00:00",{"$nulls":15},{"$f":"IF(OR(D965=0,P965=Presets!$C$67),\"\",IF(S965=0,ROUNDDOWN(NOW()-'Registry Full'!D965,0),S965-D965))","v":""},{"$nulls":5},""]
["",null,null,{"$f":"IF(C966=\"\",0,VALUE(RIGHT(C966,LEN(C966)-FIND(\"/\",C966,LEN(C966)-10))))","v":"00:00:00"},{"$nulls":15},{"$f":"IF(OR(D966=0,P966=Presets!$C$67),\"\",IF(S966=0,ROUNDDOWN(NOW()-'Registry Full'!D966,0),S966-D966))","v":""},{"$nulls":5},""]
["",null,null,"00:00:00",{"$nulls":15},{"$f":"IF(OR(D967=0,P967=Presets!$C$67),\"\",IF(S967=0,ROUNDDOWN(NOW()-'Registry Full'!D967,0),S967-D967))","v":""},{"$nulls":5},{"$f":"IF(OR(D967=0,Y967=0),\"\",Y967-D967)","v":""}]
["",null,null,"00:00:00",{"$nulls":15},{"$f":"IF(OR(D968=0,P968=Presets!$C$67),\"\",IF(S968=0,ROUNDDOWN(NOW()-'Registry Full'!D968,0),S968-D968))","v":""},{"$nulls":5},""]
["",null,null,"00:00:00",{"$nulls":15},{"$f":"IF(OR(D969=0,P969=Presets!$C$67),\"\",IF(S969=0,ROUNDDOWN(NOW()-'Registry Full'!D969,0),S969-D969))","v":""},{"$nulls":5},""]
["",null,null,"00:00:00",{"$nulls":15},{"$f":"IF(OR(D970=0,P970=Presets!$C$67),\"\",IF(S970=0,ROUNDDOWN(NOW()-'Registry Full'!D970,0),S970-D970))","v":""},{"$nulls":5},""]
["",null,null,"00:00:00",{"$nulls":15},{"$f":"IF(OR(D971=0,P971=Presets!$C$67),\"\",IF(S971=0,ROUNDDOWN(NOW()-'Registry Full'!D971,0),S971-D971))","v":""},{"$nulls":5},""]
["",null,null,"00:00:00",{"$nulls":15},{"$f":"IF(OR(D972=0,P972=Presets!$C$67),\"\",IF(S972=0,ROUNDDOWN(NOW()-'Registry Full'!D972,0),S972-D972))","v":""},{"$nulls":5},""]
["",null,null,"00:00:00",{"$nulls":15},{"$f":"IF(OR(D973=0,P973=Presets!$C$67),\"\",IF(S973=0,ROUNDDOWN(NOW()-'Registry Full'!D973,0),S973-D973))","v":""},{"$nulls":5},""]
["",null,null,"00:00:00",{"$nulls":15},{"$f":"IF(OR(D974=0,P974=Presets!$C$67),\"\",IF(S974=0,ROUNDDOWN(NOW()-'Registry Full'!D974,0),S974-D974))","v":""},{"$nulls":5},""]
["",null,null,"00:00:00",{"$nulls":15},{"$f":"IF(OR(D975=0,P975=Presets!$C$67),\"\",IF(S975=0,ROUNDDOWN(NOW()-'Registry Full'!D975,0),S975-D975))","v":""},{"$nulls":5},""]
["",null,null,"00:00:00",{"$nulls":15},{"$f":"IF(OR(D976=0,P976=Presets!$C$67),\"\",IF(S976=0,ROUNDDOWN(NOW()-'Registry Full'!D976,0),S976-D976))","v":""},{"$nulls":5},""]
["",null,null,"00:00:00",{"$nulls":15},{"$f":"IF(OR(D977=0,P977=Presets!$C$67),\"\",IF(S977=0,ROUNDDOWN(NOW()-'Registry Full'!D977,0),S977-D977))","v":""},{"$nulls":5},""]
["",null,null,"00:00:00",{"$nulls":15},{"$f":"IF(OR(D978=0,P978=Presets!$C$67),\"\",IF(S978=0,ROUNDDOWN(NOW()-'Registry Full'!D978,0),S978-D978))","v":""},{"$nulls":5},""]
["",null,null,"00:00:00",{"$nulls":15},{"$f":"IF(OR(D979=0,P979=Presets!$C$67),\"\",IF(S979=0,ROUNDDOWN(NOW()-'Registry Full'!D979,0),S979-D979))","v":""},{"$nulls":5},""]
["",null,null,"00:00:00",{"$nulls":15},{"$f":"IF(OR(D980=0,P980=Presets!$C$67),\"\",IF(S980=0,ROUNDDOWN(NOW()-'Registry Full'!D980,0),S980-D980))","v":""},{"$nulls":5},""]
["",null,null,"00:00:00",{"$nulls":15},{"$f":"IF(OR(D981=0,P981=Presets!$C$67),\"\",IF(S981=0,ROUNDDOWN(NOW()-'Registry Full'!D981,0),S981-D981))","v":""},{"$nulls":5},""]
["",null,null,"00:00:00",{"$nulls":15},{"$f":"IF(OR(D982=0,P982=Presets!$C$67),\"\",IF(S982=0,ROUNDDOWN(NOW()-'Registry Full'!D982,0),S982-D982))","v":""},{"$nulls":5},""]
[{"$f":"IF(COUNTA(B983)<>0,A982+1,\"\")","v":""},null,null,"00:00:00",{"$nulls":15},{"$f":"IF(OR(D983=0,P983=Presets!$C$67),\"\",IF(S983=0,ROUNDDOWN(NOW()-'Registry Full'!D983,0),S983-D983))","v":""},{"$nulls":5},""]
["",null,null,"00:00:00",{"$nulls":15},{"$f":"IF(OR(D984=0,P984=Presets!$C$67),\"\",IF(S984=0,ROUNDDOWN(NOW()-'Registry Full'!D984,0),S984-D984))","v":""},{"$nulls":5},""]
["",null,null,"00:00:00",{"$nulls":15},{"$f":"IF(OR(D985=0,P985=Presets!$C$67),\"\",IF(S985=0,ROUNDDOWN(NOW()-'Registry Full'!D985,0),S985-D985))","v":""},{"$nulls":5},""]
["",null,null,"00:00:00",{"$nulls":15},{"$f":"IF(OR(D986=0,P986=Presets!$C$67),\"\",IF(S986=0,ROUNDDOWN(NOW()-'Registry Full'!D986,0),S986-D986))","v":""},{"$nulls":5},""]
["",null,null,"00:00:00",{"$nulls":15},{"$f":"IF(OR(D987=0,P987=Presets!$C$67),\"\",IF(S987=0,ROUNDDOWN(NOW()-'Registry Full'!D987,0),S987-D987))","v":""},{"$nulls":5},""]
["",null,null,"00:00:00",{"$nulls":15},{"$f":"IF(OR(D988=0,P988=Presets!$C$67),\"\",IF(S988=0,ROUNDDOWN(NOW()-'Registry Full'!D988,0),S988-D988))","v":""},{"$nulls":5},""]
["",null,null,"00:00:00",{"$nulls":15},{"$f":"IF(OR(D989=0,P989=Presets!$C$67),\"\",IF(S989=0,ROUNDDOWN(NOW()-'Registry Full'!D989,0),S989-D989))","v":""},{"$nulls":5},""]
["",null,null,"00:00:00",{"$nulls":15},{"$f":"IF(OR(D990=0,P990=Presets!$C$67),\"\",IF(S990=0,ROUNDDOWN(NOW()-'Registry Full'!D990,0),S990-D990))","v":""},{"$nulls":5},""]
["",null,null,"00:00:00",{"$nulls":15},{"$f":"IF(OR(D991=0,P991=Presets!$C$67),\"\",IF(S991=0,ROUNDDOWN(NOW()-'Registry Full'!D991,0),S991-D991))","v":""},{"$nulls":5},""]
["",null,null,"00:00:00",{"$nulls":15},{"$f":"IF(OR(D992=0,P992=Presets!$C$67),\"\",IF(S992=0,ROUNDDOWN(NOW()-'Registry Full'!D992,0),S992-D992))","v":""},{"$nulls":5},""]
["",null,null,"00:00:00",{"$nulls":15},{"$f":"IF(OR(D993=0,P993=Presets!$C$67),\"\",IF(S993=0,ROUNDDOWN(NOW()-'Registry Full'!D993,0),S993-D993))","v":""},{"$nulls":5},""]
["",null,null,"00:00:00",{"$nulls":15},{"$f":"IF(OR(D994=0,P994=Presets!$C$67),\"\",IF(S994=0,ROUNDDOWN(NOW()-'Registry Full'!D994,0),S994-D994))","v":""},{"$nulls":5},""]
["",null,null,"00:00:00",{"$nulls":15},{"$f":"IF(OR(D995=0,P995=Presets!$C$67),\"\",IF(S995=0,ROUNDDOWN(NOW()-'Registry Full'!D995,0),S995-D995))","v":""},{"$nulls":5},""]
["",null,null,"00:00:00",{"$nulls":15},{"$f":"IF(OR(D996=0,P996=Presets!$C$67),\"\",IF(S996=0,ROUNDDOWN(NOW()-'Registry Full'!D996,0),S996-D996))","v":""},{"$nulls":5},""]
["",null,null,"00:00:00",{"$nulls":15},{"$f":"IF(OR(D997=0,P997=Presets!$C$67),\"\",IF(S997=0,ROUNDDOWN(NOW()-'Registry Full'!D997,0),S997-D997))","v":""},{"$nulls":5},""]
["",null,null,"00:00:00",{"$nulls":15},{"$f":"IF(OR(D998=0,P998=Presets!$C$67),\"\",IF(S998=0,ROUNDDOWN(NOW()-'Registry Full'!D998,0),S998-D998))","v":""},{"$nulls":5},""]
["",null,null,"00:00:00",{"$nulls":15},{"$f":"IF(OR(D999=0,P999=Presets!$C$67),\"\",IF(S999=0,ROUNDDOWN(NOW()-'Registry Full'!D999,0),S999-D999))","v":""},{"$nulls":5},""]
["",null,null,"00:00:00",{"$nulls":15},{"$f":"IF(OR(D1000=0,P1000=Presets!$C$67),\"\",IF(S1000=0,ROUNDDOWN(NOW()-'Registry Full'!D1000,0),S1000-D1000))","v":""},{"$nulls":5},""]
["",null,null,"00:00:00",{"$nulls":15},{"$f":"IF(OR(D1001=0,P1001=Presets!$C$67),\"\",IF(S1001=0,ROUNDDOWN(NOW()-'Registry Full'!D1001,0),S1001-D1001))","v":""},{"$nulls":5},""]
["",null,null,"00:00:00",{"$nulls":15},{"$f":"IF(OR(D1002=0,P1002=Presets!$C$67),\"\",IF(S1002=0,ROUNDDOWN(NOW()-'Registry Full'!D1002,0),S1002-D1002))","v":""},{"$nulls":5},""]
["",null,null,"00:00:00",{"$nulls":15},{"$f":"IF(OR(D1003=0,P1003=Presets!$C$67),\"\",IF(S1003=0,ROUNDDOWN(NOW()-'Registry Full'!D1003,0),S1003-D1003))","v":""},{"$nulls":5},""]
["",null,null,"00:00:00",{"$nulls":15},{"$f":"IF(OR(D1004=0,P1004=Presets!$C$67),\"\",IF(S1004=0,ROUNDDOWN(NOW()-'Registry Full'!D1004,0),S1004-D1004))","v":""},{"$nulls":5},""]
["",null,null,"00:00:00",{"$nulls":15},{"$f":"IF(OR(D1005=0,P1005=Presets!$C$67),\"\",IF(S1005=0,ROUNDDOWN(NOW()-'Registry Full'!D1005,0),S1005-D1005))","v":""},{"$nulls":5},""]
["",null,null,"00:00:00",{"$nulls":15},{"$f":"IF(OR(D1006=0,P1006=Presets!$C$67),\"\",IF(S1006=0,ROUNDDOWN(NOW()-'Registry Full'!D1006,0),S1006-D1006))","v":""},{"$nulls":5},""]
["",null,null,"00:00:00",{"$nulls":15},{"$f":"IF(OR(D1007=0,P1007=Presets!$C$67),\"\",IF(S1007=0,ROUNDDOWN(NOW()-'Registry Full'!D1007,0),S1007-D1007))","v":""},{"$nulls":5},""]
["",null,null,"00:00:00",{"$nulls":15},{"$f":"IF(OR(D1008=0,P1008=Presets!$C$67),\"\",IF(S1008=0,ROUNDDOWN(NOW()-'Registry Full'!D1008,0),S1008-D1008))","v":""},{"$nulls":5},""]
["",null,null,"00:00:00",{"$nulls":15},{"$f":"IF(OR(D1009=0,P1009=Presets!$C$67),\"\",IF(S1009=0,ROUNDDOWN(NOW()-'Registry Full'!D1009,0),S1009-D1009))","v":""},{"$nulls":5},""]
["",null,null,"00:00:00",{"$nulls":15},{"$f":"IF(OR(D1010=0,P1010=Presets!$C$67),\"\",IF(S1010=0,ROUNDDOWN(NOW()-'Registry Full'!D1010,0),S1010-D1010))","v":""},{"$nulls":5},""]
["",null,null,"00:00:00",{"$nulls":15},{"$f":"IF(OR(D1011=0,P1011=Presets!$C$67),\"\",IF(S1011=0,ROUNDDOWN(NOW()-'Registry Full'!D1011,0),S1011-D1011))","v":""},{"$nulls":5},""]
["",null,null,"00:00:00",{"$nulls":15},{"$f":"IF(OR(D1012=0,P1012=Presets!$C$67),\"\",IF(S1012=0,ROUNDDOWN(NOW()-'Registry Full'!D1012,0),S1012-D1012))","v":""},{"$nulls":5},""]
["",null,null,"00:00:00",{"$nulls":15},{"$f":"IF(OR(D1013=0,P1013=Presets!$C$67),\"\",IF(S1013=0,ROUNDDOWN(NOW()-'Registry Full'!D1013,0),S1013-D1013))","v":""},{"$nulls":5},""]
["",null,null,"00:00:00",{"$nulls":15},{"$f":"IF(OR(D1014=0,P1014=Presets!$C$67),\"\",IF(S1014=0,ROUNDDOWN(NOW()-'Registry Full'!D1014,0),S1014-D1014))","v":""},{"$nulls":5},""]
["",null,null,"00:00:00",{"$nulls":15},{"$f":"IF(OR(D1015=0,P1015=Presets!$C$67),\"\",IF(S1015=0,ROUNDDOWN(NOW()-'Registry Full'!D1015,0),S1015-D1015))","v":""},{"$nulls":5},""]
["",null,null,"00:00:00",{"$nulls":15},{"$f":"IF(OR(D1016=0,P1016=Presets!$C$67),\"\",IF(S1016=0,ROUNDDOWN(NOW()-'Registry Full'!D1016,0),S1016-D1016))","v":""},{"$nulls":5},""]
["",null,null,"00:00:00",{"$nulls":15},{"$f":"IF(OR(D1017=0,P1017=Presets!$C$67),\"\",IF(S1017=0,ROUNDDOWN(NOW()-'Registry Full'!D1017,0),S1017-D1017))","v":""},{"$nulls":5},""]
["",null,null,"00:00:00",{"$nulls":15},{"$f":"IF(OR(D1018=0,P1018=Presets!$C$67),\"\",IF(S1018=0,ROUNDDOWN(NOW()-'Registry Full'!D1018,0),S1018-D1018))","v":""},{"$nulls":5},""]
["",null,null,"00:00:00",{"$nulls":15},{"$f":"IF(OR(D1019=0,P1019=Presets!$C$67),\"\",IF(S1019=0,ROUNDDOWN(NOW()-'Registry Full'!D1019,0),S1019-D1019))","v":""},{"$nulls":5},""]
["",null,null,"00:00:00",{"$nulls":15},{"$f":"IF(OR(D1020=0,P1020=Presets!$C$67),\"\",IF(S1020=0,ROUNDDOWN(NOW()-'Registry Full'!D1020,0),S1020-D1020))","v":""},{"$nulls":5},""]
["",null,null,"00:00:00",{"$nulls":15},{"$f":"IF(OR(D1021=0,P1021=Presets!$C$67),\"\",IF(S1021=0,ROUNDDOWN(NOW()-'Registry Full'!D1021,0),S1021-D1021))","v":""},{"$nulls":5},""]
["",null,null,"00:00:00",{"$nulls":15},{"$f":"IF(OR(D1022=0,P1022=Presets!$C$67),\"\",IF(S1022=0,ROUNDDOWN(NOW()-'Registry Full'!D1022,0),S1022-D1022))","v":""},{"$nulls":5},""]
["",null,null,"00:00:00",{"$nulls":15},{"$f":"IF(OR(D1023=0,P1023=Presets!$C$67),\"\",IF(S1023=0,ROUNDDOWN(NOW()-'Registry Full'!D1023,0),S1023-D1023))","v":""},{"$nulls":5},""]
["",null,null,"00:00:00",{"$nulls":15},{"$f":"IF(OR(D1024=0,P1024=Presets!$C$67),\"\",IF(S1024=0,ROUNDDOWN(NOW()-'Registry Full'!D1024,0),S1024-D1024))","v":""},{"$nulls":5},""]
["",null,null,"00:00:00",{"$nulls":15},{"$f":"IF(OR(D1025=0,P1025=Presets!$C$67),\"\",IF(S1025=0,ROUNDDOWN(NOW()-'Registry Full'!D1025,0),S1025-D1025))","v":""},{"$nulls":5},""]
["",null,null,"00:00:00",{"$nulls":15},{"$f":"IF(OR(D1026=0,P1026=Presets!$C$67),\"\",IF(S1026=0,ROUNDDOWN(NOW()-'Registry Full'!D1026,0),S1026-D1026))","v":""},{"$nulls":5},""]
["",null,null,"00:00:00",{"$nulls":15},{"$f":"IF(OR(D1027=0,P1027=Presets!$C$67),\"\",IF(S1027=0,ROUNDDOWN(NOW()-'Registry Full'!D1027,0),S1027-D1027))","v":""},{"$nulls":5},""]
["",null,null,"00:00:00",{"$nulls":15},{"$f":"IF(OR(D1028=0,P1028=Presets!$C$67),\"\",IF(S1028=0,ROUNDDOWN(NOW()-'Registry Full'!D1028,0),S1028-D1028))","v":""},{"$nulls":5},""]
["",null,null,"00:00:00",{"$nulls":15},{"$f":"IF(OR(D1029=0,P1029=Presets!$C$67),\"\",IF(S1029=0,ROUNDDOWN(NOW()-'Registry Full'!D1029,0),S1029-D1029))","v":""},{"$nulls":5},""]
["",null,null,{"$f":"IF(C1030=\"\",0,VALUE(RIGHT(C1030,LEN(C1030)-FIND(\"/\",C1030,LEN(C1030)-10))))","v":"00:00:00"},{"$nulls":15},{"$f":"IF(OR(D1030=0,P1030=Presets!$C$67),\"\",IF(S1030=0,ROUNDDOWN(NOW()-'Registry Full'!D1030,0),S1030-D1030))","v":""},{"$nulls":5},""]
["",null,null,"00:00:00",{"$nulls":15},{"$f":"IF(OR(D1031=0,P1031=Presets!$C$67),\"\",IF(S1031=0,ROUNDDOWN(NOW()-'Registry Full'!D1031,0),S1031-D1031))","v":""},{"$nulls":5},{"$f":"IF(OR(D1031=0,Y1031=0),\"\",Y1031-D1031)","v":""}]
["",null,null,"00:00:00",{"$nulls":15},{"$f":"IF(OR(D1032=0,P1032=Presets!$C$67),\"\",IF(S1032=0,ROUNDDOWN(NOW()-'Registry Full'!D1032,0),S1032-D1032))","v":""},{"$nulls":5},""]
["",null,null,"00:00:00",{"$nulls":15},{"$f":"IF(OR(D1033=0,P1033=Presets!$C$67),\"\",IF(S1033=0,ROUNDDOWN(NOW()-'Registry Full'!D1033,0),S1033-D1033))","v":""},{"$nulls":5},""]
["",null,null,"00:00:00",{"$nulls":15},{"$f":"IF(OR(D1034=0,P1034=Presets!$C$67),\"\",IF(S1034=0,ROUNDDOWN(NOW()-'Registry Full'!D1034,0),S1034-D1034))","v":""},{"$nulls":5},""]
["",null,null,"00:00:00",{"$nulls":15},{"$f":"IF(OR(D1035=0,P1035=Presets!$C$67),\"\",IF(S1035=0,ROUNDDOWN(NOW()-'Registry Full'!D1035,0),S1035-D1035))","v":""},{"$nulls":5},""]
["",null,null,"00:00:00",{"$nulls":15},{"$f":"IF(OR(D1036=0,P1036=Presets!$C$67),\"\",IF(S1036=0,ROUNDDOWN(NOW()-'Registry Full'!D1036,0),S1036-D1036))","v":""},{"$nulls":5},""]
["",null,null,"00:00:00",{"$nulls":15},{"$f":"IF(OR(D1037=0,P1037=Presets!$C$67),\"\",IF(S1037=0,ROUNDDOWN(NOW()-'Registry Full'!D1037,0),S1037-D1037))","v":""},{"$nulls":5},""]
["",null,null,"00:00:00",{"$nulls":15},{"$f":"IF(OR(D1038=0,P1038=Presets!$C$67),\"\",IF(S1038=0,ROUNDDOWN(NOW()-'Registry Full'!D1038,0),S1038-D1038))","v":""},{"$nulls":5},""]
["",null,null,"00:00:00",{"$nulls":15},{"$f":"IF(OR(D1039=0,P1039=Presets!$C$67),\"\",IF(S1039=0,ROUNDDOWN(NOW()-'Registry Full'!D1039,0),S1039-D1039))","v":""},{"$nulls":5},""]
["",null,null,"00:00:00",{"$nulls":15},{"$f":"IF(OR(D1040=0,P1040=Presets!$C$67),\"\",IF(S1040=0,ROUNDDOWN(NOW()-'Registry Full'!D1040,0),S1040-D1040))","v":""},{"$nulls":5},""]
["",null,null,"00:00:00",{"$nulls":15},{"$f":"IF(OR(D1041=0,P1041=Presets!$C$67),\"\",IF(S1041=0,ROUNDDOWN(NOW()-'Registry Full'!D1041,0),S1041-D1041))","v":""},{"$nulls":5},""]
["",null,null,"00:00:00",{"$nulls":15},{"$f":"IF(OR(D1042=0,P1042=Presets!$C$67),\"\",IF(S1042=0,ROUNDDOWN(NOW()-'Registry Full'!D1042,0),S1042-D1042))","v":""},{"$nulls":5},""]
["",null,null,"00:00:00",{"$nulls":15},{"$f":"IF(OR(D1043=0,P1043=Presets!$C$67),\"\",IF(S1043=0,ROUNDDOWN(NOW()-'Registry Full'!D1043,0),S1043-D1043))","v":""},{"$nulls":5},""]
["",null,null,"00:00:00",{"$nulls":15},{"$f":"IF(OR(D1044=0,P1044=Presets!$C$67),\"\",IF(S1044=0,ROUNDDOWN(NOW()-'Registry Full'!D1044,0),S1044-D1044))","v":""},{"$nulls":5},""]
["",null,null,"00:00:00",{"$nulls":15},{"$f":"IF(OR(D1045=0,P1045=Presets!$C$67),\"\",IF(S1045=0,ROUNDDOWN(NOW()-'Registry Full'!D1045,0),S1045-D1045))","v":""},{"$nulls":5},""]
["",null,null,"00:00:00",{"$nulls":15},{"$f":"IF(OR(D1046=0,P1046=Presets!$C$67),\"\",IF(S1046=0,ROUNDDOWN(NOW()-'Registry Full'!D1046,0),S1046-D1046))","v":""},{"$nulls":5},""]
[{"$f":"IF(COUNTA(B1047)<>0,A1046+1,\"\")","v":""},null,null,"00:00:00",{"$nulls":15},{"$f":"IF(OR(D1047=0,P1047=Presets!$C$67),\"\",IF(S1047=0,ROUNDDOWN(NOW()-'Registry Full'!D1047,0),S1047-D1047))","v":""},{"$nulls":5},""]
["",null,null,"00:00:00",{"$nulls":15},{"$f":"IF(OR(D1048=0,P1048=Presets!$C$67),\"\",IF(S1048=0,ROUNDDOWN(NOW()-'Registry Full'!D1048,0),S1048-D1048))","v":""},{"$nulls":5},""]
["",null,null,"00:00:00",{"$nulls":15},{"$f":"IF(OR(D1049=0,P1049=Presets!$C$67),\"\",IF(S1049=0,ROUNDDOWN(NOW()-'Registry Full'!D1049,0),S1049-D1049))","v":""},{"$nulls":5},""]
["",null,null,"00:00:00",{"$nulls":15},{"$f":"IF(OR(D1050=0,P1050=Presets!$C$67),\"\",IF(S1050=0,ROUNDDOWN(NOW()-'Registry Full'!D1050,0),S1050-D1050))","v":""},{"$nulls":5},""]
["",null,null,"00:00:00",{"$nulls":15},{"$f":"IF(OR(D1051=0,P1051=Presets!$C$67),\"\",IF(S1051=0,ROUNDDOWN(NOW()-'Registry Full'!D1051,0),S1051-D1051))","v":""},{"$nulls":5},""]
["",null,null,"00:00:00",{"$nulls":15},{"$f":"IF(OR(D1052=0,P1052=Presets!$C$67),\"\",IF(S1052=0,ROUNDDOWN(NOW()-'Registry Full'!D1052,0),S1052-D1052))","v":""},{"$nulls":5},""]
["",null,null,"00:00:00",{"$nulls":15},{"$f":"IF(OR(D1053=0,P1053=Presets!$C$67),\"\",IF(S1053=0,ROUNDDOWN(NOW()-'Registry Full'!D1053,0),S1053-D1053))","v":""},{"$nulls":5},""]
["",null,null,"00:00:00",{"$nulls":15},{"$f":"IF(OR(D1054=0,P1054=Presets!$C$67),\"\",IF(S1054=0,ROUNDDOWN(NOW()-'Registry Full'!D1054,0),S1054-D1054))","v":""},{"$nulls":5},""]
["",null,null,"00:00:00",{"$nulls":15},{"$f":"IF(OR(D1055=0,P1055=Presets!$C$67),\"\",IF(S1055=0,ROUNDDOWN(NOW()-'Registry Full'!D1055,0),S1055-D1055))","v":""},{"$nulls":5},""]
["",null,null,"00:00:00",{"$nulls":15},{"$f":"IF(OR(D1056=0,P1056=Presets!$C$67),\"\",IF(S1056=0,ROUNDDOWN(NOW()-'Registry Full'!D1056,0),S1056-D1056))","v":""},{"$nulls":5},""]
["",null,null,"00:00:00",{"$nulls":15},{"$f":"IF(OR(D1057=0,P1057=Presets!$C$67),\"\",IF(S1057=0,ROUNDDOWN(NOW()-'Registry Full'!D1057,0),S1057-D1057))","v":""},{"$nulls":5},""]
["",null,null,"00:00:00",{"$nulls":15},{"$f":"IF(OR(D1058=0,P1058=Presets!$C$67),\"\",IF(S1058=0,ROUNDDOWN(NOW()-'Registry Full'!D1058,0),S1058-D1058))","v":""},{"$nulls":5},""]
["",null,null,"00:00:00",{"$nulls":15},{"$f":"IF(OR(D1059=0,P1059=Presets!$C$67),\"\",IF(S1059=0,ROUNDDOWN(NOW()-'Registry Full'!D1059,0),S1059-D1059))","v":""},{"$nulls":5},""]
["",null,null,"00:00:00",{"$nulls":15},{"$f":"IF(OR(D1060=0,P1060=Presets!$C$67),\"\",IF(S1060=0,ROUNDDOWN(NOW()-'Registry Full'!D1060,0),S1060-D1060))","v":""},{"$nulls":5},""]
["",null,null,"00:00:00",{"$nulls":15},{"$f":"IF(OR(D1061=0,P1061=Presets!$C$67),\"\",IF(S1061=0,ROUNDDOWN(NOW()-'Registry Full'!D1061,0),S1061-D1061))","v":""},{"$nulls":5},""]
["",null,null,"00:00:00",{"$nulls":15},{"$f":"IF(OR(D1062=0,P1062=Presets!$C$67),\"\",IF(S1062=0,ROUNDDOWN(NOW()-'Registry Full'!D1062,0),S1062-D1062))","v":""},{"$nulls":5},""]
["",null,null,"00:00:00",{"$nulls":15},{"$f":"IF(OR(D1063=0,P1063=Presets!$C$67),\"\",IF(S1063=0,ROUNDDOWN(NOW()-'Registry Full'!D1063,0),S1063-D1063))","v":""},{"$nulls":5},""]
["",null,null,"00:00:00",{"$nulls":15},{"$f":"IF(OR(D1064=0,P1064=Presets!$C$67),\"\",IF(S1064=0,ROUNDDOWN(NOW()-'Registry Full'!D1064,0),S1064-D1064))","v":""},{"$nulls":5},""]
["",null,null,"00:00:00",{"$nulls":15},{"$f":"IF(OR(D1065=0,P1065=Presets!$C$67),\"\",IF(S1065=0,ROUNDDOWN(NOW()-'Registry Full'!D1065,0),S1065-D1065))","v":""},{"$nulls":5},""]
["",null,null,"00:00:00",{"$nulls":15},{"$f":"IF(OR(D1066=0,P1066=Presets!$C$67),\"\",IF(S1066=0,ROUNDDOWN(NOW()-'Registry Full'!D1066,0),S1066-D1066))","v":""},{"$nulls":5},""]
["",null,null,"00:00:00",{"$nulls":15},{"$f":"IF(OR(D1067=0,P1067=Presets!$C$67),\"\",IF(S1067=0,ROUNDDOWN(NOW()-'Registry Full'!D1067,0),S1067-D1067))","v":""},{"$nulls":5},""]
["",null,null,"00:00:00",{"$nulls":15},{"$f":"IF(OR(D1068=0,P1068=Presets!$C$67),\"\",IF(S1068=0,ROUNDDOWN(NOW()-'Registry Full'!D1068,0),S1068-D1068))","v":""},{"$nulls":5},""]
["",null,null,"00:00:00",{"$nulls":15},{"$f":"IF(OR(D1069=0,P1069=Presets!$C$67),\"\",IF(S1069=0,ROUNDDOWN(NOW()-'Registry Full'!D1069,0),S1069-D1069))","v":""},{"$nulls":5},""]
["",null,null,"00:00:00",{"$nulls":15},{"$f":"IF(OR(D1070=0,P1070=Presets!$C$67),\"\",IF(S1070=0,ROUNDDOWN(NOW()-'Registry Full'!D1070,0),S1070-D1070))","v":""},{"$nulls":5},""]
["",null,null,"00:00:00",{"$nulls":15},{"$f":"IF(OR(D1071=0,P1071=Presets!$C$67),\"\",IF(S1071=0,ROUNDDOWN(NOW()-'Registry Full'!D1071,0),S1071-D1071))","v":""},{"$nulls":5},""]
["",null,null,"00:00:00",{"$nulls":15},{"$f":"IF(OR(D1072=0,P1072=Presets!$C$67),\"\",IF(S1072=0,ROUNDDOWN(NOW()-'Registry Full'!D1072,0),S1072-D1072))","v":""},{"$nulls":5},""]
["",null,null,"00:00:00",{"$nulls":15},{"$f":"IF(OR(D1073=0,P1073=Presets!$C$67),\"\",IF(S1073=0,ROUNDDOWN(NOW()-'Registry Full'!D1073,0),S1073-D1073))","v":""},{"$nulls":5},""]
["",null,null,"00:00:00",{"$nulls":15},{"$f":"IF(OR(D1074=0,P1074=Presets!$C$67),\"\",IF(S1074=0,ROUNDDOWN(NOW()-'Registry Full'!D1074,0),S1074-D1074))","v":""},{"$nulls":5},""]
["",null,null,"00:00:00",{"$nulls":15},{"$f":"IF(OR(D1075=0,P1075=Presets!$C$67),\"\",IF(S1075=0,ROUNDDOWN(NOW()-'Registry Full'!D1075,0),S1075-D1075))","v":""},{"$nulls":5},""]
["",null,null,"00:00:00",{"$nulls":15},{"$f":"IF(OR(D1076=0,P1076=Presets!$C$67),\"\",IF(S1076=0,ROUNDDOWN(NOW()-'Registry Full'!D1076,0),S1076-D1076))","v":""},{"$nulls":5},""]
["",null,null,"00:00:00",{"$nulls":15},{"$f":"IF(OR(D1077=0,P1077=Presets!$C$67),\"\",IF(S1077=0,ROUNDDOWN(NOW()-'Registry Full'!D1077,0),S1077-D1077))","v":""},{"$nulls":5},""]
["",null,null,"00:00:00",{"$nulls":15},{"$f":"IF(OR(D1078=0,P1078=Presets!$C$67),\"\",IF(S1078=0,ROUNDDOWN(NOW()-'Registry Full'!D1078,0),S1078-D1078))","v":""},{"$nulls":5},""]
["",null,null,"00:00:00",{"$nulls":15},{"$f":"IF(OR(D1079=0,P1079=Presets!$C$67),\"\",IF(S1079=0,ROUNDDOWN(NOW()-'Registry Full'!D1079,0),S1079-D1079))","v":""},{"$nulls":5},""]
["",null,null,"00:00:00",{"$nulls":15},{"$f":"IF(OR(D1080=0,P1080=Presets!$C$67),\"\",IF(S1080=0,ROUNDDOWN(NOW()-'Registry Full'!D1080,0),S1080-D1080))","v":""},{"$nulls":5},""]
["",null,null,"00:00:00",{"$nulls":15},{"$f":"IF(OR(D1081=0,P1081=Presets!$C$67),\"\",IF(S1081=0,ROUNDDOWN(NOW()-'Registry Full'!D1081,0),S1081-D1081))","v":""},{"$nulls":5},""]
["",null,null,"00:00:00",{"$nulls":15},{"$f":"IF(OR(D1082=0,P1082=Presets!$C$67),\"\",IF(S1082=0,ROUNDDOWN(NOW()-'Registry Full'!D1082,0),S1082-D1082))","v":""},{"$nulls":5},""]
["",null,null,"00:00:00",{"$nulls":15},{"$f":"IF(OR(D1083=0,P1083=Presets!$C$67),\"\",IF(S1083=0,ROUNDDOWN(NOW()-'Registry Full'!D1083,0),S1083-D1083))","v":""},{"$nulls":5},""]
["",null,null,"00:00:00",{"$nulls":15},{"$f":"IF(OR(D1084=0,P1084=Presets!$C$67),\"\",IF(S1084=0,ROUNDDOWN(NOW()-'Registry Full'!D1084,0),S1084-D1084))","v":""},{"$nulls":5},""]
["",null,null,"00:00:00",{"$nulls":15},{"$f":"IF(OR(D1085=0,P1085=Presets!$C$67),\"\",IF(S1085=0,ROUNDDOWN(NOW()-'Registry Full'!D1085,0),S1085-D1085))","v":""},{"$nulls":5},""]
["",null,null,"00:00:00",{"$nulls":15},{"$f":"IF(OR(D1086=0,P1086=Presets!$C$67),\"\",IF(S1086=0,ROUNDDOWN(NOW()-'Registry Full'!D1086,0),S1086-D1086))","v":""},{"$nulls":5},""]
["",null,null,"00:00:00",{"$nulls":15},{"$f":"IF(OR(D1087=0,P1087=Presets!$C$67),\"\",IF(S1087=0,ROUNDDOWN(NOW()-'Registry Full'!D1087,0),S1087-D1087))","v":""},{"$nulls":5},""]
["",null,null,"00:00:00",{"$nulls":15},{"$f":"IF(OR(D1088=0,P1088=Presets!$C$67),\"\",IF(S1088=0,ROUNDDOWN(NOW()-'Registry Full'!D1088,0),S1088-D1088))","v":""},{"$nulls":5},""]
["",null,null,"00:00:00",{"$nulls":15},{"$f":"IF(OR(D1089=0,P1089=Presets!$C$67),\"\",IF(S1089=0,ROUNDDOWN(NOW()-'Registry Full'!D1089,0),S1089-D1089))","v":""},{"$nulls":5},""]
["",null,null,"00:00:00",{"$nulls":15},{"$f":"IF(OR(D1090=0,P1090=Presets!$C$67),\"\",IF(S1090=0,ROUNDDOWN(NOW()-'Registry Full'!D1090,0),S1090-D1090))","v":""},{"$nulls":5},""]
["",null,null,"00:00:00",{"$nulls":15},{"$f":"IF(OR(D1091=0,P1091=Presets!$C$67),\"\",IF(S1091=0,ROUNDDOWN(NOW()-'Registry Full'!D1091,0),S1091-D1091))","v":""},{"$nulls":5},""]
["",null,null,"00:00:00",{"$nulls":15},{"$f":"IF(OR(D1092=0,P1092=Presets!$C$67),\"\",IF(S1092=0,ROUNDDOWN(NOW()-'Registry Full'!D1092,0),S1092-D1092))","v":""},{"$nulls":5},""]
["",null,null,"00:00:00",{"$nulls":15},{"$f":"IF(OR(D1093=0,P1093=Presets!$C$67),\"\",IF(S1093=0,ROUNDDOWN(NOW()-'Registry Full'!D1093,0),S1093-D1093))","v":""},{"$nulls":5},""]
["",null,null,{"$f":"IF(C1094=\"\",0,VALUE(RIGHT(C1094,LEN(C1094)-FIND(\"/\",C1094,LEN(C1094)-10))))","v":"00:00:00"},{"$nulls":15},{"$f":"IF(OR(D1094=0,P1094=Presets!$C$67),\"\",IF(S1094=0,ROUNDDOWN(NOW()-'Registry Full'!D1094,0),S1094-D1094))","v":""},{"$nulls":5},""]
["",null,null,"00:00:00",{"$nulls":15},{"$f":"IF(OR(D1095=0,P1095=Presets!$C$67),\"\",IF(S1095=0,ROUNDDOWN(NOW()-'Registry Full'!D1095,0),S1095-D1095))","v":""},{"$nulls":5},{"$f":"IF(OR(D1095=0,Y1095=0),\"\",Y1095-D1095)","v":""}]
["",null,null,"00:00:00",{"$nulls":15},{"$f":"IF(OR(D1096=0,P1096=Presets!$C$67),\"\",IF(S1096=0,ROUNDDOWN(NOW()-'Registry Full'!D1096,0),S1096-D1096))","v":""},{"$nulls":5},""]
["",null,null,"00:00:00",{"$nulls":15},{"$f":"IF(OR(D1097=0,P1097=Presets!$C$67),\"\",IF(S1097=0,ROUNDDOWN(NOW()-'Registry Full'!D1097,0),S1097-D1097))","v":""},{"$nulls":5},""]
["",null,null,"00:00:00",{"$nulls":15},{"$f":"IF(OR(D1098=0,P1098=Presets!$C$67),\"\",IF(S1098=0,ROUNDDOWN(NOW()-'Registry Full'!D1098,0),S1098-D1098))","v":""},{"$nulls":5},""]
["",null,null,"00:00:00",{"$nulls":15},{"$f":"IF(OR(D1099=0,P1099=Presets!$C$67),\"\",IF(S1099=0,ROUNDDOWN(NOW()-'Registry Full'!D1099,0),S1099-D1099))","v":""},{"$nulls":5},""]
["",null,null,"00:00:00",{"$nulls":15},{"$f":"IF(OR(D1100=0,P1100=Presets!$C$67),\"\",IF(S1100=0,ROUNDDOWN(NOW()-'Registry Full'!D1100,0),S1100-D1100))","v":""},{"$nulls":5},""]
["",null,null,"00:00:00",{"$nulls":15},{"$f":"IF(OR(D1101=0,P1101=Presets!$C$67),\"\",IF(S1101=0,ROUNDDOWN(NOW()-'Registry Full'!D1101,0),S1101-D1101))","v":""},{"$nulls":5},""]
["",null,null,"00:00:00",{"$nulls":15},{"$f":"IF(OR(D1102=0,P1102=Presets!$C$67),\"\",IF(S1102=0,ROUNDDOWN(NOW()-'Registry Full'!D1102,0),S1102-D1102))","v":""},{"$nulls":5},""]
["",null,null,"00:00:00",{"$nulls":15},{"$f":"IF(OR(D1103=0,P1103=Presets!$C$67),\"\",IF(S1103=0,ROUNDDOWN(NOW()-'Registry Full'!D1103,0),S1103-D1103))","v":""},{"$nulls":5},""]
["",null,null,"00:00:00",{"$nulls":15},{"$f":"IF(OR(D1104=0,P1104=Presets!$C$67),\"\",IF(S1104=0,ROUNDDOWN(NOW()-'Registry Full'!D1104,0),S1104-D1104))","v":""},{"$nulls":5},""]
["",null,null,"00:00:00",{"$nulls":15},{"$f":"IF(OR(D1105=0,P1105=Presets!$C$67),\"\",IF(S1105=0,ROUNDDOWN(NOW()-'Registry Full'!D1105,0),S1105-D1105))","v":""},{"$nulls":5},""]
["",null,null,"00:00:00",{"$nulls":15},{"$f":"IF(OR(D1106=0,P1106=Presets!$C$67),\"\",IF(S1106=0,ROUNDDOWN(NOW()-'Registry Full'!D1106,0),S1106-D1106))","v":""},{"$nulls":5},""]
["",null,null,"00:00:00",{"$nulls":15},{"$f":"IF(OR(D1107=0,P1107=Presets!$C$67),\"\",IF(S1107=0,ROUNDDOWN(NOW()-'Registry Full'!D1107,0),S1107-D1107))","v":""},{"$nulls":5},""]
["",null,null,"00:00:00",{"$nulls":15},{"$f":"IF(OR(D1108=0,P1108=Presets!$C$67),\"\",IF(S1108=0,ROUNDDOWN(NOW()-'Registry Full'!D1108,0),S1108-D1108))","v":""},{"$nulls":5},""]
["",null,null,"00:00:00",{"$nulls":15},{"$f":"IF(OR(D1109=0,P1109=Presets!$C$67),\"\",IF(S1109=0,ROUNDDOWN(NOW()-'Registry Full'!D1109,0),S1109-D1109))","v":""},{"$nulls":5},""]
["",null,null,"00:00:00",{"$nulls":15},{"$f":"IF(OR(D1110=0,P1110=Presets!$C$67),\"\",IF(S1110=0,ROUNDDOWN(NOW()-'Registry Full'!D1110,0),S1110-D1110))","v":""},{"$nulls":5},""]
[{"$f":"IF(COUNTA(B1111)<>0,A1110+1,\"\")","v":""},null,null,"00:00:00",{"$nulls":15},{"$f":"IF(OR(D1111=0,P1111=Presets!$C$67),\"\",IF(S1111=0,ROUNDDOWN(NOW()-'Registry Full'!D1111,0),S1111-D1111))","v":""},{"$nulls":5},""]
["",null,null,"00:00:00",{"$nulls":15},{"$f":"IF(OR(D1112=0,P1112=Presets!$C$67),\"\",IF(S1112=0,ROUNDDOWN(NOW()-'Registry Full'!D1112,0),S1112-D1112))","v":""},{"$nulls":5},""]
["",null,null,"00:00:00",{"$nulls":15},{"$f":"IF(OR(D1113=0,P1113=Presets!$C$67),\"\",IF(S1113=0,ROUNDDOWN(NOW()-'Registry Full'!D1113,0),S1113-D1113))","v":""},{"$nulls":5},""]
["",null,null,"00:00:00",{"$nulls":15},{"$f":"IF(OR(D1114=0,P1114=Presets!$C$67),\"\",IF(S1114=0,ROUNDDOWN(NOW()-'Registry Full'!D1114,0),S1114-D1114))","v":""},{"$nulls":5},""]
["",null,null,"00:00:00",{"$nulls":15},{"$f":"IF(OR(D1115=0,P1115=Presets!$C$67),\"\",IF(S1115=0,ROUNDDOWN(NOW()-'Registry Full'!D1115,0),S1115-D1115))","v":""},{"$nulls":5},""]
["",null,null,"00:00:00",{"$nulls":15},{"$f":"IF(OR(D1116=0,P1116=Presets!$C$67),\"\",IF(S1116=0,ROUNDDOWN(NOW()-'Registry Full'!D1116,0),S1116-D1116))","v":""},{"$nulls":5},""]
["",null,null,"00:00:00",{"$nulls":15},{"$f":"IF(OR(D1117=0,P1117=Presets!$C$67),\"\",IF(S1117=0,ROUNDDOWN(NOW()-'Registry Full'!D1117,0),S1117-D1117))","v":""},{"$nulls":5},""]
["",null,null,"00:00:00",{"$nulls":15},{"$f":"IF(OR(D1118=0,P1118=Presets!$C$67),\"\",IF(S1118=0,ROUNDDOWN(NOW()-'Registry Full'!D1118,0),S1118-D1118))","v":""},{"$nulls":5},""]
["",null,null,"00:00:00",{"$nulls":15},{"$f":"IF(OR(D1119=0,P1119=Presets!$C$67),\"\",IF(S1119=0,ROUNDDOWN(NOW()-'Registry Full'!D1119,0),S1119-D1119))","v":""},{"$nulls":5},""]
["",null,null,"00:00:00",{"$nulls":15},{"$f":"IF(OR(D1120=0,P1120=Presets!$C$67),\"\",IF(S1120=0,ROUNDDOWN(NOW()-'Registry Full'!D1120,0),S1120-D1120))","v":""},{"$nulls":5},""]
["",null,null,"00:00:00",{"$nulls":15},{"$f":"IF(OR(D1121=0,P1121=Presets!$C$67),\"\",IF(S1121=0,ROUNDDOWN(NOW()-'Registry Full'!D1121,0),S1121-D1121))","v":""},{"$nulls":5},""]
["",null,null,"00:00:00",{"$nulls":15},{"$f":"IF(OR(D1122=0,P1122=Presets!$C$67),\"\",IF(S1122=0,ROUNDDOWN(NOW()-'Registry Full'!D1122,0),S1122-D1122))","v":""},{"$nulls":5},""]
["",null,null,"00:00:00",{"$nulls":15},{"$f":"IF(OR(D1123=0,P1123=Presets!$C$67),\"\",IF(S1123=0,ROUNDDOWN(NOW()-'Registry Full'!D1123,0),S1123-D1123))","v":""},{"$nulls":5},""]
["",null,null,"00:00:00",{"$nulls":15},{"$f":"IF(OR(D1124=0,P1124=Presets!$C$67),\"\",IF(S1124=0,ROUNDDOWN(NOW()-'Registry Full'!D1124,0),S1124-D1124))","v":""},{"$nulls":5},""]
["",null,null,"00:00:00",{"$nulls":15},{"$f":"IF(OR(D1125=0,P1125=Presets!$C$67),\"\",IF(S1125=0,ROUNDDOWN(NOW()-'Registry Full'!D1125,0),S1125-D1125))","v":""},{"$nulls":5},""]
["",null,null,"00:00:00",{"$nulls":15},{"$f":"IF(OR(D1126=0,P1126=Presets!$C$67),\"\",IF(S1126=0,ROUNDDOWN(NOW()-'Registry Full'!D1126,0),S1126-D1126))","v":""},{"$nulls":5},""]
["",null,null,"00:00:00",{"$nulls":15},{"$f":"IF(OR(D1127=0,P1127=Presets!$C$67),\"\",IF(S1127=0,ROUNDDOWN(NOW()-'Registry Full'!D1127,0),S1127-D1127))","v":""},{"$nulls":5},""]
["",null,null,"00:00:00",{"$nulls":15},{"$f":"IF(OR(D1128=0,P1128=Presets!$C$67),\"\",IF(S1128=0,ROUNDDOWN(NOW()-'Registry Full'!D1128,0),S1128-D1128))","v":""},{"$nulls":5},""]
["",null,null,"00:00:00",{"$nulls":15},{"$f":"IF(OR(D1129=0,P1129=Presets!$C$67),\"\",IF(S1129=0,ROUNDDOWN(NOW()-'Registry Full'!D1129,0),S1129-D1129))","v":""},{"$nulls":5},""]
["",null,null,"00:00:00",{"$nulls":15},{"$f":"IF(OR(D1130=0,P1130=Presets!$C$67),\"\",IF(S1130=0,ROUNDDOWN(NOW()-'Registry Full'!D1130,0),S1130-D1130))","v":""},{"$nulls":5},""]
["",null,null,"00:00:00",{"$nulls":15},{"$f":"IF(OR(D1131=0,P1131=Presets!$C$67),\"\",IF(S1131=0,ROUNDDOWN(NOW()-'Registry Full'!D1131,0),S1131-D1131))","v":""},{"$nulls":5},""]
["",null,null,"00:00:00",{"$nulls":15},{"$f":"IF(OR(D1132=0,P1132=Presets!$C$67),\"\",IF(S1132=0,ROUNDDOWN(NOW()-'Registry Full'!D1132,0),S1132-D1132))","v":""},{"$nulls":5},""]
["",null,null,"00:00:00",{"$nulls":15},{"$f":"IF(OR(D1133=0,P1133=Presets!$C$67),\"\",IF(S1133=0,ROUNDDOWN(NOW()-'Registry Full'!D1133,0),S1133-D1133))","v":""},{"$nulls":5},""]
["",null,null,"00:00:00",{"$nulls":15},{"$f":"IF(OR(D1134=0,P1134=Presets!$C$67),\"\",IF(S1134=0,ROUNDDOWN(NOW()-'Registry Full'!D1134,0),S1134-D1134))","v":""},{"$nulls":5},""]
["",null,null,"00:00:00",{"$nulls":15},{"$f":"IF(OR(D1135=0,P1135=Presets!$C$67),\"\",IF(S1135=0,ROUNDDOWN(NOW()-'Registry Full'!D1135,0),S1135-D1135))","v":""},{"$nulls":5},""]
["",null,null,"00:00:00",{"$nulls":15},{"$f":"IF(OR(D1136=0,P1136=Presets!$C$67),\"\",IF(S1136=0,ROUNDDOWN(NOW()-'Registry Full'!D1136,0),S1136-D1136))","v":""},{"$nulls":5},""]
["",null,null,"00:00:00",{"$nulls":15},{"$f":"IF(OR(D1137=0,P1137=Presets!$C$67),\"\",IF(S1137=0,ROUNDDOWN(NOW()-'Registry Full'!D1137,0),S1137-D1137))","v":""},{"$nulls":5},""]
["",null,null,"00:00:00",{"$nulls":15},{"$f":"IF(OR(D1138=0,P1138=Presets!$C$67),\"\",IF(S1138=0,ROUNDDOWN(NOW()-'Registry Full'!D1138,0),S1138-D1138))","v":""},{"$nulls":5},""]
["",null,null,"00:00:00",{"$nulls":15},{"$f":"IF(OR(D1139=0,P1139=Presets!$C$67),\"\",IF(S1139=0,ROUNDDOWN(NOW()-'Registry Full'!D1139,0),S1139-D1139))","v":""},{"$nulls":5},""]
["",null,null,"00:00:00",{"$nulls":15},{"$f":"IF(OR(D1140=0,P1140=Presets!$C$67),\"\",IF(S1140=0,ROUNDDOWN(NOW()-'Registry Full'!D1140,0),S1140-D1140))","v":""},{"$nulls":5},""]
["",null,null,"00:00:00",{"$nulls":15},{"$f":"IF(OR(D1141=0,P1141=Presets!$C$67),\"\",IF(S1141=0,ROUNDDOWN(NOW()-'Registry Full'!D1141,0),S1141-D1141))","v":""},{"$nulls":5},""]
["",null,null,"00:00:00",{"$nulls":15},{"$f":"IF(OR(D1142=0,P1142=Presets!$C$67),\"\",IF(S1142=0,ROUNDDOWN(NOW()-'Registry Full'!D1142,0),S1142-D1142))","v":""},{"$nulls":5},""]
["",null,null,"00:00:00",{"$nulls":15},{"$f":"IF(OR(D1143=0,P1143=Presets!$C$67),\"\",IF(S1143=0,ROUNDDOWN(NOW()-'Registry Full'!D1143,0),S1143-D1143))","v":""},{"$nulls":5},""]
["",null,null,"00:00:00",{"$nulls":15},{"$f":"IF(OR(D1144=0,P1144=Presets!$C$67),\"\",IF(S1144=0,ROUNDDOWN(NOW()-'Registry Full'!D1144,0),S1144-D1144))","v":""},{"$nulls":5},""]
["",null,null,"00:00:00",{"$nulls":15},{"$f":"IF(OR(D1145=0,P1145=Presets!$C$67),\"\",IF(S1145=0,ROUNDDOWN(NOW()-'Registry Full'!D1145,0),S1145-D1145))","v":""},{"$nulls":5},""]
["",null,null,"00:00:00",{"$nulls":15},{"$f":"IF(OR(D1146=0,P1146=Presets!$C$67),\"\",IF(S1146=0,ROUNDDOWN(NOW()-'Registry Full'!D1146,0),S1146-D1146))","v":""},{"$nulls":5},""]
["",null,null,"00:00:00",{"$nulls":15},{"$f":"IF(OR(D1147=0,P1147=Presets!$C$67),\"\",IF(S1147=0,ROUNDDOWN(NOW()-'Registry Full'!D1147,0),S1147-D1147))","v":""},{"$nulls":5},""]
["",null,null,"00:00:00",{"$nulls":15},{"$f":"IF(OR(D1148=0,P1148=Presets!$C$67),\"\",IF(S1148=0,ROUNDDOWN(NOW()-'Registry Full'!D1148,0),S1148-D1148))","v":""},{"$nulls":5},""]
["",null,null,"00:00:00",{"$nulls":15},{"$f":"IF(OR(D1149=0,P1149=Presets!$C$67),\"\",IF(S1149=0,ROUNDDOWN(NOW()-'Registry Full'!D1149,0),S1149-D1149))","v":""},{"$nulls":5},""]
["",null,null,"00:00:00",{"$nulls":15},{"$f":"IF(OR(D1150=0,P1150=Presets!$C$67),\"\",IF(S1150=0,ROUNDDOWN(NOW()-'Registry Full'!D1150,0),S1150-D1150))","v":""},{"$nulls":5},""]
["",null,null,"00:00:00",{"$nulls":15},{"$f":"IF(OR(D1151=0,P1151=Presets!$C$67),\"\",IF(S1151=0,ROUNDDOWN(NOW()-'Registry Full'!D1151,0),S1151-D1151))","v":""},{"$nulls":5},""]
["",null,null,"00:00:00",{"$nulls":15},{"$f":"IF(OR(D1152=0,P1152=Presets!$C$67),\"\",IF(S1152=0,ROUNDDOWN(NOW()-'Registry Full'!D1152,0),S1152-D1152))","v":""},{"$nulls":5},""]
["",null,null,"00:00:00",{"$nulls":15},{"$f":"IF(OR(D1153=0,P1153=Presets!$C$67),\"\",IF(S1153=0,ROUNDDOWN(NOW()-'Registry Full'!D1153,0),S1153-D1153))","v":""},{"$nulls":5},""]
["",null,null,"00:00:00",{"$nulls":15},{"$f":"IF(OR(D1154=0,P1154=Presets!$C$67),\"\",IF(S1154=0,ROUNDDOWN(NOW()-'Registry Full'!D1154,0),S1154-D1154))","v":""},{"$nulls":5},""]
["",null,null,"00:00:00",{"$nulls":15},{"$f":"IF(OR(D1155=0,P1155=Presets!$C$67),\"\",IF(S1155=0,ROUNDDOWN(NOW()-'Registry Full'!D1155,0),S1155-D1155))","v":""},{"$nulls":5},""]
["",null,null,"00:00:00",{"$nulls":15},{"$f":"IF(OR(D1156=0,P1156=Presets!$C$67),\"\",IF(S1156=0,ROUNDDOWN(NOW()-'Registry Full'!D1156,0),S1156-D1156))","v":""},{"$nulls":5},""]
["",null,null,"00:00:00",{"$nulls":15},{"$f":"IF(OR(D1157=0,P1157=Presets!$C$67),\"\",IF(S1157=0,ROUNDDOWN(NOW()-'Registry Full'!D1157,0),S1157-D1157))","v":""},{"$nulls":5},""]
["",null,null,{"$f":"IF(C1158=\"\",0,VALUE(RIGHT(C1158,LEN(C1158)-FIND(\"/\",C1158,LEN(C1158)-10))))","v":"00:00:00"},{"$nulls":15},{"$f":"IF(OR(D1158=0,P1158=Presets!$C$67),\"\",IF(S1158=0,ROUNDDOWN(NOW()-'Registry Full'!D1158,0),S1158-D1158))","v":""},{"$nulls":5},""]
["",null,null,"00:00:00",{"$nulls":15},{"$f":"IF(OR(D1159=0,P1159=Presets!$C$67),\"\",IF(S1159=0,ROUNDDOWN(NOW()-'Registry Full'!D1159,0),S1159-D1159))","v":""},{"$nulls":5},{"$f":"IF(OR(D1159=0,Y1159=0),\"\",Y1159-D1159)","v":""}]
["",null,null,"00:00:00",{"$nulls":15},{"$f":"IF(OR(D1160=0,P1160=Presets!$C$67),\"\",IF(S1160=0,ROUNDDOWN(NOW()-'Registry Full'!D1160,0),S1160-D1160))","v":""},{"$nulls":5},""]
["",null,null,"00:00:00",{"$nulls":15},{"$f":"IF(OR(D1161=0,P1161=Presets!$C$67),\"\",IF(S1161=0,ROUNDDOWN(NOW()-'Registry Full'!D1161,0),S1161-D1161))","v":""},{"$nulls":5},""]
["",null,null,"00:00:00",{"$nulls":15},{"$f":"IF(OR(D1162=0,P1162=Presets!$C$67),\"\",IF(S1162=0,ROUNDDOWN(NOW()-'Registry Full'!D1162,0),S1162-D1162))","v":""},{"$nulls":5},""]
["",null,null,"00:00:00",{"$nulls":15},{"$f":"IF(OR(D1163=0,P1163=Presets!$C$67),\"\",IF(S1163=0,ROUNDDOWN(NOW()-'Registry Full'!D1163,0),S1163-D1163))","v":""},{"$nulls":5},""]
["",null,null,"00:00:00",{"$nulls":15},{"$f":"IF(OR(D1164=0,P1164=Presets!$C$67),\"\",IF(S1164=0,ROUNDDOWN(NOW()-'Registry Full'!D1164,0),S1164-D1164))","v":""},{"$nulls":5},""]
["",null,null,"00:00:00",{"$nulls":15},{"$f":"IF(OR(D1165=0,P1165=Presets!$C$67),\"\",IF(S1165=0,ROUNDDOWN(NOW()-'Registry Full'!D1165,0),S1165-D1165))","v":""},{"$nulls":5},""]
["",null,null,"00:00:00",{"$nulls":15},{"$f":"IF(OR(D1166=0,P1166=Presets!$C$67),\"\",IF(S1166=0,ROUNDDOWN(NOW()-'Registry Full'!D1166,0),S1166-D1166))","v":""},{"$nulls":5},""]
["",null,null,"00:00:00",{"$nulls":15},{"$f":"IF(OR(D1167=0,P1167=Presets!$C$67),\"\",IF(S1167=0,ROUNDDOWN(NOW()-'Registry Full'!D1167,0),S1167-D1167))","v":""},{"$nulls":5},""]
["",null,null,"00:00:00",{"$nulls":15},{"$f":"IF(OR(D1168=0,P1168=Presets!$C$67),\"\",IF(S1168=0,ROUNDDOWN(NOW()-'Registry Full'!D1168,0),S1168-D1168))","v":""},{"$nulls":5},""]
["",null,null,"00:00:00",{"$nulls":15},{"$f":"IF(OR(D1169=0,P1169=Presets!$C$67),\"\",IF(S1169=0,ROUNDDOWN(NOW()-'Registry Full'!D1169,0),S1169-D1169))","v":""},{"$nulls":5},""]
["",null,null,"00:00:00",{"$nulls":15},{"$f":"IF(OR(D1170=0,P1170=Presets!$C$67),\"\",IF(S1170=0,ROUNDDOWN(NOW()-'Registry Full'!D1170,0),S1170-D1170))","v":""},{"$nulls":5},""]
["",null,null,"00:00:00",{"$nulls":15},{"$f":"IF(OR(D1171=0,P1171=Presets!$C$67),\"\",IF(S1171=0,ROUNDDOWN(NOW()-'Registry Full'!D1171,0),S1171-D1171))","v":""},{"$nulls":5},""]
["",null,null,"00:00:00",{"$nulls":15},{"$f":"IF(OR(D1172=0,P1172=Presets!$C$67),\"\",IF(S1172=0,ROUNDDOWN(NOW()-'Registry Full'!D1172,0),S1172-D1172))","v":""},{"$nulls":5},""]
["",null,null,"00:00:00",{"$nulls":15},{"$f":"IF(OR(D1173=0,P1173=Presets!$C$67),\"\",IF(S1173=0,ROUNDDOWN(NOW()-'Registry Full'!D1173,0),S1173-D1173))","v":""},{"$nulls":5},""]
["",null,null,"00:00:00",{"$nulls":15},{"$f":"IF(OR(D1174=0,P1174=Presets!$C$67),\"\",IF(S1174=0,ROUNDDOWN(NOW()-'Registry Full'!D1174,0),S1174-D1174))","v":""},{"$nulls":5},""]
[{"$f":"IF(COUNTA(B1175)<>0,A1174+1,\"\")","v":""},null,null,"00:00:00",{"$nulls":15},{"$f":"IF(OR(D1175=0,P1175=Presets!$C$67),\"\",IF(S1175=0,ROUNDDOWN(NOW()-'Registry Full'!D1175,0),S1175-D1175))","v":""},{"$nulls":5},""]
["",null,null,"00:00:00",{"$nulls":15},{"$f":"IF(OR(D1176=0,P1176=Presets!$C$67),\"\",IF(S1176=0,ROUNDDOWN(NOW()-'Registry Full'!D1176,0),S1176-D1176))","v":""},{"$nulls":5},""]
["",null,null,"00:00:00",{"$nulls":15},{"$f":"IF(OR(D1177=0,P1177=Presets!$C$67),\"\",IF(S1177=0,ROUNDDOWN(NOW()-'Registry Full'!D1177,0),S1177-D1177))","v":""},{"$nulls":5},""]
["",null,null,"00:00:00",{"$nulls":15},{"$f":"IF(OR(D1178=0,P1178=Presets!$C$67),\"\",IF(S1178=0,ROUNDDOWN(NOW()-'Registry Full'!D1178,0),S1178-D1178))","v":""},{"$nulls":5},""]
["",null,null,"00:00:00",{"$nulls":15},{"$f":"IF(OR(D1179=0,P1179=Presets!$C$67),\"\",IF(S1179=0,ROUNDDOWN(NOW()-'Registry Full'!D1179,0),S1179-D1179))","v":""},{"$nulls":5},""]
["",null,null,"00:00:00",{"$nulls":15},{"$f":"IF(OR(D1180=0,P1180=Presets!$C$67),\"\",IF(S1180=0,ROUNDDOWN(NOW()-'Registry Full'!D1180,0),S1180-D1180))","v":""},{"$nulls":5},""]
["",null,null,"00:00:00",{"$nulls":15},{"$f":"IF(OR(D1181=0,P1181=Presets!$C$67),\"\",IF(S1181=0,ROUNDDOWN(NOW()-'Registry Full'!D1181,0),S1181-D1181))","v":""},{"$nulls":5},""]
["",null,null,"00:00:00",{"$nulls":15},{"$f":"IF(OR(D1182=0,P1182=Presets!$C$67),\"\",IF(S1182=0,ROUNDDOWN(NOW()-'Registry Full'!D1182,0),S1182-D1182))","v":""},{"$nulls":5},""]
["",null,null,"00:00:00",{"$nulls":15},{"$f":"IF(OR(D1183=0,P1183=Presets!$C$67),\"\",IF(S1183=0,ROUNDDOWN(NOW()-'Registry Full'!D1183,0),S1183-D1183))","v":""},{"$nulls":5},""]
["",null,null,"00:00:00",{"$nulls":15},{"$f":"IF(OR(D1184=0,P1184=Presets!$C$67),\"\",IF(S1184=0,ROUNDDOWN(NOW()-'Registry Full'!D1184,0),S1184-D1184))","v":""},{"$nulls":5},""]
["",null,null,"00:00:00",{"$nulls":15},{"$f":"IF(OR(D1185=0,P1185=Presets!$C$67),\"\",IF(S1185=0,ROUNDDOWN(NOW()-'Registry Full'!D1185,0),S1185-D1185))","v":""},{"$nulls":5},""]
["",null,null,"00:00:00",{"$nulls":15},{"$f":"IF(OR(D1186=0,P1186=Presets!$C$67),\"\",IF(S1186=0,ROUNDDOWN(NOW()-'Registry Full'!D1186,0),S1186-D1186))","v":""},{"$nulls":5},""]
["",null,null,"00:00:00",{"$nulls":15},{"$f":"IF(OR(D1187=0,P1187=Presets!$C$67),\"\",IF(S1187=0,ROUNDDOWN(NOW()-'Registry Full'!D1187,0),S1187-D1187))","v":""},{"$nulls":5},""]
["",null,null,"00:00:00",{"$nulls":15},{"$f":"IF(OR(D1188=0,P1188=Presets!$C$67),\"\",IF(S1188=0,ROUNDDOWN(NOW()-'Registry Full'!D1188,0),S1188-D1188))","v":""},{"$nulls":5},""]
["",null,null,"00:00:00",{"$nulls":15},{"$f":"IF(OR(D1189=0,P1189=Presets!$C$67),\"\",IF(S1189=0,ROUNDDOWN(NOW()-'Registry Full'!D1189,0),S1189-D1189))","v":""},{"$nulls":5},""]
["",null,null,"00:00:00",{"$nulls":15},{"$f":"IF(OR(D1190=0,P1190=Presets!$C$67),\"\",IF(S1190=0,ROUNDDOWN(NOW()-'Registry Full'!D1190,0),S1190-D1190))","v":""},{"$nulls":5},""]
["",null,null,"00:00:00",{"$nulls":15},{"$f":"IF(OR(D1191=0,P1191=Presets!$C$67),\"\",IF(S1191=0,ROUNDDOWN(NOW()-'Registry Full'!D1191,0),S1191-D1191))","v":""},{"$nulls":5},""]
["",null,null,"00:00:00",{"$nulls":15},{"$f":"IF(OR(D1192=0,P1192=Presets!$C$67),\"\",IF(S1192=0,ROUNDDOWN(NOW()-'Registry Full'!D1192,0),S1192-D1192))","v":""},{"$nulls":5},""]
["",null,null,"00:00:00",{"$nulls":15},{"$f":"IF(OR(D1193=0,P1193=Presets!$C$67),\"\",IF(S1193=0,ROUNDDOWN(NOW()-'Registry Full'!D1193,0),S1193-D1193))","v":""},{"$nulls":5},""]
["",null,null,"00:00:00",{"$nulls":15},{"$f":"IF(OR(D1194=0,P1194=Presets!$C$67),\"\",IF(S1194=0,ROUNDDOWN(NOW()-'Registry Full'!D1194,0),S1194-D1194))","v":""},{"$nulls":5},""]
["",null,null,"00:00:00",{"$nulls":15},{"$f":"IF(OR(D1195=0,P1195=Presets!$C$67),\"\",IF(S1195=0,ROUNDDOWN(NOW()-'Registry Full'!D1195,0),S1195-D1195))","v":""},{"$nulls":5},""]
["",null,null,"00:00:00",{"$nulls":15},{"$f":"IF(OR(D1196=0,P1196=Presets!$C$67),\"\",IF(S1196=0,ROUNDDOWN(NOW()-'Registry Full'!D1196,0),S1196-D1196))","v":""},{"$nulls":5},""]
["",null,null,"00:00:00",{"$nulls":15},{"$f":"IF(OR(D1197=0,P1197=Presets!$C$67),\"\",IF(S1197=0,ROUNDDOWN(NOW()-'Registry Full'!D1197,0),S1197-D1197))","v":""},{"$nulls":5},""]
["",null,null,"00:00:00",{"$nulls":15},{"$f":"IF(OR(D1198=0,P1198=Presets!$C$67),\"\",IF(S1198=0,ROUNDDOWN(NOW()-'Registry Full'!D1198,0),S1198-D1198))","v":""},{"$nulls":5},""]
["",null,null,"00:00:00",{"$nulls":15},{"$f":"IF(OR(D1199=0,P1199=Presets!$C$67),\"\",IF(S1199=0,ROUNDDOWN(NOW()-'Registry Full'!D1199,0),S1199-D1199))","v":""},{"$nulls":5},""]
["",null,null,"00:00:00",{"$nulls":15},{"$f":"IF(OR(D1200=0,P1200=Presets!$C$67),\"\",IF(S1200=0,ROUNDDOWN(NOW()-'Registry Full'!D1200,0),S1200-D1200))","v":""},{"$nulls":5},""]
["",null,null,"00:00:00",{"$nulls":15},{"$f":"IF(OR(D1201=0,P1201=Presets!$C$67),\"\",IF(S1201=0,ROUNDDOWN(NOW()-'Registry Full'!D1201,0),S1201-D1201))","v":""},{"$nulls":5},""]
["",null,null,"00:00:00",{"$nulls":15},{"$f":"IF(OR(D1202=0,P1202=Presets!$C$67),\"\",IF(S1202=0,ROUNDDOWN(NOW()-'Registry Full'!D1202,0),S1202-D1202))","v":""},{"$nulls":5},""]
["",null,null,"00:00:00",{"$nulls":15},{"$f":"IF(OR(D1203=0,P1203=Presets!$C$67),\"\",IF(S1203=0,ROUNDDOWN(NOW()-'Registry Full'!D1203,0),S1203-D1203))","v":""},{"$nulls":5},""]
["",null,null,"00:00:00",{"$nulls":15},{"$f":"IF(OR(D1204=0,P1204=Presets!$C$67),\"\",IF(S1204=0,ROUNDDOWN(NOW()-'Registry Full'!D1204,0),S1204-D1204))","v":""},{"$nulls":5},""]
["",null,null,"00:00:00",{"$nulls":15},{"$f":"IF(OR(D1205=0,P1205=Presets!$C$67),\"\",IF(S1205=0,ROUNDDOWN(NOW()-'Registry Full'!D1205,0),S1205-D1205))","v":""},{"$nulls":5},""]
["",null,null,"00:00:00",{"$nulls":15},{"$f":"IF(OR(D1206=0,P1206=Presets!$C$67),\"\",IF(S1206=0,ROUNDDOWN(NOW()-'Registry Full'!D1206,0),S1206-D1206))","v":""},{"$nulls":5},""]
["",null,null,"00:00:00",{"$nulls":15},{"$f":"IF(OR(D1207=0,P1207=Presets!$C$67),\"\",IF(S1207=0,ROUNDDOWN(NOW()-'Registry Full'!D1207,0),S1207-D1207))","v":""},{"$nulls":5},""]
["",null,null,"00:00:00",{"$nulls":15},{"$f":"IF(OR(D1208=0,P1208=Presets!$C$67),\"\",IF(S1208=0,ROUNDDOWN(NOW()-'Registry Full'!D1208,0),S1208-D1208))","v":""},{"$nulls":5},""]
["",null,null,"00:00:00",{"$nulls":15},{"$f":"IF(OR(D1209=0,P1209=Presets!$C$67),\"\",IF(S1209=0,ROUNDDOWN(NOW()-'Registry Full'!D1209,0),S1209-D1209))","v":""},{"$nulls":5},""]
["",null,null,"00:00:00",{"$nulls":15},{"$f":"IF(OR(D1210=0,P1210=Presets!$C$67),\"\",IF(S1210=0,ROUNDDOWN(NOW()-'Registry Full'!D1210,0),S1210-D1210))","v":""},{"$nulls":5},""]
["",null,null,"00:00:00",{"$nulls":15},{"$f":"IF(OR(D1211=0,P1211=Presets!$C$67),\"\",IF(S1211=0,ROUNDDOWN(NOW()-'Registry Full'!D1211,0),S1211-D1211))","v":""},{"$nulls":5},""]
["",null,null,"00:00:00",{"$nulls":15},{"$f":"IF(OR(D1212=0,P1212=Presets!$C$67),\"\",IF(S1212=0,ROUNDDOWN(NOW()-'Registry Full'!D1212,0),S1212-D1212))","v":""},{"$nulls":5},""]
["",null,null,"00:00:00",{"$nulls":15},{"$f":"IF(OR(D1213=0,P1213=Presets!$C$67),\"\",IF(S1213=0,ROUNDDOWN(NOW()-'Registry Full'!D1213,0),S1213-D1213))","v":""},{"$nulls":5},""]
["",null,null,"00:00:00",{"$nulls":15},{"$f":"IF(OR(D1214=0,P1214=Presets!$C$67),\"\",IF(S1214=0,ROUNDDOWN(NOW()-'Registry Full'!D1214,0),S1214-D1214))","v":""},{"$nulls":5},""]
["",null,null,"00:00:00",{"$nulls":15},{"$f":"IF(OR(D1215=0,P1215=Presets!$C$67),\"\",IF(S1215=0,ROUNDDOWN(NOW()-'Registry Full'!D1215,0),S1215-D1215))","v":""},{"$nulls":5},""]
["",null,null,"00:00:00",{"$nulls":15},{"$f":"IF(OR(D1216=0,P1216=Presets!$C$67),\"\",IF(S1216=0,ROUNDDOWN(NOW()-'Registry Full'!D1216,0),S1216-D1216))","v":""},{"$nulls":5},""]
["",null,null,"00:00:00",{"$nulls":15},{"$f":"IF(OR(D1217=0,P1217=Presets!$C$67),\"\",IF(S1217=0,ROUNDDOWN(NOW()-'Registry Full'!D1217,0),S1217-D1217))","v":""},{"$nulls":5},""]
["",null,null,"00:00:00",{"$nulls":15},{"$f":"IF(OR(D1218=0,P1218=Presets!$C$67),\"\",IF(S1218=0,ROUNDDOWN(NOW()-'Registry Full'!D1218,0),S1218-D1218))","v":""},{"$nulls":5},""]
["",null,null,"00:00:00",{"$nulls":15},{"$f":"IF(OR(D1219=0,P1219=Presets!$C$67),\"\",IF(S1219=0,ROUNDDOWN(NOW()-'Registry Full'!D1219,0),S1219-D1219))","v":""},{"$nulls":5},""]
["",null,null,"00:00:00",{"$nulls":15},{"$f":"IF(OR(D1220=0,P1220=Presets!$C$67),\"\",IF(S1220=0,ROUNDDOWN(NOW()-'Registry Full'!D1220,0),S1220-D1220))","v":""},{"$nulls":5},""]
["",null,null,"00:00:00",{"$nulls":15},{"$f":"IF(OR(D1221=0,P1221=Presets!$C$67),\"\",IF(S1221=0,ROUNDDOWN(NOW()-'Registry Full'!D1221,0),S1221-D1221))","v":""},{"$nulls":5},""]
["",null,null,{"$f":"IF(C1222=\"\",0,VALUE(RIGHT(C1222,LEN(C1222)-FIND(\"/\",C1222,LEN(C1222)-10))))","v":"00:00:00"},{"$nulls":15},{"$f":"IF(OR(D1222=0,P1222=Presets!$C$67),\"\",IF(S1222=0,ROUNDDOWN(NOW()-'Registry Full'!D1222,0),S1222-D1222))","v":""},{"$nulls":5},""]
["",null,null,"00:00:00",{"$nulls":15},{"$f":"IF(OR(D1223=0,P1223=Presets!$C$67),\"\",IF(S1223=0,ROUNDDOWN(NOW()-'Registry Full'!D1223,0),S1223-D1223))","v":""},{"$nulls":5},{"$f":"IF(OR(D1223=0,Y1223=0),\"\",Y1223-D1223)","v":""}]
["",null,null,"00:00:00",{"$nulls":15},{"$f":"IF(OR(D1224=0,P1224=Presets!$C$67),\"\",IF(S1224=0,ROUNDDOWN(NOW()-'Registry Full'!D1224,0),S1224-D1224))","v":""},{"$nulls":5},""]
["",null,null,"00:00:00",{"$nulls":15},{"$f":"IF(OR(D1225=0,P1225=Presets!$C$67),\"\",IF(S1225=0,ROUNDDOWN(NOW()-'Registry Full'!D1225,0),S1225-D1225))","v":""},{"$nulls":5},""]
["",null,null,"00:00:00",{"$nulls":15},{"$f":"IF(OR(D1226=0,P1226=Presets!$C$67),\"\",IF(S1226=0,ROUNDDOWN(NOW()-'Registry Full'!D1226,0),S1226-D1226))","v":""},{"$nulls":5},""]
["",null,null,"00:00:00",{"$nulls":15},{"$f":"IF(OR(D1227=0,P1227=Presets!$C$67),\"\",IF(S1227=0,ROUNDDOWN(NOW()-'Registry Full'!D1227,0),S1227-D1227))","v":""},{"$nulls":5},""]
["",null,null,"00:00:00",{"$nulls":15},{"$f":"IF(OR(D1228=0,P1228=Presets!$C$67),\"\",IF(S1228=0,ROUNDDOWN(NOW()-'Registry Full'!D1228,0),S1228-D1228))","v":""},{"$nulls":5},""]
["",null,null,"00:00:00",{"$nulls":15},{"$f":"IF(OR(D1229=0,P1229=Presets!$C$67),\"\",IF(S1229=0,ROUNDDOWN(NOW()-'Registry Full'!D1229,0),S1229-D1229))","v":""},{"$nulls":5},""]
["",null,null,"00:00:00",{"$nulls":15},{"$f":"IF(OR(D1230=0,P1230=Presets!$C$67),\"\",IF(S1230=0,ROUNDDOWN(NOW()-'Registry Full'!D1230,0),S1230-D1230))","v":""},{"$nulls":5},""]
["",null,null,"00:00:00",{"$nulls":15},{"$f":"IF(OR(D1231=0,P1231=Presets!$C$67),\"\",IF(S1231=0,ROUNDDOWN(NOW()-'Registry Full'!D1231,0),S1231-D1231))","v":""},{"$nulls":5},""]
["",null,null,"00:00:00",{"$nulls":15},{"$f":"IF(OR(D1232=0,P1232=Presets!$C$67),\"\",IF(S1232=0,ROUNDDOWN(NOW()-'Registry Full'!D1232,0),S1232-D1232))","v":""},{"$nulls":5},""]
["",null,null,"00:00:00",{"$nulls":15},{"$f":"IF(OR(D1233=0,P1233=Presets!$C$67),\"\",IF(S1233=0,ROUNDDOWN(NOW()-'Registry Full'!D1233,0),S1233-D1233))","v":""},{"$nulls":5},""]
["",null,null,"00:00:00",{"$nulls":15},{"$f":"IF(OR(D1234=0,P1234=Presets!$C$67),\"\",IF(S1234=0,ROUNDDOWN(NOW()-'Registry Full'!D1234,0),S1234-D1234))","v":""},{"$nulls":5},""]
["",null,null,"00:00:00",{"$nulls":15},{"$f":"IF(OR(D1235=0,P1235=Presets!$C$67),\"\",IF(S1235=0,ROUNDDOWN(NOW()-'Registry Full'!D1235,0),S1235-D1235))","v":""},{"$nulls":5},""]
["",null,null,"00:00:00",{"$nulls":15},{"$f":"IF(OR(D1236=0,P1236=Presets!$C$67),\"\",IF(S1236=0,ROUNDDOWN(NOW()-'Registry Full'!D1236,0),S1236-D1236))","v":""},{"$nulls":5},""]
["",null,null,"00:00:00",{"$nulls":15},{"$f":"IF(OR(D1237=0,P1237=Presets!$C$67),\"\",IF(S1237=0,ROUNDDOWN(NOW()-'Registry Full'!D1237,0),S1237-D1237))","v":""},{"$nulls":5},""]
["",null,null,"00:00:00",{"$nulls":15},{"$f":"IF(OR(D1238=0,P1238=Presets!$C$67),\"\",IF(S1238=0,ROUNDDOWN(NOW()-'Registry Full'!D1238,0),S1238-D1238))","v":""},{"$nulls":5},""]
[{"$f":"IF(COUNTA(B1239)<>0,A1238+1,\"\")","v":""},null,null,"00:00:00",{"$nulls":15},{"$f":"IF(OR(D1239=0,P1239=Presets!$C$67),\"\",IF(S1239=0,ROUNDDOWN(NOW()-'Registry Full'!D1239,0),S1239-D1239))","v":""},{"$nulls":5},""]
["",null,null,"00:00:00",{"$nulls":15},{"$f":"IF(OR(D1240=0,P1240=Presets!$C$67),\"\",IF(S1240=0,ROUNDDOWN(NOW()-'Registry Full'!D1240,0),S1240-D1240))","v":""},{"$nulls":5},""]
["",null,null,"00:00:00",{"$nulls":15},{"$f":"IF(OR(D1241=0,P1241=Presets!$C$67),\"\",IF(S1241=0,ROUNDDOWN(NOW()-'Registry Full'!D1241,0),S1241-D1241))","v":""},{"$nulls":5},""]
["",null,null,"00:00:00",{"$nulls":15},{"$f":"IF(OR(D1242=0,P1242=Presets!$C$67),\"\",IF(S1242=0,ROUNDDOWN(NOW()-'Registry Full'!D1242,0),S1242-D1242))","v":""},{"$nulls":5},""]
["",null,null,"00:00:00",{"$nulls":15},{"$f":"IF(OR(D1243=0,P1243=Presets!$C$67),\"\",IF(S1243=0,ROUNDDOWN(NOW()-'Registry Full'!D1243,0),S1243-D1243))","v":""},{"$nulls":5},""]
["",null,null,"00:00:00",{"$nulls":15},{"$f":"IF(OR(D1244=0,P1244=Presets!$C$67),\"\",IF(S1244=0,ROUNDDOWN(NOW()-'Registry Full'!D1244,0),S1244-D1244))","v":""},{"$nulls":5},""]
["",null,null,"00:00:00",{"$nulls":15},{"$f":"IF(OR(D1245=0,P1245=Presets!$C$67),\"\",IF(S1245=0,ROUNDDOWN(NOW()-'Registry Full'!D1245,0),S1245-D1245))","v":""},{"$nulls":5},""]
["",null,null,"00:00:00",{"$nulls":15},{"$f":"IF(OR(D1246=0,P1246=Presets!$C$67),\"\",IF(S1246=0,ROUNDDOWN(NOW()-'Registry Full'!D1246,0),S1246-D1246))","v":""},{"$nulls":5},""]
["",null,null,"00:00:00",{"$nulls":15},{"$f":"IF(OR(D1247=0,P1247=Presets!$C$67),\"\",IF(S1247=0,ROUNDDOWN(NOW()-'Registry Full'!D1247,0),S1247-D1247))","v":""},{"$nulls":5},""]
["",null,null,"00:00:00",{"$nulls":15},{"$f":"IF(OR(D1248=0,P1248=Presets!$C$67),\"\",IF(S1248=0,ROUNDDOWN(NOW()-'Registry Full'!D1248,0),S1248-D1248))","v":""},{"$nulls":5},""]
["",null,null,"00:00:00",{"$nulls":15},{"$f":"IF(OR(D1249=0,P1249=Presets!$C$67),\"\",IF(S1249=0,ROUNDDOWN(NOW()-'Registry Full'!D1249,0),S1249-D1249))","v":""},{"$nulls":5},""]
["",null,null,"00:00:00",{"$nulls":15},{"$f":"IF(OR(D1250=0,P1250=Presets!$C$67),\"\",IF(S1250=0,ROUNDDOWN(NOW()-'Registry Full'!D1250,0),S1250-D1250))","v":""},{"$nulls":5},""]
["",null,null,"00:00:00",{"$nulls":15},{"$f":"IF(OR(D1251=0,P1251=Presets!$C$67),\"\",IF(S1251=0,ROUNDDOWN(NOW()-'Registry Full'!D1251,0),S1251-D1251))","v":""},{"$nulls":5},""]
["",null,null,"00:00:00",{"$nulls":15},{"$f":"IF(OR(D1252=0,P1252=Presets!$C$67),\"\",IF(S1252=0,ROUNDDOWN(NOW()-'Registry Full'!D1252,0),S1252-D1252))","v":""},{"$nulls":5},""]
["",null,null,"00:00:00",{"$nulls":15},{"$f":"IF(OR(D1253=0,P1253=Presets!$C$67),\"\",IF(S1253=0,ROUNDDOWN(NOW()-'Registry Full'!D1253,0),S1253-D1253))","v":""},{"$nulls":5},""]
["",null,null,"00:00:00",{"$nulls":15},{"$f":"IF(OR(D1254=0,P1254=Presets!$C$67),\"\",IF(S1254=0,ROUNDDOWN(NOW()-'Registry Full'!D1254,0),S1254-D1254))","v":""},{"$nulls":5},""]
["",null,null,"00:00:00",{"$nulls":15},{"$f":"IF(OR(D1255=0,P1255=Presets!$C$67),\"\",IF(S1255=0,ROUNDDOWN(NOW()-'Registry Full'!D1255,0),S1255-D1255))","v":""},{"$nulls":5},""]
["",null,null,"00:00:00",{"$nulls":15},{"$f":"IF(OR(D1256=0,P1256=Presets!$C$67),\"\",IF(S1256=0,ROUNDDOWN(NOW()-'Registry Full'!D1256,0),S1256-D1256))","v":""},{"$nulls":5},""]
["",null,null,"00:00:00",{"$nulls":15},{"$f":"IF(OR(D1257=0,P1257=Presets!$C$67),\"\",IF(S1257=0,ROUNDDOWN(NOW()-'Registry Full'!D1257,0),S1257-D1257))","v":""},{"$nulls":5},""]
["",null,null,"00:00:00",{"$nulls":15},{"$f":"IF(OR(D1258=0,P1258=Presets!$C$67),\"\",IF(S1258=0,ROUNDDOWN(NOW()-'Registry Full'!D1258,0),S1258-D1258))","v":""},{"$nulls":5},""]
["",null,null,"00:00:00",{"$nulls":15},{"$f":"IF(OR(D1259=0,P1259=Presets!$C$67),\"\",IF(S1259=0,ROUNDDOWN(NOW()-'Registry Full'!D1259,0),S1259-D1259))","v":""},{"$nulls":5},""]
["",null,null,"00:00:00",{"$nulls":15},{"$f":"IF(OR(D1260=0,P1260=Presets!$C$67),\"\",IF(S1260=0,ROUNDDOWN(NOW()-'Registry Full'!D1260,0),S1260-D1260))","v":""},{"$nulls":5},""]
["",null,null,"00:00:00",{"$nulls":15},{"$f":"IF(OR(D1261=0,P1261=Presets!$C$67),\"\",IF(S1261=0,ROUNDDOWN(NOW()-'Registry Full'!D1261,0),S1261-D1261))","v":""},{"$nulls":5},""]
["",null,null,"00:00:00",{"$nulls":15},{"$f":"IF(OR(D1262=0,P1262=Presets!$C$67),\"\",IF(S1262=0,ROUNDDOWN(NOW()-'Registry Full'!D1262,0),S1262-D1262))","v":""},{"$nulls":5},""]
["",null,null,"00:00:00",{"$nulls":15},{"$f":"IF(OR(D1263=0,P1263=Presets!$C$67),\"\",IF(S1263=0,ROUNDDOWN(NOW()-'Registry Full'!D1263,0),S1263-D1263))","v":""},{"$nulls":5},""]
["",null,null,"00:00:00",{"$nulls":15},{"$f":"IF(OR(D1264=0,P1264=Presets!$C$67),\"\",IF(S1264=0,ROUNDDOWN(NOW()-'Registry Full'!D1264,0),S1264-D1264))","v":""},{"$nulls":5},""]
["",null,null,"00:00:00",{"$nulls":15},{"$f":"IF(OR(D1265=0,P1265=Presets!$C$67),\"\",IF(S1265=0,ROUNDDOWN(NOW()-'Registry Full'!D1265,0),S1265-D1265))","v":""},{"$nulls":5},""]
["",null,null,"00:00:00",{"$nulls":15},{"$f":"IF(OR(D1266=0,P1266=Presets!$C$67),\"\",IF(S1266=0,ROUNDDOWN(NOW()-'Registry Full'!D1266,0),S1266-D1266))","v":""},{"$nulls":5},""]
["",null,null,"00:00:00",{"$nulls":15},{"$f":"IF(OR(D1267=0,P1267=Presets!$C$67),\"\",IF(S1267=0,ROUNDDOWN(NOW()-'Registry Full'!D1267,0),S1267-D1267))","v":""},{"$nulls":5},""]
["",null,null,"00:00:00",{"$nulls":15},{"$f":"IF(OR(D1268=0,P1268=Presets!$C$67),\"\",IF(S1268=0,ROUNDDOWN(NOW()-'Registry Full'!D1268,0),S1268-D1268))","v":""},{"$nulls":5},""]
["",null,null,"00:00:00",{"$nulls":15},{"$f":"IF(OR(D1269=0,P1269=Presets!$C$67),\"\",IF(S1269=0,ROUNDDOWN(NOW()-'Registry Full'!D1269,0),S1269-D1269))","v":""},{"$nulls":5},""]
["",null,null,"00:00:00",{"$nulls":15},{"$f":"IF(OR(D1270=0,P1270=Presets!$C$67),\"\",IF(S1270=0,ROUNDDOWN(NOW()-'Registry Full'!D1270,0),S1270-D1270))","v":""},{"$nulls":5},""]
["",null,null,"00:00:00",{"$nulls":15},{"$f":"IF(OR(D1271=0,P1271=Presets!$C$67),\"\",IF(S1271=0,ROUNDDOWN(NOW()-'Registry Full'!D1271,0),S1271-D1271))","v":""},{"$nulls":5},""]
["",null,null,"00:00:00",{"$nulls":15},{"$f":"IF(OR(D1272=0,P1272=Presets!$C$67),\"\",IF(S1272=0,ROUNDDOWN(NOW()-'Registry Full'!D1272,0),S1272-D1272))","v":""},{"$nulls":5},""]
["",null,null,"00:00:00",{"$nulls":15},{"$f":"IF(OR(D1273=0,P1273=Presets!$C$67),\"\",IF(S1273=0,ROUNDDOWN(NOW()-'Registry Full'!D1273,0),S1273-D1273))","v":""},{"$nulls":5},""]
["",null,null,"00:00:00",{"$nulls":15},{"$f":"IF(OR(D1274=0,P1274=Presets!$C$67),\"\",IF(S1274=0,ROUNDDOWN(NOW()-'Registry Full'!D1274,0),S1274-D1274))","v":""},{"$nulls":5},""]
["",null,null,"00:00:00",{"$nulls":15},{"$f":"IF(OR(D1275=0,P1275=Presets!$C$67),\"\",IF(S1275=0,ROUNDDOWN(NOW()-'Registry Full'!D1275,0),S1275-D1275))","v":""},{"$nulls":5},""]
["",null,null,"00:00:00",{"$nulls":15},{"$f":"IF(OR(D1276=0,P1276=Presets!$C$67),\"\",IF(S1276=0,ROUNDDOWN(NOW()-'Registry Full'!D1276,0),S1276-D1276))","v":""},{"$nulls":5},""]
["",null,null,"00:00:00",{"$nulls":15},{"$f":"IF(OR(D1277=0,P1277=Presets!$C$67),\"\",IF(S1277=0,ROUNDDOWN(NOW()-'Registry Full'!D1277,0),S1277-D1277))","v":""},{"$nulls":5},""]
["",null,null,"00:00:00",{"$nulls":15},{"$f":"IF(OR(D1278=0,P1278=Presets!$C$67),\"\",IF(S1278=0,ROUNDDOWN(NOW()-'Registry Full'!D1278,0),S1278-D1278))","v":""},{"$nulls":5},""]
["",null,null,"00:00:00",{"$nulls":15},{"$f":"IF(OR(D1279=0,P1279=Presets!$C$67),\"\",IF(S1279=0,ROUNDDOWN(NOW()-'Registry Full'!D1279,0),S1279-D1279))","v":""},{"$nulls":5},""]
["",null,null,"00:00:00",{"$nulls":15},{"$f":"IF(OR(D1280=0,P1280=Presets!$C$67),\"\",IF(S1280=0,ROUNDDOWN(NOW()-'Registry Full'!D1280,0),S1280-D1280))","v":""},{"$nulls":5},""]
["",null,null,"00:00:00",{"$nulls":15},{"$f":"IF(OR(D1281=0,P1281=Presets!$C$67),\"\",IF(S1281=0,ROUNDDOWN(NOW()-'Registry Full'!D1281,0),S1281-D1281))","v":""},{"$nulls":5},""]
["",null,null,"00:00:00",{"$nulls":15},{"$f":"IF(OR(D1282=0,P1282=Presets!$C$67),\"\",IF(S1282=0,ROUNDDOWN(NOW()-'Registry Full'!D1282,0),S1282-D1282))","v":""},{"$nulls":5},""]
["",null,null,"00:00:00",{"$nulls":15},{"$f":"IF(OR(D1283=0,P1283=Presets!$C$67),\"\",IF(S1283=0,ROUNDDOWN(NOW()-'Registry Full'!D1283,0),S1283-D1283))","v":""},{"$nulls":5},""]
["",null,null,"00:00:00",{"$nulls":15},{"$f":"IF(OR(D1284=0,P1284=Presets!$C$67),\"\",IF(S1284=0,ROUNDDOWN(NOW()-'Registry Full'!D1284,0),S1284-D1284))","v":""},{"$nulls":5},""]
["",null,null,"00:00:00",{"$nulls":15},{"$f":"IF(OR(D1285=0,P1285=Presets!$C$67),\"\",IF(S1285=0,ROUNDDOWN(NOW()-'Registry Full'!D1285,0),S1285-D1285))","v":""},{"$nulls":5},""]
["",null,null,{"$f":"IF(C1286=\"\",0,VALUE(RIGHT(C1286,LEN(C1286)-FIND(\"/\",C1286,LEN(C1286)-10))))","v":"00:00:00"},{"$nulls":15},{"$f":"IF(OR(D1286=0,P1286=Presets!$C$67),\"\",IF(S1286=0,ROUNDDOWN(NOW()-'Registry Full'!D1286,0),S1286-D1286))","v":""},{"$nulls":5},""]
["",null,null,"00:00:00",{"$nulls":15},{"$f":"IF(OR(D1287=0,P1287=Presets!$C$67),\"\",IF(S1287=0,ROUNDDOWN(NOW()-'Registry Full'!D1287,0),S1287-D1287))","v":""},{"$nulls":5},{"$f":"IF(OR(D1287=0,Y1287=0),\"\",Y1287-D1287)","v":""}]
["",null,null,"00:00:00",{"$nulls":15},{"$f":"IF(OR(D1288=0,P1288=Presets!$C$67),\"\",IF(S1288=0,ROUNDDOWN(NOW()-'Registry Full'!D1288,0),S1288-D1288))","v":""},{"$nulls":5},""]
["",null,null,"00:00:00",{"$nulls":15},{"$f":"IF(OR(D1289=0,P1289=Presets!$C$67),\"\",IF(S1289=0,ROUNDDOWN(NOW()-'Registry Full'!D1289,0),S1289-D1289))","v":""},{"$nulls":5},""]
["",null,null,"00:00:00",{"$nulls":15},{"$f":"IF(OR(D1290=0,P1290=Presets!$C$67),\"\",IF(S1290=0,ROUNDDOWN(NOW()-'Registry Full'!D1290,0),S1290-D1290))","v":""},{"$nulls":5},""]
["",null,null,"00:00:00",{"$nulls":15},{"$f":"IF(OR(D1291=0,P1291=Presets!$C$67),\"\",IF(S1291=0,ROUNDDOWN(NOW()-'Registry Full'!D1291,0),S1291-D1291))","v":""},{"$nulls":5},""]
["",null,null,"00:00:00",{"$nulls":15},{"$f":"IF(OR(D1292=0,P1292=Presets!$C$67),\"\",IF(S1292=0,ROUNDDOWN(NOW()-'Registry Full'!D1292,0),S1292-D1292))","v":""},{"$nulls":5},""]
["",null,null,"00:00:00",{"$nulls":15},{"$f":"IF(OR(D1293=0,P1293=Presets!$C$67),\"\",IF(S1293=0,ROUNDDOWN(NOW()-'Registry Full'!D1293,0),S1293-D1293))","v":""},{"$nulls":5},""]
["",null,null,"00:00:00",{"$nulls":15},{"$f":"IF(OR(D1294=0,P1294=Presets!$C$67),\"\",IF(S1294=0,ROUNDDOWN(NOW()-'Registry Full'!D1294,0),S1294-D1294))","v":""},{"$nulls":5},""]
["",null,null,"00:00:00",{"$nulls":15},{"$f":"IF(OR(D1295=0,P1295=Presets!$C$67),\"\",IF(S1295=0,ROUNDDOWN(NOW()-'Registry Full'!D1295,0),S1295-D1295))","v":""},{"$nulls":5},""]
["",null,null,"00:00:00",{"$nulls":15},{"$f":"IF(OR(D1296=0,P1296=Presets!$C$67),\"\",IF(S1296=0,ROUNDDOWN(NOW()-'Registry Full'!D1296,0),S1296-D1296))","v":""},{"$nulls":5},""]
["",null,null,"00:00:00",{"$nulls":15},{"$f":"IF(OR(D1297=0,P1297=Presets!$C$67),\"\",IF(S1297=0,ROUNDDOWN(NOW()-'Registry Full'!D1297,0),S1297-D1297))","v":""},{"$nulls":5},""]
["",null,null,"00:00:00",{"$nulls":15},{"$f":"IF(OR(D1298=0,P1298=Presets!$C$67),\"\",IF(S1298=0,ROUNDDOWN(NOW()-'Registry Full'!D1298,0),S1298-D1298))","v":""},{"$nulls":5},""]
["",null,null,"00:00:00",{"$nulls":15},{"$f":"IF(OR(D1299=0,P1299=Presets!$C$67),\"\",IF(S1299=0,ROUNDDOWN(NOW()-'Registry Full'!D1299,0),S1299-D1299))","v":""},{"$nulls":5},""]
["",null,null,"00:00:00",{"$nulls":15},{"$f":"IF(OR(D1300=0,P1300=Presets!$C$67),\"\",IF(S1300=0,ROUNDDOWN(NOW()-'Registry Full'!D1300,0),S1300-D1300))","v":""},{"$nulls":5},""]
["",null,null,"00:00:00",{"$nulls":15},{"$f":"IF(OR(D1301=0,P1301=Presets!$C$67),\"\",IF(S1301=0,ROUNDDOWN(NOW()-'Registry Full'!D1301,0),S1301-D1301))","v":""},{"$nulls":5},""]
["",null,null,"00:00:00",{"$nulls":15},{"$f":"IF(OR(D1302=0,P1302=Presets!$C$67),\"\",IF(S1302=0,ROUNDDOWN(NOW()-'Registry Full'!D1302,0),S1302-D1302))","v":""},{"$nulls":5},""]
[{"$f":"IF(COUNTA(B1303)<>0,A1302+1,\"\")","v":""},null,null,"00:00:00",{"$nulls":15},{"$f":"IF(OR(D1303=0,P1303=Presets!$C$67),\"\",IF(S1303=0,ROUNDDOWN(NOW()-'Registry Full'!D1303,0),S1303-D1303))","v":""},{"$nulls":5},""]
["",null,null,"00:00:00",{"$nulls":15},{"$f":"IF(OR(D1304=0,P1304=Presets!$C$67),\"\",IF(S1304=0,ROUNDDOWN(NOW()-'Registry Full'!D1304,0),S1304-D1304))","v":""},{"$nulls":5},""]
["",null,null,"00:00:00",{"$nulls":15},{"$f":"IF(OR(D1305=0,P1305=Presets!$C$67),\"\",IF(S1305=0,ROUNDDOWN(NOW()-'Registry Full'!D1305,0),S1305-D1305))","v":""},{"$nulls":5},""]
["",null,null,"00:00:00",{"$nulls":15},{"$f":"IF(OR(D1306=0,P1306=Presets!$C$67),\"\",IF(S1306=0,ROUNDDOWN(NOW()-'Registry Full'!D1306,0),S1306-D1306))","v":""},{"$nulls":5},""]
["",null,null,"00:00:00",{"$nulls":15},{"$f":"IF(OR(D1307=0,P1307=Presets!$C$67),\"\",IF(S1307=0,ROUNDDOWN(NOW()-'Registry Full'!D1307,0),S1307-D1307))","v":""},{"$nulls":5},""]
["",null,null,"00:00:00",{"$nulls":15},{"$f":"IF(OR(D1308=0,P1308=Presets!$C$67),\"\",IF(S1308=0,ROUNDDOWN(NOW()-'Registry Full'!D1308,0),S1308-D1308))","v":""},{"$nulls":5},""]
["",null,null,"00:00:00",{"$nulls":15},{"$f":"IF(OR(D1309=0,P1309=Presets!$C$67),\"\",IF(S1309=0,ROUNDDOWN(NOW()-'Registry Full'!D1309,0),S1309-D1309))","v":""},{"$nulls":5},""]
["",null,null,"00:00:00",{"$nulls":15},{"$f":"IF(OR(D1310=0,P1310=Presets!$C$67),\"\",IF(S1310=0,ROUNDDOWN(NOW()-'Registry Full'!D1310,0),S1310-D1310))","v":""},{"$nulls":5},""]
["",null,null,"00:00:00",{"$nulls":15},{"$f":"IF(OR(D1311=0,P1311=Presets!$C$67),\"\",IF(S1311=0,ROUNDDOWN(NOW()-'Registry Full'!D1311,0),S1311-D1311))","v":""},{"$nulls":5},""]
["",null,null,"00:00:00",{"$nulls":15},{"$f":"IF(OR(D1312=0,P1312=Presets!$C$67),\"\",IF(S1312=0,ROUNDDOWN(NOW()-'Registry Full'!D1312,0),S1312-D1312))","v":""},{"$nulls":5},""]
["",null,null,"00:00:00",{"$nulls":15},{"$f":"IF(OR(D1313=0,P1313=Presets!$C$67),\"\",IF(S1313=0,ROUNDDOWN(NOW()-'Registry Full'!D1313,0),S1313-D1313))","v":""},{"$nulls":5},""]
["",null,null,"00:00:00",{"$nulls":15},{"$f":"IF(OR(D1314=0,P1314=Presets!$C$67),\"\",IF(S1314=0,ROUNDDOWN(NOW()-'Registry Full'!D1314,0),S1314-D1314))","v":""},{"$nulls":5},""]
["",null,null,"00:00:00",{"$nulls":15},{"$f":"IF(OR(D1315=0,P1315=Presets!$C$67),\"\",IF(S1315=0,ROUNDDOWN(NOW()-'Registry Full'!D1315,0),S1315-D1315))","v":""},{"$nulls":5},""]
["",null,null,"00:00:00",{"$nulls":15},{"$f":"IF(OR(D1316=0,P1316=Presets!$C$67),\"\",IF(S1316=0,ROUNDDOWN(NOW()-'Registry Full'!D1316,0),S1316-D1316))","v":""},{"$nulls":5},""]
["",null,null,"00:00:00",{"$nulls":15},{"$f":"IF(OR(D1317=0,P1317=Presets!$C$67),\"\",IF(S1317=0,ROUNDDOWN(NOW()-'Registry Full'!D1317,0),S1317-D1317))","v":""},{"$nulls":5},""]
["",null,null,"00:00:00",{"$nulls":15},{"$f":"IF(OR(D1318=0,P1318=Presets!$C$67),\"\",IF(S1318=0,ROUNDDOWN(NOW()-'Registry Full'!D1318,0),S1318-D1318))","v":""},{"$nulls":5},""]
["",null,null,"00:00:00",{"$nulls":15},{"$f":"IF(OR(D1319=0,P1319=Presets!$C$67),\"\",IF(S1319=0,ROUNDDOWN(NOW()-'Registry Full'!D1319,0),S1319-D1319))","v":""},{"$nulls":5},""]
["",null,null,"00:00:00",{"$nulls":15},{"$f":"IF(OR(D1320=0,P1320=Presets!$C$67),\"\",IF(S1320=0,ROUNDDOWN(NOW()-'Registry Full'!D1320,0),S1320-D1320))","v":""},{"$nulls":5},""]
["",null,null,"00:00:00",{"$nulls":15},{"$f":"IF(OR(D1321=0,P1321=Presets!$C$67),\"\",IF(S1321=0,ROUNDDOWN(NOW()-'Registry Full'!D1321,0),S1321-D1321))","v":""},{"$nulls":5},""]
["",null,null,"00:00:00",{"$nulls":15},{"$f":"IF(OR(D1322=0,P1322=Presets!$C$67),\"\",IF(S1322=0,ROUNDDOWN(NOW()-'Registry Full'!D1322,0),S1322-D1322))","v":""},{"$nulls":5},""]
["",null,null,"00:00:00",{"$nulls":15},{"$f":"IF(OR(D1323=0,P1323=Presets!$C$67),\"\",IF(S1323=0,ROUNDDOWN(NOW()-'Registry Full'!D1323,0),S1323-D1323))","v":""},{"$nulls":5},""]
["",null,null,"00:00:00",{"$nulls":15},{"$f":"IF(OR(D1324=0,P1324=Presets!$C$67),\"\",IF(S1324=0,ROUNDDOWN(NOW()-'Registry Full'!D1324,0),S1324-D1324))","v":""},{"$nulls":5},""]
["",null,null,"00:00:00",{"$nulls":15},{"$f":"IF(OR(D1325=0,P1325=Presets!$C$67),\"\",IF(S1325=0,ROUNDDOWN(NOW()-'Registry Full'!D1325,0),S1325-D1325))","v":""},{"$nulls":5},""]
["",null,null,"00:00:00",{"$nulls":15},{"$f":"IF(OR(D1326=0,P1326=Presets!$C$67),\"\",IF(S1326=0,ROUNDDOWN(NOW()-'Registry Full'!D1326,0),S1326-D1326))","v":""},{"$nulls":5},""]
["",null,null,"00:00:00",{"$nulls":15},{"$f":"IF(OR(D1327=0,P1327=Presets!$C$67),\"\",IF(S1327=0,ROUNDDOWN(NOW()-'Registry Full'!D1327,0),S1327-D1327))","v":""},{"$nulls":5},""]
["",null,null,"00:00:00",{"$nulls":15},{"$f":"IF(OR(D1328=0,P1328=Presets!$C$67),\"\",IF(S1328=0,ROUNDDOWN(NOW()-'Registry Full'!D1328,0),S1328-D1328))","v":""},{"$nulls":5},""]
["",null,null,"00:00:00",{"$nulls":15},{"$f":"IF(OR(D1329=0,P1329=Presets!$C$67),\"\",IF(S1329=0,ROUNDDOWN(NOW()-'Registry Full'!D1329,0),S1329-D1329))","v":""},{"$nulls":5},""]
["",null,null,"00:00:00",{"$nulls":15},{"$f":"IF(OR(D1330=0,P1330=Presets!$C$67),\"\",IF(S1330=0,ROUNDDOWN(NOW()-'Registry Full'!D1330,0),S1330-D1330))","v":""},{"$nulls":5},""]
["",null,null,"00:00:00",{"$nulls":15},{"$f":"IF(OR(D1331=0,P1331=Presets!$C$67),\"\",IF(S1331=0,ROUNDDOWN(NOW()-'Registry Full'!D1331,0),S1331-D1331))","v":""},{"$nulls":5},""]
["",null,null,"00:00:00",{"$nulls":15},{"$f":"IF(OR(D1332=0,P1332=Presets!$C$67),\"\",IF(S1332=0,ROUNDDOWN(NOW()-'Registry Full'!D1332,0),S1332-D1332))","v":""},{"$nulls":5},""]
["",null,null,"00:00:00",{"$nulls":15},{"$f":"IF(OR(D1333=0,P1333=Presets!$C$67),\"\",IF(S1333=0,ROUNDDOWN(NOW()-'Registry Full'!D1333,0),S1333-D1333))","v":""},{"$nulls":5},""]
["",null,null,"00:00:00",{"$nulls":15},{"$f":"IF(OR(D1334=0,P1334=Presets!$C$67),\"\",IF(S1334=0,ROUNDDOWN(NOW()-'Registry Full'!D1334,0),S1334-D1334))","v":""},{"$nulls":5},""]
["",null,null,"00:00:00",{"$nulls":15},{"$f":"IF(OR(D1335=0,P1335=Presets!$C$67),\"\",IF(S1335=0,ROUNDDOWN(NOW()-'Registry Full'!D1335,0),S1335-D1335))","v":""},{"$nulls":5},""]
["",null,null,"00:00:00",{"$nulls":15},{"$f":"IF(OR(D1336=0,P1336=Presets!$C$67),\"\",IF(S1336=0,ROUNDDOWN(NOW()-'Registry Full'!D1336,0),S1336-D1336))","v":""},{"$nulls":5},""]
["",null,null,"00:00:00",{"$nulls":15},{"$f":"IF(OR(D1337=0,P1337=Presets!$C$67),\"\",IF(S1337=0,ROUNDDOWN(NOW()-'Registry Full'!D1337,0),S1337-D1337))","v":""},{"$nulls":5},""]
["",null,null,"00:00:00",{"$nulls":15},{"$f":"IF(OR(D1338=0,P1338=Presets!$C$67),\"\",IF(S1338=0,ROUNDDOWN(NOW()-'Registry Full'!D1338,0),S1338-D1338))","v":""},{"$nulls":5},""]
["",null,null,"00:00:00",{"$nulls":15},{"$f":"IF(OR(D1339=0,P1339=Presets!$C$67),\"\",IF(S1339=0,ROUNDDOWN(NOW()-'Registry Full'!D1339,0),S1339-D1339))","v":""},{"$nulls":5},""]
["",null,null,"00:00:00",{"$nulls":15},{"$f":"IF(OR(D1340=0,P1340=Presets!$C$67),\"\",IF(S1340=0,ROUNDDOWN(NOW()-'Registry Full'!D1340,0),S1340-D1340))","v":""},{"$nulls":5},""]
["",null,null,"00:00:00",{"$nulls":15},{"$f":"IF(OR(D1341=0,P1341=Presets!$C$67),\"\",IF(S1341=0,ROUNDDOWN(NOW()-'Registry Full'!D1341,0),S1341-D1341))","v":""},{"$nulls":5},""]
["",null,null,"00:00:00",{"$nulls":15},{"$f":"IF(OR(D1342=0,P1342=Presets!$C$67),\"\",IF(S1342=0,ROUNDDOWN(NOW()-'Registry Full'!D1342,0),S1342-D1342))","v":""},{"$nulls":5},""]
["",null,null,"00:00:00",{"$nulls":15},{"$f":"IF(OR(D1343=0,P1343=Presets!$C$67),\"\",IF(S1343=0,ROUNDDOWN(NOW()-'Registry Full'!D1343,0),S1343-D1343))","v":""},{"$nulls":5},""]
["",null,null,"00:00:00",{"$nulls":15},{"$f":"IF(OR(D1344=0,P1344=Presets!$C$67),\"\",IF(S1344=0,ROUNDDOWN(NOW()-'Registry Full'!D1344,0),S1344-D1344))","v":""},{"$nulls":5},""]
["",null,null,"00:00:00",{"$nulls":15},{"$f":"IF(OR(D1345=0,P1345=Presets!$C$67),\"\",IF(S1345=0,ROUNDDOWN(NOW()-'Registry Full'!D1345,0),S1345-D1345))","v":""},{"$nulls":5},""]
["",null,null,"00:00:00",{"$nulls":15},{"$f":"IF(OR(D1346=0,P1346=Presets!$C$67),\"\",IF(S1346=0,ROUNDDOWN(NOW()-'Registry Full'!D1346,0),S1346-D1346))","v":""},{"$nulls":5},""]
["",null,null,"00:00:00",{"$nulls":15},{"$f":"IF(OR(D1347=0,P1347=Presets!$C$67),\"\",IF(S1347=0,ROUNDDOWN(NOW()-'Registry Full'!D1347,0),S1347-D1347))","v":""},{"$nulls":5},""]
["",null,null,"00:00:00",{"$nulls":15},{"$f":"IF(OR(D1348=0,P1348=Presets!$C$67),\"\",IF(S1348=0,ROUNDDOWN(NOW()-'Registry Full'!D1348,0),S1348-D1348))","v":""},{"$nulls":5},""]
["",null,null,"00:00:00",{"$nulls":15},{"$f":"IF(OR(D1349=0,P1349=Presets!$C$67),\"\",IF(S1349=0,ROUNDDOWN(NOW()-'Registry Full'!D1349,0),S1349-D1349))","v":""},{"$nulls":5},""]
["",null,null,{"$f":"IF(C1350=\"\",0,VALUE(RIGHT(C1350,LEN(C1350)-FIND(\"/\",C1350,LEN(C1350)-10))))","v":"00:00:00"},{"$nulls":15},{"$f":"IF(OR(D1350=0,P1350=Presets!$C$67),\"\",IF(S1350=0,ROUNDDOWN(NOW()-'Registry Full'!D1350,0),S1350-D1350))","v":""},{"$nulls":5},""]
["",null,null,"00:00:00",{"$nulls":15},{"$f":"IF(OR(D1351=0,P1351=Presets!$C$67),\"\",IF(S1351=0,ROUNDDOWN(NOW()-'Registry Full'!D1351,0),S1351-D1351))","v":""},{"$nulls":5},{"$f":"IF(OR(D1351=0,Y1351=0),\"\",Y1351-D1351)","v":""}]
["",null,null,"00:00:00",{"$nulls":15},{"$f":"IF(OR(D1352=0,P1352=Presets!$C$67),\"\",IF(S1352=0,ROUNDDOWN(NOW()-'Registry Full'!D1352,0),S1352-D1352))","v":""},{"$nulls":5},""]
["",null,null,"00:00:00",{"$nulls":15},{"$f":"IF(OR(D1353=0,P1353=Presets!$C$67),\"\",IF(S1353=0,ROUNDDOWN(NOW()-'Registry Full'!D1353,0),S1353-D1353))","v":""},{"$nulls":5},""]
["",null,null,"00:00:00",{"$nulls":15},{"$f":"IF(OR(D1354=0,P1354=Presets!$C$67),\"\",IF(S1354=0,ROUNDDOWN(NOW()-'Registry Full'!D1354,0),S1354-D1354))","v":""},{"$nulls":5},""]
["",null,null,"00:00:00",{"$nulls":15},{"$f":"IF(OR(D1355=0,P1355=Presets!$C$67),\"\",IF(S1355=0,ROUNDDOWN(NOW()-'Registry Full'!D1355,0),S1355-D1355))","v":""},{"$nulls":5},""]
["",null,null,"00:00:00",{"$nulls":15},{"$f":"IF(OR(D1356=0,P1356=Presets!$C$67),\"\",IF(S1356=0,ROUNDDOWN(NOW()-'Registry Full'!D1356,0),S1356-D1356))","v":""},{"$nulls":5},""]
["",null,null,"00:00:00",{"$nulls":15},{"$f":"IF(OR(D1357=0,P1357=Presets!$C$67),\"\",IF(S1357=0,ROUNDDOWN(NOW()-'Registry Full'!D1357,0),S1357-D1357))","v":""},{"$nulls":5},""]
["",null,null,"00:00:00",{"$nulls":15},{"$f":"IF(OR(D1358=0,P1358=Presets!$C$67),\"\",IF(S1358=0,ROUNDDOWN(NOW()-'Registry Full'!D1358,0),S1358-D1358))","v":""},{"$nulls":5},""]
["",null,null,"00:00:00",{"$nulls":15},{"$f":"IF(OR(D1359=0,P1359=Presets!$C$67),\"\",IF(S1359=0,ROUNDDOWN(NOW()-'Registry Full'!D1359,0),S1359-D1359))","v":""},{"$nulls":5},""]
["",null,null,"00:00:00",{"$nulls":15},{"$f":"IF(OR(D1360=0,P1360=Presets!$C$67),\"\",IF(S1360=0,ROUNDDOWN(NOW()-'Registry Full'!D1360,0),S1360-D1360))","v":""},{"$nulls":5},""]
["",null,null,"00:00:00",{"$nulls":15},{"$f":"IF(OR(D1361=0,P1361=Presets!$C$67),\"\",IF(S1361=0,ROUNDDOWN(NOW()-'Registry Full'!D1361,0),S1361-D1361))","v":""},{"$nulls":5},""]
["",null,null,"00:00:00",{"$nulls":15},{"$f":"IF(OR(D1362=0,P1362=Presets!$C$67),\"\",IF(S1362=0,ROUNDDOWN(NOW()-'Registry Full'!D1362,0),S1362-D1362))","v":""},{"$nulls":5},""]
["",null,null,"00:00:00",{"$nulls":15},{"$f":"IF(OR(D1363=0,P1363=Presets!$C$67),\"\",IF(S1363=0,ROUNDDOWN(NOW()-'Registry Full'!D1363,0),S1363-D1363))","v":""},{"$nulls":5},""]
["",null,null,"00:00:00",{"$nulls":15},{"$f":"IF(OR(D1364=0,P1364=Presets!$C$67),\"\",IF(S1364=0,ROUNDDOWN(NOW()-'Registry Full'!D1364,0),S1364-D1364))","v":""},{"$nulls":5},""]
["",null,null,"00:00:00",{"$nulls":15},{"$f":"IF(OR(D1365=0,P1365=Presets!$C$67),\"\",IF(S1365=0,ROUNDDOWN(NOW()-'Registry Full'!D1365,0),S1365-D1365))","v":""},{"$nulls":5},""]
["",null,null,"00:00:00",{"$nulls":15},{"$f":"IF(OR(D1366=0,P1366=Presets!$C$67),\"\",IF(S1366=0,ROUNDDOWN(NOW()-'Registry Full'!D1366,0),S1366-D1366))","v":""},{"$nulls":5},""]
[{"$f":"IF(COUNTA(B1367)<>0,A1366+1,\"\")","v":""},null,null,"00:00:00",{"$nulls":15},{"$f":"IF(OR(D1367=0,P1367=Presets!$C$67),\"\",IF(S1367=0,ROUNDDOWN(NOW()-'Registry Full'!D1367,0),S1367-D1367))","v":""},{"$nulls":5},""]
["",null,null,"00:00:00",{"$nulls":15},{"$f":"IF(OR(D1368=0,P1368=Presets!$C$67),\"\",IF(S1368=0,ROUNDDOWN(NOW()-'Registry Full'!D1368,0),S1368-D1368))","v":""},{"$nulls":5},""]
["",null,null,"00:00:00",{"$nulls":15},{"$f":"IF(OR(D1369=0,P1369=Presets!$C$67),\"\",IF(S1369=0,ROUNDDOWN(NOW()-'Registry Full'!D1369,0),S1369-D1369))","v":""},{"$nulls":5},""]
["",null,null,"00:00:00",{"$nulls":15},{"$f":"IF(OR(D1370=0,P1370=Presets!$C$67),\"\",IF(S1370=0,ROUNDDOWN(NOW()-'Registry Full'!D1370,0),S1370-D1370))","v":""},{"$nulls":5},""]
["",null,null,"00:00:00",{"$nulls":15},{"$f":"IF(OR(D1371=0,P1371=Presets!$C$67),\"\",IF(S1371=0,ROUNDDOWN(NOW()-'Registry Full'!D1371,0),S1371-D1371))","v":""},{"$nulls":5},""]
["",null,null,"00:00:00",{"$nulls":15},{"$f":"IF(OR(D1372=0,P1372=Presets!$C$67),\"\",IF(S1372=0,ROUNDDOWN(NOW()-'Registry Full'!D1372,0),S1372-D1372))","v":""},{"$nulls":5},""]
["",null,null,"00:00:00",{"$nulls":15},{"$f":"IF(OR(D1373=0,P1373=Presets!$C$67),\"\",IF(S1373=0,ROUNDDOWN(NOW()-'Registry Full'!D1373,0),S1373-D1373))","v":""},{"$nulls":5},""]
["",null,null,"00:00:00",{"$nulls":15},{"$f":"IF(OR(D1374=0,P1374=Presets!$C$67),\"\",IF(S1374=0,ROUNDDOWN(NOW()-'Registry Full'!D1374,0),S1374-D1374))","v":""},{"$nulls":5},""]
["",null,null,"00:00:00",{"$nulls":15},{"$f":"IF(OR(D1375=0,P1375=Presets!$C$67),\"\",IF(S1375=0,ROUNDDOWN(NOW()-'Registry Full'!D1375,0),S1375-D1375))","v":""},{"$nulls":5},""]
["",null,null,"00:00:00",{"$nulls":15},{"$f":"IF(OR(D1376=0,P1376=Presets!$C$67),\"\",IF(S1376=0,ROUNDDOWN(NOW()-'Registry Full'!D1376,0),S1376-D1376))","v":""},{"$nulls":5},""]
["",null,null,"00:00:00",{"$nulls":15},{"$f":"IF(OR(D1377=0,P1377=Presets!$C$67),\"\",IF(S1377=0,ROUNDDOWN(NOW()-'Registry Full'!D1377,0),S1377-D1377))","v":""},{"$nulls":5},""]
["",null,null,"00:00:00",{"$nulls":15},{"$f":"IF(OR(D1378=0,P1378=Presets!$C$67),\"\",IF(S1378=0,ROUNDDOWN(NOW()-'Registry Full'!D1378,0),S1378-D1378))","v":""},{"$nulls":5},""]
["",null,null,"00:00:00",{"$nulls":15},{"$f":"IF(OR(D1379=0,P1379=Presets!$C$67),\"\",IF(S1379=0,ROUNDDOWN(NOW()-'Registry Full'!D1379,0),S1379-D1379))","v":""},{"$nulls":5},""]
["",null,null,"00:00:00",{"$nulls":15},{"$f":"IF(OR(D1380=0,P1380=Presets!$C$67),\"\",IF(S1380=0,ROUNDDOWN(NOW()-'Registry Full'!D1380,0),S1380-D1380))","v":""},{"$nulls":5},""]
["",null,null,"00:00:00",{"$nulls":15},{"$f":"IF(OR(D1381=0,P1381=Presets!$C$67),\"\",IF(S1381=0,ROUNDDOWN(NOW()-'Registry Full'!D1381,0),S1381-D1381))","v":""},{"$nulls":5},""]
["",null,null,"00:00:00",{"$nulls":15},{"$f":"IF(OR(D1382=0,P1382=Presets!$C$67),\"\",IF(S1382=0,ROUNDDOWN(NOW()-'Registry Full'!D1382,0),S1382-D1382))","v":""},{"$nulls":5},""]
["",null,null,"00:00:00",{"$nulls":15},{"$f":"IF(OR(D1383=0,P1383=Presets!$C$67),\"\",IF(S1383=0,ROUNDDOWN(NOW()-'Registry Full'!D1383,0),S1383-D1383))","v":""},{"$nulls":5},""]
["",null,null,"00:00:00",{"$nulls":15},{"$f":"IF(OR(D1384=0,P1384=Presets!$C$67),\"\",IF(S1384=0,ROUNDDOWN(NOW()-'Registry Full'!D1384,0),S1384-D1384))","v":""},{"$nulls":5},""]
["",null,null,"00:00:00",{"$nulls":15},{"$f":"IF(OR(D1385=0,P1385=Presets!$C$67),\"\",IF(S1385=0,ROUNDDOWN(NOW()-'Registry Full'!D1385,0),S1385-D1385))","v":""},{"$nulls":5},""]
["",null,null,"00:00:00",{"$nulls":15},{"$f":"IF(OR(D1386=0,P1386=Presets!$C$67),\"\",IF(S1386=0,ROUNDDOWN(NOW()-'Registry Full'!D1386,0),S1386-D1386))","v":""},{"$nulls":5},""]
["",null,null,"00:00:00",{"$nulls":15},{"$f":"IF(OR(D1387=0,P1387=Presets!$C$67),\"\",IF(S1387=0,ROUNDDOWN(NOW()-'Registry Full'!D1387,0),S1387-D1387))","v":""},{"$nulls":5},""]
["",null,null,"00:00:00",{"$nulls":15},{"$f":"IF(OR(D1388=0,P1388=Presets!$C$67),\"\",IF(S1388=0,ROUNDDOWN(NOW()-'Registry Full'!D1388,0),S1388-D1388))","v":""},{"$nulls":5},""]
["",null,null,"00:00:00",{"$nulls":15},{"$f":"IF(OR(D1389=0,P1389=Presets!$C$67),\"\",IF(S1389=0,ROUNDDOWN(NOW()-'Registry Full'!D1389,0),S1389-D1389))","v":""},{"$nulls":5},""]
["",null,null,"00:00:00",{"$nulls":15},{"$f":"IF(OR(D1390=0,P1390=Presets!$C$67),\"\",IF(S1390=0,ROUNDDOWN(NOW()-'Registry Full'!D1390,0),S1390-D1390))","v":""},{"$nulls":5},""]
["",null,null,"00:00:00",{"$nulls":15},{"$f":"IF(OR(D1391=0,P1391=Presets!$C$67),\"\",IF(S1391=0,ROUNDDOWN(NOW()-'Registry Full'!D1391,0),S1391-D1391))","v":""},{"$nulls":5},""]
["",null,null,"00:00:00",{"$nulls":15},{"$f":"IF(OR(D1392=0,P1392=Presets!$C$67),\"\",IF(S1392=0,ROUNDDOWN(NOW()-'Registry Full'!D1392,0),S1392-D1392))","v":""},{"$nulls":5},""]
["",null,null,"00:00:00",{"$nulls":15},{"$f":"IF(OR(D1393=0,P1393=Presets!$C$67),\"\",IF(S1393=0,ROUNDDOWN(NOW()-'Registry Full'!D1393,0),S1393-D1393))","v":""},{"$nulls":5},""]
["",null,null,"00:00:00",{"$nulls":15},{"$f":"IF(OR(D1394=0,P1394=Presets!$C$67),\"\",IF(S1394=0,ROUNDDOWN(NOW()-'Registry Full'!D1394,0),S1394-D1394))","v":""},{"$nulls":5},""]
["",null,null,"00:00:00",{"$nulls":15},{"$f":"IF(OR(D1395=0,P1395=Presets!$C$67),\"\",IF(S1395=0,ROUNDDOWN(NOW()-'Registry Full'!D1395,0),S1395-D1395))","v":""},{"$nulls":5},""]
["",null,null,"00:00:00",{"$nulls":15},{"$f":"IF(OR(D1396=0,P1396=Presets!$C$67),\"\",IF(S1396=0,ROUNDDOWN(NOW()-'Registry Full'!D1396,0),S1396-D1396))","v":""},{"$nulls":5},""]
["",null,null,"00:00:00",{"$nulls":15},{"$f":"IF(OR(D1397=0,P1397=Presets!$C$67),\"\",IF(S1397=0,ROUNDDOWN(NOW()-'Registry Full'!D1397,0),S1397-D1397))","v":""},{"$nulls":5},""]
["",null,null,"00:00:00",{"$nulls":15},{"$f":"IF(OR(D1398=0,P1398=Presets!$C$67),\"\",IF(S1398=0,ROUNDDOWN(NOW()-'Registry Full'!D1398,0),S1398-D1398))","v":""},{"$nulls":5},""]
["",null,null,"00:00:00",{"$nulls":15},{"$f":"IF(OR(D1399=0,P1399=Presets!$C$67),\"\",IF(S1399=0,ROUNDDOWN(NOW()-'Registry Full'!D1399,0),S1399-D1399))","v":""},{"$nulls":5},""]
["",null,null,"00:00:00",{"$nulls":15},{"$f":"IF(OR(D1400=0,P1400=Presets!$C$67),\"\",IF(S1400=0,ROUNDDOWN(NOW()-'Registry Full'!D1400,0),S1400-D1400))","v":""},{"$nulls":5},""]
["",null,null,"00:00:00",{"$nulls":15},{"$f":"IF(OR(D1401=0,P1401=Presets!$C$67),\"\",IF(S1401=0,ROUNDDOWN(NOW()-'Registry Full'!D1401,0),S1401-D1401))","v":""},{"$nulls":5},""]
["",null,null,"00:00:00",{"$nulls":15},{"$f":"IF(OR(D1402=0,P1402=Presets!$C$67),\"\",IF(S1402=0,ROUNDDOWN(NOW()-'Registry Full'!D1402,0),S1402-D1402))","v":""},{"$nulls":5},""]
["",null,null,"00:00:00",{"$nulls":15},{"$f":"IF(OR(D1403=0,P1403=Presets!$C$67),\"\",IF(S1403=0,ROUNDDOWN(NOW()-'Registry Full'!D1403,0),S1403-D1403))","v":""},{"$nulls":5},""]
["",null,null,"00:00:00",{"$nulls":15},{"$f":"IF(OR(D1404=0,P1404=Presets!$C$67),\"\",IF(S1404=0,ROUNDDOWN(NOW()-'Registry Full'!D1404,0),S1404-D1404))","v":""},{"$nulls":5},""]
["",null,null,"00:00:00",{"$nulls":15},{"$f":"IF(OR(D1405=0,P1405=Presets!$C$67),\"\",IF(S1405=0,ROUNDDOWN(NOW()-'Registry Full'!D1405,0),S1405-D1405))","v":""},{"$nulls":5},""]
["",null,null,"00:00:00",{"$nulls":15},{"$f":"IF(OR(D1406=0,P1406=Presets!$C$67),\"\",IF(S1406=0,ROUNDDOWN(NOW()-'Registry Full'!D1406,0),S1406-D1406))","v":""},{"$nulls":5},""]
["",null,null,"00:00:00",{"$nulls":15},{"$f":"IF(OR(D1407=0,P1407=Presets!$C$67),\"\",IF(S1407=0,ROUNDDOWN(NOW()-'Registry Full'!D1407,0),S1407-D1407))","v":""},{"$nulls":5},""]
["",null,null,"00:00:00",{"$nulls":15},{"$f":"IF(OR(D1408=0,P1408=Presets!$C$67),\"\",IF(S1408=0,ROUNDDOWN(NOW()-'Registry Full'!D1408,0),S1408-D1408))","v":""},{"$nulls":5},""]
["",null,null,"00:00:00",{"$nulls":15},{"$f":"IF(OR(D1409=0,P1409=Presets!$C$67),\"\",IF(S1409=0,ROUNDDOWN(NOW()-'Registry Full'!D1409,0),S1409-D1409))","v":""},{"$nulls":5},""]
["",null,null,"00:00:00",{"$nulls":15},{"$f":"IF(OR(D1410=0,P1410=Presets!$C$67),\"\",IF(S1410=0,ROUNDDOWN(NOW()-'Registry Full'!D1410,0),S1410-D1410))","v":""},{"$nulls":5},""]
["",null,null,"00:00:00",{"$nulls":15},{"$f":"IF(OR(D1411=0,P1411=Presets!$C$67),\"\",IF(S1411=0,ROUNDDOWN(NOW()-'Registry Full'!D1411,0),S1411-D1411))","v":""},{"$nulls":5},""]
["",null,null,"00:00:00",{"$nulls":15},{"$f":"IF(OR(D1412=0,P1412=Presets!$C$67),\"\",IF(S1412=0,ROUNDDOWN(NOW()-'Registry Full'!D1412,0),S1412-D1412))","v":""},{"$nulls":5},""]
["",null,null,"00:00:00",{"$nulls":15},{"$f":"IF(OR(D1413=0,P1413=Presets!$C$67),\"\",IF(S1413=0,ROUNDDOWN(NOW()-'Registry Full'!D1413,0),S1413-D1413))","v":""},{"$nulls":5},""]
["",null,null,{"$f":"IF(C1414=\"\",0,VALUE(RIGHT(C1414,LEN(C1414)-FIND(\"/\",C1414,LEN(C1414)-10))))","v":"00:00:00"},{"$nulls":15},{"$f":"IF(OR(D1414=0,P1414=Presets!$C$67),\"\",IF(S1414=0,ROUNDDOWN(NOW()-'Registry Full'!D1414,0),S1414-D1414))","v":""},{"$nulls":5},""]
["",null,null,"00:00:00",{"$nulls":15},{"$f":"IF(OR(D1415=0,P1415=Presets!$C$67),\"\",IF(S1415=0,ROUNDDOWN(NOW()-'Registry Full'!D1415,0),S1415-D1415))","v":""},{"$nulls":5},{"$f":"IF(OR(D1415=0,Y1415=0),\"\",Y1415-D1415)","v":""}]
["",null,null,"00:00:00",{"$nulls":15},{"$f":"IF(OR(D1416=0,P1416=Presets!$C$67),\"\",IF(S1416=0,ROUNDDOWN(NOW()-'Registry Full'!D1416,0),S1416-D1416))","v":""},{"$nulls":5},""]
["",null,null,"00:00:00",{"$nulls":15},{"$f":"IF(OR(D1417=0,P1417=Presets!$C$67),\"\",IF(S1417=0,ROUNDDOWN(NOW()-'Registry Full'!D1417,0),S1417-D1417))","v":""},{"$nulls":5},""]
["",null,null,"00:00:00",{"$nulls":15},{"$f":"IF(OR(D1418=0,P1418=Presets!$C$67),\"\",IF(S1418=0,ROUNDDOWN(NOW()-'Registry Full'!D1418,0),S1418-D1418))","v":""},{"$nulls":5},""]
["",null,null,"00:00:00",{"$nulls":15},{"$f":"IF(OR(D1419=0,P1419=Presets!$C$67),\"\",IF(S1419=0,ROUNDDOWN(NOW()-'Registry Full'!D1419,0),S1419-D1419))","v":""},{"$nulls":5},""]
["",null,null,"00:00:00",{"$nulls":15},{"$f":"IF(OR(D1420=0,P1420=Presets!$C$67),\"\",IF(S1420=0,ROUNDDOWN(NOW()-'Registry Full'!D1420,0),S1420-D1420))","v":""},{"$nulls":5},""]
["",null,null,"00:00:00",{"$nulls":15},{"$f":"IF(OR(D1421=0,P1421=Presets!$C$67),\"\",IF(S1421=0,ROUNDDOWN(NOW()-'Registry Full'!D1421,0),S1421-D1421))","v":""},{"$nulls":5},""]
["",null,null,"00:00:00",{"$nulls":15},{"$f":"IF(OR(D1422=0,P1422=Presets!$C$67),\"\",IF(S1422=0,ROUNDDOWN(NOW()-'Registry Full'!D1422,0),S1422-D1422))","v":""},{"$nulls":5},""]
["",null,null,"00:00:00",{"$nulls":15},{"$f":"IF(OR(D1423=0,P1423=Presets!$C$67),\"\",IF(S1423=0,ROUNDDOWN(NOW()-'Registry Full'!D1423,0),S1423-D1423))","v":""},{"$nulls":5},""]
["",null,null,"00:00:00",{"$nulls":15},{"$f":"IF(OR(D1424=0,P1424=Presets!$C$67),\"\",IF(S1424=0,ROUNDDOWN(NOW()-'Registry Full'!D1424,0),S1424-D1424))","v":""},{"$nulls":5},""]
["",null,null,"00:00:00",{"$nulls":15},{"$f":"IF(OR(D1425=0,P1425=Presets!$C$67),\"\",IF(S1425=0,ROUNDDOWN(NOW()-'Registry Full'!D1425,0),S1425-D1425))","v":""},{"$nulls":5},""]
["",null,null,"00:00:00",{"$nulls":15},{"$f":"IF(OR(D1426=0,P1426=Presets!$C$67),\"\",IF(S1426=0,ROUNDDOWN(NOW()-'Registry Full'!D1426,0),S1426-D1426))","v":""},{"$nulls":5},""]
["",null,null,"00:00:00",{"$nulls":15},{"$f":"IF(OR(D1427=0,P1427=Presets!$C$67),\"\",IF(S1427=0,ROUNDDOWN(NOW()-'Registry Full'!D1427,0),S1427-D1427))","v":""},{"$nulls":5},""]
["",null,null,"00:00:00",{"$nulls":15},{"$f":"IF(OR(D1428=0,P1428=Presets!$C$67),\"\",IF(S1428=0,ROUNDDOWN(NOW()-'Registry Full'!D1428,0),S1428-D1428))","v":""},{"$nulls":5},""]
["",null,null,"00:00:00",{"$nulls":15},{"$f":"IF(OR(D1429=0,P1429=Presets!$C$67),\"\",IF(S1429=0,ROUNDDOWN(NOW()-'Registry Full'!D1429,0),S1429-D1429))","v":""},{"$nulls":5},""]
["",null,null,"00:00:00",{"$nulls":15},{"$f":"IF(OR(D1430=0,P1430=Presets!$C$67),\"\",IF(S1430=0,ROUNDDOWN(NOW()-'Registry Full'!D1430,0),S1430-D1430))","v":""},{"$nulls":5},""]
[{"$f":"IF(COUNTA(B1431)<>0,A1430+1,\"\")","v":""},null,null,"00:00:00",{"$nulls":15},{"$f":"IF(OR(D1431=0,P1431=Presets!$C$67),\"\",IF(S1431=0,ROUNDDOWN(NOW()-'Registry Full'!D1431,0),S1431-D1431))","v":""},{"$nulls":5},""]
["",null,null,"00:00:00",{"$nulls":15},{"$f":"IF(OR(D1432=0,P1432=Presets!$C$67),\"\",IF(S1432=0,ROUNDDOWN(NOW()-'Registry Full'!D1432,0),S1432-D1432))","v":""},{"$nulls":5},""]
["",null,null,"00:00:00",{"$nulls":15},{"$f":"IF(OR(D1433=0,P1433=Presets!$C$67),\"\",IF(S1433=0,ROUNDDOWN(NOW()-'Registry Full'!D1433,0),S1433-D1433))","v":""},{"$nulls":5},""]
["",null,null,"00:00:00",{"$nulls":15},{"$f":"IF(OR(D1434=0,P1434=Presets!$C$67),\"\",IF(S1434=0,ROUNDDOWN(NOW()-'Registry Full'!D1434,0),S1434-D1434))","v":""},{"$nulls":5},""]
["",null,null,"00:00:00",{"$nulls":15},{"$f":"IF(OR(D1435=0,P1435=Presets!$C$67),\"\",IF(S1435=0,ROUNDDOWN(NOW()-'Registry Full'!D1435,0),S1435-D1435))","v":""},{"$nulls":5},""]
["",null,null,"00:00:00",{"$nulls":15},{"$f":"IF(OR(D1436=0,P1436=Presets!$C$67),\"\",IF(S1436=0,ROUNDDOWN(NOW()-'Registry Full'!D1436,0),S1436-D1436))","v":""},{"$nulls":5},""]
["",null,null,"00:00:00",{"$nulls":15},{"$f":"IF(OR(D1437=0,P1437=Presets!$C$67),\"\",IF(S1437=0,ROUNDDOWN(NOW()-'Registry Full'!D1437,0),S1437-D1437))","v":""},{"$nulls":5},""]
["",null,null,"00:00:00",{"$nulls":15},{"$f":"IF(OR(D1438=0,P1438=Presets!$C$67),\"\",IF(S1438=0,ROUNDDOWN(NOW()-'Registry Full'!D1438,0),S1438-D1438))","v":""},{"$nulls":5},""]
["",null,null,"00:00:00",{"$nulls":15},{"$f":"IF(OR(D1439=0,P1439=Presets!$C$67),\"\",IF(S1439=0,ROUNDDOWN(NOW()-'Registry Full'!D1439,0),S1439-D1439))","v":""},{"$nulls":5},""]
["",null,null,"00:00:00",{"$nulls":15},{"$f":"IF(OR(D1440=0,P1440=Presets!$C$67),\"\",IF(S1440=0,ROUNDDOWN(NOW()-'Registry Full'!D1440,0),S1440-D1440))","v":""},{"$nulls":5},""]
["",null,null,"00:00:00",{"$nulls":15},{"$f":"IF(OR(D1441=0,P1441=Presets!$C$67),\"\",IF(S1441=0,ROUNDDOWN(NOW()-'Registry Full'!D1441,0),S1441-D1441))","v":""},{"$nulls":5},""]
["",null,null,"00:00:00",{"$nulls":15},{"$f":"IF(OR(D1442=0,P1442=Presets!$C$67),\"\",IF(S1442=0,ROUNDDOWN(NOW()-'Registry Full'!D1442,0),S1442-D1442))","v":""},{"$nulls":5},""]
["",null,null,"00:00:00",{"$nulls":15},{"$f":"IF(OR(D1443=0,P1443=Presets!$C$67),\"\",IF(S1443=0,ROUNDDOWN(NOW()-'Registry Full'!D1443,0),S1443-D1443))","v":""},{"$nulls":5},""]
["",null,null,"00:00:00",{"$nulls":15},{"$f":"IF(OR(D1444=0,P1444=Presets!$C$67),\"\",IF(S1444=0,ROUNDDOWN(NOW()-'Registry Full'!D1444,0),S1444-D1444))","v":""},{"$nulls":5},""]
["",null,null,"00:00:00",{"$nulls":15},{"$f":"IF(OR(D1445=0,P1445=Presets!$C$67),\"\",IF(S1445=0,ROUNDDOWN(NOW()-'Registry Full'!D1445,0),S1445-D1445))","v":""},{"$nulls":5},""]
["",null,null,"00:00:00",{"$nulls":15},{"$f":"IF(OR(D1446=0,P1446=Presets!$C$67),\"\",IF(S1446=0,ROUNDDOWN(NOW()-'Registry Full'!D1446,0),S1446-D1446))","v":""},{"$nulls":5},""]
["",null,null,"00:00:00",{"$nulls":15},{"$f":"IF(OR(D1447=0,P1447=Presets!$C$67),\"\",IF(S1447=0,ROUNDDOWN(NOW()-'Registry Full'!D1447,0),S1447-D1447))","v":""},{"$nulls":5},""]
["",null,null,"00:00:00",{"$nulls":15},{"$f":"IF(OR(D1448=0,P1448=Presets!$C$67),\"\",IF(S1448=0,ROUNDDOWN(NOW()-'Registry Full'!D1448,0),S1448-D1448))","v":""},{"$nulls":5},""]
["",null,null,"00:00:00",{"$nulls":15},{"$f":"IF(OR(D1449=0,P1449=Presets!$C$67),\"\",IF(S1449=0,ROUNDDOWN(NOW()-'Registry Full'!D1449,0),S1449-D1449))","v":""},{"$nulls":5},""]
["",null,null,"00:00:00",{"$nulls":15},{"$f":"IF(OR(D1450=0,P1450=Presets!$C$67),\"\",IF(S1450=0,ROUNDDOWN(NOW()-'Registry Full'!D1450,0),S1450-D1450))","v":""},{"$nulls":5},""]
["",null,null,"00:00:00",{"$nulls":15},{"$f":"IF(OR(D1451=0,P1451=Presets!$C$67),\"\",IF(S1451=0,ROUNDDOWN(NOW()-'Registry Full'!D1451,0),S1451-D1451))","v":""},{"$nulls":5},""]
["",null,null,"00:00:00",{"$nulls":15},{"$f":"IF(OR(D1452=0,P1452=Presets!$C$67),\"\",IF(S1452=0,ROUNDDOWN(NOW()-'Registry Full'!D1452,0),S1452-D1452))","v":""},{"$nulls":5},""]
["",null,null,"00:00:00",{"$nulls":15},{"$f":"IF(OR(D1453=0,P1453=Presets!$C$67),\"\",IF(S1453=0,ROUNDDOWN(NOW()-'Registry Full'!D1453,0),S1453-D1453))","v":""},{"$nulls":5},""]
["",null,null,"00:00:00",{"$nulls":15},{"$f":"IF(OR(D1454=0,P1454=Presets!$C$67),\"\",IF(S1454=0,ROUNDDOWN(NOW()-'Registry Full'!D1454,0),S1454-D1454))","v":""},{"$nulls":5},""]
["",null,null,"00:00:00",{"$nulls":15},{"$f":"IF(OR(D1455=0,P1455=Presets!$C$67),\"\",IF(S1455=0,ROUNDDOWN(NOW()-'Registry Full'!D1455,0),S1455-D1455))","v":""},{"$nulls":5},""]
["",null,null,"00:00:00",{"$nulls":15},{"$f":"IF(OR(D1456=0,P1456=Presets!$C$67),\"\",IF(S1456=0,ROUNDDOWN(NOW()-'Registry Full'!D1456,0),S1456-D1456))","v":""},{"$nulls":5},""]
["",null,null,"00:00:00",{"$nulls":15},{"$f":"IF(OR(D1457=0,P1457=Presets!$C$67),\"\",IF(S1457=0,ROUNDDOWN(NOW()-'Registry Full'!D1457,0),S1457-D1457))","v":""},{"$nulls":5},""]
["",null,null,"00:00:00",{"$nulls":15},{"$f":"IF(OR(D1458=0,P1458=Presets!$C$67),\"\",IF(S1458=0,ROUNDDOWN(NOW()-'Registry Full'!D1458,0),S1458-D1458))","v":""},{"$nulls":5},""]
["",null,null,"00:00:00",{"$nulls":15},{"$f":"IF(OR(D1459=0,P1459=Presets!$C$67),\"\",IF(S1459=0,ROUNDDOWN(NOW()-'Registry Full'!D1459,0),S1459-D1459))","v":""},{"$nulls":5},""]
["",null,null,"00:00:00",{"$nulls":15},{"$f":"IF(OR(D1460=0,P1460=Presets!$C$67),\"\",IF(S1460=0,ROUNDDOWN(NOW()-'Registry Full'!D1460,0),S1460-D1460))","v":""},{"$nulls":5},""]
["",null,null,"00:00:00",{"$nulls":15},{"$f":"IF(OR(D1461=0,P1461=Presets!$C$67),\"\",IF(S1461=0,ROUNDDOWN(NOW()-'Registry Full'!D1461,0),S1461-D1461))","v":""},{"$nulls":5},""]
["",null,null,"00:00:00",{"$nulls":15},{"$f":"IF(OR(D1462=0,P1462=Presets!$C$67),\"\",IF(S1462=0,ROUNDDOWN(NOW()-'Registry Full'!D1462,0),S1462-D1462))","v":""},{"$nulls":5},""]
["",null,null,"00:00:00",{"$nulls":15},{"$f":"IF(OR(D1463=0,P1463=Presets!$C$67),\"\",IF(S1463=0,ROUNDDOWN(NOW()-'Registry Full'!D1463,0),S1463-D1463))","v":""},{"$nulls":5},""]
["",null,null,"00:00:00",{"$nulls":15},{"$f":"IF(OR(D1464=0,P1464=Presets!$C$67),\"\",IF(S1464=0,ROUNDDOWN(NOW()-'Registry Full'!D1464,0),S1464-D1464))","v":""},{"$nulls":5},""]
["",null,null,"00:00:00",{"$nulls":15},{"$f":"IF(OR(D1465=0,P1465=Presets!$C$67),\"\",IF(S1465=0,ROUNDDOWN(NOW()-'Registry Full'!D1465,0),S1465-D1465))","v":""},{"$nulls":5},""]
["",null,null,"00:00:00",{"$nulls":15},{"$f":"IF(OR(D1466=0,P1466=Presets!$C$67),\"\",IF(S1466=0,ROUNDDOWN(NOW()-'Registry Full'!D1466,0),S1466-D1466))","v":""},{"$nulls":5},""]
["",null,null,"00:00:00",{"$nulls":15},{"$f":"IF(OR(D1467=0,P1467=Presets!$C$67),\"\",IF(S1467=0,ROUNDDOWN(NOW()-'Registry Full'!D1467,0),S1467-D1467))","v":""},{"$nulls":5},""]
["",null,null,"00:00:00",{"$nulls":15},{"$f":"IF(OR(D1468=0,P1468=Presets!$C$67),\"\",IF(S1468=0,ROUNDDOWN(NOW()-'Registry Full'!D1468,0),S1468-D1468))","v":""},{"$nulls":5},""]
["",null,null,"00:00:00",{"$nulls":15},{"$f":"IF(OR(D1469=0,P1469=Presets!$C$67),\"\",IF(S1469=0,ROUNDDOWN(NOW()-'Registry Full'!D1469,0),S1469-D1469))","v":""},{"$nulls":5},""]
["",null,null,"00:00:00",{"$nulls":15},{"$f":"IF(OR(D1470=0,P1470=Presets!$C$67),\"\",IF(S1470=0,ROUNDDOWN(NOW()-'Registry Full'!D1470,0),S1470-D1470))","v":""},{"$nulls":5},""]
["",null,null,"00:00:00",{"$nulls":15},{"$f":"IF(OR(D1471=0,P1471=Presets!$C$67),\"\",IF(S1471=0,ROUNDDOWN(NOW()-'Registry Full'!D1471,0),S1471-D1471))","v":""},{"$nulls":5},""]
["",null,null,"00:00:00",{"$nulls":15},{"$f":"IF(OR(D1472=0,P1472=Presets!$C$67),\"\",IF(S1472=0,ROUNDDOWN(NOW()-'Registry Full'!D1472,0),S1472-D1472))","v":""},{"$nulls":5},""]
["",null,null,"00:00:00",{"$nulls":15},{"$f":"IF(OR(D1473=0,P1473=Presets!$C$67),\"\",IF(S1473=0,ROUNDDOWN(NOW()-'Registry Full'!D1473,0),S1473-D1473))","v":""},{"$nulls":5},""]
["",null,null,"00:00:00",{"$nulls":15},{"$f":"IF(OR(D1474=0,P1474=Presets!$C$67),\"\",IF(S1474=0,ROUNDDOWN(NOW()-'Registry Full'!D1474,0),S1474-D1474))","v":""},{"$nulls":5},""]
["",null,null,"00:00:00",{"$nulls":15},{"$f":"IF(OR(D1475=0,P1475=Presets!$C$67),\"\",IF(S1475=0,ROUNDDOWN(NOW()-'Registry Full'!D1475,0),S1475-D1475))","v":""},{"$nulls":5},""]
["",null,null,"00:00:00",{"$nulls":15},{"$f":"IF(OR(D1476=0,P1476=Presets!$C$67),\"\",IF(S1476=0,ROUNDDOWN(NOW()-'Registry Full'!D1476,0),S1476-D1476))","v":""},{"$nulls":5},""]
["",null,null,"00:00:00",{"$nulls":15},{"$f":"IF(OR(D1477=0,P1477=Presets!$C$67),\"\",IF(S1477=0,ROUNDDOWN(NOW()-'Registry Full'!D1477,0),S1477-D1477))","v":""},{"$nulls":5},""]
["",null,null,{"$f":"IF(C1478=\"\",0,VALUE(RIGHT(C1478,LEN(C1478)-FIND(\"/\",C1478,LEN(C1478)-10))))","v":"00:00:00"},{"$nulls":15},{"$f":"IF(OR(D1478=0,P1478=Presets!$C$67),\"\",IF(S1478=0,ROUNDDOWN(NOW()-'Registry Full'!D1478,0),S1478-D1478))","v":""},{"$nulls":5},""]
["",null,null,"00:00:00",{"$nulls":15},{"$f":"IF(OR(D1479=0,P1479=Presets!$C$67),\"\",IF(S1479=0,ROUNDDOWN(NOW()-'Registry Full'!D1479,0),S1479-D1479))","v":""},{"$nulls":5},{"$f":"IF(OR(D1479=0,Y1479=0),\"\",Y1479-D1479)","v":""}]
["",null,null,"00:00:00",{"$nulls":15},{"$f":"IF(OR(D1480=0,P1480=Presets!$C$67),\"\",IF(S1480=0,ROUNDDOWN(NOW()-'Registry Full'!D1480,0),S1480-D1480))","v":""},{"$nulls":5},""]
["",null,null,"00:00:00",{"$nulls":15},{"$f":"IF(OR(D1481=0,P1481=Presets!$C$67),\"\",IF(S1481=0,ROUNDDOWN(NOW()-'Registry Full'!D1481,0),S1481-D1481))","v":""},{"$nulls":5},""]
["",null,null,"00:00:00",{"$nulls":15},{"$f":"IF(OR(D1482=0,P1482=Presets!$C$67),\"\",IF(S1482=0,ROUNDDOWN(NOW()-'Registry Full'!D1482,0),S1482-D1482))","v":""},{"$nulls":5},""]
["",null,null,"00:00:00",{"$nulls":15},{"$f":"IF(OR(D1483=0,P1483=Presets!$C$67),\"\",IF(S1483=0,ROUNDDOWN(NOW()-'Registry Full'!D1483,0),S1483-D1483))","v":""},{"$nulls":5},""]
["",null,null,"00:00:00",{"$nulls":15},{"$f":"IF(OR(D1484=0,P1484=Presets!$C$67),\"\",IF(S1484=0,ROUNDDOWN(NOW()-'Registry Full'!D1484,0),S1484-D1484))","v":""},{"$nulls":5},""]
["",null,null,"00:00:00",{"$nulls":15},{"$f":"IF(OR(D1485=0,P1485=Presets!$C$67),\"\",IF(S1485=0,ROUNDDOWN(NOW()-'Registry Full'!D1485,0),S1485-D1485))","v":""},{"$nulls":5},""]
["",null,null,"00:00:00",{"$nulls":15},{"$f":"IF(OR(D1486=0,P1486=Presets!$C$67),\"\",IF(S1486=0,ROUNDDOWN(NOW()-'Registry Full'!D1486,0),S1486-D1486))","v":""},{"$nulls":5},""]
["",null,null,"00:00:00",{"$nulls":15},{"$f":"IF(OR(D1487=0,P1487=Presets!$C$67),\"\",IF(S1487=0,ROUNDDOWN(NOW()-'Registry Full'!D1487,0),S1487-D1487))","v":""},{"$nulls":5},""]
["",null,null,"00:00:00",{"$nulls":15},{"$f":"IF(OR(D1488=0,P1488=Presets!$C$67),\"\",IF(S1488=0,ROUNDDOWN(NOW()-'Registry Full'!D1488,0),S1488-D1488))","v":""},{"$nulls":5},""]
["",null,null,"00:00:00",{"$nulls":15},{"$f":"IF(OR(D1489=0,P1489=Presets!$C$67),\"\",IF(S1489=0,ROUNDDOWN(NOW()-'Registry Full'!D1489,0),S1489-D1489))","v":""},{"$nulls":5},""]
["",null,null,"00:00:00",{"$nulls":15},{"$f":"IF(OR(D1490=0,P1490=Presets!$C$67),\"\",IF(S1490=0,ROUNDDOWN(NOW()-'Registry Full'!D1490,0),S1490-D1490))","v":""},{"$nulls":5},""]
["",null,null,"00:00:00",{"$nulls":15},{"$f":"IF(OR(D1491=0,P1491=Presets!$C$67),\"\",IF(S1491=0,ROUNDDOWN(NOW()-'Registry Full'!D1491,0),S1491-D1491))","v":""},{"$nulls":5},""]
["",null,null,"00:00:00",{"$nulls":15},{"$f":"IF(OR(D1492=0,P1492=Presets!$C$67),\"\",IF(S1492=0,ROUNDDOWN(NOW()-'Registry Full'!D1492,0),S1492-D1492))","v":""},{"$nulls":5},""]
["",null,null,"00:00:00",{"$nulls":15},{"$f":"IF(OR(D1493=0,P1493=Presets!$C$67),\"\",IF(S1493=0,ROUNDDOWN(NOW()-'Registry Full'!D1493,0),S1493-D1493))","v":""},{"$nulls":5},""]
["",null,null,"00:00:00",{"$nulls":15},{"$f":"IF(OR(D1494=0,P1494=Presets!$C$67),\"\",IF(S1494=0,ROUNDDOWN(NOW()-'Registry Full'!D1494,0),S1494-D1494))","v":""},{"$nulls":5},""]
[{"$f":"IF(COUNTA(B1495)<>0,A1494+1,\"\")","v":""},null,null,"00:00:00",{"$nulls":15},{"$f":"IF(OR(D1495=0,P1495=Presets!$C$67),\"\",IF(S1495=0,ROUNDDOWN(NOW()-'Registry Full'!D1495,0),S1495-D1495))","v":""},{"$nulls":5},""]
["",null,null,"00:00:00",{"$nulls":15},{"$f":"IF(OR(D1496=0,P1496=Presets!$C$67),\"\",IF(S1496=0,ROUNDDOWN(NOW()-'Registry Full'!D1496,0),S1496-D1496))","v":""},{"$nulls":5},""]
["",null,null,"00:00:00",{"$nulls":15},{"$f":"IF(OR(D1497=0,P1497=Presets!$C$67),\"\",IF(S1497=0,ROUNDDOWN(NOW()-'Registry Full'!D1497,0),S1497-D1497))","v":""},{"$nulls":5},""]
["",null,null,"00:00:00",{"$nulls":15},{"$f":"IF(OR(D1498=0,P1498=Presets!$C$67),\"\",IF(S1498=0,ROUNDDOWN(NOW()-'Registry Full'!D1498,0),S1498-D1498))","v":""},{"$nulls":5},""]
["",null,null,"00:00:00",{"$nulls":15},{"$f":"IF(OR(D1499=0,P1499=Presets!$C$67),\"\",IF(S1499=0,ROUNDDOWN(NOW()-'Registry Full'!D1499,0),S1499-D1499))","v":""},{"$nulls":5},""]
["",null,null,"00:00:00",{"$nulls":15},{"$f":"IF(OR(D1500=0,P1500=Presets!$C$67),\"\",IF(S1500=0,ROUNDDOWN(NOW()-'Registry Full'!D1500,0),S1500-D1500))","v":""},{"$nulls":5},""]
["",null,null,"00:00:00",{"$nulls":15},{"$f":"IF(OR(D1501=0,P1501=Presets!$C$67),\"\",IF(S1501=0,ROUNDDOWN(NOW()-'Registry Full'!D1501,0),S1501-D1501))","v":""},{"$nulls":5},""]
["",null,null,"00:00:00",{"$nulls":15},{"$f":"IF(OR(D1502=0,P1502=Presets!$C$67),\"\",IF(S1502=0,ROUNDDOWN(NOW()-'Registry Full'!D1502,0),S1502-D1502))","v":""},{"$nulls":5},""]
["",null,null,"00:00:00",{"$nulls":15},{"$f":"IF(OR(D1503=0,P1503=Presets!$C$67),\"\",IF(S1503=0,ROUNDDOWN(NOW()-'Registry Full'!D1503,0),S1503-D1503))","v":""},{"$nulls":5},""]
["",null,null,"00:00:00",{"$nulls":15},{"$f":"IF(OR(D1504=0,P1504=Presets!$C$67),\"\",IF(S1504=0,ROUNDDOWN(NOW()-'Registry Full'!D1504,0),S1504-D1504))","v":""},{"$nulls":5},""]
["",null,null,"00:00:00",{"$nulls":15},{"$f":"IF(OR(D1505=0,P1505=Presets!$C$67),\"\",IF(S1505=0,ROUNDDOWN(NOW()-'Registry Full'!D1505,0),S1505-D1505))","v":""},{"$nulls":5},""]
["",null,null,"00:00:00",{"$nulls":15},{"$f":"IF(OR(D1506=0,P1506=Presets!$C$67),\"\",IF(S1506=0,ROUNDDOWN(NOW()-'Registry Full'!D1506,0),S1506-D1506))","v":""},{"$nulls":5},""]
["",null,null,"00:00:00",{"$nulls":15},{"$f":"IF(OR(D1507=0,P1507=Presets!$C$67),\"\",IF(S1507=0,ROUNDDOWN(NOW()-'Registry Full'!D1507,0),S1507-D1507))","v":""},{"$nulls":5},""]
["",null,null,"00:00:00",{"$nulls":15},{"$f":"IF(OR(D1508=0,P1508=Presets!$C$67),\"\",IF(S1508=0,ROUNDDOWN(NOW()-'Registry Full'!D1508,0),S1508-D1508))","v":""},{"$nulls":5},""]
["",null,null,"00:00:00",{"$nulls":15},{"$f":"IF(OR(D1509=0,P1509=Presets!$C$67),\"\",IF(S1509=0,ROUNDDOWN(NOW()-'Registry Full'!D1509,0),S1509-D1509))","v":""},{"$nulls":5},""]
["",null,null,"00:00:00",{"$nulls":15},{"$f":"IF(OR(D1510=0,P1510=Presets!$C$67),\"\",IF(S1510=0,ROUNDDOWN(NOW()-'Registry Full'!D1510,0),S1510-D1510))","v":""},{"$nulls":5},""]
["",null,null,"00:00:00",{"$nulls":15},{"$f":"IF(OR(D1511=0,P1511=Presets!$C$67),\"\",IF(S1511=0,ROUNDDOWN(NOW()-'Registry Full'!D1511,0),S1511-D1511))","v":""},{"$nulls":5},""]
["",null,null,"00:00:00",{"$nulls":15},{"$f":"IF(OR(D1512=0,P1512=Presets!$C$67),\"\",IF(S1512=0,ROUNDDOWN(NOW()-'Registry Full'!D1512,0),S1512-D1512))","v":""},{"$nulls":5},""]
["",null,null,"00:00:00",{"$nulls":15},{"$f":"IF(OR(D1513=0,P1513=Presets!$C$67),\"\",IF(S1513=0,ROUNDDOWN(NOW()-'Registry Full'!D1513,0),S1513-D1513))","v":""},{"$nulls":5},""]
["",null,null,"00:00:00",{"$nulls":15},{"$f":"IF(OR(D1514=0,P1514=Presets!$C$67),\"\",IF(S1514=0,ROUNDDOWN(NOW()-'Registry Full'!D1514,0),S1514-D1514))","v":""},{"$nulls":5},""]
["",null,null,"00:00:00",{"$nulls":15},{"$f":"IF(OR(D1515=0,P1515=Presets!$C$67),\"\",IF(S1515=0,ROUNDDOWN(NOW()-'Registry Full'!D1515,0),S1515-D1515))","v":""},{"$nulls":5},""]
["",null,null,"00:00:00",{"$nulls":15},{"$f":"IF(OR(D1516=0,P1516=Presets!$C$67),\"\",IF(S1516=0,ROUNDDOWN(NOW()-'Registry Full'!D1516,0),S1516-D1516))","v":""},{"$nulls":5},""]
["",null,null,"00:00:00",{"$nulls":15},{"$f":"IF(OR(D1517=0,P1517=Presets!$C$67),\"\",IF(S1517=0,ROUNDDOWN(NOW()-'Registry Full'!D1517,0),S1517-D1517))","v":""},{"$nulls":5},""]
["",null,null,"00:00:00",{"$nulls":15},{"$f":"IF(OR(D1518=0,P1518=Presets!$C$67),\"\",IF(S1518=0,ROUNDDOWN(NOW()-'Registry Full'!D1518,0),S1518-D1518))","v":""},{"$nulls":5},""]
["",null,null,"00:00:00",{"$nulls":15},{"$f":"IF(OR(D1519=0,P1519=Presets!$C$67),\"\",IF(S1519=0,ROUNDDOWN(NOW()-'Registry Full'!D1519,0),S1519-D1519))","v":""},{"$nulls":5},""]
["",null,null,"00:00:00",{"$nulls":15},{"$f":"IF(OR(D1520=0,P1520=Presets!$C$67),\"\",IF(S1520=0,ROUNDDOWN(NOW()-'Registry Full'!D1520,0),S1520-D1520))","v":""},{"$nulls":5},""]
["",null,null,"00:00:00",{"$nulls":15},{"$f":"IF(OR(D1521=0,P1521=Presets!$C$67),\"\",IF(S1521=0,ROUNDDOWN(NOW()-'Registry Full'!D1521,0),S1521-D1521))","v":""},{"$nulls":5},""]
["",null,null,"00:00:00",{"$nulls":15},{"$f":"IF(OR(D1522=0,P1522=Presets!$C$67),\"\",IF(S1522=0,ROUNDDOWN(NOW()-'Registry Full'!D1522,0),S1522-D1522))","v":""},{"$nulls":5},""]
["",null,null,"00:00:00",{"$nulls":15},{"$f":"IF(OR(D1523=0,P1523=Presets!$C$67),\"\",IF(S1523=0,ROUNDDOWN(NOW()-'Registry Full'!D1523,0),S1523-D1523))","v":""},{"$nulls":5},""]
["",null,null,"00:00:00",{"$nulls":15},{"$f":"IF(OR(D1524=0,P1524=Presets!$C$67),\"\",IF(S1524=0,ROUNDDOWN(NOW()-'Registry Full'!D1524,0),S1524-D1524))","v":""},{"$nulls":5},""]
["",null,null,"00:00:00",{"$nulls":15},{"$f":"IF(OR(D1525=0,P1525=Presets!$C$67),\"\",IF(S1525=0,ROUNDDOWN(NOW()-'Registry Full'!D1525,0),S1525-D1525))","v":""},{"$nulls":5},""]
["",null,null,"00:00:00",{"$nulls":15},{"$f":"IF(OR(D1526=0,P1526=Presets!$C$67),\"\",IF(S1526=0,ROUNDDOWN(NOW()-'Registry Full'!D1526,0),S1526-D1526))","v":""},{"$nulls":5},""]
["",null,null,"00:00:00",{"$nulls":15},{"$f":"IF(OR(D1527=0,P1527=Presets!$C$67),\"\",IF(S1527=0,ROUNDDOWN(NOW()-'Registry Full'!D1527,0),S1527-D1527))","v":""},{"$nulls":5},""]
["",null,null,"00:00:00",{"$nulls":15},{"$f":"IF(OR(D1528=0,P1528=Presets!$C$67),\"\",IF(S1528=0,ROUNDDOWN(NOW()-'Registry Full'!D1528,0),S1528-D1528))","v":""},{"$nulls":5},""]
["",null,null,"00:00:00",{"$nulls":15},{"$f":"IF(OR(D1529=0,P1529=Presets!$C$67),\"\",IF(S1529=0,ROUNDDOWN(NOW()-'Registry Full'!D1529,0),S1529-D1529))","v":""},{"$nulls":5},""]
["",null,null,"00:00:00",{"$nulls":15},{"$f":"IF(OR(D1530=0,P1530=Presets!$C$67),\"\",IF(S1530=0,ROUNDDOWN(NOW()-'Registry Full'!D1530,0),S1530-D1530))","v":""},{"$nulls":5},""]
["",null,null,"00:00:00",{"$nulls":15},{"$f":"IF(OR(D1531=0,P1531=Presets!$C$67),\"\",IF(S1531=0,ROUNDDOWN(NOW()-'Registry Full'!D1531,0),S1531-D1531))","v":""},{"$nulls":5},""]
["",null,null,"00:00:00",{"$nulls":15},{"$f":"IF(OR(D1532=0,P1532=Presets!$C$67),\"\",IF(S1532=0,ROUNDDOWN(NOW()-'Registry Full'!D1532,0),S1532-D1532))","v":""},{"$nulls":5},""]
["",null,null,"00:00:00",{"$nulls":15},{"$f":"IF(OR(D1533=0,P1533=Presets!$C$67),\"\",IF(S1533=0,ROUNDDOWN(NOW()-'Registry Full'!D1533,0),S1533-D1533))","v":""},{"$nulls":5},""]
["",null,null,"00:00:00",{"$nulls":15},{"$f":"IF(OR(D1534=0,P1534=Presets!$C$67),\"\",IF(S1534=0,ROUNDDOWN(NOW()-'Registry Full'!D1534,0),S1534-D1534))","v":""},{"$nulls":5},""]
["",null,null,"00:00:00",{"$nulls":15},{"$f":"IF(OR(D1535=0,P1535=Presets!$C$67),\"\",IF(S1535=0,ROUNDDOWN(NOW()-'Registry Full'!D1535,0),S1535-D1535))","v":""},{"$nulls":5},""]
["",null,null,"00:00:00",{"$nulls":15},{"$f":"IF(OR(D1536=0,P1536=Presets!$C$67),\"\",IF(S1536=0,ROUNDDOWN(NOW()-'Registry Full'!D1536,0),S1536-D1536))","v":""},{"$nulls":5},""]
["",null,null,"00:00:00",{"$nulls":15},{"$f":"IF(OR(D1537=0,P1537=Presets!$C$67),\"\",IF(S1537=0,ROUNDDOWN(NOW()-'Registry Full'!D1537,0),S1537-D1537))","v":""},{"$nulls":5},""]
["",null,null,"00:00:00",{"$nulls":15},{"$f":"IF(OR(D1538=0,P1538=Presets!$C$67),\"\",IF(S1538=0,ROUNDDOWN(NOW()-'Registry Full'!D1538,0),S1538-D1538))","v":""},{"$nulls":5},""]
["",null,null,"00:00:00",{"$nulls":15},{"$f":"IF(OR(D1539=0,P1539=Presets!$C$67),\"\",IF(S1539=0,ROUNDDOWN(NOW()-'Registry Full'!D1539,0),S1539-D1539))","v":""},{"$nulls":5},""]
["",null,null,"00:00:00",{"$nulls":15},{"$f":"IF(OR(D1540=0,P1540=Presets!$C$67),\"\",IF(S1540=0,ROUNDDOWN(NOW()-'Registry Full'!D1540,0),S1540-D1540))","v":""},{"$nulls":5},""]
["",null,null,"00:00:00",{"$nulls":15},{"$f":"IF(OR(D1541=0,P1541=Presets!$C$67),\"\",IF(S1541=0,ROUNDDOWN(NOW()-'Registry Full'!D1541,0),S1541-D1541))","v":""},{"$nulls":5},""]
["",null,null,{"$f":"IF(C1542=\"\",0,VALUE(RIGHT(C1542,LEN(C1542)-FIND(\"/\",C1542,LEN(C1542)-10))))","v":"00:00:00"},{"$nulls":15},{"$f":"IF(OR(D1542=0,P1542=Presets!$C$67),\"\",IF(S1542=0,ROUNDDOWN(NOW()-'Registry Full'!D1542,0),S1542-D1542))","v":""},{"$nulls":5},""]
["",null,null,"00:00:00",{"$nulls":15},{"$f":"IF(OR(D1543=0,P1543=Presets!$C$67),\"\",IF(S1543=0,ROUNDDOWN(NOW()-'Registry Full'!D1543,0),S1543-D1543))","v":""},{"$nulls":5},{"$f":"IF(OR(D1543=0,Y1543=0),\"\",Y1543-D1543)","v":""}]
["",null,null,"00:00:00",{"$nulls":15},{"$f":"IF(OR(D1544=0,P1544=Presets!$C$67),\"\",IF(S1544=0,ROUNDDOWN(NOW()-'Registry Full'!D1544,0),S1544-D1544))","v":""},{"$nulls":5},""]
["",null,null,"00:00:00",{"$nulls":15},{"$f":"IF(OR(D1545=0,P1545=Presets!$C$67),\"\",IF(S1545=0,ROUNDDOWN(NOW()-'Registry Full'!D1545,0),S1545-D1545))","v":""},{"$nulls":5},""]
["",null,null,"00:00:00",{"$nulls":15},{"$f":"IF(OR(D1546=0,P1546=Presets!$C$67),\"\",IF(S1546=0,ROUNDDOWN(NOW()-'Registry Full'!D1546,0),S1546-D1546))","v":""},{"$nulls":5},""]
["",null,null,"00:00:00",{"$nulls":15},{"$f":"IF(OR(D1547=0,P1547=Presets!$C$67),\"\",IF(S1547=0,ROUNDDOWN(NOW()-'Registry Full'!D1547,0),S1547-D1547))","v":""},{"$nulls":5},""]
["",null,null,"00:00:00",{"$nulls":15},{"$f":"IF(OR(D1548=0,P1548=Presets!$C$67),\"\",IF(S1548=0,ROUNDDOWN(NOW()-'Registry Full'!D1548,0),S1548-D1548))","v":""},{"$nulls":5},""]
["",null,null,"00:00:00",{"$nulls":15},{"$f":"IF(OR(D1549=0,P1549=Presets!$C$67),\"\",IF(S1549=0,ROUNDDOWN(NOW()-'Registry Full'!D1549,0),S1549-D1549))","v":""},{"$nulls":5},""]
["",null,null,"00:00:00",{"$nulls":15},{"$f":"IF(OR(D1550=0,P1550=Presets!$C$67),\"\",IF(S1550=0,ROUNDDOWN(NOW()-'Registry Full'!D1550,0),S1550-D1550))","v":""},{"$nulls":5},""]
["",null,null,"00:00:00",{"$nulls":15},{"$f":"IF(OR(D1551=0,P1551=Presets!$C$67),\"\",IF(S1551=0,ROUNDDOWN(NOW()-'Registry Full'!D1551,0),S1551-D1551))","v":""},{"$nulls":5},""]
["",null,null,"00:00:00",{"$nulls":15},{"$f":"IF(OR(D1552=0,P1552=Presets!$C$67),\"\",IF(S1552=0,ROUNDDOWN(NOW()-'Registry Full'!D1552,0),S1552-D1552))","v":""},{"$nulls":5},""]
["",null,null,"00:00:00",{"$nulls":15},{"$f":"IF(OR(D1553=0,P1553=Presets!$C$67),\"\",IF(S1553=0,ROUNDDOWN(NOW()-'Registry Full'!D1553,0),S1553-D1553))","v":""},{"$nulls":5},""]
["",null,null,"00:00:00",{"$nulls":15},{"$f":"IF(OR(D1554=0,P1554=Presets!$C$67),\"\",IF(S1554=0,ROUNDDOWN(NOW()-'Registry Full'!D1554,0),S1554-D1554))","v":""},{"$nulls":5},""]
["",null,null,"00:00:00",{"$nulls":15},{"$f":"IF(OR(D1555=0,P1555=Presets!$C$67),\"\",IF(S1555=0,ROUNDDOWN(NOW()-'Registry Full'!D1555,0),S1555-D1555))","v":""},{"$nulls":5},""]
["",null,null,"00:00:00",{"$nulls":15},{"$f":"IF(OR(D1556=0,P1556=Presets!$C$67),\"\",IF(S1556=0,ROUNDDOWN(NOW()-'Registry Full'!D1556,0),S1556-D1556))","v":""},{"$nulls":5},""]
["",null,null,"00:00:00",{"$nulls":15},{"$f":"IF(OR(D1557=0,P1557=Presets!$C$67),\"\",IF(S1557=0,ROUNDDOWN(NOW()-'Registry Full'!D1557,0),S1557-D1557))","v":""},{"$nulls":5},""]
["",null,null,"00:00:00",{"$nulls":15},{"$f":"IF(OR(D1558=0,P1558=Presets!$C$67),\"\",IF(S1558=0,ROUNDDOWN(NOW()-'Registry Full'!D1558,0),S1558-D1558))","v":""},{"$nulls":5},""]
[{"$f":"IF(COUNTA(B1559)<>0,A1558+1,\"\")","v":""},null,null,"00:00:00",{"$nulls":15},{"$f":"IF(OR(D1559=0,P1559=Presets!$C$67),\"\",IF(S1559=0,ROUNDDOWN(NOW()-'Registry Full'!D1559,0),S1559-D1559))","v":""},{"$nulls":5},""]
["",null,null,"00:00:00",{"$nulls":15},{"$f":"IF(OR(D1560=0,P1560=Presets!$C$67),\"\",IF(S1560=0,ROUNDDOWN(NOW()-'Registry Full'!D1560,0),S1560-D1560))","v":""},{"$nulls":5},""]
["",null,null,"00:00:00",{"$nulls":15},{"$f":"IF(OR(D1561=0,P1561=Presets!$C$67),\"\",IF(S1561=0,ROUNDDOWN(NOW()-'Registry Full'!D1561,0),S1561-D1561))","v":""},{"$nulls":5},""]
["",null,null,"00:00:00",{"$nulls":15},{"$f":"IF(OR(D1562=0,P1562=Presets!$C$67),\"\",IF(S1562=0,ROUNDDOWN(NOW()-'Registry Full'!D1562,0),S1562-D1562))","v":""},{"$nulls":5},""]
["",null,null,"00:00:00",{"$nulls":15},{"$f":"IF(OR(D1563=0,P1563=Presets!$C$67),\"\",IF(S1563=0,ROUNDDOWN(NOW()-'Registry Full'!D1563,0),S1563-D1563))","v":""},{"$nulls":5},""]
["",null,null,"00:00:00",{"$nulls":15},{"$f":"IF(OR(D1564=0,P1564=Presets!$C$67),\"\",IF(S1564=0,ROUNDDOWN(NOW()-'Registry Full'!D1564,0),S1564-D1564))","v":""},{"$nulls":5},""]
["",null,null,"00:00:00",{"$nulls":15},{"$f":"IF(OR(D1565=0,P1565=Presets!$C$67),\"\",IF(S1565=0,ROUNDDOWN(NOW()-'Registry Full'!D1565,0),S1565-D1565))","v":""},{"$nulls":5},""]
["",null,null,"00:00:00",{"$nulls":15},{"$f":"IF(OR(D1566=0,P1566=Presets!$C$67),\"\",IF(S1566=0,ROUNDDOWN(NOW()-'Registry Full'!D1566,0),S1566-D1566))","v":""},{"$nulls":5},""]
["",null,null,"00:00:00",{"$nulls":15},{"$f":"IF(OR(D1567=0,P1567=Presets!$C$67),\"\",IF(S1567=0,ROUNDDOWN(NOW()-'Registry Full'!D1567,0),S1567-D1567))","v":""},{"$nulls":5},""]
["",null,null,"00:00:00",{"$nulls":15},{"$f":"IF(OR(D1568=0,P1568=Presets!$C$67),\"\",IF(S1568=0,ROUNDDOWN(NOW()-'Registry Full'!D1568,0),S1568-D1568))","v":""},{"$nulls":5},""]
["",null,null,"00:00:00",{"$nulls":15},{"$f":"IF(OR(D1569=0,P1569=Presets!$C$67),\"\",IF(S1569=0,ROUNDDOWN(NOW()-'Registry Full'!D1569,0),S1569-D1569))","v":""},{"$nulls":5},""]
["",null,null,"00:00:00",{"$nulls":15},{"$f":"IF(OR(D1570=0,P1570=Presets!$C$67),\"\",IF(S1570=0,ROUNDDOWN(NOW()-'Registry Full'!D1570,0),S1570-D1570))","v":""},{"$nulls":5},""]
["",null,null,"00:00:00",{"$nulls":15},{"$f":"IF(OR(D1571=0,P1571=Presets!$C$67),\"\",IF(S1571=0,ROUNDDOWN(NOW()-'Registry Full'!D1571,0),S1571-D1571))","v":""},{"$nulls":5},""]
["",null,null,"00:00:00",{"$nulls":15},{"$f":"IF(OR(D1572=0,P1572=Presets!$C$67),\"\",IF(S1572=0,ROUNDDOWN(NOW()-'Registry Full'!D1572,0),S1572-D1572))","v":""},{"$nulls":5},""]
["",null,null,"00:00:00",{"$nulls":15},{"$f":"IF(OR(D1573=0,P1573=Presets!$C$67),\"\",IF(S1573=0,ROUNDDOWN(NOW()-'Registry Full'!D1573,0),S1573-D1573))","v":""},{"$nulls":5},""]
["",null,null,"00:00:00",{"$nulls":15},{"$f":"IF(OR(D1574=0,P1574=Presets!$C$67),\"\",IF(S1574=0,ROUNDDOWN(NOW()-'Registry Full'!D1574,0),S1574-D1574))","v":""},{"$nulls":5},""]
["",null,null,"00:00:00",{"$nulls":15},{"$f":"IF(OR(D1575=0,P1575=Presets!$C$67),\"\",IF(S1575=0,ROUNDDOWN(NOW()-'Registry Full'!D1575,0),S1575-D1575))","v":""},{"$nulls":5},""]
["",null,null,"00:00:00",{"$nulls":15},{"$f":"IF(OR(D1576=0,P1576=Presets!$C$67),\"\",IF(S1576=0,ROUNDDOWN(NOW()-'Registry Full'!D1576,0),S1576-D1576))","v":""},{"$nulls":5},""]
["",null,null,"00:00:00",{"$nulls":15},{"$f":"IF(OR(D1577=0,P1577=Presets!$C$67),\"\",IF(S1577=0,ROUNDDOWN(NOW()-'Registry Full'!D1577,0),S1577-D1577))","v":""},{"$nulls":5},""]
["",null,null,"00:00:00",{"$nulls":15},{"$f":"IF(OR(D1578=0,P1578=Presets!$C$67),\"\",IF(S1578=0,ROUNDDOWN(NOW()-'Registry Full'!D1578,0),S1578-D1578))","v":""},{"$nulls":5},""]
["",null,null,"00:00:00",{"$nulls":15},{"$f":"IF(OR(D1579=0,P1579=Presets!$C$67),\"\",IF(S1579=0,ROUNDDOWN(NOW()-'Registry Full'!D1579,0),S1579-D1579))","v":""},{"$nulls":5},""]
["",null,null,"00:00:00",{"$nulls":15},{"$f":"IF(OR(D1580=0,P1580=Presets!$C$67),\"\",IF(S1580=0,ROUNDDOWN(NOW()-'Registry Full'!D1580,0),S1580-D1580))","v":""},{"$nulls":5},""]
["",null,null,"00:00:00",{"$nulls":15},{"$f":"IF(OR(D1581=0,P1581=Presets!$C$67),\"\",IF(S1581=0,ROUNDDOWN(NOW()-'Registry Full'!D1581,0),S1581-D1581))","v":""},{"$nulls":5},""]
["",null,null,"00:00:00",{"$nulls":15},{"$f":"IF(OR(D1582=0,P1582=Presets!$C$67),\"\",IF(S1582=0,ROUNDDOWN(NOW()-'Registry Full'!D1582,0),S1582-D1582))","v":""},{"$nulls":5},""]
["",null,null,"00:00:00",{"$nulls":15},{"$f":"IF(OR(D1583=0,P1583=Presets!$C$67),\"\",IF(S1583=0,ROUNDDOWN(NOW()-'Registry Full'!D1583,0),S1583-D1583))","v":""},{"$nulls":5},""]
["",null,null,"00:00:00",{"$nulls":15},{"$f":"IF(OR(D1584=0,P1584=Presets!$C$67),\"\",IF(S1584=0,ROUNDDOWN(NOW()-'Registry Full'!D1584,0),S1584-D1584))","v":""},{"$nulls":5},""]
["",null,null,"00:00:00",{"$nulls":15},{"$f":"IF(OR(D1585=0,P1585=Presets!$C$67),\"\",IF(S1585=0,ROUNDDOWN(NOW()-'Registry Full'!D1585,0),S1585-D1585))","v":""},{"$nulls":5},""]
["",null,null,"00:00:00",{"$nulls":15},{"$f":"IF(OR(D1586=0,P1586=Presets!$C$67),\"\",IF(S1586=0,ROUNDDOWN(NOW()-'Registry Full'!D1586,0),S1586-D1586))","v":""},{"$nulls":5},""]
["",null,null,"00:00:00",{"$nulls":15},{"$f":"IF(OR(D1587=0,P1587=Presets!$C$67),\"\",IF(S1587=0,ROUNDDOWN(NOW()-'Registry Full'!D1587,0),S1587-D1587))","v":""},{"$nulls":5},""]
["",null,null,"00:00:00",{"$nulls":15},{"$f":"IF(OR(D1588=0,P1588=Presets!$C$67),\"\",IF(S1588=0,ROUNDDOWN(NOW()-'Registry Full'!D1588,0),S1588-D1588))","v":""},{"$nulls":5},""]
["",null,null,"00:00:00",{"$nulls":15},{"$f":"IF(OR(D1589=0,P1589=Presets!$C$67),\"\",IF(S1589=0,ROUNDDOWN(NOW()-'Registry Full'!D1589,0),S1589-D1589))","v":""},{"$nulls":5},""]
["",null,null,"00:00:00",{"$nulls":15},{"$f":"IF(OR(D1590=0,P1590=Presets!$C$67),\"\",IF(S1590=0,ROUNDDOWN(NOW()-'Registry Full'!D1590,0),S1590-D1590))","v":""},{"$nulls":5},""]
["",null,null,"00:00:00",{"$nulls":15},{"$f":"IF(OR(D1591=0,P1591=Presets!$C$67),\"\",IF(S1591=0,ROUNDDOWN(NOW()-'Registry Full'!D1591,0),S1591-D1591))","v":""},{"$nulls":5},""]
["",null,null,"00:00:00",{"$nulls":15},{"$f":"IF(OR(D1592=0,P1592=Presets!$C$67),\"\",IF(S1592=0,ROUNDDOWN(NOW()-'Registry Full'!D1592,0),S1592-D1592))","v":""},{"$nulls":5},""]
["",null,null,"00:00:00",{"$nulls":15},{"$f":"IF(OR(D1593=0,P1593=Presets!$C$67),\"\",IF(S1593=0,ROUNDDOWN(NOW()-'Registry Full'!D1593,0),S1593-D1593))","v":""},{"$nulls":5},""]
["",null,null,"00:00:00",{"$nulls":15},{"$f":"IF(OR(D1594=0,P1594=Presets!$C$67),\"\",IF(S1594=0,ROUNDDOWN(NOW()-'Registry Full'!D1594,0),S1594-D1594))","v":""},{"$nulls":5},""]
["",null,null,"00:00:00",{"$nulls":15},{"$f":"IF(OR(D1595=0,P1595=Presets!$C$67),\"\",IF(S1595=0,ROUNDDOWN(NOW()-'Registry Full'!D1595,0),S1595-D1595))","v":""},{"$nulls":5},""]
["",null,null,"00:00:00",{"$nulls":15},{"$f":"IF(OR(D1596=0,P1596=Presets!$C$67),\"\",IF(S1596=0,ROUNDDOWN(NOW()-'Registry Full'!D1596,0),S1596-D1596))","v":""},{"$nulls":5},""]
["",null,null,"00:00:00",{"$nulls":15},{"$f":"IF(OR(D1597=0,P1597=Presets!$C$67),\"\",IF(S1597=0,ROUNDDOWN(NOW()-'Registry Full'!D1597,0),S1597-D1597))","v":""},{"$nulls":5},""]
["",null,null,"00:00:00",{"$nulls":15},{"$f":"IF(OR(D1598=0,P1598=Presets!$C$67),\"\",IF(S1598=0,ROUNDDOWN(NOW()-'Registry Full'!D1598,0),S1598-D1598))","v":""},{"$nulls":5},""]
["",null,null,"00:00:00",{"$nulls":15},{"$f":"IF(OR(D1599=0,P1599=Presets!$C$67),\"\",IF(S1599=0,ROUNDDOWN(NOW()-'Registry Full'!D1599,0),S1599-D1599))","v":""},{"$nulls":5},""]
["",null,null,"00:00:00",{"$nulls":15},{"$f":"IF(OR(D1600=0,P1600=Presets!$C$67),\"\",IF(S1600=0,ROUNDDOWN(NOW()-'Registry Full'!D1600,0),S1600-D1600))","v":""},{"$nulls":5},""]
["",null,null,"00:00:00",{"$nulls":15},{"$f":"IF(OR(D1601=0,P1601=Presets!$C$67),\"\",IF(S1601=0,ROUNDDOWN(NOW()-'Registry Full'!D1601,0),S1601-D1601))","v":""},{"$nulls":5},""]
["",null,null,"00:00:00",{"$nulls":15},{"$f":"IF(OR(D1602=0,P1602=Presets!$C$67),\"\",IF(S1602=0,ROUNDDOWN(NOW()-'Registry Full'!D1602,0),S1602-D1602))","v":""},{"$nulls":5},""]
["",null,null,"00:00:00",{"$nulls":15},{"$f":"IF(OR(D1603=0,P1603=Presets!$C$67),\"\",IF(S1603=0,ROUNDDOWN(NOW()-'Registry Full'!D1603,0),S1603-D1603))","v":""},{"$nulls":5},""]
["",null,null,"00:00:00",{"$nulls":15},{"$f":"IF(OR(D1604=0,P1604=Presets!$C$67),\"\",IF(S1604=0,ROUNDDOWN(NOW()-'Registry Full'!D1604,0),S1604-D1604))","v":""},{"$nulls":5},""]
["",null,null,"00:00:00",{"$nulls":15},{"$f":"IF(OR(D1605=0,P1605=Presets!$C$67),\"\",IF(S1605=0,ROUNDDOWN(NOW()-'Registry Full'!D1605,0),S1605-D1605))","v":""},{"$nulls":5},""]
["",null,null,{"$f":"IF(C1606=\"\",0,VALUE(RIGHT(C1606,LEN(C1606)-FIND(\"/\",C1606,LEN(C1606)-10))))","v":"00:00:00"},{"$nulls":15},{"$f":"IF(OR(D1606=0,P1606=Presets!$C$67),\"\",IF(S1606=0,ROUNDDOWN(NOW()-'Registry Full'!D1606,0),S1606-D1606))","v":""},{"$nulls":5},""]
["",null,null,"00:00:00",{"$nulls":15},{"$f":"IF(OR(D1607=0,P1607=Presets!$C$67),\"\",IF(S1607=0,ROUNDDOWN(NOW()-'Registry Full'!D1607,0),S1607-D1607))","v":""},{"$nulls":5},{"$f":"IF(OR(D1607=0,Y1607=0),\"\",Y1607-D1607)","v":""}]
["",null,null,"00:00:00",{"$nulls":15},{"$f":"IF(OR(D1608=0,P1608=Presets!$C$67),\"\",IF(S1608=0,ROUNDDOWN(NOW()-'Registry Full'!D1608,0),S1608-D1608))","v":""},{"$nulls":5},""]
["",null,null,"00:00:00",{"$nulls":15},{"$f":"IF(OR(D1609=0,P1609=Presets!$C$67),\"\",IF(S1609=0,ROUNDDOWN(NOW()-'Registry Full'!D1609,0),S1609-D1609))","v":""},{"$nulls":5},""]
["",null,null,"00:00:00",{"$nulls":15},{"$f":"IF(OR(D1610=0,P1610=Presets!$C$67),\"\",IF(S1610=0,ROUNDDOWN(NOW()-'Registry Full'!D1610,0),S1610-D1610))","v":""},{"$nulls":5},""]
["",null,null,"00:00:00",{"$nulls":15},{"$f":"IF(OR(D1611=0,P1611=Presets!$C$67),\"\",IF(S1611=0,ROUNDDOWN(NOW()-'Registry Full'!D1611,0),S1611-D1611))","v":""},{"$nulls":5},""]
["",null,null,"00:00:00",{"$nulls":15},{"$f":"IF(OR(D1612=0,P1612=Presets!$C$67),\"\",IF(S1612=0,ROUNDDOWN(NOW()-'Registry Full'!D1612,0),S1612-D1612))","v":""},{"$nulls":5},""]
["",null,null,"00:00:00",{"$nulls":15},{"$f":"IF(OR(D1613=0,P1613=Presets!$C$67),\"\",IF(S1613=0,ROUNDDOWN(NOW()-'Registry Full'!D1613,0),S1613-D1613))","v":""},{"$nulls":5},""]
["",null,null,"00:00:00",{"$nulls":15},{"$f":"IF(OR(D1614=0,P1614=Presets!$C$67),\"\",IF(S1614=0,ROUNDDOWN(NOW()-'Registry Full'!D1614,0),S1614-D1614))","v":""},{"$nulls":5},""]
["",null,null,"00:00:00",{"$nulls":15},{"$f":"IF(OR(D1615=0,P1615=Presets!$C$67),\"\",IF(S1615=0,ROUNDDOWN(NOW()-'Registry Full'!D1615,0),S1615-D1615))","v":""},{"$nulls":5},""]
["",null,null,"00:00:00",{"$nulls":15},{"$f":"IF(OR(D1616=0,P1616=Presets!$C$67),\"\",IF(S1616=0,ROUNDDOWN(NOW()-'Registry Full'!D1616,0),S1616-D1616))","v":""},{"$nulls":5},""]
["",null,null,"00:00:00",{"$nulls":15},{"$f":"IF(OR(D1617=0,P1617=Presets!$C$67),\"\",IF(S1617=0,ROUNDDOWN(NOW()-'Registry Full'!D1617,0),S1617-D1617))","v":""},{"$nulls":5},""]
["",null,null,"00:00:00",{"$nulls":15},{"$f":"IF(OR(D1618=0,P1618=Presets!$C$67),\"\",IF(S1618=0,ROUNDDOWN(NOW()-'Registry Full'!D1618,0),S1618-D1618))","v":""},{"$nulls":5},""]
["",null,null,"00:00:00",{"$nulls":15},{"$f":"IF(OR(D1619=0,P1619=Presets!$C$67),\"\",IF(S1619=0,ROUNDDOWN(NOW()-'Registry Full'!D1619,0),S1619-D1619))","v":""},{"$nulls":5},""]
["",null,null,"00:00:00",{"$nulls":15},{"$f":"IF(OR(D1620=0,P1620=Presets!$C$67),\"\",IF(S1620=0,ROUNDDOWN(NOW()-'Registry Full'!D1620,0),S1620-D1620))","v":""},{"$nulls":5},""]
["",null,null,"00:00:00",{"$nulls":15},{"$f":"IF(OR(D1621=0,P1621=Presets!$C$67),\"\",IF(S1621=0,ROUNDDOWN(NOW()-'Registry Full'!D1621,0),S1621-D1621))","v":""},{"$nulls":5},""]
["",null,null,"00:00:00",{"$nulls":15},{"$f":"IF(OR(D1622=0,P1622=Presets!$C$67),\"\",IF(S1622=0,ROUNDDOWN(NOW()-'Registry Full'!D1622,0),S1622-D1622))","v":""},{"$nulls":5},""]
[{"$f":"IF(COUNTA(B1623)<>0,A1622+1,\"\")","v":""},null,null,"00:00:00",{"$nulls":15},{"$f":"IF(OR(D1623=0,P1623=Presets!$C$67),\"\",IF(S1623=0,ROUNDDOWN(NOW()-'Registry Full'!D1623,0),S1623-D1623))","v":""},{"$nulls":5},""]
["",null,null,"00:00:00",{"$nulls":15},{"$f":"IF(OR(D1624=0,P1624=Presets!$C$67),\"\",IF(S1624=0,ROUNDDOWN(NOW()-'Registry Full'!D1624,0),S1624-D1624))","v":""},{"$nulls":5},""]
["",null,null,"00:00:00",{"$nulls":15},{"$f":"IF(OR(D1625=0,P1625=Presets!$C$67),\"\",IF(S1625=0,ROUNDDOWN(NOW()-'Registry Full'!D1625,0),S1625-D1625))","v":""},{"$nulls":5},""]
["",null,null,"00:00:00",{"$nulls":15},{"$f":"IF(OR(D1626=0,P1626=Presets!$C$67),\"\",IF(S1626=0,ROUNDDOWN(NOW()-'Registry Full'!D1626,0),S1626-D1626))","v":""},{"$nulls":5},""]
["",null,null,"00:00:00",{"$nulls":15},{"$f":"IF(OR(D1627=0,P1627=Presets!$C$67),\"\",IF(S1627=0,ROUNDDOWN(NOW()-'Registry Full'!D1627,0),S1627-D1627))","v":""},{"$nulls":5},""]
["",null,null,"00:00:00",{"$nulls":15},{"$f":"IF(OR(D1628=0,P1628=Presets!$C$67),\"\",IF(S1628=0,ROUNDDOWN(NOW()-'Registry Full'!D1628,0),S1628-D1628))","v":""},{"$nulls":5},""]
["",null,null,"00:00:00",{"$nulls":15},{"$f":"IF(OR(D1629=0,P1629=Presets!$C$67),\"\",IF(S1629=0,ROUNDDOWN(NOW()-'Registry Full'!D1629,0),S1629-D1629))","v":""},{"$nulls":5},""]
["",null,null,"00:00:00",{"$nulls":15},{"$f":"IF(OR(D1630=0,P1630=Presets!$C$67),\"\",IF(S1630=0,ROUNDDOWN(NOW()-'Registry Full'!D1630,0),S1630-D1630))","v":""},{"$nulls":5},""]
["",null,null,"00:00:00",{"$nulls":15},{"$f":"IF(OR(D1631=0,P1631=Presets!$C$67),\"\",IF(S1631=0,ROUNDDOWN(NOW()-'Registry Full'!D1631,0),S1631-D1631))","v":""},{"$nulls":5},""]
["",null,null,"00:00:00",{"$nulls":15},{"$f":"IF(OR(D1632=0,P1632=Presets!$C$67),\"\",IF(S1632=0,ROUNDDOWN(NOW()-'Registry Full'!D1632,0),S1632-D1632))","v":""},{"$nulls":5},""]
["",null,null,"00:00:00",{"$nulls":15},{"$f":"IF(OR(D1633=0,P1633=Presets!$C$67),\"\",IF(S1633=0,ROUNDDOWN(NOW()-'Registry Full'!D1633,0),S1633-D1633))","v":""},{"$nulls":5},""]
["",null,null,"00:00:00",{"$nulls":15},{"$f":"IF(OR(D1634=0,P1634=Presets!$C$67),\"\",IF(S1634=0,ROUNDDOWN(NOW()-'Registry Full'!D1634,0),S1634-D1634))","v":""},{"$nulls":5},""]
["",null,null,"00:00:00",{"$nulls":15},{"$f":"IF(OR(D1635=0,P1635=Presets!$C$67),\"\",IF(S1635=0,ROUNDDOWN(NOW()-'Registry Full'!D1635,0),S1635-D1635))","v":""},{"$nulls":5},""]
["",null,null,"00:00:00",{"$nulls":15},{"$f":"IF(OR(D1636=0,P1636=Presets!$C$67),\"\",IF(S1636=0,ROUNDDOWN(NOW()-'Registry Full'!D1636,0),S1636-D1636))","v":""},{"$nulls":5},""]
["",null,null,"00:00:00",{"$nulls":15},{"$f":"IF(OR(D1637=0,P1637=Presets!$C$67),\"\",IF(S1637=0,ROUNDDOWN(NOW()-'Registry Full'!D1637,0),S1637-D1637))","v":""},{"$nulls":5},""]
["",null,null,"00:00:00",{"$nulls":15},{"$f":"IF(OR(D1638=0,P1638=Presets!$C$67),\"\",IF(S1638=0,ROUNDDOWN(NOW()-'Registry Full'!D1638,0),S1638-D1638))","v":""},{"$nulls":5},""]
["",null,null,"00:00:00",{"$nulls":15},{"$f":"IF(OR(D1639=0,P1639=Presets!$C$67),\"\",IF(S1639=0,ROUNDDOWN(NOW()-'Registry Full'!D1639,0),S1639-D1639))","v":""},{"$nulls":5},""]
["",null,null,"00:00:00",{"$nulls":15},{"$f":"IF(OR(D1640=0,P1640=Presets!$C$67),\"\",IF(S1640=0,ROUNDDOWN(NOW()-'Registry Full'!D1640,0),S1640-D1640))","v":""},{"$nulls":5},""]
["",null,null,"00:00:00",{"$nulls":15},{"$f":"IF(OR(D1641=0,P1641=Presets!$C$67),\"\",IF(S1641=0,ROUNDDOWN(NOW()-'Registry Full'!D1641,0),S1641-D1641))","v":""},{"$nulls":5},""]
["",null,null,"00:00:00",{"$nulls":15},{"$f":"IF(OR(D1642=0,P1642=Presets!$C$67),\"\",IF(S1642=0,ROUNDDOWN(NOW()-'Registry Full'!D1642,0),S1642-D1642))","v":""},{"$nulls":5},""]
["",null,null,"00:00:00",{"$nulls":15},{"$f":"IF(OR(D1643=0,P1643=Presets!$C$67),\"\",IF(S1643=0,ROUNDDOWN(NOW()-'Registry Full'!D1643,0),S1643-D1643))","v":""},{"$nulls":5},""]
["",null,null,"00:00:00",{"$nulls":15},{"$f":"IF(OR(D1644=0,P1644=Presets!$C$67),\"\",IF(S1644=0,ROUNDDOWN(NOW()-'Registry Full'!D1644,0),S1644-D1644))","v":""},{"$nulls":5},""]
["",null,null,"00:00:00",{"$nulls":15},{"$f":"IF(OR(D1645=0,P1645=Presets!$C$67),\"\",IF(S1645=0,ROUNDDOWN(NOW()-'Registry Full'!D1645,0),S1645-D1645))","v":""},{"$nulls":5},""]
["",null,null,"00:00:00",{"$nulls":15},{"$f":"IF(OR(D1646=0,P1646=Presets!$C$67),\"\",IF(S1646=0,ROUNDDOWN(NOW()-'Registry Full'!D1646,0),S1646-D1646))","v":""},{"$nulls":5},""]
["",null,null,"00:00:00",{"$nulls":15},{"$f":"IF(OR(D1647=0,P1647=Presets!$C$67),\"\",IF(S1647=0,ROUNDDOWN(NOW()-'Registry Full'!D1647,0),S1647-D1647))","v":""},{"$nulls":5},""]
["",null,null,"00:00:00",{"$nulls":15},{"$f":"IF(OR(D1648=0,P1648=Presets!$C$67),\"\",IF(S1648=0,ROUNDDOWN(NOW()-'Registry Full'!D1648,0),S1648-D1648))","v":""},{"$nulls":5},""]
["",null,null,"00:00:00",{"$nulls":15},{"$f":"IF(OR(D1649=0,P1649=Presets!$C$67),\"\",IF(S1649=0,ROUNDDOWN(NOW()-'Registry Full'!D1649,0),S1649-D1649))","v":""},{"$nulls":5},""]
["",null,null,"00:00:00",{"$nulls":15},{"$f":"IF(OR(D1650=0,P1650=Presets!$C$67),\"\",IF(S1650=0,ROUNDDOWN(NOW()-'Registry Full'!D1650,0),S1650-D1650))","v":""},{"$nulls":5},""]
["",null,null,"00:00:00",{"$nulls":15},{"$f":"IF(OR(D1651=0,P1651=Presets!$C$67),\"\",IF(S1651=0,ROUNDDOWN(NOW()-'Registry Full'!D1651,0),S1651-D1651))","v":""},{"$nulls":5},""]
["",null,null,"00:00:00",{"$nulls":15},{"$f":"IF(OR(D1652=0,P1652=Presets!$C$67),\"\",IF(S1652=0,ROUNDDOWN(NOW()-'Registry Full'!D1652,0),S1652-D1652))","v":""},{"$nulls":5},""]
["",null,null,"00:00:00",{"$nulls":15},{"$f":"IF(OR(D1653=0,P1653=Presets!$C$67),\"\",IF(S1653=0,ROUNDDOWN(NOW()-'Registry Full'!D1653,0),S1653-D1653))","v":""},{"$nulls":5},""]
["",null,null,"00:00:00",{"$nulls":15},{"$f":"IF(OR(D1654=0,P1654=Presets!$C$67),\"\",IF(S1654=0,ROUNDDOWN(NOW()-'Registry Full'!D1654,0),S1654-D1654))","v":""},{"$nulls":5},""]
["",null,null,"00:00:00",{"$nulls":15},{"$f":"IF(OR(D1655=0,P1655=Presets!$C$67),\"\",IF(S1655=0,ROUNDDOWN(NOW()-'Registry Full'!D1655,0),S1655-D1655))","v":""},{"$nulls":5},""]
["",null,null,"00:00:00",{"$nulls":15},{"$f":"IF(OR(D1656=0,P1656=Presets!$C$67),\"\",IF(S1656=0,ROUNDDOWN(NOW()-'Registry Full'!D1656,0),S1656-D1656))","v":""},{"$nulls":5},""]
["",null,null,"00:00:00",{"$nulls":15},{"$f":"IF(OR(D1657=0,P1657=Presets!$C$67),\"\",IF(S1657=0,ROUNDDOWN(NOW()-'Registry Full'!D1657,0),S1657-D1657))","v":""},{"$nulls":5},""]
["",null,null,"00:00:00",{"$nulls":15},{"$f":"IF(OR(D1658=0,P1658=Presets!$C$67),\"\",IF(S1658=0,ROUNDDOWN(NOW()-'Registry Full'!D1658,0),S1658-D1658))","v":""},{"$nulls":5},""]
["",null,null,"00:00:00",{"$nulls":15},{"$f":"IF(OR(D1659=0,P1659=Presets!$C$67),\"\",IF(S1659=0,ROUNDDOWN(NOW()-'Registry Full'!D1659,0),S1659-D1659))","v":""},{"$nulls":5},""]
["",null,null,"00:00:00",{"$nulls":15},{"$f":"IF(OR(D1660=0,P1660=Presets!$C$67),\"\",IF(S1660=0,ROUNDDOWN(NOW()-'Registry Full'!D1660,0),S1660-D1660))","v":""},{"$nulls":5},""]
["",null,null,"00:00:00",{"$nulls":15},{"$f":"IF(OR(D1661=0,P1661=Presets!$C$67),\"\",IF(S1661=0,ROUNDDOWN(NOW()-'Registry Full'!D1661,0),S1661-D1661))","v":""},{"$nulls":5},""]
["",null,null,"00:00:00",{"$nulls":15},{"$f":"IF(OR(D1662=0,P1662=Presets!$C$67),\"\",IF(S1662=0,ROUNDDOWN(NOW()-'Registry Full'!D1662,0),S1662-D1662))","v":""},{"$nulls":5},""]
["",null,null,"00:00:00",{"$nulls":15},{"$f":"IF(OR(D1663=0,P1663=Presets!$C$67),\"\",IF(S1663=0,ROUNDDOWN(NOW()-'Registry Full'!D1663,0),S1663-D1663))","v":""},{"$nulls":5},""]
["",null,null,"00:00:00",{"$nulls":15},{"$f":"IF(OR(D1664=0,P1664=Presets!$C$67),\"\",IF(S1664=0,ROUNDDOWN(NOW()-'Registry Full'!D1664,0),S1664-D1664))","v":""},{"$nulls":5},""]
["",null,null,"00:00:00",{"$nulls":15},{"$f":"IF(OR(D1665=0,P1665=Presets!$C$67),\"\",IF(S1665=0,ROUNDDOWN(NOW()-'Registry Full'!D1665,0),S1665-D1665))","v":""},{"$nulls":5},""]
["",null,null,"00:00:00",{"$nulls":15},{"$f":"IF(OR(D1666=0,P1666=Presets!$C$67),\"\",IF(S1666=0,ROUNDDOWN(NOW()-'Registry Full'!D1666,0),S1666-D1666))","v":""},{"$nulls":5},""]
["",null,null,"00:00:00",{"$nulls":15},{"$f":"IF(OR(D1667=0,P1667=Presets!$C$67),\"\",IF(S1667=0,ROUNDDOWN(NOW()-'Registry Full'!D1667,0),S1667-D1667))","v":""},{"$nulls":5},""]
["",null,null,"00:00:00",{"$nulls":15},{"$f":"IF(OR(D1668=0,P1668=Presets!$C$67),\"\",IF(S1668=0,ROUNDDOWN(NOW()-'Registry Full'!D1668,0),S1668-D1668))","v":""},{"$nulls":5},""]
["",null,null,"00:00:00",{"$nulls":15},{"$f":"IF(OR(D1669=0,P1669=Presets!$C$67),\"\",IF(S1669=0,ROUNDDOWN(NOW()-'Registry Full'!D1669,0),S1669-D1669))","v":""},{"$nulls":5},""]
["",null,null,{"$f":"IF(C1670=\"\",0,VALUE(RIGHT(C1670,LEN(C1670)-FIND(\"/\",C1670,LEN(C1670)-10))))","v":"00:00:00"},{"$nulls":15},{"$f":"IF(OR(D1670=0,P1670=Presets!$C$67),\"\",IF(S1670=0,ROUNDDOWN(NOW()-'Registry Full'!D1670,0),S1670-D1670))","v":""},{"$nulls":5},""]
["",null,null,"00:00:00",{"$nulls":15},{"$f":"IF(OR(D1671=0,P1671=Presets!$C$67),\"\",IF(S1671=0,ROUNDDOWN(NOW()-'Registry Full'!D1671,0),S1671-D1671))","v":""},{"$nulls":5},{"$f":"IF(OR(D1671=0,Y1671=0),\"\",Y1671-D1671)","v":""}]
["",null,null,"00:00:00",{"$nulls":15},{"$f":"IF(OR(D1672=0,P1672=Presets!$C$67),\"\",IF(S1672=0,ROUNDDOWN(NOW()-'Registry Full'!D1672,0),S1672-D1672))","v":""},{"$nulls":5},""]
["",null,null,"00:00:00",{"$nulls":15},{"$f":"IF(OR(D1673=0,P1673=Presets!$C$67),\"\",IF(S1673=0,ROUNDDOWN(NOW()-'Registry Full'!D1673,0),S1673-D1673))","v":""},{"$nulls":5},""]
["",null,null,"00:00:00",{"$nulls":15},{"$f":"IF(OR(D1674=0,P1674=Presets!$C$67),\"\",IF(S1674=0,ROUNDDOWN(NOW()-'Registry Full'!D1674,0),S1674-D1674))","v":""},{"$nulls":5},""]
["",null,null,"00:00:00",{"$nulls":15},{"$f":"IF(OR(D1675=0,P1675=Presets!$C$67),\"\",IF(S1675=0,ROUNDDOWN(NOW()-'Registry Full'!D1675,0),S1675-D1675))","v":""},{"$nulls":5},""]
["",null,null,"00:00:00",{"$nulls":15},{"$f":"IF(OR(D1676=0,P1676=Presets!$C$67),\"\",IF(S1676=0,ROUNDDOWN(NOW()-'Registry Full'!D1676,0),S1676-D1676))","v":""},{"$nulls":5},""]
["",null,null,"00:00:00",{"$nulls":15},{"$f":"IF(OR(D1677=0,P1677=Presets!$C$67),\"\",IF(S1677=0,ROUNDDOWN(NOW()-'Registry Full'!D1677,0),S1677-D1677))","v":""},{"$nulls":5},""]
["",null,null,"00:00:00",{"$nulls":15},{"$f":"IF(OR(D1678=0,P1678=Presets!$C$67),\"\",IF(S1678=0,ROUNDDOWN(NOW()-'Registry Full'!D1678,0),S1678-D1678))","v":""},{"$nulls":5},""]
["",null,null,"00:00:00",{"$nulls":15},{"$f":"IF(OR(D1679=0,P1679=Presets!$C$67),\"\",IF(S1679=0,ROUNDDOWN(NOW()-'Registry Full'!D1679,0),S1679-D1679))","v":""},{"$nulls":5},""]
["",null,null,"00:00:00",{"$nulls":15},{"$f":"IF(OR(D1680=0,P1680=Presets!$C$67),\"\",IF(S1680=0,ROUNDDOWN(NOW()-'Registry Full'!D1680,0),S1680-D1680))","v":""},{"$nulls":5},""]
["",null,null,"00:00:00",{"$nulls":15},{"$f":"IF(OR(D1681=0,P1681=Presets!$C$67),\"\",IF(S1681=0,ROUNDDOWN(NOW()-'Registry Full'!D1681,0),S1681-D1681))","v":""},{"$nulls":5},""]
["",null,null,"00:00:00",{"$nulls":15},{"$f":"IF(OR(D1682=0,P1682=Presets!$C$67),\"\",IF(S1682=0,ROUNDDOWN(NOW()-'Registry Full'!D1682,0),S1682-D1682))","v":""},{"$nulls":5},""]
["",null,null,"00:00:00",{"$nulls":15},{"$f":"IF(OR(D1683=0,P1683=Presets!$C$67),\"\",IF(S1683=0,ROUNDDOWN(NOW()-'Registry Full'!D1683,0),S1683-D1683))","v":""},{"$nulls":5},""]
["",null,null,"00:00:00",{"$nulls":15},{"$f":"IF(OR(D1684=0,P1684=Presets!$C$67),\"\",IF(S1684=0,ROUNDDOWN(NOW()-'Registry Full'!D1684,0),S1684-D1684))","v":""},{"$nulls":5},""]
["",null,null,"00:00:00",{"$nulls":15},{"$f":"IF(OR(D1685=0,P1685=Presets!$C$67),\"\",IF(S1685=0,ROUNDDOWN(NOW()-'Registry Full'!D1685,0),S1685-D1685))","v":""},{"$nulls":5},""]
["",null,null,"00:00:00",{"$nulls":15},{"$f":"IF(OR(D1686=0,P1686=Presets!$C$67),\"\",IF(S1686=0,ROUNDDOWN(NOW()-'Registry Full'!D1686,0),S1686-D1686))","v":""},{"$nulls":5},""]
[{"$f":"IF(COUNTA(B1687)<>0,A1686+1,\"\")","v":""},null,null,"00:00:00",{"$nulls":15},{"$f":"IF(OR(D1687=0,P1687=Presets!$C$67),\"\",IF(S1687=0,ROUNDDOWN(NOW()-'Registry Full'!D1687,0),S1687-D1687))","v":""},{"$nulls":5},""]
["",null,null,"00:00:00",{"$nulls":15},{"$f":"IF(OR(D1688=0,P1688=Presets!$C$67),\"\",IF(S1688=0,ROUNDDOWN(NOW()-'Registry Full'!D1688,0),S1688-D1688))","v":""},{"$nulls":5},""]
["",null,null,"00:00:00",{"$nulls":15},{"$f":"IF(OR(D1689=0,P1689=Presets!$C$67),\"\",IF(S1689=0,ROUNDDOWN(NOW()-'Registry Full'!D1689,0),S1689-D1689))","v":""},{"$nulls":5},""]
["",null,null,"00:00:00",{"$nulls":15},{"$f":"IF(OR(D1690=0,P1690=Presets!$C$67),\"\",IF(S1690=0,ROUNDDOWN(NOW()-'Registry Full'!D1690,0),S1690-D1690))","v":""},{"$nulls":5},""]
["",null,null,"00:00:00",{"$nulls":15},{"$f":"IF(OR(D1691=0,P1691=Presets!$C$67),\"\",IF(S1691=0,ROUNDDOWN(NOW()-'Registry Full'!D1691,0),S1691-D1691))","v":""},{"$nulls":5},""]
["",null,null,"00:00:00",{"$nulls":15},{"$f":"IF(OR(D1692=0,P1692=Presets!$C$67),\"\",IF(S1692=0,ROUNDDOWN(NOW()-'Registry Full'!D1692,0),S1692-D1692))","v":""},{"$nulls":5},""]
["",null,null,"00:00:00",{"$nulls":15},{"$f":"IF(OR(D1693=0,P1693=Presets!$C$67),\"\",IF(S1693=0,ROUNDDOWN(NOW()-'Registry Full'!D1693,0),S1693-D1693))","v":""},{"$nulls":5},""]
["",null,null,"00:00:00",{"$nulls":15},{"$f":"IF(OR(D1694=0,P1694=Presets!$C$67),\"\",IF(S1694=0,ROUNDDOWN(NOW()-'Registry Full'!D1694,0),S1694-D1694))","v":""},{"$nulls":5},""]
["",null,null,"00:00:00",{"$nulls":15},{"$f":"IF(OR(D1695=0,P1695=Presets!$C$67),\"\",IF(S1695=0,ROUNDDOWN(NOW()-'Registry Full'!D1695,0),S1695-D1695))","v":""},{"$nulls":5},""]
["",null,null,"00:00:00",{"$nulls":15},{"$f":"IF(OR(D1696=0,P1696=Presets!$C$67),\"\",IF(S1696=0,ROUNDDOWN(NOW()-'Registry Full'!D1696,0),S1696-D1696))","v":""},{"$nulls":5},""]
["",null,null,"00:00:00",{"$nulls":15},{"$f":"IF(OR(D1697=0,P1697=Presets!$C$67),\"\",IF(S1697=0,ROUNDDOWN(NOW()-'Registry Full'!D1697,0),S1697-D1697))","v":""},{"$nulls":5},""]
["",null,null,"00:00:00",{"$nulls":15},{"$f":"IF(OR(D1698=0,P1698=Presets!$C$67),\"\",IF(S1698=0,ROUNDDOWN(NOW()-'Registry Full'!D1698,0),S1698-D1698))","v":""},{"$nulls":5},""]
["",null,null,"00:00:00",{"$nulls":15},{"$f":"IF(OR(D1699=0,P1699=Presets!$C$67),\"\",IF(S1699=0,ROUNDDOWN(NOW()-'Registry Full'!D1699,0),S1699-D1699))","v":""},{"$nulls":5},""]
["",null,null,"00:00:00",{"$nulls":15},{"$f":"IF(OR(D1700=0,P1700=Presets!$C$67),\"\",IF(S1700=0,ROUNDDOWN(NOW()-'Registry Full'!D1700,0),S1700-D1700))","v":""},{"$nulls":5},""]
["",null,null,"00:00:00",{"$nulls":15},{"$f":"IF(OR(D1701=0,P1701=Presets!$C$67),\"\",IF(S1701=0,ROUNDDOWN(NOW()-'Registry Full'!D1701,0),S1701-D1701))","v":""},{"$nulls":5},""]
["",null,null,"00:00:00",{"$nulls":15},{"$f":"IF(OR(D1702=0,P1702=Presets!$C$67),\"\",IF(S1702=0,ROUNDDOWN(NOW()-'Registry Full'!D1702,0),S1702-D1702))","v":""},{"$nulls":5},""]
["",null,null,"00:00:00",{"$nulls":15},{"$f":"IF(OR(D1703=0,P1703=Presets!$C$67),\"\",IF(S1703=0,ROUNDDOWN(NOW()-'Registry Full'!D1703,0),S1703-D1703))","v":""},{"$nulls":5},""]
["",null,null,"00:00:00",{"$nulls":15},{"$f":"IF(OR(D1704=0,P1704=Presets!$C$67),\"\",IF(S1704=0,ROUNDDOWN(NOW()-'Registry Full'!D1704,0),S1704-D1704))","v":""},{"$nulls":5},""]
["",null,null,"00:00:00",{"$nulls":15},{"$f":"IF(OR(D1705=0,P1705=Presets!$C$67),\"\",IF(S1705=0,ROUNDDOWN(NOW()-'Registry Full'!D1705,0),S1705-D1705))","v":""},{"$nulls":5},""]
["",null,null,"00:00:00",{"$nulls":15},{"$f":"IF(OR(D1706=0,P1706=Presets!$C$67),\"\",IF(S1706=0,ROUNDDOWN(NOW()-'Registry Full'!D1706,0),S1706-D1706))","v":""},{"$nulls":5},""]
["",null,null,"00:00:00",{"$nulls":15},{"$f":"IF(OR(D1707=0,P1707=Presets!$C$67),\"\",IF(S1707=0,ROUNDDOWN(NOW()-'Registry Full'!D1707,0),S1707-D1707))","v":""},{"$nulls":5},""]
["",null,null,"00:00:00",{"$nulls":15},{"$f":"IF(OR(D1708=0,P1708=Presets!$C$67),\"\",IF(S1708=0,ROUNDDOWN(NOW()-'Registry Full'!D1708,0),S1708-D1708))","v":""},{"$nulls":5},""]
["",null,null,"00:00:00",{"$nulls":15},{"$f":"IF(OR(D1709=0,P1709=Presets!$C$67),\"\",IF(S1709=0,ROUNDDOWN(NOW()-'Registry Full'!D1709,0),S1709-D1709))","v":""},{"$nulls":5},""]
["",null,null,"00:00:00",{"$nulls":15},{"$f":"IF(OR(D1710=0,P1710=Presets!$C$67),\"\",IF(S1710=0,ROUNDDOWN(NOW()-'Registry Full'!D1710,0),S1710-D1710))","v":""},{"$nulls":5},""]
["",null,null,"00:00:00",{"$nulls":15},{"$f":"IF(OR(D1711=0,P1711=Presets!$C$67),\"\",IF(S1711=0,ROUNDDOWN(NOW()-'Registry Full'!D1711,0),S1711-D1711))","v":""},{"$nulls":5},""]
["",null,null,"00:00:00",{"$nulls":15},{"$f":"IF(OR(D1712=0,P1712=Presets!$C$67),\"\",IF(S1712=0,ROUNDDOWN(NOW()-'Registry Full'!D1712,0),S1712-D1712))","v":""},{"$nulls":5},""]
["",null,null,"00:00:00",{"$nulls":15},{"$f":"IF(OR(D1713=0,P1713=Presets!$C$67),\"\",IF(S1713=0,ROUNDDOWN(NOW()-'Registry Full'!D1713,0),S1713-D1713))","v":""},{"$nulls":5},""]
["",null,null,"00:00:00",{"$nulls":15},{"$f":"IF(OR(D1714=0,P1714=Presets!$C$67),\"\",IF(S1714=0,ROUNDDOWN(NOW()-'Registry Full'!D1714,0),S1714-D1714))","v":""},{"$nulls":5},""]
["",null,null,"00:00:00",{"$nulls":15},{"$f":"IF(OR(D1715=0,P1715=Presets!$C$67),\"\",IF(S1715=0,ROUNDDOWN(NOW()-'Registry Full'!D1715,0),S1715-D1715))","v":""},{"$nulls":5},""]
["",null,null,"00:00:00",{"$nulls":15},{"$f":"IF(OR(D1716=0,P1716=Presets!$C$67),\"\",IF(S1716=0,ROUNDDOWN(NOW()-'Registry Full'!D1716,0),S1716-D1716))","v":""},{"$nulls":5},""]
["",null,null,"00:00:00",{"$nulls":15},{"$f":"IF(OR(D1717=0,P1717=Presets!$C$67),\"\",IF(S1717=0,ROUNDDOWN(NOW()-'Registry Full'!D1717,0),S1717-D1717))","v":""},{"$nulls":5},""]
["",null,null,"00:00:00",{"$nulls":15},{"$f":"IF(OR(D1718=0,P1718=Presets!$C$67),\"\",IF(S1718=0,ROUNDDOWN(NOW()-'Registry Full'!D1718,0),S1718-D1718))","v":""},{"$nulls":5},""]
["",null,null,"00:00:00",{"$nulls":15},{"$f":"IF(OR(D1719=0,P1719=Presets!$C$67),\"\",IF(S1719=0,ROUNDDOWN(NOW()-'Registry Full'!D1719,0),S1719-D1719))","v":""},{"$nulls":5},""]
["",null,null,"00:00:00",{"$nulls":15},{"$f":"IF(OR(D1720=0,P1720=Presets!$C$67),\"\",IF(S1720=0,ROUNDDOWN(NOW()-'Registry Full'!D1720,0),S1720-D1720))","v":""},{"$nulls":5},""]
["",null,null,"00:00:00",{"$nulls":15},{"$f":"IF(OR(D1721=0,P1721=Presets!$C$67),\"\",IF(S1721=0,ROUNDDOWN(NOW()-'Registry Full'!D1721,0),S1721-D1721))","v":""},{"$nulls":5},""]
["",null,null,"00:00:00",{"$nulls":15},{"$f":"IF(OR(D1722=0,P1722=Presets!$C$67),\"\",IF(S1722=0,ROUNDDOWN(NOW()-'Registry Full'!D1722,0),S1722-D1722))","v":""},{"$nulls":5},""]
["",null,null,"00:00:00",{"$nulls":15},{"$f":"IF(OR(D1723=0,P1723=Presets!$C$67),\"\",IF(S1723=0,ROUNDDOWN(NOW()-'Registry Full'!D1723,0),S1723-D1723))","v":""},{"$nulls":5},""]
["",null,null,"00:00:00",{"$nulls":15},{"$f":"IF(OR(D1724=0,P1724=Presets!$C$67),\"\",IF(S1724=0,ROUNDDOWN(NOW()-'Registry Full'!D1724,0),S1724-D1724))","v":""},{"$nulls":5},""]
["",null,null,"00:00:00",{"$nulls":15},{"$f":"IF(OR(D1725=0,P1725=Presets!$C$67),\"\",IF(S1725=0,ROUNDDOWN(NOW()-'Registry Full'!D1725,0),S1725-D1725))","v":""},{"$nulls":5},""]
["",null,null,"00:00:00",{"$nulls":15},{"$f":"IF(OR(D1726=0,P1726=Presets!$C$67),\"\",IF(S1726=0,ROUNDDOWN(NOW()-'Registry Full'!D1726,0),S1726-D1726))","v":""},{"$nulls":5},""]
["",null,null,"00:00:00",{"$nulls":15},{"$f":"IF(OR(D1727=0,P1727=Presets!$C$67),\"\",IF(S1727=0,ROUNDDOWN(NOW()-'Registry Full'!D1727,0),S1727-D1727))","v":""},{"$nulls":5},""]
["",null,null,"00:00:00",{"$nulls":15},{"$f":"IF(OR(D1728=0,P1728=Presets!$C$67),\"\",IF(S1728=0,ROUNDDOWN(NOW()-'Registry Full'!D1728,0),S1728-D1728))","v":""},{"$nulls":5},""]
["",null,null,"00:00:00",{"$nulls":15},{"$f":"IF(OR(D1729=0,P1729=Presets!$C$67),\"\",IF(S1729=0,ROUNDDOWN(NOW()-'Registry Full'!D1729,0),S1729-D1729))","v":""},{"$nulls":5},""]
["",null,null,"00:00:00",{"$nulls":15},{"$f":"IF(OR(D1730=0,P1730=Presets!$C$67),\"\",IF(S1730=0,ROUNDDOWN(NOW()-'Registry Full'!D1730,0),S1730-D1730))","v":""},{"$nulls":5},""]
["",null,null,"00:00:00",{"$nulls":15},{"$f":"IF(OR(D1731=0,P1731=Presets!$C$67),\"\",IF(S1731=0,ROUNDDOWN(NOW()-'Registry Full'!D1731,0),S1731-D1731))","v":""},{"$nulls":5},""]
["",null,null,"00:00:00",{"$nulls":15},{"$f":"IF(OR(D1732=0,P1732=Presets!$C$67),\"\",IF(S1732=0,ROUNDDOWN(NOW()-'Registry Full'!D1732,0),S1732-D1732))","v":""},{"$nulls":5},""]
["",null,null,"00:00:00",{"$nulls":15},{"$f":"IF(OR(D1733=0,P1733=Presets!$C$67),\"\",IF(S1733=0,ROUNDDOWN(NOW()-'Registry Full'!D1733,0),S1733-D1733))","v":""},{"$nulls":5},""]
["",null,null,{"$f":"IF(C1734=\"\",0,VALUE(RIGHT(C1734,LEN(C1734)-FIND(\"/\",C1734,LEN(C1734)-10))))","v":"00:00:00"},{"$nulls":15},{"$f":"IF(OR(D1734=0,P1734=Presets!$C$67),\"\",IF(S1734=0,ROUNDDOWN(NOW()-'Registry Full'!D1734,0),S1734-D1734))","v":""},{"$nulls":5},""]
["",null,null,"00:00:00",{"$nulls":15},{"$f":"IF(OR(D1735=0,P1735=Presets!$C$67),\"\",IF(S1735=0,ROUNDDOWN(NOW()-'Registry Full'!D1735,0),S1735-D1735))","v":""},{"$nulls":5},{"$f":"IF(OR(D1735=0,Y1735=0),\"\",Y1735-D1735)","v":""}]
["",null,null,"00:00:00",{"$nulls":15},{"$f":"IF(OR(D1736=0,P1736=Presets!$C$67),\"\",IF(S1736=0,ROUNDDOWN(NOW()-'Registry Full'!D1736,0),S1736-D1736))","v":""},{"$nulls":5},""]
["",null,null,"00:00:00",{"$nulls":15},{"$f":"IF(OR(D1737=0,P1737=Presets!$C$67),\"\",IF(S1737=0,ROUNDDOWN(NOW()-'Registry Full'!D1737,0),S1737-D1737))","v":""},{"$nulls":5},""]
["",null,null,"00:00:00",{"$nulls":15},{"$f":"IF(OR(D1738=0,P1738=Presets!$C$67),\"\",IF(S1738=0,ROUNDDOWN(NOW()-'Registry Full'!D1738,0),S1738-D1738))","v":""},{"$nulls":5},""]
["",null,null,"00:00:00",{"$nulls":15},{"$f":"IF(OR(D1739=0,P1739=Presets!$C$67),\"\",IF(S1739=0,ROUNDDOWN(NOW()-'Registry Full'!D1739,0),S1739-D1739))","v":""},{"$nulls":5},""]
["",null,null,"00:00:00",{"$nulls":15},{"$f":"IF(OR(D1740=0,P1740=Presets!$C$67),\"\",IF(S1740=0,ROUNDDOWN(NOW()-'Registry Full'!D1740,0),S1740-D1740))","v":""},{"$nulls":5},""]
["",null,null,"00:00:00",{"$nulls":15},{"$f":"IF(OR(D1741=0,P1741=Presets!$C$67),\"\",IF(S1741=0,ROUNDDOWN(NOW()-'Registry Full'!D1741,0),S1741-D1741))","v":""},{"$nulls":5},""]
["",null,null,"00:00:00",{"$nulls":15},{"$f":"IF(OR(D1742=0,P1742=Presets!$C$67),\"\",IF(S1742=0,ROUNDDOWN(NOW()-'Registry Full'!D1742,0),S1742-D1742))","v":""},{"$nulls":5},""]
["",null,null,"00:00:00",{"$nulls":15},{"$f":"IF(OR(D1743=0,P1743=Presets!$C$67),\"\",IF(S1743=0,ROUNDDOWN(NOW()-'Registry Full'!D1743,0),S1743-D1743))","v":""},{"$nulls":5},""]
["",null,null,"00:00:00",{"$nulls":15},{"$f":"IF(OR(D1744=0,P1744=Presets!$C$67),\"\",IF(S1744=0,ROUNDDOWN(NOW()-'Registry Full'!D1744,0),S1744-D1744))","v":""},{"$nulls":5},""]
["",null,null,"00:00:00",{"$nulls":15},{"$f":"IF(OR(D1745=0,P1745=Presets!$C$67),\"\",IF(S1745=0,ROUNDDOWN(NOW()-'Registry Full'!D1745,0),S1745-D1745))","v":""},{"$nulls":5},""]
["",null,null,"00:00:00",{"$nulls":15},{"$f":"IF(OR(D1746=0,P1746=Presets!$C$67),\"\",IF(S1746=0,ROUNDDOWN(NOW()-'Registry Full'!D1746,0),S1746-D1746))","v":""},{"$nulls":5},""]
["",null,null,"00:00:00",{"$nulls":15},{"$f":"IF(OR(D1747=0,P1747=Presets!$C$67),\"\",IF(S1747=0,ROUNDDOWN(NOW()-'Registry Full'!D1747,0),S1747-D1747))","v":""},{"$nulls":5},""]
["",null,null,"00:00:00",{"$nulls":15},{"$f":"IF(OR(D1748=0,P1748=Presets!$C$67),\"\",IF(S1748=0,ROUNDDOWN(NOW()-'Registry Full'!D1748,0),S1748-D1748))","v":""},{"$nulls":5},""]
["",null,null,"00:00:00",{"$nulls":15},{"$f":"IF(OR(D1749=0,P1749=Presets!$C$67),\"\",IF(S1749=0,ROUNDDOWN(NOW()-'Registry Full'!D1749,0),S1749-D1749))","v":""},{"$nulls":5},""]
["",null,null,"00:00:00",{"$nulls":15},{"$f":"IF(OR(D1750=0,P1750=Presets!$C$67),\"\",IF(S1750=0,ROUNDDOWN(NOW()-'Registry Full'!D1750,0),S1750-D1750))","v":""},{"$nulls":5},""]
[{"$f":"IF(COUNTA(B1751)<>0,A1750+1,\"\")","v":""},null,null,"00:00:00",{"$nulls":15},{"$f":"IF(OR(D1751=0,P1751=Presets!$C$67),\"\",IF(S1751=0,ROUNDDOWN(NOW()-'Registry Full'!D1751,0),S1751-D1751))","v":""},{"$nulls":5},""]
["",null,null,"00:00:00",{"$nulls":15},{"$f":"IF(OR(D1752=0,P1752=Presets!$C$67),\"\",IF(S1752=0,ROUNDDOWN(NOW()-'Registry Full'!D1752,0),S1752-D1752))","v":""},{"$nulls":5},""]
["",null,null,"00:00:00",{"$nulls":15},{"$f":"IF(OR(D1753=0,P1753=Presets!$C$67),\"\",IF(S1753=0,ROUNDDOWN(NOW()-'Registry Full'!D1753,0),S1753-D1753))","v":""},{"$nulls":5},""]
["",null,null,"00:00:00",{"$nulls":15},{"$f":"IF(OR(D1754=0,P1754=Presets!$C$67),\"\",IF(S1754=0,ROUNDDOWN(NOW()-'Registry Full'!D1754,0),S1754-D1754))","v":""},{"$nulls":5},""]
["",null,null,"00:00:00",{"$nulls":15},{"$f":"IF(OR(D1755=0,P1755=Presets!$C$67),\"\",IF(S1755=0,ROUNDDOWN(NOW()-'Registry Full'!D1755,0),S1755-D1755))","v":""},{"$nulls":5},""]
["",null,null,"00:00:00",{"$nulls":15},{"$f":"IF(OR(D1756=0,P1756=Presets!$C$67),\"\",IF(S1756=0,ROUNDDOWN(NOW()-'Registry Full'!D1756,0),S1756-D1756))","v":""},{"$nulls":5},""]
["",null,null,"00:00:00",{"$nulls":15},{"$f":"IF(OR(D1757=0,P1757=Presets!$C$67),\"\",IF(S1757=0,ROUNDDOWN(NOW()-'Registry Full'!D1757,0),S1757-D1757))","v":""},{"$nulls":5},""]
["",null,null,"00:00:00",{"$nulls":15},{"$f":"IF(OR(D1758=0,P1758=Presets!$C$67),\"\",IF(S1758=0,ROUNDDOWN(NOW()-'Registry Full'!D1758,0),S1758-D1758))","v":""},{"$nulls":5},""]
["",null,null,"00:00:00",{"$nulls":15},{"$f":"IF(OR(D1759=0,P1759=Presets!$C$67),\"\",IF(S1759=0,ROUNDDOWN(NOW()-'Registry Full'!D1759,0),S1759-D1759))","v":""},{"$nulls":5},""]
["",null,null,"00:00:00",{"$nulls":15},{"$f":"IF(OR(D1760=0,P1760=Presets!$C$67),\"\",IF(S1760=0,ROUNDDOWN(NOW()-'Registry Full'!D1760,0),S1760-D1760))","v":""},{"$nulls":5},""]
["",null,null,"00:00:00",{"$nulls":15},{"$f":"IF(OR(D1761=0,P1761=Presets!$C$67),\"\",IF(S1761=0,ROUNDDOWN(NOW()-'Registry Full'!D1761,0),S1761-D1761))","v":""},{"$nulls":5},""]
["",null,null,"00:00:00",{"$nulls":15},{"$f":"IF(OR(D1762=0,P1762=Presets!$C$67),\"\",IF(S1762=0,ROUNDDOWN(NOW()-'Registry Full'!D1762,0),S1762-D1762))","v":""},{"$nulls":5},""]
["",null,null,"00:00:00",{"$nulls":15},{"$f":"IF(OR(D1763=0,P1763=Presets!$C$67),\"\",IF(S1763=0,ROUNDDOWN(NOW()-'Registry Full'!D1763,0),S1763-D1763))","v":""},{"$nulls":5},""]
["",null,null,"00:00:00",{"$nulls":15},{"$f":"IF(OR(D1764=0,P1764=Presets!$C$67),\"\",IF(S1764=0,ROUNDDOWN(NOW()-'Registry Full'!D1764,0),S1764-D1764))","v":""},{"$nulls":5},""]
["",null,null,"00:00:00",{"$nulls":15},{"$f":"IF(OR(D1765=0,P1765=Presets!$C$67),\"\",IF(S1765=0,ROUNDDOWN(NOW()-'Registry Full'!D1765,0),S1765-D1765))","v":""},{"$nulls":5},""]
["",null,null,"00:00:00",{"$nulls":15},{"$f":"IF(OR(D1766=0,P1766=Presets!$C$67),\"\",IF(S1766=0,ROUNDDOWN(NOW()-'Registry Full'!D1766,0),S1766-D1766))","v":""},{"$nulls":5},""]
["",null,null,"00:00:00",{"$nulls":15},{"$f":"IF(OR(D1767=0,P1767=Presets!$C$67),\"\",IF(S1767=0,ROUNDDOWN(NOW()-'Registry Full'!D1767,0),S1767-D1767))","v":""},{"$nulls":5},""]
["",null,null,"00:00:00",{"$nulls":15},{"$f":"IF(OR(D1768=0,P1768=Presets!$C$67),\"\",IF(S1768=0,ROUNDDOWN(NOW()-'Registry Full'!D1768,0),S1768-D1768))","v":""},{"$nulls":5},""]
["",null,null,"00:00:00",{"$nulls":15},{"$f":"IF(OR(D1769=0,P1769=Presets!$C$67),\"\",IF(S1769=0,ROUNDDOWN(NOW()-'Registry Full'!D1769,0),S1769-D1769))","v":""},{"$nulls":5},""]
["",null,null,"00:00:00",{"$nulls":15},{"$f":"IF(OR(D1770=0,P1770=Presets!$C$67),\"\",IF(S1770=0,ROUNDDOWN(NOW()-'Registry Full'!D1770,0),S1770-D1770))","v":""},{"$nulls":5},""]
["",null,null,"00:00:00",{"$nulls":15},{"$f":"IF(OR(D1771=0,P1771=Presets!$C$67),\"\",IF(S1771=0,ROUNDDOWN(NOW()-'Registry Full'!D1771,0),S1771-D1771))","v":""},{"$nulls":5},""]
["",null,null,"00:00:00",{"$nulls":15},{"$f":"IF(OR(D1772=0,P1772=Presets!$C$67),\"\",IF(S1772=0,ROUNDDOWN(NOW()-'Registry Full'!D1772,0),S1772-D1772))","v":""},{"$nulls":5},""]
["",null,null,"00:00:00",{"$nulls":15},{"$f":"IF(OR(D1773=0,P1773=Presets!$C$67),\"\",IF(S1773=0,ROUNDDOWN(NOW()-'Registry Full'!D1773,0),S1773-D1773))","v":""},{"$nulls":5},""]
["",null,null,"00:00:00",{"$nulls":15},{"$f":"IF(OR(D1774=0,P1774=Presets!$C$67),\"\",IF(S1774=0,ROUNDDOWN(NOW()-'Registry Full'!D1774,0),S1774-D1774))","v":""},{"$nulls":5},""]
["",null,null,"00:00:00",{"$nulls":15},{"$f":"IF(OR(D1775=0,P1775=Presets!$C$67),\"\",IF(S1775=0,ROUNDDOWN(NOW()-'Registry Full'!D1775,0),S1775-D1775))","v":""},{"$nulls":5},""]
["",null,null,"00:00:00",{"$nulls":15},{"$f":"IF(OR(D1776=0,P1776=Presets!$C$67),\"\",IF(S1776=0,ROUNDDOWN(NOW()-'Registry Full'!D1776,0),S1776-D1776))","v":""},{"$nulls":5},""]
["",null,null,"00:00:00",{"$nulls":15},{"$f":"IF(OR(D1777=0,P1777=Presets!$C$67),\"\",IF(S1777=0,ROUNDDOWN(NOW()-'Registry Full'!D1777,0),S1777-D1777))","v":""},{"$nulls":5},""]
["",null,null,"00:00:00",{"$nulls":15},{"$f":"IF(OR(D1778=0,P1778=Presets!$C$67),\"\",IF(S1778=0,ROUNDDOWN(NOW()-'Registry Full'!D1778,0),S1778-D1778))","v":""},{"$nulls":5},""]
["",null,null,"00:00:00",{"$nulls":15},{"$f":"IF(OR(D1779=0,P1779=Presets!$C$67),\"\",IF(S1779=0,ROUNDDOWN(NOW()-'Registry Full'!D1779,0),S1779-D1779))","v":""},{"$nulls":5},""]
["",null,null,"00:00:00",{"$nulls":15},{"$f":"IF(OR(D1780=0,P1780=Presets!$C$67),\"\",IF(S1780=0,ROUNDDOWN(NOW()-'Registry Full'!D1780,0),S1780-D1780))","v":""},{"$nulls":5},""]
["",null,null,"00:00:00",{"$nulls":15},{"$f":"IF(OR(D1781=0,P1781=Presets!$C$67),\"\",IF(S1781=0,ROUNDDOWN(NOW()-'Registry Full'!D1781,0),S1781-D1781))","v":""},{"$nulls":5},""]
["",null,null,"00:00:00",{"$nulls":15},{"$f":"IF(OR(D1782=0,P1782=Presets!$C$67),\"\",IF(S1782=0,ROUNDDOWN(NOW()-'Registry Full'!D1782,0),S1782-D1782))","v":""},{"$nulls":5},""]
["",null,null,"00:00:00",{"$nulls":15},{"$f":"IF(OR(D1783=0,P1783=Presets!$C$67),\"\",IF(S1783=0,ROUNDDOWN(NOW()-'Registry Full'!D1783,0),S1783-D1783))","v":""},{"$nulls":5},""]
["",null,null,"00:00:00",{"$nulls":15},{"$f":"IF(OR(D1784=0,P1784=Presets!$C$67),\"\",IF(S1784=0,ROUNDDOWN(NOW()-'Registry Full'!D1784,0),S1784-D1784))","v":""},{"$nulls":5},""]
["",null,null,"00:00:00",{"$nulls":15},{"$f":"IF(OR(D1785=0,P1785=Presets!$C$67),\"\",IF(S1785=0,ROUNDDOWN(NOW()-'Registry Full'!D1785,0),S1785-D1785))","v":""},{"$nulls":5},""]
["",null,null,"00:00:00",{"$nulls":15},{"$f":"IF(OR(D1786=0,P1786=Presets!$C$67),\"\",IF(S1786=0,ROUNDDOWN(NOW()-'Registry Full'!D1786,0),S1786-D1786))","v":""},{"$nulls":5},""]
["",null,null,"00:00:00",{"$nulls":15},{"$f":"IF(OR(D1787=0,P1787=Presets!$C$67),\"\",IF(S1787=0,ROUNDDOWN(NOW()-'Registry Full'!D1787,0),S1787-D1787))","v":""},{"$nulls":5},""]
["",null,null,"00:00:00",{"$nulls":15},{"$f":"IF(OR(D1788=0,P1788=Presets!$C$67),\"\",IF(S1788=0,ROUNDDOWN(NOW()-'Registry Full'!D1788,0),S1788-D1788))","v":""},{"$nulls":5},""]
["",null,null,"00:00:00",{"$nulls":15},{"$f":"IF(OR(D1789=0,P1789=Presets!$C$67),\"\",IF(S1789=0,ROUNDDOWN(NOW()-'Registry Full'!D1789,0),S1789-D1789))","v":""},{"$nulls":5},""]
["",null,null,"00:00:00",{"$nulls":15},{"$f":"IF(OR(D1790=0,P1790=Presets!$C$67),\"\",IF(S1790=0,ROUNDDOWN(NOW()-'Registry Full'!D1790,0),S1790-D1790))","v":""},{"$nulls":5},""]
["",null,null,"00:00:00",{"$nulls":15},{"$f":"IF(OR(D1791=0,P1791=Presets!$C$67),\"\",IF(S1791=0,ROUNDDOWN(NOW()-'Registry Full'!D1791,0),S1791-D1791))","v":""},{"$nulls":5},""]
["",null,null,"00:00:00",{"$nulls":15},{"$f":"IF(OR(D1792=0,P1792=Presets!$C$67),\"\",IF(S1792=0,ROUNDDOWN(NOW()-'Registry Full'!D1792,0),S1792-D1792))","v":""},{"$nulls":5},""]
["",null,null,"00:00:00",{"$nulls":15},{"$f":"IF(OR(D1793=0,P1793=Presets!$C$67),\"\",IF(S1793=0,ROUNDDOWN(NOW()-'Registry Full'!D1793,0),S1793-D1793))","v":""},{"$nulls":5},""]
["",null,null,"00:00:00",{"$nulls":15},{"$f":"IF(OR(D1794=0,P1794=Presets!$C$67),\"\",IF(S1794=0,ROUNDDOWN(NOW()-'Registry Full'!D1794,0),S1794-D1794))","v":""},{"$nulls":5},""]
["",null,null,"00:00:00",{"$nulls":15},{"$f":"IF(OR(D1795=0,P1795=Presets!$C$67),\"\",IF(S1795=0,ROUNDDOWN(NOW()-'Registry Full'!D1795,0),S1795-D1795))","v":""},{"$nulls":5},""]
["",null,null,"00:00:00",{"$nulls":15},{"$f":"IF(OR(D1796=0,P1796=Presets!$C$67),\"\",IF(S1796=0,ROUNDDOWN(NOW()-'Registry Full'!D1796,0),S1796-D1796))","v":""},{"$nulls":5},""]
["",null,null,"00:00:00",{"$nulls":15},{"$f":"IF(OR(D1797=0,P1797=Presets!$C$67),\"\",IF(S1797=0,ROUNDDOWN(NOW()-'Registry Full'!D1797,0),S1797-D1797))","v":""},{"$nulls":5},""]
["",null,null,{"$f":"IF(C1798=\"\",0,VALUE(RIGHT(C1798,LEN(C1798)-FIND(\"/\",C1798,LEN(C1798)-10))))","v":"00:00:00"},{"$nulls":15},{"$f":"IF(OR(D1798=0,P1798=Presets!$C$67),\"\",IF(S1798=0,ROUNDDOWN(NOW()-'Registry Full'!D1798,0),S1798-D1798))","v":""},{"$nulls":5},""]
["",null,null,"00:00:00",{"$nulls":15},{"$f":"IF(OR(D1799=0,P1799=Presets!$C$67),\"\",IF(S1799=0,ROUNDDOWN(NOW()-'Registry Full'!D1799,0),S1799-D1799))","v":""},{"$nulls":5},{"$f":"IF(OR(D1799=0,Y1799=0),\"\",Y1799-D1799)","v":""}]
["",null,null,"00:00:00",{"$nulls":15},{"$f":"IF(OR(D1800=0,P1800=Presets!$C$67),\"\",IF(S1800=0,ROUNDDOWN(NOW()-'Registry Full'!D1800,0),S1800-D1800))","v":""},{"$nulls":5},""]
["",null,null,"00:00:00",{"$nulls":15},{"$f":"IF(OR(D1801=0,P1801=Presets!$C$67),\"\",IF(S1801=0,ROUNDDOWN(NOW()-'Registry Full'!D1801,0),S1801-D1801))","v":""},{"$nulls":5},""]
["",null,null,"00:00:00",{"$nulls":15},{"$f":"IF(OR(D1802=0,P1802=Presets!$C$67),\"\",IF(S1802=0,ROUNDDOWN(NOW()-'Registry Full'!D1802,0),S1802-D1802))","v":""},{"$nulls":5},""]
["",null,null,"00:00:00",{"$nulls":15},{"$f":"IF(OR(D1803=0,P1803=Presets!$C$67),\"\",IF(S1803=0,ROUNDDOWN(NOW()-'Registry Full'!D1803,0),S1803-D1803))","v":""},{"$nulls":5},""]
["",null,null,"00:00:00",{"$nulls":15},{"$f":"IF(OR(D1804=0,P1804=Presets!$C$67),\"\",IF(S1804=0,ROUNDDOWN(NOW()-'Registry Full'!D1804,0),S1804-D1804))","v":""},{"$nulls":5},""]
["",null,null,"00:00:00",{"$nulls":15},{"$f":"IF(OR(D1805=0,P1805=Presets!$C$67),\"\",IF(S1805=0,ROUNDDOWN(NOW()-'Registry Full'!D1805,0),S1805-D1805))","v":""},{"$nulls":5},""]
["",null,null,"00:00:00",{"$nulls":15},{"$f":"IF(OR(D1806=0,P1806=Presets!$C$67),\"\",IF(S1806=0,ROUNDDOWN(NOW()-'Registry Full'!D1806,0),S1806-D1806))","v":""},{"$nulls":5},""]
["",null,null,"00:00:00",{"$nulls":15},{"$f":"IF(OR(D1807=0,P1807=Presets!$C$67),\"\",IF(S1807=0,ROUNDDOWN(NOW()-'Registry Full'!D1807,0),S1807-D1807))","v":""},{"$nulls":5},""]
["",null,null,"00:00:00",{"$nulls":15},{"$f":"IF(OR(D1808=0,P1808=Presets!$C$67),\"\",IF(S1808=0,ROUNDDOWN(NOW()-'Registry Full'!D1808,0),S1808-D1808))","v":""},{"$nulls":5},""]
["",null,null,"00:00:00",{"$nulls":15},{"$f":"IF(OR(D1809=0,P1809=Presets!$C$67),\"\",IF(S1809=0,ROUNDDOWN(NOW()-'Registry Full'!D1809,0),S1809-D1809))","v":""},{"$nulls":5},""]
["",null,null,"00:00:00",{"$nulls":15},{"$f":"IF(OR(D1810=0,P1810=Presets!$C$67),\"\",IF(S1810=0,ROUNDDOWN(NOW()-'Registry Full'!D1810,0),S1810-D1810))","v":""},{"$nulls":5},""]
["",null,null,"00:00:00",{"$nulls":15},{"$f":"IF(OR(D1811=0,P1811=Presets!$C$67),\"\",IF(S1811=0,ROUNDDOWN(NOW()-'Registry Full'!D1811,0),S1811-D1811))","v":""},{"$nulls":5},""]
["",null,null,"00:00:00",{"$nulls":15},{"$f":"IF(OR(D1812=0,P1812=Presets!$C$67),\"\",IF(S1812=0,ROUNDDOWN(NOW()-'Registry Full'!D1812,0),S1812-D1812))","v":""},{"$nulls":5},""]
["",null,null,"00:00:00",{"$nulls":15},{"$f":"IF(OR(D1813=0,P1813=Presets!$C$67),\"\",IF(S1813=0,ROUNDDOWN(NOW()-'Registry Full'!D1813,0),S1813-D1813))","v":""},{"$nulls":5},""]
["",null,null,"00:00:00",{"$nulls":15},{"$f":"IF(OR(D1814=0,P1814=Presets!$C$67),\"\",IF(S1814=0,ROUNDDOWN(NOW()-'Registry Full'!D1814,0),S1814-D1814))","v":""},{"$nulls":5},""]
[{"$f":"IF(COUNTA(B1815)<>0,A1814+1,\"\")","v":""},null,null,"00:00:00",{"$nulls":15},{"$f":"IF(OR(D1815=0,P1815=Presets!$C$67),\"\",IF(S1815=0,ROUNDDOWN(NOW()-'Registry Full'!D1815,0),S1815-D1815))","v":""},{"$nulls":5},""]
["",null,null,"00:00:00",{"$nulls":15},{"$f":"IF(OR(D1816=0,P1816=Presets!$C$67),\"\",IF(S1816=0,ROUNDDOWN(NOW()-'Registry Full'!D1816,0),S1816-D1816))","v":""},{"$nulls":5},""]
["",null,null,"00:00:00",{"$nulls":15},{"$f":"IF(OR(D1817=0,P1817=Presets!$C$67),\"\",IF(S1817=0,ROUNDDOWN(NOW()-'Registry Full'!D1817,0),S1817-D1817))","v":""},{"$nulls":5},""]
["",null,null,"00:00:00",{"$nulls":15},{"$f":"IF(OR(D1818=0,P1818=Presets!$C$67),\"\",IF(S1818=0,ROUNDDOWN(NOW()-'Registry Full'!D1818,0),S1818-D1818))","v":""},{"$nulls":5},""]
["",null,null,"00:00:00",{"$nulls":15},{"$f":"IF(OR(D1819=0,P1819=Presets!$C$67),\"\",IF(S1819=0,ROUNDDOWN(NOW()-'Registry Full'!D1819,0),S1819-D1819))","v":""},{"$nulls":5},""]
["",null,null,"00:00:00",{"$nulls":15},{"$f":"IF(OR(D1820=0,P1820=Presets!$C$67),\"\",IF(S1820=0,ROUNDDOWN(NOW()-'Registry Full'!D1820,0),S1820-D1820))","v":""},{"$nulls":5},""]
["",null,null,"00:00:00",{"$nulls":15},{"$f":"IF(OR(D1821=0,P1821=Presets!$C$67),\"\",IF(S1821=0,ROUNDDOWN(NOW()-'Registry Full'!D1821,0),S1821-D1821))","v":""},{"$nulls":5},""]
["",null,null,"00:00:00",{"$nulls":15},{"$f":"IF(OR(D1822=0,P1822=Presets!$C$67),\"\",IF(S1822=0,ROUNDDOWN(NOW()-'Registry Full'!D1822,0),S1822-D1822))","v":""},{"$nulls":5},""]
["",null,null,"00:00:00",{"$nulls":15},{"$f":"IF(OR(D1823=0,P1823=Presets!$C$67),\"\",IF(S1823=0,ROUNDDOWN(NOW()-'Registry Full'!D1823,0),S1823-D1823))","v":""},{"$nulls":5},""]
["",null,null,"00:00:00",{"$nulls":15},{"$f":"IF(OR(D1824=0,P1824=Presets!$C$67),\"\",IF(S1824=0,ROUNDDOWN(NOW()-'Registry Full'!D1824,0),S1824-D1824))","v":""},{"$nulls":5},""]
["",null,null,"00:00:00",{"$nulls":15},{"$f":"IF(OR(D1825=0,P1825=Presets!$C$67),\"\",IF(S1825=0,ROUNDDOWN(NOW()-'Registry Full'!D1825,0),S1825-D1825))","v":""},{"$nulls":5},""]
["",null,null,"00:00:00",{"$nulls":15},{"$f":"IF(OR(D1826=0,P1826=Presets!$C$67),\"\",IF(S1826=0,ROUNDDOWN(NOW()-'Registry Full'!D1826,0),S1826-D1826))","v":""},{"$nulls":5},""]
["",null,null,"00:00:00",{"$nulls":15},{"$f":"IF(OR(D1827=0,P1827=Presets!$C$67),\"\",IF(S1827=0,ROUNDDOWN(NOW()-'Registry Full'!D1827,0),S1827-D1827))","v":""},{"$nulls":5},""]
["",null,null,"00:00:00",{"$nulls":15},{"$f":"IF(OR(D1828=0,P1828=Presets!$C$67),\"\",IF(S1828=0,ROUNDDOWN(NOW()-'Registry Full'!D1828,0),S1828-D1828))","v":""},{"$nulls":5},""]
["",null,null,"00:00:00",{"$nulls":15},{"$f":"IF(OR(D1829=0,P1829=Presets!$C$67),\"\",IF(S1829=0,ROUNDDOWN(NOW()-'Registry Full'!D1829,0),S1829-D1829))","v":""},{"$nulls":5},""]
["",null,null,"00:00:00",{"$nulls":15},{"$f":"IF(OR(D1830=0,P1830=Presets!$C$67),\"\",IF(S1830=0,ROUNDDOWN(NOW()-'Registry Full'!D1830,0),S1830-D1830))","v":""},{"$nulls":5},""]
["",null,null,"00:00:00",{"$nulls":15},{"$f":"IF(OR(D1831=0,P1831=Presets!$C$67),\"\",IF(S1831=0,ROUNDDOWN(NOW()-'Registry Full'!D1831,0),S1831-D1831))","v":""},{"$nulls":5},""]
["",null,null,"00:00:00",{"$nulls":15},{"$f":"IF(OR(D1832=0,P1832=Presets!$C$67),\"\",IF(S1832=0,ROUNDDOWN(NOW()-'Registry Full'!D1832,0),S1832-D1832))","v":""},{"$nulls":5},""]
["",null,null,"00:00:00",{"$nulls":15},{"$f":"IF(OR(D1833=0,P1833=Presets!$C$67),\"\",IF(S1833=0,ROUNDDOWN(NOW()-'Registry Full'!D1833,0),S1833-D1833))","v":""},{"$nulls":5},""]
["",null,null,"00:00:00",{"$nulls":15},{"$f":"IF(OR(D1834=0,P1834=Presets!$C$67),\"\",IF(S1834=0,ROUNDDOWN(NOW()-'Registry Full'!D1834,0),S1834-D1834))","v":""},{"$nulls":5},""]
["",null,null,"00:00:00",{"$nulls":15},{"$f":"IF(OR(D1835=0,P1835=Presets!$C$67),\"\",IF(S1835=0,ROUNDDOWN(NOW()-'Registry Full'!D1835,0),S1835-D1835))","v":""},{"$nulls":5},""]
["",null,null,"00:00:00",{"$nulls":15},{"$f":"IF(OR(D1836=0,P1836=Presets!$C$67),\"\",IF(S1836=0,ROUNDDOWN(NOW()-'Registry Full'!D1836,0),S1836-D1836))","v":""},{"$nulls":5},""]
["",null,null,"00:00:00",{"$nulls":15},{"$f":"IF(OR(D1837=0,P1837=Presets!$C$67),\"\",IF(S1837=0,ROUNDDOWN(NOW()-'Registry Full'!D1837,0),S1837-D1837))","v":""},{"$nulls":5},""]
["",null,null,"00:00:00",{"$nulls":15},{"$f":"IF(OR(D1838=0,P1838=Presets!$C$67),\"\",IF(S1838=0,ROUNDDOWN(NOW()-'Registry Full'!D1838,0),S1838-D1838))","v":""},{"$nulls":5},""]
["",null,null,"00:00:00",{"$nulls":15},{"$f":"IF(OR(D1839=0,P1839=Presets!$C$67),\"\",IF(S1839=0,ROUNDDOWN(NOW()-'Registry Full'!D1839,0),S1839-D1839))","v":""},{"$nulls":5},""]
["",null,null,"00:00:00",{"$nulls":15},{"$f":"IF(OR(D1840=0,P1840=Presets!$C$67),\"\",IF(S1840=0,ROUNDDOWN(NOW()-'Registry Full'!D1840,0),S1840-D1840))","v":""},{"$nulls":5},""]
["",null,null,"00:00:00",{"$nulls":15},{"$f":"IF(OR(D1841=0,P1841=Presets!$C$67),\"\",IF(S1841=0,ROUNDDOWN(NOW()-'Registry Full'!D1841,0),S1841-D1841))","v":""},{"$nulls":5},""]
["",null,null,"00:00:00",{"$nulls":15},{"$f":"IF(OR(D1842=0,P1842=Presets!$C$67),\"\",IF(S1842=0,ROUNDDOWN(NOW()-'Registry Full'!D1842,0),S1842-D1842))","v":""},{"$nulls":5},""]
["",null,null,"00:00:00",{"$nulls":15},{"$f":"IF(OR(D1843=0,P1843=Presets!$C$67),\"\",IF(S1843=0,ROUNDDOWN(NOW()-'Registry Full'!D1843,0),S1843-D1843))","v":""},{"$nulls":5},""]
["",null,null,"00:00:00",{"$nulls":15},{"$f":"IF(OR(D1844=0,P1844=Presets!$C$67),\"\",IF(S1844=0,ROUNDDOWN(NOW()-'Registry Full'!D1844,0),S1844-D1844))","v":""},{"$nulls":5},""]
["",null,null,"00:00:00",{"$nulls":15},{"$f":"IF(OR(D1845=0,P1845=Presets!$C$67),\"\",IF(S1845=0,ROUNDDOWN(NOW()-'Registry Full'!D1845,0),S1845-D1845))","v":""},{"$nulls":5},""]
["",null,null,"00:00:00",{"$nulls":15},{"$f":"IF(OR(D1846=0,P1846=Presets!$C$67),\"\",IF(S1846=0,ROUNDDOWN(NOW()-'Registry Full'!D1846,0),S1846-D1846))","v":""},{"$nulls":5},""]
["",null,null,"00:00:00",{"$nulls":15},{"$f":"IF(OR(D1847=0,P1847=Presets!$C$67),\"\",IF(S1847=0,ROUNDDOWN(NOW()-'Registry Full'!D1847,0),S1847-D1847))","v":""},{"$nulls":5},""]
["",null,null,"00:00:00",{"$nulls":15},{"$f":"IF(OR(D1848=0,P1848=Presets!$C$67),\"\",IF(S1848=0,ROUNDDOWN(NOW()-'Registry Full'!D1848,0),S1848-D1848))","v":""},{"$nulls":5},""]
["",null,null,"00:00:00",{"$nulls":15},{"$f":"IF(OR(D1849=0,P1849=Presets!$C$67),\"\",IF(S1849=0,ROUNDDOWN(NOW()-'Registry Full'!D1849,0),S1849-D1849))","v":""},{"$nulls":5},""]
["",null,null,"00:00:00",{"$nulls":15},{"$f":"IF(OR(D1850=0,P1850=Presets!$C$67),\"\",IF(S1850=0,ROUNDDOWN(NOW()-'Registry Full'!D1850,0),S1850-D1850))","v":""},{"$nulls":5},""]
["",null,null,"00:00:00",{"$nulls":15},{"$f":"IF(OR(D1851=0,P1851=Presets!$C$67),\"\",IF(S1851=0,ROUNDDOWN(NOW()-'Registry Full'!D1851,0),S1851-D1851))","v":""},{"$nulls":5},""]
["",null,null,"00:00:00",{"$nulls":15},{"$f":"IF(OR(D1852=0,P1852=Presets!$C$67),\"\",IF(S1852=0,ROUNDDOWN(NOW()-'Registry Full'!D1852,0),S1852-D1852))","v":""},{"$nulls":5},""]
["",null,null,"00:00:00",{"$nulls":15},{"$f":"IF(OR(D1853=0,P1853=Presets!$C$67),\"\",IF(S1853=0,ROUNDDOWN(NOW()-'Registry Full'!D1853,0),S1853-D1853))","v":""},{"$nulls":5},""]
["",null,null,"00:00:00",{"$nulls":15},{"$f":"IF(OR(D1854=0,P1854=Presets!$C$67),\"\",IF(S1854=0,ROUNDDOWN(NOW()-'Registry Full'!D1854,0),S1854-D1854))","v":""},{"$nulls":5},""]
["",null,null,"00:00:00",{"$nulls":15},{"$f":"IF(OR(D1855=0,P1855=Presets!$C$67),\"\",IF(S1855=0,ROUNDDOWN(NOW()-'Registry Full'!D1855,0),S1855-D1855))","v":""},{"$nulls":5},""]
["",null,null,"00:00:00",{"$nulls":15},{"$f":"IF(OR(D1856=0,P1856=Presets!$C$67),\"\",IF(S1856=0,ROUNDDOWN(NOW()-'Registry Full'!D1856,0),S1856-D1856))","v":""},{"$nulls":5},""]
["",null,null,"00:00:00",{"$nulls":15},{"$f":"IF(OR(D1857=0,P1857=Presets!$C$67),\"\",IF(S1857=0,ROUNDDOWN(NOW()-'Registry Full'!D1857,0),S1857-D1857))","v":""},{"$nulls":5},""]
["",null,null,"00:00:00",{"$nulls":15},{"$f":"IF(OR(D1858=0,P1858=Presets!$C$67),\"\",IF(S1858=0,ROUNDDOWN(NOW()-'Registry Full'!D1858,0),S1858-D1858))","v":""},{"$nulls":5},""]
["",null,null,"00:00:00",{"$nulls":15},{"$f":"IF(OR(D1859=0,P1859=Presets!$C$67),\"\",IF(S1859=0,ROUNDDOWN(NOW()-'Registry Full'!D1859,0),S1859-D1859))","v":""},{"$nulls":5},""]
["",null,null,"00:00:00",{"$nulls":15},{"$f":"IF(OR(D1860=0,P1860=Presets!$C$67),\"\",IF(S1860=0,ROUNDDOWN(NOW()-'Registry Full'!D1860,0),S1860-D1860))","v":""},{"$nulls":5},""]
["",null,null,"00:00:00",{"$nulls":15},{"$f":"IF(OR(D1861=0,P1861=Presets!$C$67),\"\",IF(S1861=0,ROUNDDOWN(NOW()-'Registry Full'!D1861,0),S1861-D1861))","v":""},{"$nulls":5},""]
["",null,null,{"$f":"IF(C1862=\"\",0,VALUE(RIGHT(C1862,LEN(C1862)-FIND(\"/\",C1862,LEN(C1862)-10))))","v":"00:00:00"},{"$nulls":15},{"$f":"IF(OR(D1862=0,P1862=Presets!$C$67),\"\",IF(S1862=0,ROUNDDOWN(NOW()-'Registry Full'!D1862,0),S1862-D1862))","v":""},{"$nulls":5},""]
["",null,null,"00:00:00",{"$nulls":15},{"$f":"IF(OR(D1863=0,P1863=Presets!$C$67),\"\",IF(S1863=0,ROUNDDOWN(NOW()-'Registry Full'!D1863,0),S1863-D1863))","v":""},{"$nulls":5},{"$f":"IF(OR(D1863=0,Y1863=0),\"\",Y1863-D1863)","v":""}]
["",null,null,"00:00:00",{"$nulls":15},{"$f":"IF(OR(D1864=0,P1864=Presets!$C$67),\"\",IF(S1864=0,ROUNDDOWN(NOW()-'Registry Full'!D1864,0),S1864-D1864))","v":""},{"$nulls":5},""]
["",null,null,"00:00:00",{"$nulls":15},{"$f":"IF(OR(D1865=0,P1865=Presets!$C$67),\"\",IF(S1865=0,ROUNDDOWN(NOW()-'Registry Full'!D1865,0),S1865-D1865))","v":""},{"$nulls":5},""]
["",null,null,"00:00:00",{"$nulls":15},{"$f":"IF(OR(D1866=0,P1866=Presets!$C$67),\"\",IF(S1866=0,ROUNDDOWN(NOW()-'Registry Full'!D1866,0),S1866-D1866))","v":""},{"$nulls":5},""]
["",null,null,"00:00:00",{"$nulls":15},{"$f":"IF(OR(D1867=0,P1867=Presets!$C$67),\"\",IF(S1867=0,ROUNDDOWN(NOW()-'Registry Full'!D1867,0),S1867-D1867))","v":""},{"$nulls":5},""]
["",null,null,"00:00:00",{"$nulls":15},{"$f":"IF(OR(D1868=0,P1868=Presets!$C$67),\"\",IF(S1868=0,ROUNDDOWN(NOW()-'Registry Full'!D1868,0),S1868-D1868))","v":""},{"$nulls":5},""]
["",null,null,"00:00:00",{"$nulls":15},{"$f":"IF(OR(D1869=0,P1869=Presets!$C$67),\"\",IF(S1869=0,ROUNDDOWN(NOW()-'Registry Full'!D1869,0),S1869-D1869))","v":""},{"$nulls":5},""]
["",null,null,"00:00:00",{"$nulls":15},{"$f":"IF(OR(D1870=0,P1870=Presets!$C$67),\"\",IF(S1870=0,ROUNDDOWN(NOW()-'Registry Full'!D1870,0),S1870-D1870))","v":""},{"$nulls":5},""]
["",null,null,"00:00:00",{"$nulls":15},{"$f":"IF(OR(D1871=0,P1871=Presets!$C$67),\"\",IF(S1871=0,ROUNDDOWN(NOW()-'Registry Full'!D1871,0),S1871-D1871))","v":""},{"$nulls":5},""]
["",null,null,"00:00:00",{"$nulls":15},{"$f":"IF(OR(D1872=0,P1872=Presets!$C$67),\"\",IF(S1872=0,ROUNDDOWN(NOW()-'Registry Full'!D1872,0),S1872-D1872))","v":""},{"$nulls":5},""]
["",null,null,"00:00:00",{"$nulls":15},{"$f":"IF(OR(D1873=0,P1873=Presets!$C$67),\"\",IF(S1873=0,ROUNDDOWN(NOW()-'Registry Full'!D1873,0),S1873-D1873))","v":""},{"$nulls":5},""]
["",null,null,"00:00:00",{"$nulls":15},{"$f":"IF(OR(D1874=0,P1874=Presets!$C$67),\"\",IF(S1874=0,ROUNDDOWN(NOW()-'Registry Full'!D1874,0),S1874-D1874))","v":""},{"$nulls":5},""]
["",null,null,"00:00:00",{"$nulls":15},{"$f":"IF(OR(D1875=0,P1875=Presets!$C$67),\"\",IF(S1875=0,ROUNDDOWN(NOW()-'Registry Full'!D1875,0),S1875-D1875))","v":""},{"$nulls":5},""]
["",null,null,"00:00:00",{"$nulls":15},{"$f":"IF(OR(D1876=0,P1876=Presets!$C$67),\"\",IF(S1876=0,ROUNDDOWN(NOW()-'Registry Full'!D1876,0),S1876-D1876))","v":""},{"$nulls":5},""]
["",null,null,"00:00:00",{"$nulls":15},{"$f":"IF(OR(D1877=0,P1877=Presets!$C$67),\"\",IF(S1877=0,ROUNDDOWN(NOW()-'Registry Full'!D1877,0),S1877-D1877))","v":""},{"$nulls":5},""]
["",null,null,"00:00:00",{"$nulls":15},{"$f":"IF(OR(D1878=0,P1878=Presets!$C$67),\"\",IF(S1878=0,ROUNDDOWN(NOW()-'Registry Full'!D1878,0),S1878-D1878))","v":""},{"$nulls":5},""]
[{"$f":"IF(COUNTA(B1879)<>0,A1878+1,\"\")","v":""},null,null,"00:00:00",{"$nulls":15},{"$f":"IF(OR(D1879=0,P1879=Presets!$C$67),\"\",IF(S1879=0,ROUNDDOWN(NOW()-'Registry Full'!D1879,0),S1879-D1879))","v":""},{"$nulls":5},""]
["",null,null,"00:00:00",{"$nulls":15},{"$f":"IF(OR(D1880=0,P1880=Presets!$C$67),\"\",IF(S1880=0,ROUNDDOWN(NOW()-'Registry Full'!D1880,0),S1880-D1880))","v":""},{"$nulls":5},""]
["",null,null,"00:00:00",{"$nulls":15},{"$f":"IF(OR(D1881=0,P1881=Presets!$C$67),\"\",IF(S1881=0,ROUNDDOWN(NOW()-'Registry Full'!D1881,0),S1881-D1881))","v":""},{"$nulls":5},""]
["",null,null,"00:00:00",{"$nulls":15},{"$f":"IF(OR(D1882=0,P1882=Presets!$C$67),\"\",IF(S1882=0,ROUNDDOWN(NOW()-'Registry Full'!D1882,0),S1882-D1882))","v":""},{"$nulls":5},""]
["",null,null,"00:00:00",{"$nulls":15},{"$f":"IF(OR(D1883=0,P1883=Presets!$C$67),\"\",IF(S1883=0,ROUNDDOWN(NOW()-'Registry Full'!D1883,0),S1883-D1883))","v":""},{"$nulls":5},""]
["",null,null,"00:00:00",{"$nulls":15},{"$f":"IF(OR(D1884=0,P1884=Presets!$C$67),\"\",IF(S1884=0,ROUNDDOWN(NOW()-'Registry Full'!D1884,0),S1884-D1884))","v":""},{"$nulls":5},""]
["",null,null,"00:00:00",{"$nulls":15},{"$f":"IF(OR(D1885=0,P1885=Presets!$C$67),\"\",IF(S1885=0,ROUNDDOWN(NOW()-'Registry Full'!D1885,0),S1885-D1885))","v":""},{"$nulls":5},""]
["",null,null,"00:00:00",{"$nulls":15},{"$f":"IF(OR(D1886=0,P1886=Presets!$C$67),\"\",IF(S1886=0,ROUNDDOWN(NOW()-'Registry Full'!D1886,0),S1886-D1886))","v":""},{"$nulls":5},""]
["",null,null,"00:00:00",{"$nulls":15},{"$f":"IF(OR(D1887=0,P1887=Presets!$C$67),\"\",IF(S1887=0,ROUNDDOWN(NOW()-'Registry Full'!D1887,0),S1887-D1887))","v":""},{"$nulls":5},""]
["",null,null,"00:00:00",{"$nulls":15},{"$f":"IF(OR(D1888=0,P1888=Presets!$C$67),\"\",IF(S1888=0,ROUNDDOWN(NOW()-'Registry Full'!D1888,0),S1888-D1888))","v":""},{"$nulls":5},""]
["",null,null,"00:00:00",{"$nulls":15},{"$f":"IF(OR(D1889=0,P1889=Presets!$C$67),\"\",IF(S1889=0,ROUNDDOWN(NOW()-'Registry Full'!D1889,0),S1889-D1889))","v":""},{"$nulls":5},""]
["",null,null,"00:00:00",{"$nulls":15},{"$f":"IF(OR(D1890=0,P1890=Presets!$C$67),\"\",IF(S1890=0,ROUNDDOWN(NOW()-'Registry Full'!D1890,0),S1890-D1890))","v":""},{"$nulls":5},""]
["",null,null,"00:00:00",{"$nulls":15},{"$f":"IF(OR(D1891=0,P1891=Presets!$C$67),\"\",IF(S1891=0,ROUNDDOWN(NOW()-'Registry Full'!D1891,0),S1891-D1891))","v":""},{"$nulls":5},""]
["",null,null,"00:00:00",{"$nulls":15},{"$f":"IF(OR(D1892=0,P1892=Presets!$C$67),\"\",IF(S1892=0,ROUNDDOWN(NOW()-'Registry Full'!D1892,0),S1892-D1892))","v":""},{"$nulls":5},""]
["",null,null,"00:00:00",{"$nulls":15},{"$f":"IF(OR(D1893=0,P1893=Presets!$C$67),\"\",IF(S1893=0,ROUNDDOWN(NOW()-'Registry Full'!D1893,0),S1893-D1893))","v":""},{"$nulls":5},""]
["",null,null,"00:00:00",{"$nulls":15},{"$f":"IF(OR(D1894=0,P1894=Presets!$C$67),\"\",IF(S1894=0,ROUNDDOWN(NOW()-'Registry Full'!D1894,0),S1894-D1894))","v":""},{"$nulls":5},""]
["",null,null,"00:00:00",{"$nulls":15},{"$f":"IF(OR(D1895=0,P1895=Presets!$C$67),\"\",IF(S1895=0,ROUNDDOWN(NOW()-'Registry Full'!D1895,0),S1895-D1895))","v":""},{"$nulls":5},""]
["",null,null,"00:00:00",{"$nulls":15},{"$f":"IF(OR(D1896=0,P1896=Presets!$C$67),\"\",IF(S1896=0,ROUNDDOWN(NOW()-'Registry Full'!D1896,0),S1896-D1896))","v":""},{"$nulls":5},""]
["",null,null,"00:00:00",{"$nulls":15},{"$f":"IF(OR(D1897=0,P1897=Presets!$C$67),\"\",IF(S1897=0,ROUNDDOWN(NOW()-'Registry Full'!D1897,0),S1897-D1897))","v":""},{"$nulls":5},""]
["",null,null,"00:00:00",{"$nulls":15},{"$f":"IF(OR(D1898=0,P1898=Presets!$C$67),\"\",IF(S1898=0,ROUNDDOWN(NOW()-'Registry Full'!D1898,0),S1898-D1898))","v":""},{"$nulls":5},""]
["",null,null,"00:00:00",{"$nulls":15},{"$f":"IF(OR(D1899=0,P1899=Presets!$C$67),\"\",IF(S1899=0,ROUNDDOWN(NOW()-'Registry Full'!D1899,0),S1899-D1899))","v":""},{"$nulls":5},""]
["",null,null,"00:00:00",{"$nulls":15},{"$f":"IF(OR(D1900=0,P1900=Presets!$C$67),\"\",IF(S1900=0,ROUNDDOWN(NOW()-'Registry Full'!D1900,0),S1900-D1900))","v":""},{"$nulls":5},""]
["",null,null,"00:00:00",{"$nulls":15},{"$f":"IF(OR(D1901=0,P1901=Presets!$C$67),\"\",IF(S1901=0,ROUNDDOWN(NOW()-'Registry Full'!D1901,0),S1901-D1901))","v":""},{"$nulls":5},""]
["",null,null,"00:00:00",{"$nulls":15},{"$f":"IF(OR(D1902=0,P1902=Presets!$C$67),\"\",IF(S1902=0,ROUNDDOWN(NOW()-'Registry Full'!D1902,0),S1902-D1902))","v":""},{"$nulls":5},""]
["",null,null,"00:00:00",{"$nulls":15},{"$f":"IF(OR(D1903=0,P1903=Presets!$C$67),\"\",IF(S1903=0,ROUNDDOWN(NOW()-'Registry Full'!D1903,0),S1903-D1903))","v":""},{"$nulls":5},""]
["",null,null,"00:00:00",{"$nulls":15},{"$f":"IF(OR(D1904=0,P1904=Presets!$C$67),\"\",IF(S1904=0,ROUNDDOWN(NOW()-'Registry Full'!D1904,0),S1904-D1904))","v":""},{"$nulls":5},""]
["",null,null,"00:00:00",{"$nulls":15},{"$f":"IF(OR(D1905=0,P1905=Presets!$C$67),\"\",IF(S1905=0,ROUNDDOWN(NOW()-'Registry Full'!D1905,0),S1905-D1905))","v":""},{"$nulls":5},""]
["",null,null,"00:00:00",{"$nulls":15},{"$f":"IF(OR(D1906=0,P1906=Presets!$C$67),\"\",IF(S1906=0,ROUNDDOWN(NOW()-'Registry Full'!D1906,0),S1906-D1906))","v":""},{"$nulls":5},""]
["",null,null,"00:00:00",{"$nulls":15},{"$f":"IF(OR(D1907=0,P1907=Presets!$C$67),\"\",IF(S1907=0,ROUNDDOWN(NOW()-'Registry Full'!D1907,0),S1907-D1907))","v":""},{"$nulls":5},""]
["",null,null,"00:00:00",{"$nulls":15},{"$f":"IF(OR(D1908=0,P1908=Presets!$C$67),\"\",IF(S1908=0,ROUNDDOWN(NOW()-'Registry Full'!D1908,0),S1908-D1908))","v":""},{"$nulls":5},""]
["",null,null,"00:00:00",{"$nulls":15},{"$f":"IF(OR(D1909=0,P1909=Presets!$C$67),\"\",IF(S1909=0,ROUNDDOWN(NOW()-'Registry Full'!D1909,0),S1909-D1909))","v":""},{"$nulls":5},""]
["",null,null,"00:00:00",{"$nulls":15},{"$f":"IF(OR(D1910=0,P1910=Presets!$C$67),\"\",IF(S1910=0,ROUNDDOWN(NOW()-'Registry Full'!D1910,0),S1910-D1910))","v":""},{"$nulls":5},""]
["",null,null,"00:00:00",{"$nulls":15},{"$f":"IF(OR(D1911=0,P1911=Presets!$C$67),\"\",IF(S1911=0,ROUNDDOWN(NOW()-'Registry Full'!D1911,0),S1911-D1911))","v":""},{"$nulls":5},""]
["",null,null,"00:00:00",{"$nulls":15},{"$f":"IF(OR(D1912=0,P1912=Presets!$C$67),\"\",IF(S1912=0,ROUNDDOWN(NOW()-'Registry Full'!D1912,0),S1912-D1912))","v":""},{"$nulls":5},""]
["",null,null,"00:00:00",{"$nulls":15},{"$f":"IF(OR(D1913=0,P1913=Presets!$C$67),\"\",IF(S1913=0,ROUNDDOWN(NOW()-'Registry Full'!D1913,0),S1913-D1913))","v":""},{"$nulls":5},""]
["",null,null,"00:00:00",{"$nulls":15},{"$f":"IF(OR(D1914=0,P1914=Presets!$C$67),\"\",IF(S1914=0,ROUNDDOWN(NOW()-'Registry Full'!D1914,0),S1914-D1914))","v":""},{"$nulls":5},""]
["",null,null,"00:00:00",{"$nulls":15},{"$f":"IF(OR(D1915=0,P1915=Presets!$C$67),\"\",IF(S1915=0,ROUNDDOWN(NOW()-'Registry Full'!D1915,0),S1915-D1915))","v":""},{"$nulls":5},""]
["",null,null,"00:00:00",{"$nulls":15},{"$f":"IF(OR(D1916=0,P1916=Presets!$C$67),\"\",IF(S1916=0,ROUNDDOWN(NOW()-'Registry Full'!D1916,0),S1916-D1916))","v":""},{"$nulls":5},""]
["",null,null,"00:00:00",{"$nulls":15},{"$f":"IF(OR(D1917=0,P1917=Presets!$C$67),\"\",IF(S1917=0,ROUNDDOWN(NOW()-'Registry Full'!D1917,0),S1917-D1917))","v":""},{"$nulls":5},""]
["",null,null,"00:00:00",{"$nulls":15},{"$f":"IF(OR(D1918=0,P1918=Presets!$C$67),\"\",IF(S1918=0,ROUNDDOWN(NOW()-'Registry Full'!D1918,0),S1918-D1918))","v":""},{"$nulls":5},""]
["",null,null,"00:00:00",{"$nulls":15},{"$f":"IF(OR(D1919=0,P1919=Presets!$C$67),\"\",IF(S1919=0,ROUNDDOWN(NOW()-'Registry Full'!D1919,0),S1919-D1919))","v":""},{"$nulls":5},""]
["",null,null,"00:00:00",{"$nulls":15},{"$f":"IF(OR(D1920=0,P1920=Presets!$C$67),\"\",IF(S1920=0,ROUNDDOWN(NOW()-'Registry Full'!D1920,0),S1920-D1920))","v":""},{"$nulls":5},""]
["",null,null,"00:00:00",{"$nulls":15},{"$f":"IF(OR(D1921=0,P1921=Presets!$C$67),\"\",IF(S1921=0,ROUNDDOWN(NOW()-'Registry Full'!D1921,0),S1921-D1921))","v":""},{"$nulls":5},""]
["",null,null,"00:00:00",{"$nulls":15},{"$f":"IF(OR(D1922=0,P1922=Presets!$C$67),\"\",IF(S1922=0,ROUNDDOWN(NOW()-'Registry Full'!D1922,0),S1922-D1922))","v":""},{"$nulls":5},""]
["",null,null,"00:00:00",{"$nulls":15},{"$f":"IF(OR(D1923=0,P1923=Presets!$C$67),\"\",IF(S1923=0,ROUNDDOWN(NOW()-'Registry Full'!D1923,0),S1923-D1923))","v":""},{"$nulls":5},""]
["",null,null,"00:00:00",{"$nulls":15},{"$f":"IF(OR(D1924=0,P1924=Presets!$C$67),\"\",IF(S1924=0,ROUNDDOWN(NOW()-'Registry Full'!D1924,0),S1924-D1924))","v":""},{"$nulls":5},""]
["",null,null,"00:00:00",{"$nulls":15},{"$f":"IF(OR(D1925=0,P1925=Presets!$C$67),\"\",IF(S1925=0,ROUNDDOWN(NOW()-'Registry Full'!D1925,0),S1925-D1925))","v":""},{"$nulls":5},""]
["",null,null,{"$f":"IF(C1926=\"\",0,VALUE(RIGHT(C1926,LEN(C1926)-FIND(\"/\",C1926,LEN(C1926)-10))))","v":"00:00:00"},{"$nulls":15},{"$f":"IF(OR(D1926=0,P1926=Presets!$C$67),\"\",IF(S1926=0,ROUNDDOWN(NOW()-'Registry Full'!D1926,0),S1926-D1926))","v":""},{"$nulls":5},""]
["",null,null,"00:00:00",{"$nulls":15},{"$f":"IF(OR(D1927=0,P1927=Presets!$C$67),\"\",IF(S1927=0,ROUNDDOWN(NOW()-'Registry Full'!D1927,0),S1927-D1927))","v":""},{"$nulls":5},{"$f":"IF(OR(D1927=0,Y1927=0),\"\",Y1927-D1927)","v":""}]
["",null,null,"00:00:00",{"$nulls":15},{"$f":"IF(OR(D1928=0,P1928=Presets!$C$67),\"\",IF(S1928=0,ROUNDDOWN(NOW()-'Registry Full'!D1928,0),S1928-D1928))","v":""},{"$nulls":5},""]
["",null,null,"00:00:00",{"$nulls":15},{"$f":"IF(OR(D1929=0,P1929=Presets!$C$67),\"\",IF(S1929=0,ROUNDDOWN(NOW()-'Registry Full'!D1929,0),S1929-D1929))","v":""},{"$nulls":5},""]
["",null,null,"00:00:00",{"$nulls":15},{"$f":"IF(OR(D1930=0,P1930=Presets!$C$67),\"\",IF(S1930=0,ROUNDDOWN(NOW()-'Registry Full'!D1930,0),S1930-D1930))","v":""},{"$nulls":5},""]
["",null,null,"00:00:00",{"$nulls":15},{"$f":"IF(OR(D1931=0,P1931=Presets!$C$67),\"\",IF(S1931=0,ROUNDDOWN(NOW()-'Registry Full'!D1931,0),S1931-D1931))","v":""},{"$nulls":5},""]
["",null,null,"00:00:00",{"$nulls":15},{"$f":"IF(OR(D1932=0,P1932=Presets!$C$67),\"\",IF(S1932=0,ROUNDDOWN(NOW()-'Registry Full'!D1932,0),S1932-D1932))","v":""},{"$nulls":5},""]
["",null,null,"00:00:00",{"$nulls":15},{"$f":"IF(OR(D1933=0,P1933=Presets!$C$67),\"\",IF(S1933=0,ROUNDDOWN(NOW()-'Registry Full'!D1933,0),S1933-D1933))","v":""},{"$nulls":5},""]
["",null,null,"00:00:00",{"$nulls":15},{"$f":"IF(OR(D1934=0,P1934=Presets!$C$67),\"\",IF(S1934=0,ROUNDDOWN(NOW()-'Registry Full'!D1934,0),S1934-D1934))","v":""},{"$nulls":5},""]
["",null,null,"00:00:00",{"$nulls":15},{"$f":"IF(OR(D1935=0,P1935=Presets!$C$67),\"\",IF(S1935=0,ROUNDDOWN(NOW()-'Registry Full'!D1935,0),S1935-D1935))","v":""},{"$nulls":5},""]
["",null,null,"00:00:00",{"$nulls":15},{"$f":"IF(OR(D1936=0,P1936=Presets!$C$67),\"\",IF(S1936=0,ROUNDDOWN(NOW()-'Registry Full'!D1936,0),S1936-D1936))","v":""},{"$nulls":5},""]
["",null,null,"00:00:00",{"$nulls":15},{"$f":"IF(OR(D1937=0,P1937=Presets!$C$67),\"\",IF(S1937=0,ROUNDDOWN(NOW()-'Registry Full'!D1937,0),S1937-D1937))","v":""},{"$nulls":5},""]
["",null,null,"00:00:00",{"$nulls":15},{"$f":"IF(OR(D1938=0,P1938=Presets!$C$67),\"\",IF(S1938=0,ROUNDDOWN(NOW()-'Registry Full'!D1938,0),S1938-D1938))","v":""},{"$nulls":5},""]
["",null,null,"00:00:00",{"$nulls":15},{"$f":"IF(OR(D1939=0,P1939=Presets!$C$67),\"\",IF(S1939=0,ROUNDDOWN(NOW()-'Registry Full'!D1939,0),S1939-D1939))","v":""},{"$nulls":5},""]
["",null,null,"00:00:00",{"$nulls":15},{"$f":"IF(OR(D1940=0,P1940=Presets!$C$67),\"\",IF(S1940=0,ROUNDDOWN(NOW()-'Registry Full'!D1940,0),S1940-D1940))","v":""},{"$nulls":5},""]
["",null,null,"00:00:00",{"$nulls":15},{"$f":"IF(OR(D1941=0,P1941=Presets!$C$67),\"\",IF(S1941=0,ROUNDDOWN(NOW()-'Registry Full'!D1941,0),S1941-D1941))","v":""},{"$nulls":5},""]
["",null,null,"00:00:00",{"$nulls":15},{"$f":"IF(OR(D1942=0,P1942=Presets!$C$67),\"\",IF(S1942=0,ROUNDDOWN(NOW()-'Registry Full'!D1942,0),S1942-D1942))","v":""},{"$nulls":5},""]
[{"$f":"IF(COUNTA(B1943)<>0,A1942+1,\"\")","v":""},null,null,"00:00:00",{"$nulls":15},{"$f":"IF(OR(D1943=0,P1943=Presets!$C$67),\"\",IF(S1943=0,ROUNDDOWN(NOW()-'Registry Full'!D1943,0),S1943-D1943))","v":""},{"$nulls":5},""]
["",null,null,"00:00:00",{"$nulls":15},{"$f":"IF(OR(D1944=0,P1944=Presets!$C$67),\"\",IF(S1944=0,ROUNDDOWN(NOW()-'Registry Full'!D1944,0),S1944-D1944))","v":""},{"$nulls":5},""]
["",null,null,"00:00:00",{"$nulls":15},{"$f":"IF(OR(D1945=0,P1945=Presets!$C$67),\"\",IF(S1945=0,ROUNDDOWN(NOW()-'Registry Full'!D1945,0),S1945-D1945))","v":""},{"$nulls":5},""]
["",null,null,"00:00:00",{"$nulls":15},{"$f":"IF(OR(D1946=0,P1946=Presets!$C$67),\"\",IF(S1946=0,ROUNDDOWN(NOW()-'Registry Full'!D1946,0),S1946-D1946))","v":""},{"$nulls":5},""]
["",null,null,"00:00:00",{"$nulls":15},{"$f":"IF(OR(D1947=0,P1947=Presets!$C$67),\"\",IF(S1947=0,ROUNDDOWN(NOW()-'Registry Full'!D1947,0),S1947-D1947))","v":""},{"$nulls":5},""]
["",null,null,"00:00:00",{"$nulls":15},{"$f":"IF(OR(D1948=0,P1948=Presets!$C$67),\"\",IF(S1948=0,ROUNDDOWN(NOW()-'Registry Full'!D1948,0),S1948-D1948))","v":""},{"$nulls":5},""]
["",null,null,"00:00:00",{"$nulls":15},{"$f":"IF(OR(D1949=0,P1949=Presets!$C$67),\"\",IF(S1949=0,ROUNDDOWN(NOW()-'Registry Full'!D1949,0),S1949-D1949))","v":""},{"$nulls":5},""]
["",null,null,"00:00:00",{"$nulls":15},{"$f":"IF(OR(D1950=0,P1950=Presets!$C$67),\"\",IF(S1950=0,ROUNDDOWN(NOW()-'Registry Full'!D1950,0),S1950-D1950))","v":""},{"$nulls":5},""]
["",null,null,"00:00:00",{"$nulls":15},{"$f":"IF(OR(D1951=0,P1951=Presets!$C$67),\"\",IF(S1951=0,ROUNDDOWN(NOW()-'Registry Full'!D1951,0),S1951-D1951))","v":""},{"$nulls":5},""]
["",null,null,"00:00:00",{"$nulls":15},{"$f":"IF(OR(D1952=0,P1952=Presets!$C$67),\"\",IF(S1952=0,ROUNDDOWN(NOW()-'Registry Full'!D1952,0),S1952-D1952))","v":""},{"$nulls":5},""]
["",null,null,"00:00:00",{"$nulls":15},{"$f":"IF(OR(D1953=0,P1953=Presets!$C$67),\"\",IF(S1953=0,ROUNDDOWN(NOW()-'Registry Full'!D1953,0),S1953-D1953))","v":""},{"$nulls":5},""]
["",null,null,"00:00:00",{"$nulls":15},{"$f":"IF(OR(D1954=0,P1954=Presets!$C$67),\"\",IF(S1954=0,ROUNDDOWN(NOW()-'Registry Full'!D1954,0),S1954-D1954))","v":""},{"$nulls":5},""]
["",null,null,"00:00:00",{"$nulls":15},{"$f":"IF(OR(D1955=0,P1955=Presets!$C$67),\"\",IF(S1955=0,ROUNDDOWN(NOW()-'Registry Full'!D1955,0),S1955-D1955))","v":""},{"$nulls":5},""]
["",null,null,"00:00:00",{"$nulls":15},{"$f":"IF(OR(D1956=0,P1956=Presets!$C$67),\"\",IF(S1956=0,ROUNDDOWN(NOW()-'Registry Full'!D1956,0),S1956-D1956))","v":""},{"$nulls":5},""]
["",null,null,"00:00:00",{"$nulls":15},{"$f":"IF(OR(D1957=0,P1957=Presets!$C$67),\"\",IF(S1957=0,ROUNDDOWN(NOW()-'Registry Full'!D1957,0),S1957-D1957))","v":""},{"$nulls":5},""]
["",null,null,"00:00:00",{"$nulls":15},{"$f":"IF(OR(D1958=0,P1958=Presets!$C$67),\"\",IF(S1958=0,ROUNDDOWN(NOW()-'Registry Full'!D1958,0),S1958-D1958))","v":""},{"$nulls":5},""]
["",null,null,"00:00:00",{"$nulls":15},{"$f":"IF(OR(D1959=0,P1959=Presets!$C$67),\"\",IF(S1959=0,ROUNDDOWN(NOW()-'Registry Full'!D1959,0),S1959-D1959))","v":""},{"$nulls":5},""]
["",null,null,"00:00:00",{"$nulls":15},{"$f":"IF(OR(D1960=0,P1960=Presets!$C$67),\"\",IF(S1960=0,ROUNDDOWN(NOW()-'Registry Full'!D1960,0),S1960-D1960))","v":""},{"$nulls":5},""]
["",null,null,"00:00:00",{"$nulls":15},{"$f":"IF(OR(D1961=0,P1961=Presets!$C$67),\"\",IF(S1961=0,ROUNDDOWN(NOW()-'Registry Full'!D1961,0),S1961-D1961))","v":""},{"$nulls":5},""]
["",null,null,"00:00:00",{"$nulls":15},{"$f":"IF(OR(D1962=0,P1962=Presets!$C$67),\"\",IF(S1962=0,ROUNDDOWN(NOW()-'Registry Full'!D1962,0),S1962-D1962))","v":""},{"$nulls":5},""]
["",null,null,"00:00:00",{"$nulls":15},{"$f":"IF(OR(D1963=0,P1963=Presets!$C$67),\"\",IF(S1963=0,ROUNDDOWN(NOW()-'Registry Full'!D1963,0),S1963-D1963))","v":""},{"$nulls":5},""]
["",null,null,"00:00:00",{"$nulls":15},{"$f":"IF(OR(D1964=0,P1964=Presets!$C$67),\"\",IF(S1964=0,ROUNDDOWN(NOW()-'Registry Full'!D1964,0),S1964-D1964))","v":""},{"$nulls":5},""]
["",null,null,"00:00:00",{"$nulls":15},{"$f":"IF(OR(D1965=0,P1965=Presets!$C$67),\"\",IF(S1965=0,ROUNDDOWN(NOW()-'Registry Full'!D1965,0),S1965-D1965))","v":""},{"$nulls":5},""]
["",null,null,"00:00:00",{"$nulls":15},{"$f":"IF(OR(D1966=0,P1966=Presets!$C$67),\"\",IF(S1966=0,ROUNDDOWN(NOW()-'Registry Full'!D1966,0),S1966-D1966))","v":""},{"$nulls":5},""]
["",null,null,"00:00:00",{"$nulls":15},{"$f":"IF(OR(D1967=0,P1967=Presets!$C$67),\"\",IF(S1967=0,ROUNDDOWN(NOW()-'Registry Full'!D1967,0),S1967-D1967))","v":""},{"$nulls":5},""]
["",null,null,"00:00:00",{"$nulls":15},{"$f":"IF(OR(D1968=0,P1968=Presets!$C$67),\"\",IF(S1968=0,ROUNDDOWN(NOW()-'Registry Full'!D1968,0),S1968-D1968))","v":""},{"$nulls":5},""]
["",null,null,"00:00:00",{"$nulls":15},{"$f":"IF(OR(D1969=0,P1969=Presets!$C$67),\"\",IF(S1969=0,ROUNDDOWN(NOW()-'Registry Full'!D1969,0),S1969-D1969))","v":""},{"$nulls":5},""]
["",null,null,"00:00:00",{"$nulls":15},{"$f":"IF(OR(D1970=0,P1970=Presets!$C$67),\"\",IF(S1970=0,ROUNDDOWN(NOW()-'Registry Full'!D1970,0),S1970-D1970))","v":""},{"$nulls":5},""]
["",null,null,"00:00:00",{"$nulls":15},{"$f":"IF(OR(D1971=0,P1971=Presets!$C$67),\"\",IF(S1971=0,ROUNDDOWN(NOW()-'Registry Full'!D1971,0),S1971-D1971))","v":""},{"$nulls":5},""]
["",null,null,"00:00:00",{"$nulls":15},{"$f":"IF(OR(D1972=0,P1972=Presets!$C$67),\"\",IF(S1972=0,ROUNDDOWN(NOW()-'Registry Full'!D1972,0),S1972-D1972))","v":""},{"$nulls":5},""]
["",null,null,"00:00:00",{"$nulls":15},{"$f":"IF(OR(D1973=0,P1973=Presets!$C$67),\"\",IF(S1973=0,ROUNDDOWN(NOW()-'Registry Full'!D1973,0),S1973-D1973))","v":""},{"$nulls":5},""]
["",null,null,"00:00:00",{"$nulls":15},{"$f":"IF(OR(D1974=0,P1974=Presets!$C$67),\"\",IF(S1974=0,ROUNDDOWN(NOW()-'Registry Full'!D1974,0),S1974-D1974))","v":""},{"$nulls":5},""]
["",null,null,"00:00:00",{"$nulls":15},{"$f":"IF(OR(D1975=0,P1975=Presets!$C$67),\"\",IF(S1975=0,ROUNDDOWN(NOW()-'Registry Full'!D1975,0),S1975-D1975))","v":""},{"$nulls":5},""]
["",null,null,"00:00:00",{"$nulls":15},{"$f":"IF(OR(D1976=0,P1976=Presets!$C$67),\"\",IF(S1976=0,ROUNDDOWN(NOW()-'Registry Full'!D1976,0),S1976-D1976))","v":""},{"$nulls":5},""]
["",null,null,"00:00:00",{"$nulls":15},{"$f":"IF(OR(D1977=0,P1977=Presets!$C$67),\"\",IF(S1977=0,ROUNDDOWN(NOW()-'Registry Full'!D1977,0),S1977-D1977))","v":""},{"$nulls":5},""]
["",null,null,"00:00:00",{"$nulls":15},{"$f":"IF(OR(D1978=0,P1978=Presets!$C$67),\"\",IF(S1978=0,ROUNDDOWN(NOW()-'Registry Full'!D1978,0),S1978-D1978))","v":""},{"$nulls":5},""]
["",null,null,"00:00:00",{"$nulls":15},{"$f":"IF(OR(D1979=0,P1979=Presets!$C$67),\"\",IF(S1979=0,ROUNDDOWN(NOW()-'Registry Full'!D1979,0),S1979-D1979))","v":""},{"$nulls":5},""]
["",null,null,"00:00:00",{"$nulls":15},{"$f":"IF(OR(D1980=0,P1980=Presets!$C$67),\"\",IF(S1980=0,ROUNDDOWN(NOW()-'Registry Full'!D1980,0),S1980-D1980))","v":""},{"$nulls":5},""]
["",null,null,"00:00:00",{"$nulls":15},{"$f":"IF(OR(D1981=0,P1981=Presets!$C$67),\"\",IF(S1981=0,ROUNDDOWN(NOW()-'Registry Full'!D1981,0),S1981-D1981))","v":""},{"$nulls":5},""]
["",null,null,"00:00:00",{"$nulls":15},{"$f":"IF(OR(D1982=0,P1982=Presets!$C$67),\"\",IF(S1982=0,ROUNDDOWN(NOW()-'Registry Full'!D1982,0),S1982-D1982))","v":""},{"$nulls":5},""]
["",null,null,"00:00:00",{"$nulls":15},{"$f":"IF(OR(D1983=0,P1983=Presets!$C$67),\"\",IF(S1983=0,ROUNDDOWN(NOW()-'Registry Full'!D1983,0),S1983-D1983))","v":""},{"$nulls":5},""]
["",null,null,"00:00:00",{"$nulls":15},{"$f":"IF(OR(D1984=0,P1984=Presets!$C$67),\"\",IF(S1984=0,ROUNDDOWN(NOW()-'Registry Full'!D1984,0),S1984-D1984))","v":""},{"$nulls":5},""]
["",null,null,"00:00:00",{"$nulls":15},{"$f":"IF(OR(D1985=0,P1985=Presets!$C$67),\"\",IF(S1985=0,ROUNDDOWN(NOW()-'Registry Full'!D1985,0),S1985-D1985))","v":""},{"$nulls":5},""]
["",null,null,"00:00:00",{"$nulls":15},{"$f":"IF(OR(D1986=0,P1986=Presets!$C$67),\"\",IF(S1986=0,ROUNDDOWN(NOW()-'Registry Full'!D1986,0),S1986-D1986))","v":""},{"$nulls":5},""]
["",null,null,"00:00:00",{"$nulls":15},{"$f":"IF(OR(D1987=0,P1987=Presets!$C$67),\"\",IF(S1987=0,ROUNDDOWN(NOW()-'Registry Full'!D1987,0),S1987-D1987))","v":""},{"$nulls":5},""]
["",null,null,"00:00:00",{"$nulls":15},{"$f":"IF(OR(D1988=0,P1988=Presets!$C$67),\"\",IF(S1988=0,ROUNDDOWN(NOW()-'Registry Full'!D1988,0),S1988-D1988))","v":""},{"$nulls":5},""]
["",null,null,"00:00:00",{"$nulls":15},{"$f":"IF(OR(D1989=0,P1989=Presets!$C$67),\"\",IF(S1989=0,ROUNDDOWN(NOW()-'Registry Full'!D1989,0),S1989-D1989))","v":""},{"$nulls":5},""]
["",null,null,{"$f":"IF(C1990=\"\",0,VALUE(RIGHT(C1990,LEN(C1990)-FIND(\"/\",C1990,LEN(C1990)-10))))","v":"00:00:00"},{"$nulls":15},{"$f":"IF(OR(D1990=0,P1990=Presets!$C$67),\"\",IF(S1990=0,ROUNDDOWN(NOW()-'Registry Full'!D1990,0),S1990-D1990))","v":""},{"$nulls":5},""]
["",null,null,"00:00:00",{"$nulls":15},{"$f":"IF(OR(D1991=0,P1991=Presets!$C$67),\"\",IF(S1991=0,ROUNDDOWN(NOW()-'Registry Full'!D1991,0),S1991-D1991))","v":""},{"$nulls":5},{"$f":"IF(OR(D1991=0,Y1991=0),\"\",Y1991-D1991)","v":""}]
["",null,null,"00:00:00",{"$nulls":15},{"$f":"IF(OR(D1992=0,P1992=Presets!$C$67),\"\",IF(S1992=0,ROUNDDOWN(NOW()-'Registry Full'!D1992,0),S1992-D1992))","v":""},{"$nulls":5},""]
["",null,null,"00:00:00",{"$nulls":15},{"$f":"IF(OR(D1993=0,P1993=Presets!$C$67),\"\",IF(S1993=0,ROUNDDOWN(NOW()-'Registry Full'!D1993,0),S1993-D1993))","v":""},{"$nulls":5},""]
["",null,null,"00:00:00",{"$nulls":15},{"$f":"IF(OR(D1994=0,P1994=Presets!$C$67),\"\",IF(S1994=0,ROUNDDOWN(NOW()-'Registry Full'!D1994,0),S1994-D1994))","v":""},{"$nulls":5},""]
["",null,null,"00:00:00",{"$nulls":15},{"$f":"IF(OR(D1995=0,P1995=Presets!$C$67),\"\",IF(S1995=0,ROUNDDOWN(NOW()-'Registry Full'!D1995,0),S1995-D1995))","v":""},{"$nulls":5},""]
["",null,null,"00:00:00",{"$nulls":15},{"$f":"IF(OR(D1996=0,P1996=Presets!$C$67),\"\",IF(S1996=0,ROUNDDOWN(NOW()-'Registry Full'!D1996,0),S1996-D1996))","v":""},{"$nulls":5},""]
["",null,null,"00:00:00",{"$nulls":15},{"$f":"IF(OR(D1997=0,P1997=Presets!$C$67),\"\",IF(S1997=0,ROUNDDOWN(NOW()-'Registry Full'!D1997,0),S1997-D1997))","v":""},{"$nulls":5},""]
["",null,null,"00:00:00",{"$nulls":15},{"$f":"IF(OR(D1998=0,P1998=Presets!$C$67),\"\",IF(S1998=0,ROUNDDOWN(NOW()-'Registry Full'!D1998,0),S1998-D1998))","v":""},{"$nulls":5},""]
["",null,null,"00:00:00",{"$nulls":15},{"$f":"IF(OR(D1999=0,P1999=Presets!$C$67),\"\",IF(S1999=0,ROUNDDOWN(NOW()-'Registry Full'!D1999,0),S1999-D1999))","v":""},{"$nulls":5},""]
["",null,null,"00:00:00",{"$nulls":15},{"$f":"IF(OR(D2000=0,P2000=Presets!$C$67),\"\",IF(S2000=0,ROUNDDOWN(NOW()-'Registry Full'!D2000,0),S2000-D2000))","v":""},{"$nulls":5},""]
["",null,null,"00:00:00",{"$nulls":15},{"$f":"IF(OR(D2001=0,P2001=Presets!$C$67),\"\",IF(S2001=0,ROUNDDOWN(NOW()-'Registry Full'!D2001,0),S2001-D2001))","v":""},{"$nulls":5},""]
["",null,null,"00:00:00",{"$nulls":15},{"$f":"IF(OR(D2002=0,P2002=Presets!$C$67),\"\",IF(S2002=0,ROUNDDOWN(NOW()-'Registry Full'!D2002,0),S2002-D2002))","v":""},{"$nulls":5},""]
["",null,null,"00:00:00",{"$nulls":15},{"$f":"IF(OR(D2003=0,P2003=Presets!$C$67),\"\",IF(S2003=0,ROUNDDOWN(NOW()-'Registry Full'!D2003,0),S2003-D2003))","v":""},{"$nulls":5},""]
["",null,null,"00:00:00",{"$nulls":15},{"$f":"IF(OR(D2004=0,P2004=Presets!$C$67),\"\",IF(S2004=0,ROUNDDOWN(NOW()-'Registry Full'!D2004,0),S2004-D2004))","v":""},{"$nulls":5},""]
["",null,null,"00:00:00",{"$nulls":15},{"$f":"IF(OR(D2005=0,P2005=Presets!$C$67),\"\",IF(S2005=0,ROUNDDOWN(NOW()-'Registry Full'!D2005,0),S2005-D2005))","v":""},{"$nulls":5},""]
["",null,null,"00:00:00",{"$nulls":15},{"$f":"IF(OR(D2006=0,P2006=Presets!$C$67),\"\",IF(S2006=0,ROUNDDOWN(NOW()-'Registry Full'!D2006,0),S2006-D2006))","v":""},{"$nulls":5},""]
[{"$f":"IF(COUNTA(B2007)<>0,A2006+1,\"\")","v":""},null,null,"00:00:00",{"$nulls":15},{"$f":"IF(OR(D2007=0,P2007=Presets!$C$67),\"\",IF(S2007=0,ROUNDDOWN(NOW()-'Registry Full'!D2007,0),S2007-D2007))","v":""},{"$nulls":5},""]
["",null,null,"00:00:00",{"$nulls":15},{"$f":"IF(OR(D2008=0,P2008=Presets!$C$67),\"\",IF(S2008=0,ROUNDDOWN(NOW()-'Registry Full'!D2008,0),S2008-D2008))","v":""},{"$nulls":5},""]
["",null,null,"00:00:00",{"$nulls":15},{"$f":"IF(OR(D2009=0,P2009=Presets!$C$67),\"\",IF(S2009=0,ROUNDDOWN(NOW()-'Registry Full'!D2009,0),S2009-D2009))","v":""},{"$nulls":5},""]
["",null,null,"00:00:00",{"$nulls":15},{"$f":"IF(OR(D2010=0,P2010=Presets!$C$67),\"\",IF(S2010=0,ROUNDDOWN(NOW()-'Registry Full'!D2010,0),S2010-D2010))","v":""},{"$nulls":5},""]
["",null,null,"00:00:00",{"$nulls":15},{"$f":"IF(OR(D2011=0,P2011=Presets!$C$67),\"\",IF(S2011=0,ROUNDDOWN(NOW()-'Registry Full'!D2011,0),S2011-D2011))","v":""},{"$nulls":5},""]
["",null,null,"00:00:00",{"$nulls":15},{"$f":"IF(OR(D2012=0,P2012=Presets!$C$67),\"\",IF(S2012=0,ROUNDDOWN(NOW()-'Registry Full'!D2012,0),S2012-D2012))","v":""},{"$nulls":5},""]
["",null,null,"00:00:00",{"$nulls":15},{"$f":"IF(OR(D2013=0,P2013=Presets!$C$67),\"\",IF(S2013=0,ROUNDDOWN(NOW()-'Registry Full'!D2013,0),S2013-D2013))","v":""},{"$nulls":5},""]
["",null,null,"00:00:00",{"$nulls":15},{"$f":"IF(OR(D2014=0,P2014=Presets!$C$67),\"\",IF(S2014=0,ROUNDDOWN(NOW()-'Registry Full'!D2014,0),S2014-D2014))","v":""},{"$nulls":5},""]
["",null,null,"00:00:00",{"$nulls":15},{"$f":"IF(OR(D2015=0,P2015=Presets!$C$67),\"\",IF(S2015=0,ROUNDDOWN(NOW()-'Registry Full'!D2015,0),S2015-D2015))","v":""},{"$nulls":5},""]
["",null,null,"00:00:00",{"$nulls":15},{"$f":"IF(OR(D2016=0,P2016=Presets!$C$67),\"\",IF(S2016=0,ROUNDDOWN(NOW()-'Registry Full'!D2016,0),S2016-D2016))","v":""},{"$nulls":5},""]
["",null,null,"00:00:00",{"$nulls":15},{"$f":"IF(OR(D2017=0,P2017=Presets!$C$67),\"\",IF(S2017=0,ROUNDDOWN(NOW()-'Registry Full'!D2017,0),S2017-D2017))","v":""},{"$nulls":5},""]
["",null,null,"00:00:00",{"$nulls":15},{"$f":"IF(OR(D2018=0,P2018=Presets!$C$67),\"\",IF(S2018=0,ROUNDDOWN(NOW()-'Registry Full'!D2018,0),S2018-D2018))","v":""},{"$nulls":5},""]
["",null,null,"00:00:00",{"$nulls":15},{"$f":"IF(OR(D2019=0,P2019=Presets!$C$67),\"\",IF(S2019=0,ROUNDDOWN(NOW()-'Registry Full'!D2019,0),S2019-D2019))","v":""},{"$nulls":5},""]
["",null,null,"00:00:00",{"$nulls":15},{"$f":"IF(OR(D2020=0,P2020=Presets!$C$67),\"\",IF(S2020=0,ROUNDDOWN(NOW()-'Registry Full'!D2020,0),S2020-D2020))","v":""},{"$nulls":5},""]
["",null,null,"00:00:00",{"$nulls":15},{"$f":"IF(OR(D2021=0,P2021=Presets!$C$67),\"\",IF(S2021=0,ROUNDDOWN(NOW()-'Registry Full'!D2021,0),S2021-D2021))","v":""},{"$nulls":5},""]
["",null,null,"00:00:00",{"$nulls":15},{"$f":"IF(OR(D2022=0,P2022=Presets!$C$67),\"\",IF(S2022=0,ROUNDDOWN(NOW()-'Registry Full'!D2022,0),S2022-D2022))","v":""},{"$nulls":5},""]
["",null,null,"00:00:00",{"$nulls":15},{"$f":"IF(OR(D2023=0,P2023=Presets!$C$67),\"\",IF(S2023=0,ROUNDDOWN(NOW()-'Registry Full'!D2023,0),S2023-D2023))","v":""},{"$nulls":5},""]
["",null,null,"00:00:00",{"$nulls":15},{"$f":"IF(OR(D2024=0,P2024=Presets!$C$67),\"\",IF(S2024=0,ROUNDDOWN(NOW()-'Registry Full'!D2024,0),S2024-D2024))","v":""},{"$nulls":5},""]
["",null,null,"00:00:00",{"$nulls":15},{"$f":"IF(OR(D2025=0,P2025=Presets!$C$67),\"\",IF(S2025=0,ROUNDDOWN(NOW()-'Registry Full'!D2025,0),S2025-D2025))","v":""},{"$nulls":5},""]
["",null,null,"00:00:00",{"$nulls":15},{"$f":"IF(OR(D2026=0,P2026=Presets!$C$67),\"\",IF(S2026=0,ROUNDDOWN(NOW()-'Registry Full'!D2026,0),S2026-D2026))","v":""},{"$nulls":5},""]
["",null,null,"00:00:00",{"$nulls":15},{"$f":"IF(OR(D2027=0,P2027=Presets!$C$67),\"\",IF(S2027=0,ROUNDDOWN(NOW()-'Registry Full'!D2027,0),S2027-D2027))","v":""},{"$nulls":5},""]
["",null,null,"00:00:00",{"$nulls":15},{"$f":"IF(OR(D2028=0,P2028=Presets!$C$67),\"\",IF(S2028=0,ROUNDDOWN(NOW()-'Registry Full'!D2028,0),S2028-D2028))","v":""},{"$nulls":5},""]
["",null,null,"00:00:00",{"$nulls":15},{"$f":"IF(OR(D2029=0,P2029=Presets!$C$67),\"\",IF(S2029=0,ROUNDDOWN(NOW()-'Registry Full'!D2029,0),S2029-D2029))","v":""},{"$nulls":5},""]
["",null,null,"00:00:00",{"$nulls":15},{"$f":"IF(OR(D2030=0,P2030=Presets!$C$67),\"\",IF(S2030=0,ROUNDDOWN(NOW()-'Registry Full'!D2030,0),S2030-D2030))","v":""},{"$nulls":5},""]
["",null,null,"00:00:00",{"$nulls":15},{"$f":"IF(OR(D2031=0,P2031=Presets!$C$67),\"\",IF(S2031=0,ROUNDDOWN(NOW()-'Registry Full'!D2031,0),S2031-D2031))","v":""},{"$nulls":5},""]
["",null,null,"00:00:00",{"$nulls":15},{"$f":"IF(OR(D2032=0,P2032=Presets!$C$67),\"\",IF(S2032=0,ROUNDDOWN(NOW()-'Registry Full'!D2032,0),S2032-D2032))","v":""},{"$nulls":5},""]
["",null,null,"00:00:00",{"$nulls":15},{"$f":"IF(OR(D2033=0,P2033=Presets!$C$67),\"\",IF(S2033=0,ROUNDDOWN(NOW()-'Registry Full'!D2033,0),S2033-D2033))","v":""},{"$nulls":5},""]
["",null,null,"00:00:00",{"$nulls":15},{"$f":"IF(OR(D2034=0,P2034=Presets!$C$67),\"\",IF(S2034=0,ROUNDDOWN(NOW()-'Registry Full'!D2034,0),S2034-D2034))","v":""},{"$nulls":5},""]
["",null,null,"00:00:00",{"$nulls":15},{"$f":"IF(OR(D2035=0,P2035=Presets!$C$67),\"\",IF(S2035=0,ROUNDDOWN(NOW()-'Registry Full'!D2035,0),S2035-D2035))","v":""},{"$nulls":5},""]
["",null,null,"00:00:00",{"$nulls":15},{"$f":"IF(OR(D2036=0,P2036=Presets!$C$67),\"\",IF(S2036=0,ROUNDDOWN(NOW()-'Registry Full'!D2036,0),S2036-D2036))","v":""},{"$nulls":5},""]
["",null,null,"00:00:00",{"$nulls":15},{"$f":"IF(OR(D2037=0,P2037=Presets!$C$67),\"\",IF(S2037=0,ROUNDDOWN(NOW()-'Registry Full'!D2037,0),S2037-D2037))","v":""},{"$nulls":5},""]
["",null,null,"00:00:00",{"$nulls":15},{"$f":"IF(OR(D2038=0,P2038=Presets!$C$67),\"\",IF(S2038=0,ROUNDDOWN(NOW()-'Registry Full'!D2038,0),S2038-D2038))","v":""},{"$nulls":5},""]
["",null,null,"00:00:00",{"$nulls":15},{"$f":"IF(OR(D2039=0,P2039=Presets!$C$67),\"\",IF(S2039=0,ROUNDDOWN(NOW()-'Registry Full'!D2039,0),S2039-D2039))","v":""},{"$nulls":5},""]
["",null,null,"00:00:00",{"$nulls":15},{"$f":"IF(OR(D2040=0,P2040=Presets!$C$67),\"\",IF(S2040=0,ROUNDDOWN(NOW()-'Registry Full'!D2040,0),S2040-D2040))","v":""},{"$nulls":5},""]
["",null,null,"00:00:00",{"$nulls":15},{"$f":"IF(OR(D2041=0,P2041=Presets!$C$67),\"\",IF(S2041=0,ROUNDDOWN(NOW()-'Registry Full'!D2041,0),S2041-D2041))","v":""},{"$nulls":5},""]
["",null,null,"00:00:00",{"$nulls":15},{"$f":"IF(OR(D2042=0,P2042=Presets!$C$67),\"\",IF(S2042=0,ROUNDDOWN(NOW()-'Registry Full'!D2042,0),S2042-D2042))","v":""},{"$nulls":5},""]
["",null,null,"00:00:00",{"$nulls":15},{"$f":"IF(OR(D2043=0,P2043=Presets!$C$67),\"\",IF(S2043=0,ROUNDDOWN(NOW()-'Registry Full'!D2043,0),S2043-D2043))","v":""},{"$nulls":5},""]
["",null,null,"00:00:00",{"$nulls":15},{"$f":"IF(OR(D2044=0,P2044=Presets!$C$67),\"\",IF(S2044=0,ROUNDDOWN(NOW()-'Registry Full'!D2044,0),S2044-D2044))","v":""},{"$nulls":5},""]
["",null,null,"00:00:00",{"$nulls":15},{"$f":"IF(OR(D2045=0,P2045=Presets!$C$67),\"\",IF(S2045=0,ROUNDDOWN(NOW()-'Registry Full'!D2045,0),S2045-D2045))","v":""},{"$nulls":5},""]
["",null,null,"00:00:00",{"$nulls":15},{"$f":"IF(OR(D2046=0,P2046=Presets!$C$67),\"\",IF(S2046=0,ROUNDDOWN(NOW()-'Registry Full'!D2046,0),S2046-D2046))","v":""},{"$nulls":5},""]
["",null,null,"00:00:00",{"$nulls":15},{"$f":"IF(OR(D2047=0,P2047=Presets!$C$67),\"\",IF(S2047=0,ROUNDDOWN(NOW()-'Registry Full'!D2047,0),S2047-D2047))","v":""},{"$nulls":5},""]
["",null,null,"00:00:00",{"$nulls":15},{"$f":"IF(OR(D2048=0,P2048=Presets!$C$67),\"\",IF(S2048=0,ROUNDDOWN(NOW()-'Registry Full'!D2048,0),S2048-D2048))","v":""},{"$nulls":5},""]
["",null,null,"00:00:00",{"$nulls":15},{"$f":"IF(OR(D2049=0,P2049=Presets!$C$67),\"\",IF(S2049=0,ROUNDDOWN(NOW()-'Registry Full'!D2049,0),S2049-D2049))","v":""},{"$nulls":5},""]
["",null,null,"00:00:00",{"$nulls":15},{"$f":"IF(OR(D2050=0,P2050=Presets!$C$67),\"\",IF(S2050=0,ROUNDDOWN(NOW()-'Registry Full'!D2050,0),S2050-D2050))","v":""},{"$nulls":5},""]
["",null,null,"00:00:00",{"$nulls":15},{"$f":"IF(OR(D2051=0,P2051=Presets!$C$67),\"\",IF(S2051=0,ROUNDDOWN(NOW()-'Registry Full'!D2051,0),S2051-D2051))","v":""},{"$nulls":5},""]
["",null,null,"00:00:00",{"$nulls":15},{"$f":"IF(OR(D2052=0,P2052=Presets!$C$67),\"\",IF(S2052=0,ROUNDDOWN(NOW()-'Registry Full'!D2052,0),S2052-D2052))","v":""},{"$nulls":5},""]
["",null,null,"00:00:00",{"$nulls":15},{"$f":"IF(OR(D2053=0,P2053=Presets!$C$67),\"\",IF(S2053=0,ROUNDDOWN(NOW()-'Registry Full'!D2053,0),S2053-D2053))","v":""},{"$nulls":5},""]
["",null,null,{"$f":"IF(C2054=\"\",0,VALUE(RIGHT(C2054,LEN(C2054)-FIND(\"/\",C2054,LEN(C2054)-10))))","v":"00:00:00"},{"$nulls":15},{"$f":"IF(OR(D2054=0,P2054=Presets!$C$67),\"\",IF(S2054=0,ROUNDDOWN(NOW()-'Registry Full'!D2054,0),S2054-D2054))","v":""},{"$nulls":5},""]
["",null,null,"00:00:00",{"$nulls":15},{"$f":"IF(OR(D2055=0,P2055=Presets!$C$67),\"\",IF(S2055=0,ROUNDDOWN(NOW()-'Registry Full'!D2055,0),S2055-D2055))","v":""},{"$nulls":5},{"$f":"IF(OR(D2055=0,Y2055=0),\"\",Y2055-D2055)","v":""}]
["",null,null,"00:00:00",{"$nulls":15},{"$f":"IF(OR(D2056=0,P2056=Presets!$C$67),\"\",IF(S2056=0,ROUNDDOWN(NOW()-'Registry Full'!D2056,0),S2056-D2056))","v":""},{"$nulls":5},""]
["",null,null,"00:00:00",{"$nulls":15},{"$f":"IF(OR(D2057=0,P2057=Presets!$C$67),\"\",IF(S2057=0,ROUNDDOWN(NOW()-'Registry Full'!D2057,0),S2057-D2057))","v":""},{"$nulls":5},""]
["",null,null,"00:00:00",{"$nulls":15},{"$f":"IF(OR(D2058=0,P2058=Presets!$C$67),\"\",IF(S2058=0,ROUNDDOWN(NOW()-'Registry Full'!D2058,0),S2058-D2058))","v":""},{"$nulls":5},""]
["",null,null,"00:00:00",{"$nulls":15},{"$f":"IF(OR(D2059=0,P2059=Presets!$C$67),\"\",IF(S2059=0,ROUNDDOWN(NOW()-'Registry Full'!D2059,0),S2059-D2059))","v":""},{"$nulls":5},""]
["",null,null,"00:00:00",{"$nulls":15},{"$f":"IF(OR(D2060=0,P2060=Presets!$C$67),\"\",IF(S2060=0,ROUNDDOWN(NOW()-'Registry Full'!D2060,0),S2060-D2060))","v":""},{"$nulls":5},""]
["",null,null,"00:00:00",{"$nulls":15},{"$f":"IF(OR(D2061=0,P2061=Presets!$C$67),\"\",IF(S2061=0,ROUNDDOWN(NOW()-'Registry Full'!D2061,0),S2061-D2061))","v":""},{"$nulls":5},""]
["",null,null,"00:00:00",{"$nulls":15},{"$f":"IF(OR(D2062=0,P2062=Presets!$C$67),\"\",IF(S2062=0,ROUNDDOWN(NOW()-'Registry Full'!D2062,0),S2062-D2062))","v":""},{"$nulls":5},""]
["",null,null,"00:00:00",{"$nulls":15},{"$f":"IF(OR(D2063=0,P2063=Presets!$C$67),\"\",IF(S2063=0,ROUNDDOWN(NOW()-'Registry Full'!D2063,0),S2063-D2063))","v":""},{"$nulls":5},""]
["",null,null,"00:00:00",{"$nulls":15},{"$f":"IF(OR(D2064=0,P2064=Presets!$C$67),\"\",IF(S2064=0,ROUNDDOWN(NOW()-'Registry Full'!D2064,0),S2064-D2064))","v":""},{"$nulls":5},""]
["",null,null,"00:00:00",{"$nulls":15},{"$f":"IF(OR(D2065=0,P2065=Presets!$C$67),\"\",IF(S2065=0,ROUNDDOWN(NOW()-'Registry Full'!D2065,0),S2065-D2065))","v":""},{"$nulls":5},""]
["",null,null,"00:00:00",{"$nulls":15},{"$f":"IF(OR(D2066=0,P2066=Presets!$C$67),\"\",IF(S2066=0,ROUNDDOWN(NOW()-'Registry Full'!D2066,0),S2066-D2066))","v":""},{"$nulls":5},""]
["",null,null,"00:00:00",{"$nulls":15},{"$f":"IF(OR(D2067=0,P2067=Presets!$C$67),\"\",IF(S2067=0,ROUNDDOWN(NOW()-'Registry Full'!D2067,0),S2067-D2067))","v":""},{"$nulls":5},""]
["",null,null,"00:00:00",{"$nulls":15},{"$f":"IF(OR(D2068=0,P2068=Presets!$C$67),\"\",IF(S2068=0,ROUNDDOWN(NOW()-'Registry Full'!D2068,0),S2068-D2068))","v":""},{"$nulls":5},""]
["",null,null,"00:00:00",{"$nulls":15},{"$f":"IF(OR(D2069=0,P2069=Presets!$C$67),\"\",IF(S2069=0,ROUNDDOWN(NOW()-'Registry Full'!D2069,0),S2069-D2069))","v":""},{"$nulls":5},""]
["",null,null,"00:00:00",{"$nulls":15},{"$f":"IF(OR(D2070=0,P2070=Presets!$C$67),\"\",IF(S2070=0,ROUNDDOWN(NOW()-'Registry Full'!D2070,0),S2070-D2070))","v":""},{"$nulls":5},""]
[{"$f":"IF(COUNTA(B2071)<>0,A2070+1,\"\")","v":""},null,null,"00:00:00",{"$nulls":15},{"$f":"IF(OR(D2071=0,P2071=Presets!$C$67),\"\",IF(S2071=0,ROUNDDOWN(NOW()-'Registry Full'!D2071,0),S2071-D2071))","v":""},{"$nulls":5},""]
["",null,null,"00:00:00",{"$nulls":15},{"$f":"IF(OR(D2072=0,P2072=Presets!$C$67),\"\",IF(S2072=0,ROUNDDOWN(NOW()-'Registry Full'!D2072,0),S2072-D2072))","v":""},{"$nulls":5},""]
["",null,null,"00:00:00",{"$nulls":15},{"$f":"IF(OR(D2073=0,P2073=Presets!$C$67),\"\",IF(S2073=0,ROUNDDOWN(NOW()-'Registry Full'!D2073,0),S2073-D2073))","v":""},{"$nulls":5},""]
["",null,null,"00:00:00",{"$nulls":15},{"$f":"IF(OR(D2074=0,P2074=Presets!$C$67),\"\",IF(S2074=0,ROUNDDOWN(NOW()-'Registry Full'!D2074,0),S2074-D2074))","v":""},{"$nulls":5},""]
["",null,null,"00:00:00",{"$nulls":15},{"$f":"IF(OR(D2075=0,P2075=Presets!$C$67),\"\",IF(S2075=0,ROUNDDOWN(NOW()-'Registry Full'!D2075,0),S2075-D2075))","v":""},{"$nulls":5},""]
["",null,null,"00:00:00",{"$nulls":15},{"$f":"IF(OR(D2076=0,P2076=Presets!$C$67),\"\",IF(S2076=0,ROUNDDOWN(NOW()-'Registry Full'!D2076,0),S2076-D2076))","v":""},{"$nulls":5},""]
["",null,null,"00:00:00",{"$nulls":15},{"$f":"IF(OR(D2077=0,P2077=Presets!$C$67),\"\",IF(S2077=0,ROUNDDOWN(NOW()-'Registry Full'!D2077,0),S2077-D2077))","v":""},{"$nulls":5},""]
["",null,null,"00:00:00",{"$nulls":15},{"$f":"IF(OR(D2078=0,P2078=Presets!$C$67),\"\",IF(S2078=0,ROUNDDOWN(NOW()-'Registry Full'!D2078,0),S2078-D2078))","v":""},{"$nulls":5},""]
["",null,null,"00:00:00",{"$nulls":15},{"$f":"IF(OR(D2079=0,P2079=Presets!$C$67),\"\",IF(S2079=0,ROUNDDOWN(NOW()-'Registry Full'!D2079,0),S2079-D2079))","v":""},{"$nulls":5},""]
["",null,null,"00:00:00",{"$nulls":15},{"$f":"IF(OR(D2080=0,P2080=Presets!$C$67),\"\",IF(S2080=0,ROUNDDOWN(NOW()-'Registry Full'!D2080,0),S2080-D2080))","v":""},{"$nulls":5},""]
["",null,null,"00:00:00",{"$nulls":15},{"$f":"IF(OR(D2081=0,P2081=Presets!$C$67),\"\",IF(S2081=0,ROUNDDOWN(NOW()-'Registry Full'!D2081,0),S2081-D2081))","v":""},{"$nulls":5},""]
["",null,null,"00:00:00",{"$nulls":15},{"$f":"IF(OR(D2082=0,P2082=Presets!$C$67),\"\",IF(S2082=0,ROUNDDOWN(NOW()-'Registry Full'!D2082,0),S2082-D2082))","v":""},{"$nulls":5},""]
["",null,null,"00:00:00",{"$nulls":15},{"$f":"IF(OR(D2083=0,P2083=Presets!$C$67),\"\",IF(S2083=0,ROUNDDOWN(NOW()-'Registry Full'!D2083,0),S2083-D2083))","v":""},{"$nulls":5},""]
["",null,null,"00:00:00",{"$nulls":15},{"$f":"IF(OR(D2084=0,P2084=Presets!$C$67),\"\",IF(S2084=0,ROUNDDOWN(NOW()-'Registry Full'!D2084,0),S2084-D2084))","v":""},{"$nulls":5},""]
["",null,null,"00:00:00",{"$nulls":15},{"$f":"IF(OR(D2085=0,P2085=Presets!$C$67),\"\",IF(S2085=0,ROUNDDOWN(NOW()-'Registry Full'!D2085,0),S2085-D2085))","v":""},{"$nulls":5},""]
["",null,null,"00:00:00",{"$nulls":15},{"$f":"IF(OR(D2086=0,P2086=Presets!$C$67),\"\",IF(S2086=0,ROUNDDOWN(NOW()-'Registry Full'!D2086,0),S2086-D2086))","v":""},{"$nulls":5},""]
["",null,null,"00:00:00",{"$nulls":15},{"$f":"IF(OR(D2087=0,P2087=Presets!$C$67),\"\",IF(S2087=0,ROUNDDOWN(NOW()-'Registry Full'!D2087,0),S2087-D2087))","v":""},{"$nulls":5},""]
["",null,null,"00:00:00",{"$nulls":15},{"$f":"IF(OR(D2088=0,P2088=Presets!$C$67),\"\",IF(S2088=0,ROUNDDOWN(NOW()-'Registry Full'!D2088,0),S2088-D2088))","v":""},{"$nulls":5},""]
["",null,null,"00:00:00",{"$nulls":15},{"$f":"IF(OR(D2089=0,P2089=Presets!$C$67),\"\",IF(S2089=0,ROUNDDOWN(NOW()-'Registry Full'!D2089,0),S2089-D2089))","v":""},{"$nulls":5},""]
["",null,null,"00:00:00",{"$nulls":15},{"$f":"IF(OR(D2090=0,P2090=Presets!$C$67),\"\",IF(S2090=0,ROUNDDOWN(NOW()-'Registry Full'!D2090,0),S2090-D2090))","v":""},{"$nulls":5},""]
["",null,null,"00:00:00",{"$nulls":15},{"$f":"IF(OR(D2091=0,P2091=Presets!$C$67),\"\",IF(S2091=0,ROUNDDOWN(NOW()-'Registry Full'!D2091,0),S2091-D2091))","v":""},{"$nulls":5},""]
["",null,null,"00:00:00",{"$nulls":15},{"$f":"IF(OR(D2092=0,P2092=Presets!$C$67),\"\",IF(S2092=0,ROUNDDOWN(NOW()-'Registry Full'!D2092,0),S2092-D2092))","v":""},{"$nulls":5},""]
["",null,null,"00:00:00",{"$nulls":15},{"$f":"IF(OR(D2093=0,P2093=Presets!$C$67),\"\",IF(S2093=0,ROUNDDOWN(NOW()-'Registry Full'!D2093,0),S2093-D2093))","v":""},{"$nulls":5},""]
["",null,null,"00:00:00",{"$nulls":15},{"$f":"IF(OR(D2094=0,P2094=Presets!$C$67),\"\",IF(S2094=0,ROUNDDOWN(NOW()-'Registry Full'!D2094,0),S2094-D2094))","v":""},{"$nulls":5},""]
["",null,null,"00:00:00",{"$nulls":15},{"$f":"IF(OR(D2095=0,P2095=Presets!$C$67),\"\",IF(S2095=0,ROUNDDOWN(NOW()-'Registry Full'!D2095,0),S2095-D2095))","v":""},{"$nulls":5},""]
["",null,null,"00:00:00",{"$nulls":15},{"$f":"IF(OR(D2096=0,P2096=Presets!$C$67),\"\",IF(S2096=0,ROUNDDOWN(NOW()-'Registry Full'!D2096,0),S2096-D2096))","v":""},{"$nulls":5},""]
["",null,null,"00:00:00",{"$nulls":15},{"$f":"IF(OR(D2097=0,P2097=Presets!$C$67),\"\",IF(S2097=0,ROUNDDOWN(NOW()-'Registry Full'!D2097,0),S2097-D2097))","v":""},{"$nulls":5},""]
["",null,null,"00:00:00",{"$nulls":15},{"$f":"IF(OR(D2098=0,P2098=Presets!$C$67),\"\",IF(S2098=0,ROUNDDOWN(NOW()-'Registry Full'!D2098,0),S2098-D2098))","v":""},{"$nulls":5},""]
["",null,null,"00:00:00",{"$nulls":15},{"$f":"IF(OR(D2099=0,P2099=Presets!$C$67),\"\",IF(S2099=0,ROUNDDOWN(NOW()-'Registry Full'!D2099,0),S2099-D2099))","v":""},{"$nulls":5},""]
["",null,null,"00:00:00",{"$nulls":15},{"$f":"IF(OR(D2100=0,P2100=Presets!$C$67),\"\",IF(S2100=0,ROUNDDOWN(NOW()-'Registry Full'!D2100,0),S2100-D2100))","v":""},{"$nulls":5},""]
["",null,null,"00:00:00",{"$nulls":15},{"$f":"IF(OR(D2101=0,P2101=Presets!$C$67),\"\",IF(S2101=0,ROUNDDOWN(NOW()-'Registry Full'!D2101,0),S2101-D2101))","v":""},{"$nulls":5},""]
["",null,null,"00:00:00",{"$nulls":15},{"$f":"IF(OR(D2102=0,P2102=Presets!$C$67),\"\",IF(S2102=0,ROUNDDOWN(NOW()-'Registry Full'!D2102,0),S2102-D2102))","v":""},{"$nulls":5},""]
["",null,null,"00:00:00",{"$nulls":15},{"$f":"IF(OR(D2103=0,P2103=Presets!$C$67),\"\",IF(S2103=0,ROUNDDOWN(NOW()-'Registry Full'!D2103,0),S2103-D2103))","v":""},{"$nulls":5},""]
["",null,null,"00:00:00",{"$nulls":15},{"$f":"IF(OR(D2104=0,P2104=Presets!$C$67),\"\",IF(S2104=0,ROUNDDOWN(NOW()-'Registry Full'!D2104,0),S2104-D2104))","v":""},{"$nulls":5},""]
["",null,null,"00:00:00",{"$nulls":15},{"$f":"IF(OR(D2105=0,P2105=Presets!$C$67),\"\",IF(S2105=0,ROUNDDOWN(NOW()-'Registry Full'!D2105,0),S2105-D2105))","v":""},{"$nulls":5},""]
["",null,null,"00:00:00",{"$nulls":15},{"$f":"IF(OR(D2106=0,P2106=Presets!$C$67),\"\",IF(S2106=0,ROUNDDOWN(NOW()-'Registry Full'!D2106,0),S2106-D2106))","v":""},{"$nulls":5},""]
["",null,null,"00:00:00",{"$nulls":15},{"$f":"IF(OR(D2107=0,P2107=Presets!$C$67),\"\",IF(S2107=0,ROUNDDOWN(NOW()-'Registry Full'!D2107,0),S2107-D2107))","v":""},{"$nulls":5},""]
["",null,null,"00:00:00",{"$nulls":15},{"$f":"IF(OR(D2108=0,P2108=Presets!$C$67),\"\",IF(S2108=0,ROUNDDOWN(NOW()-'Registry Full'!D2108,0),S2108-D2108))","v":""},{"$nulls":5},""]
["",null,null,"00:00:00",{"$nulls":15},{"$f":"IF(OR(D2109=0,P2109=Presets!$C$67),\"\",IF(S2109=0,ROUNDDOWN(NOW()-'Registry Full'!D2109,0),S2109-D2109))","v":""},{"$nulls":5},""]
["",null,null,"00:00:00",{"$nulls":15},{"$f":"IF(OR(D2110=0,P2110=Presets!$C$67),\"\",IF(S2110=0,ROUNDDOWN(NOW()-'Registry Full'!D2110,0),S2110-D2110))","v":""},{"$nulls":5},""]
["",null,null,"00:00:00",{"$nulls":15},{"$f":"IF(OR(D2111=0,P2111=Presets!$C$67),\"\",IF(S2111=0,ROUNDDOWN(NOW()-'Registry Full'!D2111,0),S2111-D2111))","v":""},{"$nulls":5},""]
["",null,null,"00:00:00",{"$nulls":15},{"$f":"IF(OR(D2112=0,P2112=Presets!$C$67),\"\",IF(S2112=0,ROUNDDOWN(NOW()-'Registry Full'!D2112,0),S2112-D2112))","v":""},{"$nulls":5},""]
["",null,null,"00:00:00",{"$nulls":15},{"$f":"IF(OR(D2113=0,P2113=Presets!$C$67),\"\",IF(S2113=0,ROUNDDOWN(NOW()-'Registry Full'!D2113,0),S2113-D2113))","v":""},{"$nulls":5},""]
["",null,null,"00:00:00",{"$nulls":15},{"$f":"IF(OR(D2114=0,P2114=Presets!$C$67),\"\",IF(S2114=0,ROUNDDOWN(NOW()-'Registry Full'!D2114,0),S2114-D2114))","v":""},{"$nulls":5},""]
["",null,null,"00:00:00",{"$nulls":15},{"$f":"IF(OR(D2115=0,P2115=Presets!$C$67),\"\",IF(S2115=0,ROUNDDOWN(NOW()-'Registry Full'!D2115,0),S2115-D2115))","v":""},{"$nulls":5},""]
["",null,null,"00:00:00",{"$nulls":15},{"$f":"IF(OR(D2116=0,P2116=Presets!$C$67),\"\",IF(S2116=0,ROUNDDOWN(NOW()-'Registry Full'!D2116,0),S2116-D2116))","v":""},{"$nulls":5},""]
["",null,null,"00:00:00",{"$nulls":15},{"$f":"IF(OR(D2117=0,P2117=Presets!$C$67),\"\",IF(S2117=0,ROUNDDOWN(NOW()-'Registry Full'!D2117,0),S2117-D2117))","v":""},{"$nulls":5},""]
["",null,null,{"$f":"IF(C2118=\"\",0,VALUE(RIGHT(C2118,LEN(C2118)-FIND(\"/\",C2118,LEN(C2118)-10))))","v":"00:00:00"},{"$nulls":15},{"$f":"IF(OR(D2118=0,P2118=Presets!$C$67),\"\",IF(S2118=0,ROUNDDOWN(NOW()-'Registry Full'!D2118,0),S2118-D2118))","v":""},{"$nulls":5},""]
["",null,null,"00:00:00",{"$nulls":15},{"$f":"IF(OR(D2119=0,P2119=Presets!$C$67),\"\",IF(S2119=0,ROUNDDOWN(NOW()-'Registry Full'!D2119,0),S2119-D2119))","v":""},{"$nulls":5},{"$f":"IF(OR(D2119=0,Y2119=0),\"\",Y2119-D2119)","v":""}]
["",null,null,"00:00:00",{"$nulls":15},{"$f":"IF(OR(D2120=0,P2120=Presets!$C$67),\"\",IF(S2120=0,ROUNDDOWN(NOW()-'Registry Full'!D2120,0),S2120-D2120))","v":""},{"$nulls":5},""]
["",null,null,"00:00:00",{"$nulls":15},{"$f":"IF(OR(D2121=0,P2121=Presets!$C$67),\"\",IF(S2121=0,ROUNDDOWN(NOW()-'Registry Full'!D2121,0),S2121-D2121))","v":""},{"$nulls":5},""]
["",null,null,"00:00:00",{"$nulls":15},{"$f":"IF(OR(D2122=0,P2122=Presets!$C$67),\"\",IF(S2122=0,ROUNDDOWN(NOW()-'Registry Full'!D2122,0),S2122-D2122))","v":""},{"$nulls":5},""]
["",null,null,"00:00:00",{"$nulls":15},{"$f":"IF(OR(D2123=0,P2123=Presets!$C$67),\"\",IF(S2123=0,ROUNDDOWN(NOW()-'Registry Full'!D2123,0),S2123-D2123))","v":""},{"$nulls":5},""]
["",null,null,"00:00:00",{"$nulls":15},{"$f":"IF(OR(D2124=0,P2124=Presets!$C$67),\"\",IF(S2124=0,ROUNDDOWN(NOW()-'Registry Full'!D2124,0),S2124-D2124))","v":""},{"$nulls":5},""]
["",null,null,"00:00:00",{"$nulls":15},{"$f":"IF(OR(D2125=0,P2125=Presets!$C$67),\"\",IF(S2125=0,ROUNDDOWN(NOW()-'Registry Full'!D2125,0),S2125-D2125))","v":""},{"$nulls":5},""]
["",null,null,"00:00:00",{"$nulls":15},{"$f":"IF(OR(D2126=0,P2126=Presets!$C$67),\"\",IF(S2126=0,ROUNDDOWN(NOW()-'Registry Full'!D2126,0),S2126-D2126))","v":""},{"$nulls":5},""]
["",null,null,"00:00:00",{"$nulls":15},{"$f":"IF(OR(D2127=0,P2127=Presets!$C$67),\"\",IF(S2127=0,ROUNDDOWN(NOW()-'Registry Full'!D2127,0),S2127-D2127))","v":""},{"$nulls":5},""]
["",null,null,"00:00:00",{"$nulls":15},{"$f":"IF(OR(D2128=0,P2128=Presets!$C$67),\"\",IF(S2128=0,ROUNDDOWN(NOW()-'Registry Full'!D2128,0),S2128-D2128))","v":""},{"$nulls":5},""]
["",null,null,"00:00:00",{"$nulls":15},{"$f":"IF(OR(D2129=0,P2129=Presets!$C$67),\"\",IF(S2129=0,ROUNDDOWN(NOW()-'Registry Full'!D2129,0),S2129-D2129))","v":""},{"$nulls":5},""]
["",null,null,"00:00:00",{"$nulls":15},{"$f":"IF(OR(D2130=0,P2130=Presets!$C$67),\"\",IF(S2130=0,ROUNDDOWN(NOW()-'Registry Full'!D2130,0),S2130-D2130))","v":""},{"$nulls":5},""]
["",null,null,"00:00:00",{"$nulls":15},{"$f":"IF(OR(D2131=0,P2131=Presets!$C$67),\"\",IF(S2131=0,ROUNDDOWN(NOW()-'Registry Full'!D2131,0),S2131-D2131))","v":""},{"$nulls":5},""]
["",null,null,"00:00:00",{"$nulls":15},{"$f":"IF(OR(D2132=0,P2132=Presets!$C$67),\"\",IF(S2132=0,ROUNDDOWN(NOW()-'Registry Full'!D2132,0),S2132-D2132))","v":""},{"$nulls":5},""]
["",null,null,"00:00:00",{"$nulls":15},{"$f":"IF(OR(D2133=0,P2133=Presets!$C$67),\"\",IF(S2133=0,ROUNDDOWN(NOW()-'Registry Full'!D2133,0),S2133-D2133))","v":""},{"$nulls":5},""]
["",null,null,"00:00:00",{"$nulls":15},{"$f":"IF(OR(D2134=0,P2134=Presets!$C$67),\"\",IF(S2134=0,ROUNDDOWN(NOW()-'Registry Full'!D2134,0),S2134-D2134))","v":""},{"$nulls":5},""]
[{"$f":"IF(COUNTA(B2135)<>0,A2134+1,\"\")","v":""},null,null,"00:00:00",{"$nulls":15},{"$f":"IF(OR(D2135=0,P2135=Presets!$C$67),\"\",IF(S2135=0,ROUNDDOWN(NOW()-'Registry Full'!D2135,0),S2135-D2135))","v":""},{"$nulls":5},""]
["",null,null,"00:00:00",{"$nulls":15},{"$f":"IF(OR(D2136=0,P2136=Presets!$C$67),\"\",IF(S2136=0,ROUNDDOWN(NOW()-'Registry Full'!D2136,0),S2136-D2136))","v":""},{"$nulls":5},""]
["",null,null,"00:00:00",{"$nulls":15},{"$f":"IF(OR(D2137=0,P2137=Presets!$C$67),\"\",IF(S2137=0,ROUNDDOWN(NOW()-'Registry Full'!D2137,0),S2137-D2137))","v":""},{"$nulls":5},""]
["",null,null,"00:00:00",{"$nulls":15},{"$f":"IF(OR(D2138=0,P2138=Presets!$C$67),\"\",IF(S2138=0,ROUNDDOWN(NOW()-'Registry Full'!D2138,0),S2138-D2138))","v":""},{"$nulls":5},""]
["",null,null,"00:00:00",{"$nulls":15},{"$f":"IF(OR(D2139=0,P2139=Presets!$C$67),\"\",IF(S2139=0,ROUNDDOWN(NOW()-'Registry Full'!D2139,0),S2139-D2139))","v":""},{"$nulls":5},""]
["",null,null,"00:00:00",{"$nulls":15},{"$f":"IF(OR(D2140=0,P2140=Presets!$C$67),\"\",IF(S2140=0,ROUNDDOWN(NOW()-'Registry Full'!D2140,0),S2140-D2140))","v":""},{"$nulls":5},""]
["",null,null,"00:00:00",{"$nulls":15},{"$f":"IF(OR(D2141=0,P2141=Presets!$C$67),\"\",IF(S2141=0,ROUNDDOWN(NOW()-'Registry Full'!D2141,0),S2141-D2141))","v":""},{"$nulls":5},""]
["",null,null,"00:00:00",{"$nulls":15},{"$f":"IF(OR(D2142=0,P2142=Presets!$C$67),\"\",IF(S2142=0,ROUNDDOWN(NOW()-'Registry Full'!D2142,0),S2142-D2142))","v":""},{"$nulls":5},""]
["",null,null,"00:00:00",{"$nulls":15},{"$f":"IF(OR(D2143=0,P2143=Presets!$C$67),\"\",IF(S2143=0,ROUNDDOWN(NOW()-'Registry Full'!D2143,0),S2143-D2143))","v":""},{"$nulls":5},""]
["",null,null,"00:00:00",{"$nulls":15},{"$f":"IF(OR(D2144=0,P2144=Presets!$C$67),\"\",IF(S2144=0,ROUNDDOWN(NOW()-'Registry Full'!D2144,0),S2144-D2144))","v":""},{"$nulls":5},""]
["",null,null,"00:00:00",{"$nulls":15},{"$f":"IF(OR(D2145=0,P2145=Presets!$C$67),\"\",IF(S2145=0,ROUNDDOWN(NOW()-'Registry Full'!D2145,0),S2145-D2145))","v":""},{"$nulls":5},""]
["",null,null,"00:00:00",{"$nulls":15},{"$f":"IF(OR(D2146=0,P2146=Presets!$C$67),\"\",IF(S2146=0,ROUNDDOWN(NOW()-'Registry Full'!D2146,0),S2146-D2146))","v":""},{"$nulls":5},""]
["",null,null,"00:00:00",{"$nulls":15},{"$f":"IF(OR(D2147=0,P2147=Presets!$C$67),\"\",IF(S2147=0,ROUNDDOWN(NOW()-'Registry Full'!D2147,0),S2147-D2147))","v":""},{"$nulls":5},""]
["",null,null,"00:00:00",{"$nulls":15},{"$f":"IF(OR(D2148=0,P2148=Presets!$C$67),\"\",IF(S2148=0,ROUNDDOWN(NOW()-'Registry Full'!D2148,0),S2148-D2148))","v":""},{"$nulls":5},""]
["",null,null,"00:00:00",{"$nulls":15},{"$f":"IF(OR(D2149=0,P2149=Presets!$C$67),\"\",IF(S2149=0,ROUNDDOWN(NOW()-'Registry Full'!D2149,0),S2149-D2149))","v":""},{"$nulls":5},""]
["",null,null,"00:00:00",{"$nulls":15},{"$f":"IF(OR(D2150=0,P2150=Presets!$C$67),\"\",IF(S2150=0,ROUNDDOWN(NOW()-'Registry Full'!D2150,0),S2150-D2150))","v":""},{"$nulls":5},""]
["",null,null,"00:00:00",{"$nulls":15},{"$f":"IF(OR(D2151=0,P2151=Presets!$C$67),\"\",IF(S2151=0,ROUNDDOWN(NOW()-'Registry Full'!D2151,0),S2151-D2151))","v":""},{"$nulls":5},""]
["",null,null,"00:00:00",{"$nulls":15},{"$f":"IF(OR(D2152=0,P2152=Presets!$C$67),\"\",IF(S2152=0,ROUNDDOWN(NOW()-'Registry Full'!D2152,0),S2152-D2152))","v":""},{"$nulls":5},""]
["",null,null,"00:00:00",{"$nulls":15},{"$f":"IF(OR(D2153=0,P2153=Presets!$C$67),\"\",IF(S2153=0,ROUNDDOWN(NOW()-'Registry Full'!D2153,0),S2153-D2153))","v":""},{"$nulls":5},""]
["",null,null,"00:00:00",{"$nulls":15},{"$f":"IF(OR(D2154=0,P2154=Presets!$C$67),\"\",IF(S2154=0,ROUNDDOWN(NOW()-'Registry Full'!D2154,0),S2154-D2154))","v":""},{"$nulls":5},""]
["",null,null,"00:00:00",{"$nulls":15},{"$f":"IF(OR(D2155=0,P2155=Presets!$C$67),\"\",IF(S2155=0,ROUNDDOWN(NOW()-'Registry Full'!D2155,0),S2155-D2155))","v":""},{"$nulls":5},""]
["",null,null,"00:00:00",{"$nulls":15},{"$f":"IF(OR(D2156=0,P2156=Presets!$C$67),\"\",IF(S2156=0,ROUNDDOWN(NOW()-'Registry Full'!D2156,0),S2156-D2156))","v":""},{"$nulls":5},""]
["",null,null,"00:00:00",{"$nulls":15},{"$f":"IF(OR(D2157=0,P2157=Presets!$C$67),\"\",IF(S2157=0,ROUNDDOWN(NOW()-'Registry Full'!D2157,0),S2157-D2157))","v":""},{"$nulls":5},""]
["",null,null,"00:00:00",{"$nulls":15},{"$f":"IF(OR(D2158=0,P2158=Presets!$C$67),\"\",IF(S2158=0,ROUNDDOWN(NOW()-'Registry Full'!D2158,0),S2158-D2158))","v":""},{"$nulls":5},""]
["",null,null,"00:00:00",{"$nulls":15},{"$f":"IF(OR(D2159=0,P2159=Presets!$C$67),\"\",IF(S2159=0,ROUNDDOWN(NOW()-'Registry Full'!D2159,0),S2159-D2159))","v":""},{"$nulls":5},""]
["",null,null,"00:00:00",{"$nulls":15},{"$f":"IF(OR(D2160=0,P2160=Presets!$C$67),\"\",IF(S2160=0,ROUNDDOWN(NOW()-'Registry Full'!D2160,0),S2160-D2160))","v":""},{"$nulls":5},""]
["",null,null,"00:00:00",{"$nulls":15},{"$f":"IF(OR(D2161=0,P2161=Presets!$C$67),\"\",IF(S2161=0,ROUNDDOWN(NOW()-'Registry Full'!D2161,0),S2161-D2161))","v":""},{"$nulls":5},""]
["",null,null,"00:00:00",{"$nulls":15},{"$f":"IF(OR(D2162=0,P2162=Presets!$C$67),\"\",IF(S2162=0,ROUNDDOWN(NOW()-'Registry Full'!D2162,0),S2162-D2162))","v":""},{"$nulls":5},""]
["",null,null,"00:00:00",{"$nulls":15},{"$f":"IF(OR(D2163=0,P2163=Presets!$C$67),\"\",IF(S2163=0,ROUNDDOWN(NOW()-'Registry Full'!D2163,0),S2163-D2163))","v":""},{"$nulls":5},""]
["",null,null,"00:00:00",{"$nulls":15},{"$f":"IF(OR(D2164=0,P2164=Presets!$C$67),\"\",IF(S2164=0,ROUNDDOWN(NOW()-'Registry Full'!D2164,0),S2164-D2164))","v":""},{"$nulls":5},""]
["",null,null,"00:00:00",{"$nulls":15},{"$f":"IF(OR(D2165=0,P2165=Presets!$C$67),\"\",IF(S2165=0,ROUNDDOWN(NOW()-'Registry Full'!D2165,0),S2165-D2165))","v":""},{"$nulls":5},""]
["",null,null,"00:00:00",{"$nulls":15},{"$f":"IF(OR(D2166=0,P2166=Presets!$C$67),\"\",IF(S2166=0,ROUNDDOWN(NOW()-'Registry Full'!D2166,0),S2166-D2166))","v":""},{"$nulls":5},""]
["",null,null,"00:00:00",{"$nulls":15},{"$f":"IF(OR(D2167=0,P2167=Presets!$C$67),\"\",IF(S2167=0,ROUNDDOWN(NOW()-'Registry Full'!D2167,0),S2167-D2167))","v":""},{"$nulls":5},""]
["",null,null,"00:00:00",{"$nulls":15},{"$f":"IF(OR(D2168=0,P2168=Presets!$C$67),\"\",IF(S2168=0,ROUNDDOWN(NOW()-'Registry Full'!D2168,0),S2168-D2168))","v":""},{"$nulls":5},""]
["",null,null,"00:00:00",{"$nulls":15},{"$f":"IF(OR(D2169=0,P2169=Presets!$C$67),\"\",IF(S2169=0,ROUNDDOWN(NOW()-'Registry Full'!D2169,0),S2169-D2169))","v":""},{"$nulls":5},""]
["",null,null,"00:00:00",{"$nulls":15},{"$f":"IF(OR(D2170=0,P2170=Presets!$C$67),\"\",IF(S2170=0,ROUNDDOWN(NOW()-'Registry Full'!D2170,0),S2170-D2170))","v":""},{"$nulls":5},""]
["",null,null,"00:00:00",{"$nulls":15},{"$f":"IF(OR(D2171=0,P2171=Presets!$C$67),\"\",IF(S2171=0,ROUNDDOWN(NOW()-'Registry Full'!D2171,0),S2171-D2171))","v":""},{"$nulls":5},""]
["",null,null,"00:00:00",{"$nulls":15},{"$f":"IF(OR(D2172=0,P2172=Presets!$C$67),\"\",IF(S2172=0,ROUNDDOWN(NOW()-'Registry Full'!D2172,0),S2172-D2172))","v":""},{"$nulls":5},""]
["",null,null,"00:00:00",{"$nulls":15},{"$f":"IF(OR(D2173=0,P2173=Presets!$C$67),\"\",IF(S2173=0,ROUNDDOWN(NOW()-'Registry Full'!D2173,0),S2173-D2173))","v":""},{"$nulls":5},""]
["",null,null,"00:00:00",{"$nulls":15},{"$f":"IF(OR(D2174=0,P2174=Presets!$C$67),\"\",IF(S2174=0,ROUNDDOWN(NOW()-'Registry Full'!D2174,0),S2174-D2174))","v":""},{"$nulls":5},""]
["",null,null,"00:00:00",{"$nulls":15},{"$f":"IF(OR(D2175=0,P2175=Presets!$C$67),\"\",IF(S2175=0,ROUNDDOWN(NOW()-'Registry Full'!D2175,0),S2175-D2175))","v":""},{"$nulls":5},""]
["",null,null,"00:00:00",{"$nulls":15},{"$f":"IF(OR(D2176=0,P2176=Presets!$C$67),\"\",IF(S2176=0,ROUNDDOWN(NOW()-'Registry Full'!D2176,0),S2176-D2176))","v":""},{"$nulls":5},""]
["",null,null,"00:00:00",{"$nulls":15},{"$f":"IF(OR(D2177=0,P2177=Presets!$C$67),\"\",IF(S2177=0,ROUNDDOWN(NOW()-'Registry Full'!D2177,0),S2177-D2177))","v":""},{"$nulls":5},""]
["",null,null,"00:00:00",{"$nulls":15},{"$f":"IF(OR(D2178=0,P2178=Presets!$C$67),\"\",IF(S2178=0,ROUNDDOWN(NOW()-'Registry Full'!D2178,0),S2178-D2178))","v":""},{"$nulls":5},""]
["",null,null,"00:00:00",{"$nulls":15},{"$f":"IF(OR(D2179=0,P2179=Presets!$C$67),\"\",IF(S2179=0,ROUNDDOWN(NOW()-'Registry Full'!D2179,0),S2179-D2179))","v":""},{"$nulls":5},""]
["",null,null,"00:00:00",{"$nulls":15},{"$f":"IF(OR(D2180=0,P2180=Presets!$C$67),\"\",IF(S2180=0,ROUNDDOWN(NOW()-'Registry Full'!D2180,0),S2180-D2180))","v":""},{"$nulls":5},""]
["",null,null,"00:00:00",{"$nulls":15},{"$f":"IF(OR(D2181=0,P2181=Presets!$C$67),\"\",IF(S2181=0,ROUNDDOWN(NOW()-'Registry Full'!D2181,0),S2181-D2181))","v":""},{"$nulls":5},""]
["",null,null,{"$f":"IF(C2182=\"\",0,VALUE(RIGHT(C2182,LEN(C2182)-FIND(\"/\",C2182,LEN(C2182)-10))))","v":"00:00:00"},{"$nulls":15},{"$f":"IF(OR(D2182=0,P2182=Presets!$C$67),\"\",IF(S2182=0,ROUNDDOWN(NOW()-'Registry Full'!D2182,0),S2182-D2182))","v":""},{"$nulls":5},""]
["",null,null,"00:00:00",{"$nulls":15},{"$f":"IF(OR(D2183=0,P2183=Presets!$C$67),\"\",IF(S2183=0,ROUNDDOWN(NOW()-'Registry Full'!D2183,0),S2183-D2183))","v":""},{"$nulls":5},{"$f":"IF(OR(D2183=0,Y2183=0),\"\",Y2183-D2183)","v":""}]
["",null,null,"00:00:00",{"$nulls":15},{"$f":"IF(OR(D2184=0,P2184=Presets!$C$67),\"\",IF(S2184=0,ROUNDDOWN(NOW()-'Registry Full'!D2184,0),S2184-D2184))","v":""},{"$nulls":5},""]
["",null,null,"00:00:00",{"$nulls":15},{"$f":"IF(OR(D2185=0,P2185=Presets!$C$67),\"\",IF(S2185=0,ROUNDDOWN(NOW()-'Registry Full'!D2185,0),S2185-D2185))","v":""},{"$nulls":5},""]
["",null,null,"00:00:00",{"$nulls":15},{"$f":"IF(OR(D2186=0,P2186=Presets!$C$67),\"\",IF(S2186=0,ROUNDDOWN(NOW()-'Registry Full'!D2186,0),S2186-D2186))","v":""},{"$nulls":5},""]
["",null,null,"00:00:00",{"$nulls":15},{"$f":"IF(OR(D2187=0,P2187=Presets!$C$67),\"\",IF(S2187=0,ROUNDDOWN(NOW()-'Registry Full'!D2187,0),S2187-D2187))","v":""},{"$nulls":5},""]
["",null,null,"00:00:00",{"$nulls":15},{"$f":"IF(OR(D2188=0,P2188=Presets!$C$67),\"\",IF(S2188=0,ROUNDDOWN(NOW()-'Registry Full'!D2188,0),S2188-D2188))","v":""},{"$nulls":5},""]
["",null,null,"00:00:00",{"$nulls":15},{"$f":"IF(OR(D2189=0,P2189=Presets!$C$67),\"\",IF(S2189=0,ROUNDDOWN(NOW()-'Registry Full'!D2189,0),S2189-D2189))","v":""},{"$nulls":5},""]
["",null,null,"00:00:00",{"$nulls":15},{"$f":"IF(OR(D2190=0,P2190=Presets!$C$67),\"\",IF(S2190=0,ROUNDDOWN(NOW()-'Registry Full'!D2190,0),S2190-D2190))","v":""},{"$nulls":5},""]
["",null,null,"00:00:00",{"$nulls":15},{"$f":"IF(OR(D2191=0,P2191=Presets!$C$67),\"\",IF(S2191=0,ROUNDDOWN(NOW()-'Registry Full'!D2191,0),S2191-D2191))","v":""},{"$nulls":5},""]
["",null,null,"00:00:00",{"$nulls":15},{"$f":"IF(OR(D2192=0,P2192=Presets!$C$67),\"\",IF(S2192=0,ROUNDDOWN(NOW()-'Registry Full'!D2192,0),S2192-D2192))","v":""},{"$nulls":5},""]
["",null,null,"00:00:00",{"$nulls":15},{"$f":"IF(OR(D2193=0,P2193=Presets!$C$67),\"\",IF(S2193=0,ROUNDDOWN(NOW()-'Registry Full'!D2193,0),S2193-D2193))","v":""},{"$nulls":5},""]
["",null,null,"00:00:00",{"$nulls":15},{"$f":"IF(OR(D2194=0,P2194=Presets!$C$67),\"\",IF(S2194=0,ROUNDDOWN(NOW()-'Registry Full'!D2194,0),S2194-D2194))","v":""},{"$nulls":5},""]
["",null,null,"00:00:00",{"$nulls":15},{"$f":"IF(OR(D2195=0,P2195=Presets!$C$67),\"\",IF(S2195=0,ROUNDDOWN(NOW()-'Registry Full'!D2195,0),S2195-D2195))","v":""},{"$nulls":5},""]
["",null,null,"00:00:00",{"$nulls":15},{"$f":"IF(OR(D2196=0,P2196=Presets!$C$67),\"\",IF(S2196=0,ROUNDDOWN(NOW()-'Registry Full'!D2196,0),S2196-D2196))","v":""},{"$nulls":5},""]
["",null,null,"00:00:00",{"$nulls":15},{"$f":"IF(OR(D2197=0,P2197=Presets!$C$67),\"\",IF(S2197=0,ROUNDDOWN(NOW()-'Registry Full'!D2197,0),S2197-D2197))","v":""},{"$nulls":5},""]
["",null,null,"00:00:00",{"$nulls":15},{"$f":"IF(OR(D2198=0,P2198=Presets!$C$67),\"\",IF(S2198=0,ROUNDDOWN(NOW()-'Registry Full'!D2198,0),S2198-D2198))","v":""},{"$nulls":5},""]
[{"$f":"IF(COUNTA(B2199)<>0,A2198+1,\"\")","v":""},null,null,"00:00:00",{"$nulls":15},{"$f":"IF(OR(D2199=0,P2199=Presets!$C$67),\"\",IF(S2199=0,ROUNDDOWN(NOW()-'Registry Full'!D2199,0),S2199-D2199))","v":""},{"$nulls":5},""]
["",null,null,"00:00:00",{"$nulls":15},{"$f":"IF(OR(D2200=0,P2200=Presets!$C$67),\"\",IF(S2200=0,ROUNDDOWN(NOW()-'Registry Full'!D2200,0),S2200-D2200))","v":""},{"$nulls":5},""]
["",null,null,"00:00:00",{"$nulls":15},{"$f":"IF(OR(D2201=0,P2201=Presets!$C$67),\"\",IF(S2201=0,ROUNDDOWN(NOW()-'Registry Full'!D2201,0),S2201-D2201))","v":""},{"$nulls":5},""]
["",null,null,"00:00:00",{"$nulls":15},{"$f":"IF(OR(D2202=0,P2202=Presets!$C$67),\"\",IF(S2202=0,ROUNDDOWN(NOW()-'Registry Full'!D2202,0),S2202-D2202))","v":""},{"$nulls":5},""]
["",null,null,"00:00:00",{"$nulls":15},{"$f":"IF(OR(D2203=0,P2203=Presets!$C$67),\"\",IF(S2203=0,ROUNDDOWN(NOW()-'Registry Full'!D2203,0),S2203-D2203))","v":""},{"$nulls":5},""]
["",null,null,"00:00:00",{"$nulls":15},{"$f":"IF(OR(D2204=0,P2204=Presets!$C$67),\"\",IF(S2204=0,ROUNDDOWN(NOW()-'Registry Full'!D2204,0),S2204-D2204))","v":""},{"$nulls":5},""]
["",null,null,"00:00:00",{"$nulls":15},{"$f":"IF(OR(D2205=0,P2205=Presets!$C$67),\"\",IF(S2205=0,ROUNDDOWN(NOW()-'Registry Full'!D2205,0),S2205-D2205))","v":""},{"$nulls":5},""]
["",null,null,"00:00:00",{"$nulls":15},{"$f":"IF(OR(D2206=0,P2206=Presets!$C$67),\"\",IF(S2206=0,ROUNDDOWN(NOW()-'Registry Full'!D2206,0),S2206-D2206))","v":""},{"$nulls":5},""]
["",null,null,"00:00:00",{"$nulls":15},{"$f":"IF(OR(D2207=0,P2207=Presets!$C$67),\"\",IF(S2207=0,ROUNDDOWN(NOW()-'Registry Full'!D2207,0),S2207-D2207))","v":""},{"$nulls":5},""]
["",null,null,"00:00:00",{"$nulls":15},{"$f":"IF(OR(D2208=0,P2208=Presets!$C$67),\"\",IF(S2208=0,ROUNDDOWN(NOW()-'Registry Full'!D2208,0),S2208-D2208))","v":""},{"$nulls":5},""]
["",null,null,"00:00:00",{"$nulls":15},{"$f":"IF(OR(D2209=0,P2209=Presets!$C$67),\"\",IF(S2209=0,ROUNDDOWN(NOW()-'Registry Full'!D2209,0),S2209-D2209))","v":""},{"$nulls":5},""]
["",null,null,"00:00:00",{"$nulls":15},{"$f":"IF(OR(D2210=0,P2210=Presets!$C$67),\"\",IF(S2210=0,ROUNDDOWN(NOW()-'Registry Full'!D2210,0),S2210-D2210))","v":""},{"$nulls":5},""]
["",null,null,"00:00:00",{"$nulls":15},{"$f":"IF(OR(D2211=0,P2211=Presets!$C$67),\"\",IF(S2211=0,ROUNDDOWN(NOW()-'Registry Full'!D2211,0),S2211-D2211))","v":""},{"$nulls":5},""]
["",null,null,"00:00:00",{"$nulls":15},{"$f":"IF(OR(D2212=0,P2212=Presets!$C$67),\"\",IF(S2212=0,ROUNDDOWN(NOW()-'Registry Full'!D2212,0),S2212-D2212))","v":""},{"$nulls":5},""]
["",null,null,"00:00:00",{"$nulls":15},{"$f":"IF(OR(D2213=0,P2213=Presets!$C$67),\"\",IF(S2213=0,ROUNDDOWN(NOW()-'Registry Full'!D2213,0),S2213-D2213))","v":""},{"$nulls":5},""]
["",null,null,"00:00:00",{"$nulls":15},{"$f":"IF(OR(D2214=0,P2214=Presets!$C$67),\"\",IF(S2214=0,ROUNDDOWN(NOW()-'Registry Full'!D2214,0),S2214-D2214))","v":""},{"$nulls":5},""]
["",null,null,"00:00:00",{"$nulls":15},{"$f":"IF(OR(D2215=0,P2215=Presets!$C$67),\"\",IF(S2215=0,ROUNDDOWN(NOW()-'Registry Full'!D2215,0),S2215-D2215))","v":""},{"$nulls":5},""]
["",null,null,"00:00:00",{"$nulls":15},{"$f":"IF(OR(D2216=0,P2216=Presets!$C$67),\"\",IF(S2216=0,ROUNDDOWN(NOW()-'Registry Full'!D2216,0),S2216-D2216))","v":""},{"$nulls":5},""]
["",null,null,"00:00:00",{"$nulls":15},{"$f":"IF(OR(D2217=0,P2217=Presets!$C$67),\"\",IF(S2217=0,ROUNDDOWN(NOW()-'Registry Full'!D2217,0),S2217-D2217))","v":""},{"$nulls":5},""]
["",null,null,"00:00:00",{"$nulls":15},{"$f":"IF(OR(D2218=0,P2218=Presets!$C$67),\"\",IF(S2218=0,ROUNDDOWN(NOW()-'Registry Full'!D2218,0),S2218-D2218))","v":""},{"$nulls":5},""]
["",null,null,"00:00:00",{"$nulls":15},{"$f":"IF(OR(D2219=0,P2219=Presets!$C$67),\"\",IF(S2219=0,ROUNDDOWN(NOW()-'Registry Full'!D2219,0),S2219-D2219))","v":""},{"$nulls":5},""]
["",null,null,"00:00:00",{"$nulls":15},{"$f":"IF(OR(D2220=0,P2220=Presets!$C$67),\"\",IF(S2220=0,ROUNDDOWN(NOW()-'Registry Full'!D2220,0),S2220-D2220))","v":""},{"$nulls":5},""]
["",null,null,"00:00:00",{"$nulls":15},{"$f":"IF(OR(D2221=0,P2221=Presets!$C$67),\"\",IF(S2221=0,ROUNDDOWN(NOW()-'Registry Full'!D2221,0),S2221-D2221))","v":""},{"$nulls":5},""]
["",null,null,"00:00:00",{"$nulls":15},{"$f":"IF(OR(D2222=0,P2222=Presets!$C$67),\"\",IF(S2222=0,ROUNDDOWN(NOW()-'Registry Full'!D2222,0),S2222-D2222))","v":""},{"$nulls":5},""]
["",null,null,"00:00:00",{"$nulls":15},{"$f":"IF(OR(D2223=0,P2223=Presets!$C$67),\"\",IF(S2223=0,ROUNDDOWN(NOW()-'Registry Full'!D2223,0),S2223-D2223))","v":""},{"$nulls":5},""]
["",null,null,"00:00:00",{"$nulls":15},{"$f":"IF(OR(D2224=0,P2224=Presets!$C$67),\"\",IF(S2224=0,ROUNDDOWN(NOW()-'Registry Full'!D2224,0),S2224-D2224))","v":""},{"$nulls":5},""]
["",null,null,"00:00:00",{"$nulls":15},{"$f":"IF(OR(D2225=0,P2225=Presets!$C$67),\"\",IF(S2225=0,ROUNDDOWN(NOW()-'Registry Full'!D2225,0),S2225-D2225))","v":""},{"$nulls":5},""]
["",null,null,"00:00:00",{"$nulls":15},{"$f":"IF(OR(D2226=0,P2226=Presets!$C$67),\"\",IF(S2226=0,ROUNDDOWN(NOW()-'Registry Full'!D2226,0),S2226-D2226))","v":""},{"$nulls":5},""]
["",null,null,"00:00:00",{"$nulls":15},{"$f":"IF(OR(D2227=0,P2227=Presets!$C$67),\"\",IF(S2227=0,ROUNDDOWN(NOW()-'Registry Full'!D2227,0),S2227-D2227))","v":""},{"$nulls":5},""]
["",null,null,"00:00:00",{"$nulls":15},{"$f":"IF(OR(D2228=0,P2228=Presets!$C$67),\"\",IF(S2228=0,ROUNDDOWN(NOW()-'Registry Full'!D2228,0),S2228-D2228))","v":""},{"$nulls":5},""]
["",null,null,"00:00:00",{"$nulls":15},{"$f":"IF(OR(D2229=0,P2229=Presets!$C$67),\"\",IF(S2229=0,ROUNDDOWN(NOW()-'Registry Full'!D2229,0),S2229-D2229))","v":""},{"$nulls":5},""]
["",null,null,"00:00:00",{"$nulls":15},{"$f":"IF(OR(D2230=0,P2230=Presets!$C$67),\"\",IF(S2230=0,ROUNDDOWN(NOW()-'Registry Full'!D2230,0),S2230-D2230))","v":""},{"$nulls":5},""]
["",null,null,"00:00:00",{"$nulls":15},{"$f":"IF(OR(D2231=0,P2231=Presets!$C$67),\"\",IF(S2231=0,ROUNDDOWN(NOW()-'Registry Full'!D2231,0),S2231-D2231))","v":""},{"$nulls":5},""]
["",null,null,"00:00:00",{"$nulls":15},{"$f":"IF(OR(D2232=0,P2232=Presets!$C$67),\"\",IF(S2232=0,ROUNDDOWN(NOW()-'Registry Full'!D2232,0),S2232-D2232))","v":""},{"$nulls":5},""]
["",null,null,"00:00:00",{"$nulls":15},{"$f":"IF(OR(D2233=0,P2233=Presets!$C$67),\"\",IF(S2233=0,ROUNDDOWN(NOW()-'Registry Full'!D2233,0),S2233-D2233))","v":""},{"$nulls":5},""]
["",null,null,"00:00:00",{"$nulls":15},{"$f":"IF(OR(D2234=0,P2234=Presets!$C$67),\"\",IF(S2234=0,ROUNDDOWN(NOW()-'Registry Full'!D2234,0),S2234-D2234))","v":""},{"$nulls":5},""]
["",null,null,"00:00:00",{"$nulls":15},{"$f":"IF(OR(D2235=0,P2235=Presets!$C$67),\"\",IF(S2235=0,ROUNDDOWN(NOW()-'Registry Full'!D2235,0),S2235-D2235))","v":""},{"$nulls":5},""]
["",null,null,"00:00:00",{"$nulls":15},{"$f":"IF(OR(D2236=0,P2236=Presets!$C$67),\"\",IF(S2236=0,ROUNDDOWN(NOW()-'Registry Full'!D2236,0),S2236-D2236))","v":""},{"$nulls":5},""]
["",null,null,"00:00:00",{"$nulls":15},{"$f":"IF(OR(D2237=0,P2237=Presets!$C$67),\"\",IF(S2237=0,ROUNDDOWN(NOW()-'Registry Full'!D2237,0),S2237-D2237))","v":""},{"$nulls":5},""]
["",null,null,"00:00:00",{"$nulls":15},{"$f":"IF(OR(D2238=0,P2238=Presets!$C$67),\"\",IF(S2238=0,ROUNDDOWN(NOW()-'Registry Full'!D2238,0),S2238-D2238))","v":""},{"$nulls":5},""]
["",null,null,"00:00:00",{"$nulls":15},{"$f":"IF(OR(D2239=0,P2239=Presets!$C$67),\"\",IF(S2239=0,ROUNDDOWN(NOW()-'Registry Full'!D2239,0),S2239-D2239))","v":""},{"$nulls":5},""]
["",null,null,"00:00:00",{"$nulls":15},{"$f":"IF(OR(D2240=0,P2240=Presets!$C$67),\"\",IF(S2240=0,ROUNDDOWN(NOW()-'Registry Full'!D2240,0),S2240-D2240))","v":""},{"$nulls":5},""]
["",null,null,"00:00:00",{"$nulls":15},{"$f":"IF(OR(D2241=0,P2241=Presets!$C$67),\"\",IF(S2241=0,ROUNDDOWN(NOW()-'Registry Full'!D2241,0),S2241-D2241))","v":""},{"$nulls":5},""]
["",null,null,"00:00:00",{"$nulls":15},{"$f":"IF(OR(D2242=0,P2242=Presets!$C$67),\"\",IF(S2242=0,ROUNDDOWN(NOW()-'Registry Full'!D2242,0),S2242-D2242))","v":""},{"$nulls":5},""]
["",null,null,"00:00:00",{"$nulls":15},{"$f":"IF(OR(D2243=0,P2243=Presets!$C$67),\"\",IF(S2243=0,ROUNDDOWN(NOW()-'Registry Full'!D2243,0),S2243-D2243))","v":""},{"$nulls":5},""]
["",null,null,"00:00:00",{"$nulls":15},{"$f":"IF(OR(D2244=0,P2244=Presets!$C$67),\"\",IF(S2244=0,ROUNDDOWN(NOW()-'Registry Full'!D2244,0),S2244-D2244))","v":""},{"$nulls":5},""]
["",null,null,"00:00:00",{"$nulls":15},{"$f":"IF(OR(D2245=0,P2245=Presets!$C$67),\"\",IF(S2245=0,ROUNDDOWN(NOW()-'Registry Full'!D2245,0),S2245-D2245))","v":""},{"$nulls":5},""]
["",null,null,{"$f":"IF(C2246=\"\",0,VALUE(RIGHT(C2246,LEN(C2246)-FIND(\"/\",C2246,LEN(C2246)-10))))","v":"00:00:00"},{"$nulls":15},{"$f":"IF(OR(D2246=0,P2246=Presets!$C$67),\"\",IF(S2246=0,ROUNDDOWN(NOW()-'Registry Full'!D2246,0),S2246-D2246))","v":""},{"$nulls":5},""]
["",null,null,"00:00:00",{"$nulls":15},{"$f":"IF(OR(D2247=0,P2247=Presets!$C$67),\"\",IF(S2247=0,ROUNDDOWN(NOW()-'Registry Full'!D2247,0),S2247-D2247))","v":""},{"$nulls":5},{"$f":"IF(OR(D2247=0,Y2247=0),\"\",Y2247-D2247)","v":""}]
["",null,null,"00:00:00",{"$nulls":15},{"$f":"IF(OR(D2248=0,P2248=Presets!$C$67),\"\",IF(S2248=0,ROUNDDOWN(NOW()-'Registry Full'!D2248,0),S2248-D2248))","v":""},{"$nulls":5},""]
["",null,null,"00:00:00",{"$nulls":15},{"$f":"IF(OR(D2249=0,P2249=Presets!$C$67),\"\",IF(S2249=0,ROUNDDOWN(NOW()-'Registry Full'!D2249,0),S2249-D2249))","v":""},{"$nulls":5},""]
["",null,null,"00:00:00",{"$nulls":15},{"$f":"IF(OR(D2250=0,P2250=Presets!$C$67),\"\",IF(S2250=0,ROUNDDOWN(NOW()-'Registry Full'!D2250,0),S2250-D2250))","v":""},{"$nulls":5},""]
["",null,null,"00:00:00",{"$nulls":15},{"$f":"IF(OR(D2251=0,P2251=Presets!$C$67),\"\",IF(S2251=0,ROUNDDOWN(NOW()-'Registry Full'!D2251,0),S2251-D2251))","v":""},{"$nulls":5},""]
["",null,null,"00:00:00",{"$nulls":15},{"$f":"IF(OR(D2252=0,P2252=Presets!$C$67),\"\",IF(S2252=0,ROUNDDOWN(NOW()-'Registry Full'!D2252,0),S2252-D2252))","v":""},{"$nulls":5},""]
["",null,null,"00:00:00",{"$nulls":15},{"$f":"IF(OR(D2253=0,P2253=Presets!$C$67),\"\",IF(S2253=0,ROUNDDOWN(NOW()-'Registry Full'!D2253,0),S2253-D2253))","v":""},{"$nulls":5},""]
["",null,null,"00:00:00",{"$nulls":15},{"$f":"IF(OR(D2254=0,P2254=Presets!$C$67),\"\",IF(S2254=0,ROUNDDOWN(NOW()-'Registry Full'!D2254,0),S2254-D2254))","v":""},{"$nulls":5},""]
["",null,null,"00:00:00",{"$nulls":15},{"$f":"IF(OR(D2255=0,P2255=Presets!$C$67),\"\",IF(S2255=0,ROUNDDOWN(NOW()-'Registry Full'!D2255,0),S2255-D2255))","v":""},{"$nulls":5},""]
["",null,null,"00:00:00",{"$nulls":15},{"$f":"IF(OR(D2256=0,P2256=Presets!$C$67),\"\",IF(S2256=0,ROUNDDOWN(NOW()-'Registry Full'!D2256,0),S2256-D2256))","v":""},{"$nulls":5},""]
["",null,null,"00:00:00",{"$nulls":15},{"$f":"IF(OR(D2257=0,P2257=Presets!$C$67),\"\",IF(S2257=0,ROUNDDOWN(NOW()-'Registry Full'!D2257,0),S2257-D2257))","v":""},{"$nulls":5},""]
["",null,null,"00:00:00",{"$nulls":15},{"$f":"IF(OR(D2258=0,P2258=Presets!$C$67),\"\",IF(S2258=0,ROUNDDOWN(NOW()-'Registry Full'!D2258,0),S2258-D2258))","v":""},{"$nulls":5},""]
["",null,null,"00:00:00",{"$nulls":15},{"$f":"IF(OR(D2259=0,P2259=Presets!$C$67),\"\",IF(S2259=0,ROUNDDOWN(NOW()-'Registry Full'!D2259,0),S2259-D2259))","v":""},{"$nulls":5},""]
["",null,null,"00:00:00",{"$nulls":15},{"$f":"IF(OR(D2260=0,P2260=Presets!$C$67),\"\",IF(S2260=0,ROUNDDOWN(NOW()-'Registry Full'!D2260,0),S2260-D2260))","v":""},{"$nulls":5},""]
["",null,null,"00:00:00",{"$nulls":15},{"$f":"IF(OR(D2261=0,P2261=Presets!$C$67),\"\",IF(S2261=0,ROUNDDOWN(NOW()-'Registry Full'!D2261,0),S2261-D2261))","v":""},{"$nulls":5},""]
["",null,null,"00:00:00",{"$nulls":15},{"$f":"IF(OR(D2262=0,P2262=Presets!$C$67),\"\",IF(S2262=0,ROUNDDOWN(NOW()-'Registry Full'!D2262,0),S2262-D2262))","v":""},{"$nulls":5},""]
[{"$f":"IF(COUNTA(B2263)<>0,A2262+1,\"\")","v":""},null,null,"00:00:00",{"$nulls":15},{"$f":"IF(OR(D2263=0,P2263=Presets!$C$67),\"\",IF(S2263=0,ROUNDDOWN(NOW()-'Registry Full'!D2263,0),S2263-D2263))","v":""},{"$nulls":5},""]
["",null,null,"00:00:00",{"$nulls":15},{"$f":"IF(OR(D2264=0,P2264=Presets!$C$67),\"\",IF(S2264=0,ROUNDDOWN(NOW()-'Registry Full'!D2264,0),S2264-D2264))","v":""},{"$nulls":5},""]
["",null,null,"00:00:00",{"$nulls":15},{"$f":"IF(OR(D2265=0,P2265=Presets!$C$67),\"\",IF(S2265=0,ROUNDDOWN(NOW()-'Registry Full'!D2265,0),S2265-D2265))","v":""},{"$nulls":5},""]
["",null,null,"00:00:00",{"$nulls":15},{"$f":"IF(OR(D2266=0,P2266=Presets!$C$67),\"\",IF(S2266=0,ROUNDDOWN(NOW()-'Registry Full'!D2266,0),S2266-D2266))","v":""},{"$nulls":5},""]
["",null,null,"00:00:00",{"$nulls":15},{"$f":"IF(OR(D2267=0,P2267=Presets!$C$67),\"\",IF(S2267=0,ROUNDDOWN(NOW()-'Registry Full'!D2267,0),S2267-D2267))","v":""},{"$nulls":5},""]
["",null,null,"00:00:00",{"$nulls":15},{"$f":"IF(OR(D2268=0,P2268=Presets!$C$67),\"\",IF(S2268=0,ROUNDDOWN(NOW()-'Registry Full'!D2268,0),S2268-D2268))","v":""},{"$nulls":5},""]
["",null,null,"00:00:00",{"$nulls":15},{"$f":"IF(OR(D2269=0,P2269=Presets!$C$67),\"\",IF(S2269=0,ROUNDDOWN(NOW()-'Registry Full'!D2269,0),S2269-D2269))","v":""},{"$nulls":5},""]
["",null,null,"00:00:00",{"$nulls":15},{"$f":"IF(OR(D2270=0,P2270=Presets!$C$67),\"\",IF(S2270=0,ROUNDDOWN(NOW()-'Registry Full'!D2270,0),S2270-D2270))","v":""},{"$nulls":5},""]
["",null,null,"00:00:00",{"$nulls":15},{"$f":"IF(OR(D2271=0,P2271=Presets!$C$67),\"\",IF(S2271=0,ROUNDDOWN(NOW()-'Registry Full'!D2271,0),S2271-D2271))","v":""},{"$nulls":5},""]
["",null,null,"00:00:00",{"$nulls":15},{"$f":"IF(OR(D2272=0,P2272=Presets!$C$67),\"\",IF(S2272=0,ROUNDDOWN(NOW()-'Registry Full'!D2272,0),S2272-D2272))","v":""},{"$nulls":5},""]
["",null,null,"00:00:00",{"$nulls":15},{"$f":"IF(OR(D2273=0,P2273=Presets!$C$67),\"\",IF(S2273=0,ROUNDDOWN(NOW()-'Registry Full'!D2273,0),S2273-D2273))","v":""},{"$nulls":5},""]
["",null,null,"00:00:00",{"$nulls":15},{"$f":"IF(OR(D2274=0,P2274=Presets!$C$67),\"\",IF(S2274=0,ROUNDDOWN(NOW()-'Registry Full'!D2274,0),S2274-D2274))","v":""},{"$nulls":5},""]
["",null,null,"00:00:00",{"$nulls":15},{"$f":"IF(OR(D2275=0,P2275=Presets!$C$67),\"\",IF(S2275=0,ROUNDDOWN(NOW()-'Registry Full'!D2275,0),S2275-D2275))","v":""},{"$nulls":5},""]
["",null,null,"00:00:00",{"$nulls":15},{"$f":"IF(OR(D2276=0,P2276=Presets!$C$67),\"\",IF(S2276=0,ROUNDDOWN(NOW()-'Registry Full'!D2276,0),S2276-D2276))","v":""},{"$nulls":5},""]
["",null,null,"00:00:00",{"$nulls":15},{"$f":"IF(OR(D2277=0,P2277=Presets!$C$67),\"\",IF(S2277=0,ROUNDDOWN(NOW()-'Registry Full'!D2277,0),S2277-D2277))","v":""},{"$nulls":5},""]
["",null,null,"00:00:00",{"$nulls":15},{"$f":"IF(OR(D2278=0,P2278=Presets!$C$67),\"\",IF(S2278=0,ROUNDDOWN(NOW()-'Registry Full'!D2278,0),S2278-D2278))","v":""},{"$nulls":5},""]
["",null,null,"00:00:00",{"$nulls":15},{"$f":"IF(OR(D2279=0,P2279=Presets!$C$67),\"\",IF(S2279=0,ROUNDDOWN(NOW()-'Registry Full'!D2279,0),S2279-D2279))","v":""},{"$nulls":5},""]
["",null,null,"00:00:00",{"$nulls":15},{"$f":"IF(OR(D2280=0,P2280=Presets!$C$67),\"\",IF(S2280=0,ROUNDDOWN(NOW()-'Registry Full'!D2280,0),S2280-D2280))","v":""},{"$nulls":5},""]
["",null,null,"00:00:00",{"$nulls":15},{"$f":"IF(OR(D2281=0,P2281=Presets!$C$67),\"\",IF(S2281=0,ROUNDDOWN(NOW()-'Registry Full'!D2281,0),S2281-D2281))","v":""},{"$nulls":5},""]
["",null,null,"00:00:00",{"$nulls":15},{"$f":"IF(OR(D2282=0,P2282=Presets!$C$67),\"\",IF(S2282=0,ROUNDDOWN(NOW()-'Registry Full'!D2282,0),S2282-D2282))","v":""},{"$nulls":5},""]
["",null,null,"00:00:00",{"$nulls":15},{"$f":"IF(OR(D2283=0,P2283=Presets!$C$67),\"\",IF(S2283=0,ROUNDDOWN(NOW()-'Registry Full'!D2283,0),S2283-D2283))","v":""},{"$nulls":5},""]
["",null,null,"00:00:00",{"$nulls":15},{"$f":"IF(OR(D2284=0,P2284=Presets!$C$67),\"\",IF(S2284=0,ROUNDDOWN(NOW()-'Registry Full'!D2284,0),S2284-D2284))","v":""},{"$nulls":5},""]
["",null,null,"00:00:00",{"$nulls":15},{"$f":"IF(OR(D2285=0,P2285=Presets!$C$67),\"\",IF(S2285=0,ROUNDDOWN(NOW()-'Registry Full'!D2285,0),S2285-D2285))","v":""},{"$nulls":5},""]
["",null,null,"00:00:00",{"$nulls":15},{"$f":"IF(OR(D2286=0,P2286=Presets!$C$67),\"\",IF(S2286=0,ROUNDDOWN(NOW()-'Registry Full'!D2286,0),S2286-D2286))","v":""},{"$nulls":5},""]
["",null,null,"00:00:00",{"$nulls":15},{"$f":"IF(OR(D2287=0,P2287=Presets!$C$67),\"\",IF(S2287=0,ROUNDDOWN(NOW()-'Registry Full'!D2287,0),S2287-D2287))","v":""},{"$nulls":5},""]
["",null,null,"00:00:00",{"$nulls":15},{"$f":"IF(OR(D2288=0,P2288=Presets!$C$67),\"\",IF(S2288=0,ROUNDDOWN(NOW()-'Registry Full'!D2288,0),S2288-D2288))","v":""},{"$nulls":5},""]
["",null,null,"00:00:00",{"$nulls":15},{"$f":"IF(OR(D2289=0,P2289=Presets!$C$67),\"\",IF(S2289=0,ROUNDDOWN(NOW()-'Registry Full'!D2289,0),S2289-D2289))","v":""},{"$nulls":5},""]
["",null,null,"00:00:00",{"$nulls":15},{"$f":"IF(OR(D2290=0,P2290=Presets!$C$67),\"\",IF(S2290=0,ROUNDDOWN(NOW()-'Registry Full'!D2290,0),S2290-D2290))","v":""},{"$nulls":5},""]
["",null,null,"00:00:00",{"$nulls":15},{"$f":"IF(OR(D2291=0,P2291=Presets!$C$67),\"\",IF(S2291=0,ROUNDDOWN(NOW()-'Registry Full'!D2291,0),S2291-D2291))","v":""},{"$nulls":5},""]
["",null,null,"00:00:00",{"$nulls":15},{"$f":"IF(OR(D2292=0,P2292=Presets!$C$67),\"\",IF(S2292=0,ROUNDDOWN(NOW()-'Registry Full'!D2292,0),S2292-D2292))","v":""},{"$nulls":5},""]
["",null,null,"00:00:00",{"$nulls":15},{"$f":"IF(OR(D2293=0,P2293=Presets!$C$67),\"\",IF(S2293=0,ROUNDDOWN(NOW()-'Registry Full'!D2293,0),S2293-D2293))","v":""},{"$nulls":5},""]
["",null,null,"00:00:00",{"$nulls":15},{"$f":"IF(OR(D2294=0,P2294=Presets!$C$67),\"\",IF(S2294=0,ROUNDDOWN(NOW()-'Registry Full'!D2294,0),S2294-D2294))","v":""},{"$nulls":5},""]
["",null,null,"00:00:00",{"$nulls":15},{"$f":"IF(OR(D2295=0,P2295=Presets!$C$67),\"\",IF(S2295=0,ROUNDDOWN(NOW()-'Registry Full'!D2295,0),S2295-D2295))","v":""},{"$nulls":5},""]
["",null,null,"00:00:00",{"$nulls":15},{"$f":"IF(OR(D2296=0,P2296=Presets!$C$67),\"\",IF(S2296=0,ROUNDDOWN(NOW()-'Registry Full'!D2296,0),S2296-D2296))","v":""},{"$nulls":5},""]
["",null,null,"00:00:00",{"$nulls":15},{"$f":"IF(OR(D2297=0,P2297=Presets!$C$67),\"\",IF(S2297=0,ROUNDDOWN(NOW()-'Registry Full'!D2297,0),S2297-D2297))","v":""},{"$nulls":5},""]
["",null,null,"00:00:00",{"$nulls":15},{"$f":"IF(OR(D2298=0,P2298=Presets!$C$67),\"\",IF(S2298=0,ROUNDDOWN(NOW()-'Registry Full'!D2298,0),S2298-D2298))","v":""},{"$nulls":5},""]
["",null,null,"00:00:00",{"$nulls":15},{"$f":"IF(OR(D2299=0,P2299=Presets!$C$67),\"\",IF(S2299=0,ROUNDDOWN(NOW()-'Registry Full'!D2299,0),S2299-D2299))","v":""},{"$nulls":5},""]
["",null,null,"00:00:00",{"$nulls":15},{"$f":"IF(OR(D2300=0,P2300=Presets!$C$67),\"\",IF(S2300=0,ROUNDDOWN(NOW()-'Registry Full'!D2300,0),S2300-D2300))","v":""},{"$nulls":5},""]
["",null,null,"00:00:00",{"$nulls":15},{"$f":"IF(OR(D2301=0,P2301=Presets!$C$67),\"\",IF(S2301=0,ROUNDDOWN(NOW()-'Registry Full'!D2301,0),S2301-D2301))","v":""},{"$nulls":5},""]
["",null,null,"00:00:00",{"$nulls":15},{"$f":"IF(OR(D2302=0,P2302=Presets!$C$67),\"\",IF(S2302=0,ROUNDDOWN(NOW()-'Registry Full'!D2302,0),S2302-D2302))","v":""},{"$nulls":5},""]
["",null,null,"00:00:00",{"$nulls":15},{"$f":"IF(OR(D2303=0,P2303=Presets!$C$67),\"\",IF(S2303=0,ROUNDDOWN(NOW()-'Registry Full'!D2303,0),S2303-D2303))","v":""},{"$nulls":5},""]
["",null,null,"00:00:00",{"$nulls":15},{"$f":"IF(OR(D2304=0,P2304=Presets!$C$67),\"\",IF(S2304=0,ROUNDDOWN(NOW()-'Registry Full'!D2304,0),S2304-D2304))","v":""},{"$nulls":5},""]
["",null,null,"00:00:00",{"$nulls":15},{"$f":"IF(OR(D2305=0,P2305=Presets!$C$67),\"\",IF(S2305=0,ROUNDDOWN(NOW()-'Registry Full'!D2305,0),S2305-D2305))","v":""},{"$nulls":5},""]
["",null,null,"00:00:00",{"$nulls":15},{"$f":"IF(OR(D2306=0,P2306=Presets!$C$67),\"\",IF(S2306=0,ROUNDDOWN(NOW()-'Registry Full'!D2306,0),S2306-D2306))","v":""},{"$nulls":5},""]
["",null,null,"00:00:00",{"$nulls":15},{"$f":"IF(OR(D2307=0,P2307=Presets!$C$67),\"\",IF(S2307=0,ROUNDDOWN(NOW()-'Registry Full'!D2307,0),S2307-D2307))","v":""},{"$nulls":5},""]
["",null,null,"00:00:00",{"$nulls":15},{"$f":"IF(OR(D2308=0,P2308=Presets!$C$67),\"\",IF(S2308=0,ROUNDDOWN(NOW()-'Registry Full'!D2308,0),S2308-D2308))","v":""},{"$nulls":5},""]
["",null,null,"00:00:00",{"$nulls":15},{"$f":"IF(OR(D2309=0,P2309=Presets!$C$67),\"\",IF(S2309=0,ROUNDDOWN(NOW()-'Registry Full'!D2309,0),S2309-D2309))","v":""},{"$nulls":5},""]
["",null,null,{"$f":"IF(C2310=\"\",0,VALUE(RIGHT(C2310,LEN(C2310)-FIND(\"/\",C2310,LEN(C2310)-10))))","v":"00:00:00"},{"$nulls":15},{"$f":"IF(OR(D2310=0,P2310=Presets!$C$67),\"\",IF(S2310=0,ROUNDDOWN(NOW()-'Registry Full'!D2310,0),S2310-D2310))","v":""},{"$nulls":5},""]
["",null,null,"00:00:00",{"$nulls":15},{"$f":"IF(OR(D2311=0,P2311=Presets!$C$67),\"\",IF(S2311=0,ROUNDDOWN(NOW()-'Registry Full'!D2311,0),S2311-D2311))","v":""},{"$nulls":5},{"$f":"IF(OR(D2311=0,Y2311=0),\"\",Y2311-D2311)","v":""}]
["",null,null,"00:00:00",{"$nulls":15},{"$f":"IF(OR(D2312=0,P2312=Presets!$C$67),\"\",IF(S2312=0,ROUNDDOWN(NOW()-'Registry Full'!D2312,0),S2312-D2312))","v":""},{"$nulls":5},""]
["",null,null,"00:00:00",{"$nulls":15},{"$f":"IF(OR(D2313=0,P2313=Presets!$C$67),\"\",IF(S2313=0,ROUNDDOWN(NOW()-'Registry Full'!D2313,0),S2313-D2313))","v":""},{"$nulls":5},""]
["",null,null,"00:00:00",{"$nulls":15},{"$f":"IF(OR(D2314=0,P2314=Presets!$C$67),\"\",IF(S2314=0,ROUNDDOWN(NOW()-'Registry Full'!D2314,0),S2314-D2314))","v":""},{"$nulls":5},""]
["",null,null,"00:00:00",{"$nulls":15},{"$f":"IF(OR(D2315=0,P2315=Presets!$C$67),\"\",IF(S2315=0,ROUNDDOWN(NOW()-'Registry Full'!D2315,0),S2315-D2315))","v":""},{"$nulls":5},""]
["",null,null,"00:00:00",{"$nulls":15},{"$f":"IF(OR(D2316=0,P2316=Presets!$C$67),\"\",IF(S2316=0,ROUNDDOWN(NOW()-'Registry Full'!D2316,0),S2316-D2316))","v":""},{"$nulls":5},""]
["",null,null,"00:00:00",{"$nulls":15},{"$f":"IF(OR(D2317=0,P2317=Presets!$C$67),\"\",IF(S2317=0,ROUNDDOWN(NOW()-'Registry Full'!D2317,0),S2317-D2317))","v":""},{"$nulls":5},""]
["",null,null,"00:00:00",{"$nulls":15},{"$f":"IF(OR(D2318=0,P2318=Presets!$C$67),\"\",IF(S2318=0,ROUNDDOWN(NOW()-'Registry Full'!D2318,0),S2318-D2318))","v":""},{"$nulls":5},""]
["",null,null,"00:00:00",{"$nulls":15},{"$f":"IF(OR(D2319=0,P2319=Presets!$C$67),\"\",IF(S2319=0,ROUNDDOWN(NOW()-'Registry Full'!D2319,0),S2319-D2319))","v":""},{"$nulls":5},""]
["",null,null,"00:00:00",{"$nulls":15},{"$f":"IF(OR(D2320=0,P2320=Presets!$C$67),\"\",IF(S2320=0,ROUNDDOWN(NOW()-'Registry Full'!D2320,0),S2320-D2320))","v":""},{"$nulls":5},""]
["",null,null,"00:00:00",{"$nulls":15},{"$f":"IF(OR(D2321=0,P2321=Presets!$C$67),\"\",IF(S2321=0,ROUNDDOWN(NOW()-'Registry Full'!D2321,0),S2321-D2321))","v":""},{"$nulls":5},""]
["",null,null,"00:00:00",{"$nulls":15},{"$f":"IF(OR(D2322=0,P2322=Presets!$C$67),\"\",IF(S2322=0,ROUNDDOWN(NOW()-'Registry Full'!D2322,0),S2322-D2322))","v":""},{"$nulls":5},""]
["",null,null,"00:00:00",{"$nulls":15},{"$f":"IF(OR(D2323=0,P2323=Presets!$C$67),\"\",IF(S2323=0,ROUNDDOWN(NOW()-'Registry Full'!D2323,0),S2323-D2323))","v":""},{"$nulls":5},""]
["",null,null,"00:00:00",{"$nulls":15},{"$f":"IF(OR(D2324=0,P2324=Presets!$C$67),\"\",IF(S2324=0,ROUNDDOWN(NOW()-'Registry Full'!D2324,0),S2324-D2324))","v":""},{"$nulls":5},""]
["",null,null,"00:00:00",{"$nulls":15},{"$f":"IF(OR(D2325=0,P2325=Presets!$C$67),\"\",IF(S2325=0,ROUNDDOWN(NOW()-'Registry Full'!D2325,0),S2325-D2325))","v":""},{"$nulls":5},""]
["",null,null,"00:00:00",{"$nulls":15},{"$f":"IF(OR(D2326=0,P2326=Presets!$C$67),\"\",IF(S2326=0,ROUNDDOWN(NOW()-'Registry Full'!D2326,0),S2326-D2326))","v":""},{"$nulls":5},""]
[{"$f":"IF(COUNTA(B2327)<>0,A2326+1,\"\")","v":""},null,null,"00:00:00",{"$nulls":15},{"$f":"IF(OR(D2327=0,P2327=Presets!$C$67),\"\",IF(S2327=0,ROUNDDOWN(NOW()-'Registry Full'!D2327,0),S2327-D2327))","v":""},{"$nulls":5},""]
["",null,null,"00:00:00",{"$nulls":15},{"$f":"IF(OR(D2328=0,P2328=Presets!$C$67),\"\",IF(S2328=0,ROUNDDOWN(NOW()-'Registry Full'!D2328,0),S2328-D2328))","v":""},{"$nulls":5},""]
["",null,null,"00:00:00",{"$nulls":15},{"$f":"IF(OR(D2329=0,P2329=Presets!$C$67),\"\",IF(S2329=0,ROUNDDOWN(NOW()-'Registry Full'!D2329,0),S2329-D2329))","v":""},{"$nulls":5},""]
["",null,null,"00:00:00",{"$nulls":15},{"$f":"IF(OR(D2330=0,P2330=Presets!$C$67),\"\",IF(S2330=0,ROUNDDOWN(NOW()-'Registry Full'!D2330,0),S2330-D2330))","v":""},{"$nulls":5},""]
["",null,null,"00:00:00",{"$nulls":15},{"$f":"IF(OR(D2331=0,P2331=Presets!$C$67),\"\",IF(S2331=0,ROUNDDOWN(NOW()-'Registry Full'!D2331,0),S2331-D2331))","v":""},{"$nulls":5},""]
["",null,null,"00:00:00",{"$nulls":15},{"$f":"IF(OR(D2332=0,P2332=Presets!$C$67),\"\",IF(S2332=0,ROUNDDOWN(NOW()-'Registry Full'!D2332,0),S2332-D2332))","v":""},{"$nulls":5},""]
["",null,null,"00:00:00",{"$nulls":15},{"$f":"IF(OR(D2333=0,P2333=Presets!$C$67),\"\",IF(S2333=0,ROUNDDOWN(NOW()-'Registry Full'!D2333,0),S2333-D2333))","v":""},{"$nulls":5},""]
["",null,null,"00:00:00",{"$nulls":15},{"$f":"IF(OR(D2334=0,P2334=Presets!$C$67),\"\",IF(S2334=0,ROUNDDOWN(NOW()-'Registry Full'!D2334,0),S2334-D2334))","v":""},{"$nulls":5},""]
["",null,null,"00:00:00",{"$nulls":15},{"$f":"IF(OR(D2335=0,P2335=Presets!$C$67),\"\",IF(S2335=0,ROUNDDOWN(NOW()-'Registry Full'!D2335,0),S2335-D2335))","v":""},{"$nulls":5},""]
["",null,null,"00:00:00",{"$nulls":15},{"$f":"IF(OR(D2336=0,P2336=Presets!$C$67),\"\",IF(S2336=0,ROUNDDOWN(NOW()-'Registry Full'!D2336,0),S2336-D2336))","v":""},{"$nulls":5},""]
["",null,null,"00:00:00",{"$nulls":15},{"$f":"IF(OR(D2337=0,P2337=Presets!$C$67),\"\",IF(S2337=0,ROUNDDOWN(NOW()-'Registry Full'!D2337,0),S2337-D2337))","v":""},{"$nulls":5},""]
["",null,null,"00:00:00",{"$nulls":15},{"$f":"IF(OR(D2338=0,P2338=Presets!$C$67),\"\",IF(S2338=0,ROUNDDOWN(NOW()-'Registry Full'!D2338,0),S2338-D2338))","v":""},{"$nulls":5},""]
["",null,null,"00:00:00",{"$nulls":15},{"$f":"IF(OR(D2339=0,P2339=Presets!$C$67),\"\",IF(S2339=0,ROUNDDOWN(NOW()-'Registry Full'!D2339,0),S2339-D2339))","v":""},{"$nulls":5},""]
["",null,null,"00:00:00",{"$nulls":15},{"$f":"IF(OR(D2340=0,P2340=Presets!$C$67),\"\",IF(S2340=0,ROUNDDOWN(NOW()-'Registry Full'!D2340,0),S2340-D2340))","v":""},{"$nulls":5},""]
["",null,null,"00:00:00",{"$nulls":15},{"$f":"IF(OR(D2341=0,P2341=Presets!$C$67),\"\",IF(S2341=0,ROUNDDOWN(NOW()-'Registry Full'!D2341,0),S2341-D2341))","v":""},{"$nulls":5},""]
["",null,null,"00:00:00",{"$nulls":15},{"$f":"IF(OR(D2342=0,P2342=Presets!$C$67),\"\",IF(S2342=0,ROUNDDOWN(NOW()-'Registry Full'!D2342,0),S2342-D2342))","v":""},{"$nulls":5},""]
["",null,null,"00:00:00",{"$nulls":15},{"$f":"IF(OR(D2343=0,P2343=Presets!$C$67),\"\",IF(S2343=0,ROUNDDOWN(NOW()-'Registry Full'!D2343,0),S2343-D2343))","v":""},{"$nulls":5},""]
["",null,null,"00:00:00",{"$nulls":15},{"$f":"IF(OR(D2344=0,P2344=Presets!$C$67),\"\",IF(S2344=0,ROUNDDOWN(NOW()-'Registry Full'!D2344,0),S2344-D2344))","v":""},{"$nulls":5},""]
["",null,null,"00:00:00",{"$nulls":15},{"$f":"IF(OR(D2345=0,P2345=Presets!$C$67),\"\",IF(S2345=0,ROUNDDOWN(NOW()-'Registry Full'!D2345,0),S2345-D2345))","v":""},{"$nulls":5},""]
["",null,null,"00:00:00",{"$nulls":15},{"$f":"IF(OR(D2346=0,P2346=Presets!$C$67),\"\",IF(S2346=0,ROUNDDOWN(NOW()-'Registry Full'!D2346,0),S2346-D2346))","v":""},{"$nulls":5},""]
["",null,null,"00:00:00",{"$nulls":15},{"$f":"IF(OR(D2347=0,P2347=Presets!$C$67),\"\",IF(S2347=0,ROUNDDOWN(NOW()-'Registry Full'!D2347,0),S2347-D2347))","v":""},{"$nulls":5},""]
["",null,null,"00:00:00",{"$nulls":15},{"$f":"IF(OR(D2348=0,P2348=Presets!$C$67),\"\",IF(S2348=0,ROUNDDOWN(NOW()-'Registry Full'!D2348,0),S2348-D2348))","v":""},{"$nulls":5},""]
["",null,null,"00:00:00",{"$nulls":15},{"$f":"IF(OR(D2349=0,P2349=Presets!$C$67),\"\",IF(S2349=0,ROUNDDOWN(NOW()-'Registry Full'!D2349,0),S2349-D2349))","v":""},{"$nulls":5},""]
["",null,null,"00:00:00",{"$nulls":15},{"$f":"IF(OR(D2350=0,P2350=Presets!$C$67),\"\",IF(S2350=0,ROUNDDOWN(NOW()-'Registry Full'!D2350,0),S2350-D2350))","v":""},{"$nulls":5},""]
["",null,null,"00:00:00",{"$nulls":15},{"$f":"IF(OR(D2351=0,P2351=Presets!$C$67),\"\",IF(S2351=0,ROUNDDOWN(NOW()-'Registry Full'!D2351,0),S2351-D2351))","v":""},{"$nulls":5},""]
["",null,null,"00:00:00",{"$nulls":15},{"$f":"IF(OR(D2352=0,P2352=Presets!$C$67),\"\",IF(S2352=0,ROUNDDOWN(NOW()-'Registry Full'!D2352,0),S2352-D2352))","v":""},{"$nulls":5},""]
["",null,null,"00:00:00",{"$nulls":15},{"$f":"IF(OR(D2353=0,P2353=Presets!$C$67),\"\",IF(S2353=0,ROUNDDOWN(NOW()-'Registry Full'!D2353,0),S2353-D2353))","v":""},{"$nulls":5},""]
["",null,null,"00:00:00",{"$nulls":15},{"$f":"IF(OR(D2354=0,P2354=Presets!$C$67),\"\",IF(S2354=0,ROUNDDOWN(NOW()-'Registry Full'!D2354,0),S2354-D2354))","v":""},{"$nulls":5},""]
["",null,null,"00:00:00",{"$nulls":15},{"$f":"IF(OR(D2355=0,P2355=Presets!$C$67),\"\",IF(S2355=0,ROUNDDOWN(NOW()-'Registry Full'!D2355,0),S2355-D2355))","v":""},{"$nulls":5},""]
["",null,null,"00:00:00",{"$nulls":15},{"$f":"IF(OR(D2356=0,P2356=Presets!$C$67),\"\",IF(S2356=0,ROUNDDOWN(NOW()-'Registry Full'!D2356,0),S2356-D2356))","v":""},{"$nulls":5},""]
["",null,null,"00:00:00",{"$nulls":15},{"$f":"IF(OR(D2357=0,P2357=Presets!$C$67),\"\",IF(S2357=0,ROUNDDOWN(NOW()-'Registry Full'!D2357,0),S2357-D2357))","v":""},{"$nulls":5},""]
["",null,null,"00:00:00",{"$nulls":15},{"$f":"IF(OR(D2358=0,P2358=Presets!$C$67),\"\",IF(S2358=0,ROUNDDOWN(NOW()-'Registry Full'!D2358,0),S2358-D2358))","v":""},{"$nulls":5},""]
["",null,null,"00:00:00",{"$nulls":15},{"$f":"IF(OR(D2359=0,P2359=Presets!$C$67),\"\",IF(S2359=0,ROUNDDOWN(NOW()-'Registry Full'!D2359,0),S2359-D2359))","v":""},{"$nulls":5},""]
["",null,null,"00:00:00",{"$nulls":15},{"$f":"IF(OR(D2360=0,P2360=Presets!$C$67),\"\",IF(S2360=0,ROUNDDOWN(NOW()-'Registry Full'!D2360,0),S2360-D2360))","v":""},{"$nulls":5},""]
["",null,null,"00:00:00",{"$nulls":15},{"$f":"IF(OR(D2361=0,P2361=Presets!$C$67),\"\",IF(S2361=0,ROUNDDOWN(NOW()-'Registry Full'!D2361,0),S2361-D2361))","v":""},{"$nulls":5},""]
["",null,null,"00:00:00",{"$nulls":15},{"$f":"IF(OR(D2362=0,P2362=Presets!$C$67),\"\",IF(S2362=0,ROUNDDOWN(NOW()-'Registry Full'!D2362,0),S2362-D2362))","v":""},{"$nulls":5},""]
["",null,null,"00:00:00",{"$nulls":15},{"$f":"IF(OR(D2363=0,P2363=Presets!$C$67),\"\",IF(S2363=0,ROUNDDOWN(NOW()-'Registry Full'!D2363,0),S2363-D2363))","v":""},{"$nulls":5},""]
["",null,null,"00:00:00",{"$nulls":15},{"$f":"IF(OR(D2364=0,P2364=Presets!$C$67),\"\",IF(S2364=0,ROUNDDOWN(NOW()-'Registry Full'!D2364,0),S2364-D2364))","v":""},{"$nulls":5},""]
["",null,null,"00:00:00",{"$nulls":15},{"$f":"IF(OR(D2365=0,P2365=Presets!$C$67),\"\",IF(S2365=0,ROUNDDOWN(NOW()-'Registry Full'!D2365,0),S2365-D2365))","v":""},{"$nulls":5},""]
["",null,null,"00:00:00",{"$nulls":15},{"$f":"IF(OR(D2366=0,P2366=Presets!$C$67),\"\",IF(S2366=0,ROUNDDOWN(NOW()-'Registry Full'!D2366,0),S2366-D2366))","v":""},{"$nulls":5},""]
["",null,null,"00:00:00",{"$nulls":15},{"$f":"IF(OR(D2367=0,P2367=Presets!$C$67),\"\",IF(S2367=0,ROUNDDOWN(NOW()-'Registry Full'!D2367,0),S2367-D2367))","v":""},{"$nulls":5},""]
["",null,null,"00:00:00",{"$nulls":15},{"$f":"IF(OR(D2368=0,P2368=Presets!$C$67),\"\",IF(S2368=0,ROUNDDOWN(NOW()-'Registry Full'!D2368,0),S2368-D2368))","v":""},{"$nulls":5},""]
["",null,null,"00:00:00",{"$nulls":15},{"$f":"IF(OR(D2369=0,P2369=Presets!$C$67),\"\",IF(S2369=0,ROUNDDOWN(NOW()-'Registry Full'!D2369,0),S2369-D2369))","v":""},{"$nulls":5},""]
["",null,null,"00:00:00",{"$nulls":15},{"$f":"IF(OR(D2370=0,P2370=Presets!$C$67),\"\",IF(S2370=0,ROUNDDOWN(NOW()-'Registry Full'!D2370,0),S2370-D2370))","v":""},{"$nulls":5},""]
["",null,null,"00:00:00",{"$nulls":15},{"$f":"IF(OR(D2371=0,P2371=Presets!$C$67),\"\",IF(S2371=0,ROUNDDOWN(NOW()-'Registry Full'!D2371,0),S2371-D2371))","v":""},{"$nulls":5},""]
["",null,null,"00:00:00",{"$nulls":15},{"$f":"IF(OR(D2372=0,P2372=Presets!$C$67),\"\",IF(S2372=0,ROUNDDOWN(NOW()-'Registry Full'!D2372,0),S2372-D2372))","v":""},{"$nulls":5},""]
["",null,null,"00:00:00",{"$nulls":15},{"$f":"IF(OR(D2373=0,P2373=Presets!$C$67),\"\",IF(S2373=0,ROUNDDOWN(NOW()-'Registry Full'!D2373,0),S2373-D2373))","v":""},{"$nulls":5},""]
["",null,null,{"$f":"IF(C2374=\"\",0,VALUE(RIGHT(C2374,LEN(C2374)-FIND(\"/\",C2374,LEN(C2374)-10))))","v":"00:00:00"},{"$nulls":15},{"$f":"IF(OR(D2374=0,P2374=Presets!$C$67),\"\",IF(S2374=0,ROUNDDOWN(NOW()-'Registry Full'!D2374,0),S2374-D2374))","v":""},{"$nulls":5},""]
["",null,null,"00:00:00",{"$nulls":15},{"$f":"IF(OR(D2375=0,P2375=Presets!$C$67),\"\",IF(S2375=0,ROUNDDOWN(NOW()-'Registry Full'!D2375,0),S2375-D2375))","v":""},{"$nulls":5},{"$f":"IF(OR(D2375=0,Y2375=0),\"\",Y2375-D2375)","v":""}]
["",null,null,"00:00:00",{"$nulls":15},{"$f":"IF(OR(D2376=0,P2376=Presets!$C$67),\"\",IF(S2376=0,ROUNDDOWN(NOW()-'Registry Full'!D2376,0),S2376-D2376))","v":""},{"$nulls":5},""]
["",null,null,"00:00:00",{"$nulls":15},{"$f":"IF(OR(D2377=0,P2377=Presets!$C$67),\"\",IF(S2377=0,ROUNDDOWN(NOW()-'Registry Full'!D2377,0),S2377-D2377))","v":""},{"$nulls":5},""]
["",null,null,"00:00:00",{"$nulls":15},{"$f":"IF(OR(D2378=0,P2378=Presets!$C$67),\"\",IF(S2378=0,ROUNDDOWN(NOW()-'Registry Full'!D2378,0),S2378-D2378))","v":""},{"$nulls":5},""]
["",null,null,"00:00:00",{"$nulls":15},{"$f":"IF(OR(D2379=0,P2379=Presets!$C$67),\"\",IF(S2379=0,ROUNDDOWN(NOW()-'Registry Full'!D2379,0),S2379-D2379))","v":""},{"$nulls":5},""]
["",null,null,"00:00:00",{"$nulls":15},{"$f":"IF(OR(D2380=0,P2380=Presets!$C$67),\"\",IF(S2380=0,ROUNDDOWN(NOW()-'Registry Full'!D2380,0),S2380-D2380))","v":""},{"$nulls":5},""]
["",null,null,"00:00:00",{"$nulls":15},{"$f":"IF(OR(D2381=0,P2381=Presets!$C$67),\"\",IF(S2381=0,ROUNDDOWN(NOW()-'Registry Full'!D2381,0),S2381-D2381))","v":""},{"$nulls":5},""]
["",null,null,"00:00:00",{"$nulls":15},{"$f":"IF(OR(D2382=0,P2382=Presets!$C$67),\"\",IF(S2382=0,ROUNDDOWN(NOW()-'Registry Full'!D2382,0),S2382-D2382))","v":""},{"$nulls":5},""]
["",null,null,"00:00:00",{"$nulls":15},{"$f":"IF(OR(D2383=0,P2383=Presets!$C$67),\"\",IF(S2383=0,ROUNDDOWN(NOW()-'Registry Full'!D2383,0),S2383-D2383))","v":""},{"$nulls":5},""]
["",null,null,"00:00:00",{"$nulls":15},{"$f":"IF(OR(D2384=0,P2384=Presets!$C$67),\"\",IF(S2384=0,ROUNDDOWN(NOW()-'Registry Full'!D2384,0),S2384-D2384))","v":""},{"$nulls":5},""]
["",null,null,"00:00:00",{"$nulls":15},{"$f":"IF(OR(D2385=0,P2385=Presets!$C$67),\"\",IF(S2385=0,ROUNDDOWN(NOW()-'Registry Full'!D2385,0),S2385-D2385))","v":""},{"$nulls":5},""]
["",null,null,"00:00:00",{"$nulls":15},{"$f":"IF(OR(D2386=0,P2386=Presets!$C$67),\"\",IF(S2386=0,ROUNDDOWN(NOW()-'Registry Full'!D2386,0),S2386-D2386))","v":""},{"$nulls":5},""]
["",null,null,"00:00:00",{"$nulls":15},{"$f":"IF(OR(D2387=0,P2387=Presets!$C$67),\"\",IF(S2387=0,ROUNDDOWN(NOW()-'Registry Full'!D2387,0),S2387-D2387))","v":""},{"$nulls":5},""]
["",null,null,"00:00:00",{"$nulls":15},{"$f":"IF(OR(D2388=0,P2388=Presets!$C$67),\"\",IF(S2388=0,ROUNDDOWN(NOW()-'Registry Full'!D2388,0),S2388-D2388))","v":""},{"$nulls":5},""]
["",null,null,"00:00:00",{"$nulls":15},{"$f":"IF(OR(D2389=0,P2389=Presets!$C$67),\"\",IF(S2389=0,ROUNDDOWN(NOW()-'Registry Full'!D2389,0),S2389-D2389))","v":""},{"$nulls":5},""]
["",null,null,"00:00:00",{"$nulls":15},{"$f":"IF(OR(D2390=0,P2390=Presets!$C$67),\"\",IF(S2390=0,ROUNDDOWN(NOW()-'Registry Full'!D2390,0),S2390-D2390))","v":""},{"$nulls":5},""]
[{"$f":"IF(COUNTA(B2391)<>0,A2390+1,\"\")","v":""},null,null,"00:00:00",{"$nulls":15},{"$f":"IF(OR(D2391=0,P2391=Presets!$C$67),\"\",IF(S2391=0,ROUNDDOWN(NOW()-'Registry Full'!D2391,0),S2391-D2391))","v":""},{"$nulls":5},""]
["",null,null,"00:00:00",{"$nulls":15},{"$f":"IF(OR(D2392=0,P2392=Presets!$C$67),\"\",IF(S2392=0,ROUNDDOWN(NOW()-'Registry Full'!D2392,0),S2392-D2392))","v":""},{"$nulls":5},""]
["",null,null,"00:00:00",{"$nulls":15},{"$f":"IF(OR(D2393=0,P2393=Presets!$C$67),\"\",IF(S2393=0,ROUNDDOWN(NOW()-'Registry Full'!D2393,0),S2393-D2393))","v":""},{"$nulls":5},""]
["",null,null,"00:00:00",{"$nulls":15},{"$f":"IF(OR(D2394=0,P2394=Presets!$C$67),\"\",IF(S2394=0,ROUNDDOWN(NOW()-'Registry Full'!D2394,0),S2394-D2394))","v":""},{"$nulls":5},""]
["",null,null,"00:00:00",{"$nulls":15},{"$f":"IF(OR(D2395=0,P2395=Presets!$C$67),\"\",IF(S2395=0,ROUNDDOWN(NOW()-'Registry Full'!D2395,0),S2395-D2395))","v":""},{"$nulls":5},""]
["",null,null,"00:00:00",{"$nulls":15},{"$f":"IF(OR(D2396=0,P2396=Presets!$C$67),\"\",IF(S2396=0,ROUNDDOWN(NOW()-'Registry Full'!D2396,0),S2396-D2396))","v":""},{"$nulls":5},""]
["",null,null,"00:00:00",{"$nulls":15},{"$f":"IF(OR(D2397=0,P2397=Presets!$C$67),\"\",IF(S2397=0,ROUNDDOWN(NOW()-'Registry Full'!D2397,0),S2397-D2397))","v":""},{"$nulls":5},""]
["",null,null,"00:00:00",{"$nulls":15},{"$f":"IF(OR(D2398=0,P2398=Presets!$C$67),\"\",IF(S2398=0,ROUNDDOWN(NOW()-'Registry Full'!D2398,0),S2398-D2398))","v":""},{"$nulls":5},""]
["",null,null,"00:00:00",{"$nulls":15},{"$f":"IF(OR(D2399=0,P2399=Presets!$C$67),\"\",IF(S2399=0,ROUNDDOWN(NOW()-'Registry Full'!D2399,0),S2399-D2399))","v":""},{"$nulls":5},""]
["",null,null,"00:00:00",{"$nulls":15},{"$f":"IF(OR(D2400=0,P2400=Presets!$C$67),\"\",IF(S2400=0,ROUNDDOWN(NOW()-'Registry Full'!D2400,0),S2400-D2400))","v":""},{"$nulls":5},""]
["",null,null,"00:00:00",{"$nulls":15},{"$f":"IF(OR(D2401=0,P2401=Presets!$C$67),\"\",IF(S2401=0,ROUNDDOWN(NOW()-'Registry Full'!D2401,0),S2401-D2401))","v":""},{"$nulls":5},""]
["",null,null,"00:00:00",{"$nulls":15},{"$f":"IF(OR(D2402=0,P2402=Presets!$C$67),\"\",IF(S2402=0,ROUNDDOWN(NOW()-'Registry Full'!D2402,0),S2402-D2402))","v":""},{"$nulls":5},""]
["",null,null,"00:00:00",{"$nulls":15},{"$f":"IF(OR(D2403=0,P2403=Presets!$C$67),\"\",IF(S2403=0,ROUNDDOWN(NOW()-'Registry Full'!D2403,0),S2403-D2403))","v":""},{"$nulls":5},""]
["",null,null,"00:00:00",{"$nulls":15},{"$f":"IF(OR(D2404=0,P2404=Presets!$C$67),\"\",IF(S2404=0,ROUNDDOWN(NOW()-'Registry Full'!D2404,0),S2404-D2404))","v":""},{"$nulls":5},""]
["",null,null,"00:00:00",{"$nulls":15},{"$f":"IF(OR(D2405=0,P2405=Presets!$C$67),\"\",IF(S2405=0,ROUNDDOWN(NOW()-'Registry Full'!D2405,0),S2405-D2405))","v":""},{"$nulls":5},""]
["",null,null,"00:00:00",{"$nulls":15},{"$f":"IF(OR(D2406=0,P2406=Presets!$C$67),\"\",IF(S2406=0,ROUNDDOWN(NOW()-'Registry Full'!D2406,0),S2406-D2406))","v":""},{"$nulls":5},""]
["",null,null,"00:00:00",{"$nulls":15},{"$f":"IF(OR(D2407=0,P2407=Presets!$C$67),\"\",IF(S2407=0,ROUNDDOWN(NOW()-'Registry Full'!D2407,0),S2407-D2407))","v":""},{"$nulls":5},""]
["",null,null,"00:00:00",{"$nulls":15},{"$f":"IF(OR(D2408=0,P2408=Presets!$C$67),\"\",IF(S2408=0,ROUNDDOWN(NOW()-'Registry Full'!D2408,0),S2408-D2408))","v":""},{"$nulls":5},""]
["",null,null,"00:00:00",{"$nulls":15},{"$f":"IF(OR(D2409=0,P2409=Presets!$C$67),\"\",IF(S2409=0,ROUNDDOWN(NOW()-'Registry Full'!D2409,0),S2409-D2409))","v":""},{"$nulls":5},""]
["",null,null,"00:00:00",{"$nulls":15},{"$f":"IF(OR(D2410=0,P2410=Presets!$C$67),\"\",IF(S2410=0,ROUNDDOWN(NOW()-'Registry Full'!D2410,0),S2410-D2410))","v":""},{"$nulls":5},""]
["",null,null,"00:00:00",{"$nulls":15},{"$f":"IF(OR(D2411=0,P2411=Presets!$C$67),\"\",IF(S2411=0,ROUNDDOWN(NOW()-'Registry Full'!D2411,0),S2411-D2411))","v":""},{"$nulls":5},""]
["",null,null,"00:00:00",{"$nulls":15},{"$f":"IF(OR(D2412=0,P2412=Presets!$C$67),\"\",IF(S2412=0,ROUNDDOWN(NOW()-'Registry Full'!D2412,0),S2412-D2412))","v":""},{"$nulls":5},""]
["",null,null,"00:00:00",{"$nulls":15},{"$f":"IF(OR(D2413=0,P2413=Presets!$C$67),\"\",IF(S2413=0,ROUNDDOWN(NOW()-'Registry Full'!D2413,0),S2413-D2413))","v":""},{"$nulls":5},""]
["",null,null,"00:00:00",{"$nulls":15},{"$f":"IF(OR(D2414=0,P2414=Presets!$C$67),\"\",IF(S2414=0,ROUNDDOWN(NOW()-'Registry Full'!D2414,0),S2414-D2414))","v":""},{"$nulls":5},""]
["",null,null,"00:00:00",{"$nulls":15},{"$f":"IF(OR(D2415=0,P2415=Presets!$C$67),\"\",IF(S2415=0,ROUNDDOWN(NOW()-'Registry Full'!D2415,0),S2415-D2415))","v":""},{"$nulls":5},""]
["",null,null,"00:00:00",{"$nulls":15},{"$f":"IF(OR(D2416=0,P2416=Presets!$C$67),\"\",IF(S2416=0,ROUNDDOWN(NOW()-'Registry Full'!D2416,0),S2416-D2416))","v":""},{"$nulls":5},""]
["",null,null,"00:00:00",{"$nulls":15},{"$f":"IF(OR(D2417=0,P2417=Presets!$C$67),\"\",IF(S2417=0,ROUNDDOWN(NOW()-'Registry Full'!D2417,0),S2417-D2417))","v":""},{"$nulls":5},""]
["",null,null,"00:00:00",{"$nulls":15},{"$f":"IF(OR(D2418=0,P2418=Presets!$C$67),\"\",IF(S2418=0,ROUNDDOWN(NOW()-'Registry Full'!D2418,0),S2418-D2418))","v":""},{"$nulls":5},""]
["",null,null,"00:00:00",{"$nulls":15},{"$f":"IF(OR(D2419=0,P2419=Presets!$C$67),\"\",IF(S2419=0,ROUNDDOWN(NOW()-'Registry Full'!D2419,0),S2419-D2419))","v":""},{"$nulls":5},""]
["",null,null,"00:00:00",{"$nulls":15},{"$f":"IF(OR(D2420=0,P2420=Presets!$C$67),\"\",IF(S2420=0,ROUNDDOWN(NOW()-'Registry Full'!D2420,0),S2420-D2420))","v":""},{"$nulls":5},""]
["",null,null,"00:00:00",{"$nulls":15},{"$f":"IF(OR(D2421=0,P2421=Presets!$C$67),\"\",IF(S2421=0,ROUNDDOWN(NOW()-'Registry Full'!D2421,0),S2421-D2421))","v":""},{"$nulls":5},""]
["",null,null,"00:00:00",{"$nulls":15},{"$f":"IF(OR(D2422=0,P2422=Presets!$C$67),\"\",IF(S2422=0,ROUNDDOWN(NOW()-'Registry Full'!D2422,0),S2422-D2422))","v":""},{"$nulls":5},""]
["",null,null,"00:00:00",{"$nulls":15},{"$f":"IF(OR(D2423=0,P2423=Presets!$C$67),\"\",IF(S2423=0,ROUNDDOWN(NOW()-'Registry Full'!D2423,0),S2423-D2423))","v":""},{"$nulls":5},""]
["",null,null,"00:00:00",{"$nulls":15},{"$f":"IF(OR(D2424=0,P2424=Presets!$C$67),\"\",IF(S2424=0,ROUNDDOWN(NOW()-'Registry Full'!D2424,0),S2424-D2424))","v":""},{"$nulls":5},""]
["",null,null,"00:00:00",{"$nulls":15},{"$f":"IF(OR(D2425=0,P2425=Presets!$C$67),\"\",IF(S2425=0,ROUNDDOWN(NOW()-'Registry Full'!D2425,0),S2425-D2425))","v":""},{"$nulls":5},""]
["",null,null,"00:00:00",{"$nulls":15},{"$f":"IF(OR(D2426=0,P2426=Presets!$C$67),\"\",IF(S2426=0,ROUNDDOWN(NOW()-'Registry Full'!D2426,0),S2426-D2426))","v":""},{"$nulls":5},""]
["",null,null,"00:00:00",{"$nulls":15},{"$f":"IF(OR(D2427=0,P2427=Presets!$C$67),\"\",IF(S2427=0,ROUNDDOWN(NOW()-'Registry Full'!D2427,0),S2427-D2427))","v":""},{"$nulls":5},""]
["",null,null,"00:00:00",{"$nulls":15},{"$f":"IF(OR(D2428=0,P2428=Presets!$C$67),\"\",IF(S2428=0,ROUNDDOWN(NOW()-'Registry Full'!D2428,0),S2428-D2428))","v":""},{"$nulls":5},""]
["",null,null,"00:00:00",{"$nulls":15},{"$f":"IF(OR(D2429=0,P2429=Presets!$C$67),\"\",IF(S2429=0,ROUNDDOWN(NOW()-'Registry Full'!D2429,0),S2429-D2429))","v":""},{"$nulls":5},""]
["",null,null,"00:00:00",{"$nulls":15},{"$f":"IF(OR(D2430=0,P2430=Presets!$C$67),\"\",IF(S2430=0,ROUNDDOWN(NOW()-'Registry Full'!D2430,0),S2430-D2430))","v":""},{"$nulls":5},""]
["",null,null,"00:00:00",{"$nulls":15},{"$f":"IF(OR(D2431=0,P2431=Presets!$C$67),\"\",IF(S2431=0,ROUNDDOWN(NOW()-'Registry Full'!D2431,0),S2431-D2431))","v":""},{"$nulls":5},""]
["",null,null,"00:00:00",{"$nulls":15},{"$f":"IF(OR(D2432=0,P2432=Presets!$C$67),\"\",IF(S2432=0,ROUNDDOWN(NOW()-'Registry Full'!D2432,0),S2432-D2432))","v":""},{"$nulls":5},""]
["",null,null,"00:00:00",{"$nulls":15},{"$f":"IF(OR(D2433=0,P2433=Presets!$C$67),\"\",IF(S2433=0,ROUNDDOWN(NOW()-'Registry Full'!D2433,0),S2433-D2433))","v":""},{"$nulls":5},""]
["",null,null,"00:00:00",{"$nulls":15},{"$f":"IF(OR(D2434=0,P2434=Presets!$C$67),\"\",IF(S2434=0,ROUNDDOWN(NOW()-'Registry Full'!D2434,0),S2434-D2434))","v":""},{"$nulls":5},""]
["",null,null,"00:00:00",{"$nulls":15},{"$f":"IF(OR(D2435=0,P2435=Presets!$C$67),\"\",IF(S2435=0,ROUNDDOWN(NOW()-'Registry Full'!D2435,0),S2435-D2435))","v":""},{"$nulls":5},""]
["",null,null,"00:00:00",{"$nulls":15},{"$f":"IF(OR(D2436=0,P2436=Presets!$C$67),\"\",IF(S2436=0,ROUNDDOWN(NOW()-'Registry Full'!D2436,0),S2436-D2436))","v":""},{"$nulls":5},""]
["",null,null,"00:00:00",{"$nulls":15},{"$f":"IF(OR(D2437=0,P2437=Presets!$C$67),\"\",IF(S2437=0,ROUNDDOWN(NOW()-'Registry Full'!D2437,0),S2437-D2437))","v":""},{"$nulls":5},""]
["",null,null,{"$f":"IF(C2438=\"\",0,VALUE(RIGHT(C2438,LEN(C2438)-FIND(\"/\",C2438,LEN(C2438)-10))))","v":"00:00:00"},{"$nulls":15},{"$f":"IF(OR(D2438=0,P2438=Presets!$C$67),\"\",IF(S2438=0,ROUNDDOWN(NOW()-'Registry Full'!D2438,0),S2438-D2438))","v":""},{"$nulls":5},""]
["",null,null,"00:00:00",{"$nulls":15},{"$f":"IF(OR(D2439=0,P2439=Presets!$C$67),\"\",IF(S2439=0,ROUNDDOWN(NOW()-'Registry Full'!D2439,0),S2439-D2439))","v":""},{"$nulls":5},{"$f":"IF(OR(D2439=0,Y2439=0),\"\",Y2439-D2439)","v":""}]
["",null,null,"00:00:00",{"$nulls":15},{"$f":"IF(OR(D2440=0,P2440=Presets!$C$67),\"\",IF(S2440=0,ROUNDDOWN(NOW()-'Registry Full'!D2440,0),S2440-D2440))","v":""},{"$nulls":5},""]
["",null,null,"00:00:00",{"$nulls":15},{"$f":"IF(OR(D2441=0,P2441=Presets!$C$67),\"\",IF(S2441=0,ROUNDDOWN(NOW()-'Registry Full'!D2441,0),S2441-D2441))","v":""},{"$nulls":5},""]
["",null,null,"00:00:00",{"$nulls":15},{"$f":"IF(OR(D2442=0,P2442=Presets!$C$67),\"\",IF(S2442=0,ROUNDDOWN(NOW()-'Registry Full'!D2442,0),S2442-D2442))","v":""},{"$nulls":5},""]
["",null,null,"00:00:00",{"$nulls":15},{"$f":"IF(OR(D2443=0,P2443=Presets!$C$67),\"\",IF(S2443=0,ROUNDDOWN(NOW()-'Registry Full'!D2443,0),S2443-D2443))","v":""},{"$nulls":5},""]
["",null,null,"00:00:00",{"$nulls":15},{"$f":"IF(OR(D2444=0,P2444=Presets!$C$67),\"\",IF(S2444=0,ROUNDDOWN(NOW()-'Registry Full'!D2444,0),S2444-D2444))","v":""},{"$nulls":5},""]
["",null,null,"00:00:00",{"$nulls":15},{"$f":"IF(OR(D2445=0,P2445=Presets!$C$67),\"\",IF(S2445=0,ROUNDDOWN(NOW()-'Registry Full'!D2445,0),S2445-D2445))","v":""},{"$nulls":5},""]
["",null,null,"00:00:00",{"$nulls":15},{"$f":"IF(OR(D2446=0,P2446=Presets!$C$67),\"\",IF(S2446=0,ROUNDDOWN(NOW()-'Registry Full'!D2446,0),S2446-D2446))","v":""},{"$nulls":5},""]
["",null,null,"00:00:00",{"$nulls":15},{"$f":"IF(OR(D2447=0,P2447=Presets!$C$67),\"\",IF(S2447=0,ROUNDDOWN(NOW()-'Registry Full'!D2447,0),S2447-D2447))","v":""},{"$nulls":5},""]
["",null,null,"00:00:00",{"$nulls":15},{"$f":"IF(OR(D2448=0,P2448=Presets!$C$67),\"\",IF(S2448=0,ROUNDDOWN(NOW()-'Registry Full'!D2448,0),S2448-D2448))","v":""},{"$nulls":5},""]
["",null,null,"00:00:00",{"$nulls":15},{"$f":"IF(OR(D2449=0,P2449=Presets!$C$67),\"\",IF(S2449=0,ROUNDDOWN(NOW()-'Registry Full'!D2449,0),S2449-D2449))","v":""},{"$nulls":5},""]
["",null,null,"00:00:00",{"$nulls":15},{"$f":"IF(OR(D2450=0,P2450=Presets!$C$67),\"\",IF(S2450=0,ROUNDDOWN(NOW()-'Registry Full'!D2450,0),S2450-D2450))","v":""},{"$nulls":5},""]
["",null,null,"00:00:00",{"$nulls":15},{"$f":"IF(OR(D2451=0,P2451=Presets!$C$67),\"\",IF(S2451=0,ROUNDDOWN(NOW()-'Registry Full'!D2451,0),S2451-D2451))","v":""},{"$nulls":5},""]
["",null,null,"00:00:00",{"$nulls":15},{"$f":"IF(OR(D2452=0,P2452=Presets!$C$67),\"\",IF(S2452=0,ROUNDDOWN(NOW()-'Registry Full'!D2452,0),S2452-D2452))","v":""},{"$nulls":5},""]
["",null,null,"00:00:00",{"$nulls":15},{"$f":"IF(OR(D2453=0,P2453=Presets!$C$67),\"\",IF(S2453=0,ROUNDDOWN(NOW()-'Registry Full'!D2453,0),S2453-D2453))","v":""},{"$nulls":5},""]
["",null,null,"00:00:00",{"$nulls":15},{"$f":"IF(OR(D2454=0,P2454=Presets!$C$67),\"\",IF(S2454=0,ROUNDDOWN(NOW()-'Registry Full'!D2454,0),S2454-D2454))","v":""},{"$nulls":5},""]
[{"$f":"IF(COUNTA(B2455)<>0,A2454+1,\"\")","v":""},null,null,"00:00:00",{"$nulls":15},{"$f":"IF(OR(D2455=0,P2455=Presets!$C$67),\"\",IF(S2455=0,ROUNDDOWN(NOW()-'Registry Full'!D2455,0),S2455-D2455))","v":""},{"$nulls":5},""]
["",null,null,"00:00:00",{"$nulls":15},{"$f":"IF(OR(D2456=0,P2456=Presets!$C$67),\"\",IF(S2456=0,ROUNDDOWN(NOW()-'Registry Full'!D2456,0),S2456-D2456))","v":""},{"$nulls":5},""]
["",null,null,"00:00:00",{"$nulls":15},{"$f":"IF(OR(D2457=0,P2457=Presets!$C$67),\"\",IF(S2457=0,ROUNDDOWN(NOW()-'Registry Full'!D2457,0),S2457-D2457))","v":""},{"$nulls":5},""]
["",null,null,"00:00:00",{"$nulls":15},{"$f":"IF(OR(D2458=0,P2458=Presets!$C$67),\"\",IF(S2458=0,ROUNDDOWN(NOW()-'Registry Full'!D2458,0),S2458-D2458))","v":""},{"$nulls":5},""]
["",null,null,"00:00:00",{"$nulls":15},{"$f":"IF(OR(D2459=0,P2459=Presets!$C$67),\"\",IF(S2459=0,ROUNDDOWN(NOW()-'Registry Full'!D2459,0),S2459-D2459))","v":""},{"$nulls":5},""]
["",null,null,"00:00:00",{"$nulls":15},{"$f":"IF(OR(D2460=0,P2460=Presets!$C$67),\"\",IF(S2460=0,ROUNDDOWN(NOW()-'Registry Full'!D2460,0),S2460-D2460))","v":""},{"$nulls":5},""]
["",null,null,"00:00:00",{"$nulls":15},{"$f":"IF(OR(D2461=0,P2461=Presets!$C$67),\"\",IF(S2461=0,ROUNDDOWN(NOW()-'Registry Full'!D2461,0),S2461-D2461))","v":""},{"$nulls":5},""]
["",null,null,"00:00:00",{"$nulls":15},{"$f":"IF(OR(D2462=0,P2462=Presets!$C$67),\"\",IF(S2462=0,ROUNDDOWN(NOW()-'Registry Full'!D2462,0),S2462-D2462))","v":""},{"$nulls":5},""]
["",null,null,"00:00:00",{"$nulls":15},{"$f":"IF(OR(D2463=0,P2463=Presets!$C$67),\"\",IF(S2463=0,ROUNDDOWN(NOW()-'Registry Full'!D2463,0),S2463-D2463))","v":""},{"$nulls":5},""]
["",null,null,"00:00:00",{"$nulls":15},{"$f":"IF(OR(D2464=0,P2464=Presets!$C$67),\"\",IF(S2464=0,ROUNDDOWN(NOW()-'Registry Full'!D2464,0),S2464-D2464))","v":""},{"$nulls":5},""]
["",null,null,"00:00:00",{"$nulls":15},{"$f":"IF(OR(D2465=0,P2465=Presets!$C$67),\"\",IF(S2465=0,ROUNDDOWN(NOW()-'Registry Full'!D2465,0),S2465-D2465))","v":""},{"$nulls":5},""]
["",null,null,"00:00:00",{"$nulls":15},{"$f":"IF(OR(D2466=0,P2466=Presets!$C$67),\"\",IF(S2466=0,ROUNDDOWN(NOW()-'Registry Full'!D2466,0),S2466-D2466))","v":""},{"$nulls":5},""]
["",null,null,"00:00:00",{"$nulls":15},{"$f":"IF(OR(D2467=0,P2467=Presets!$C$67),\"\",IF(S2467=0,ROUNDDOWN(NOW()-'Registry Full'!D2467,0),S2467-D2467))","v":""},{"$nulls":5},""]
["",null,null,"00:00:00",{"$nulls":15},{"$f":"IF(OR(D2468=0,P2468=Presets!$C$67),\"\",IF(S2468=0,ROUNDDOWN(NOW()-'Registry Full'!D2468,0),S2468-D2468))","v":""},{"$nulls":5},""]
["",null,null,"00:00:00",{"$nulls":15},{"$f":"IF(OR(D2469=0,P2469=Presets!$C$67),\"\",IF(S2469=0,ROUNDDOWN(NOW()-'Registry Full'!D2469,0),S2469-D2469))","v":""},{"$nulls":5},""]
["",null,null,"00:00:00",{"$nulls":15},{"$f":"IF(OR(D2470=0,P2470=Presets!$C$67),\"\",IF(S2470=0,ROUNDDOWN(NOW()-'Registry Full'!D2470,0),S2470-D2470))","v":""},{"$nulls":5},""]
["",null,null,"00:00:00",{"$nulls":15},{"$f":"IF(OR(D2471=0,P2471=Presets!$C$67),\"\",IF(S2471=0,ROUNDDOWN(NOW()-'Registry Full'!D2471,0),S2471-D2471))","v":""},{"$nulls":5},""]
["",null,null,"00:00:00",{"$nulls":15},{"$f":"IF(OR(D2472=0,P2472=Presets!$C$67),\"\",IF(S2472=0,ROUNDDOWN(NOW()-'Registry Full'!D2472,0),S2472-D2472))","v":""},{"$nulls":5},""]
["",null,null,"00:00:00",{"$nulls":15},{"$f":"IF(OR(D2473=0,P2473=Presets!$C$67),\"\",IF(S2473=0,ROUNDDOWN(NOW()-'Registry Full'!D2473,0),S2473-D2473))","v":""},{"$nulls":5},""]
["",null,null,"00:00:00",{"$nulls":15},{"$f":"IF(OR(D2474=0,P2474=Presets!$C$67),\"\",IF(S2474=0,ROUNDDOWN(NOW()-'Registry Full'!D2474,0),S2474-D2474))","v":""},{"$nulls":5},""]
["",null,null,"00:00:00",{"$nulls":15},{"$f":"IF(OR(D2475=0,P2475=Presets!$C$67),\"\",IF(S2475=0,ROUNDDOWN(NOW()-'Registry Full'!D2475,0),S2475-D2475))","v":""},{"$nulls":5},""]
["",null,null,"00:00:00",{"$nulls":15},{"$f":"IF(OR(D2476=0,P2476=Presets!$C$67),\"\",IF(S2476=0,ROUNDDOWN(NOW()-'Registry Full'!D2476,0),S2476-D2476))","v":""},{"$nulls":5},""]
["",null,null,"00:00:00",{"$nulls":15},{"$f":"IF(OR(D2477=0,P2477=Presets!$C$67),\"\",IF(S2477=0,ROUNDDOWN(NOW()-'Registry Full'!D2477,0),S2477-D2477))","v":""},{"$nulls":5},""]
["",null,null,"00:00:00",{"$nulls":15},{"$f":"IF(OR(D2478=0,P2478=Presets!$C$67),\"\",IF(S2478=0,ROUNDDOWN(NOW()-'Registry Full'!D2478,0),S2478-D2478))","v":""},{"$nulls":5},""]
["",null,null,"00:00:00",{"$nulls":15},{"$f":"IF(OR(D2479=0,P2479=Presets!$C$67),\"\",IF(S2479=0,ROUNDDOWN(NOW()-'Registry Full'!D2479,0),S2479-D2479))","v":""},{"$nulls":5},""]
["",null,null,"00:00:00",{"$nulls":15},{"$f":"IF(OR(D2480=0,P2480=Presets!$C$67),\"\",IF(S2480=0,ROUNDDOWN(NOW()-'Registry Full'!D2480,0),S2480-D2480))","v":""},{"$nulls":5},""]
["",null,null,"00:00:00",{"$nulls":15},{"$f":"IF(OR(D2481=0,P2481=Presets!$C$67),\"\",IF(S2481=0,ROUNDDOWN(NOW()-'Registry Full'!D2481,0),S2481-D2481))","v":""},{"$nulls":5},""]
["",null,null,"00:00:00",{"$nulls":15},{"$f":"IF(OR(D2482=0,P2482=Presets!$C$67),\"\",IF(S2482=0,ROUNDDOWN(NOW()-'Registry Full'!D2482,0),S2482-D2482))","v":""},{"$nulls":5},""]
["",null,null,"00:00:00",{"$nulls":15},{"$f":"IF(OR(D2483=0,P2483=Presets!$C$67),\"\",IF(S2483=0,ROUNDDOWN(NOW()-'Registry Full'!D2483,0),S2483-D2483))","v":""},{"$nulls":5},""]
["",null,null,"00:00:00",{"$nulls":15},{"$f":"IF(OR(D2484=0,P2484=Presets!$C$67),\"\",IF(S2484=0,ROUNDDOWN(NOW()-'Registry Full'!D2484,0),S2484-D2484))","v":""},{"$nulls":5},""]
["",null,null,"00:00:00",{"$nulls":15},{"$f":"IF(OR(D2485=0,P2485=Presets!$C$67),\"\",IF(S2485=0,ROUNDDOWN(NOW()-'Registry Full'!D2485,0),S2485-D2485))","v":""},{"$nulls":5},""]
["",null,null,"00:00:00",{"$nulls":15},{"$f":"IF(OR(D2486=0,P2486=Presets!$C$67),\"\",IF(S2486=0,ROUNDDOWN(NOW()-'Registry Full'!D2486,0),S2486-D2486))","v":""},{"$nulls":5},""]
["",null,null,"00:00:00",{"$nulls":15},{"$f":"IF(OR(D2487=0,P2487=Presets!$C$67),\"\",IF(S2487=0,ROUNDDOWN(NOW()-'Registry Full'!D2487,0),S2487-D2487))","v":""},{"$nulls":5},""]
["",null,null,"00:00:00",{"$nulls":15},{"$f":"IF(OR(D2488=0,P2488=Presets!$C$67),\"\",IF(S2488=0,ROUNDDOWN(NOW()-'Registry Full'!D2488,0),S2488-D2488))","v":""},{"$nulls":5},""]
["",null,null,"00:00:00",{"$nulls":15},{"$f":"IF(OR(D2489=0,P2489=Presets!$C$67),\"\",IF(S2489=0,ROUNDDOWN(NOW()-'Registry Full'!D2489,0),S2489-D2489))","v":""},{"$nulls":5},""]
["",null,null,"00:00:00",{"$nulls":15},{"$f":"IF(OR(D2490=0,P2490=Presets!$C$67),\"\",IF(S2490=0,ROUNDDOWN(NOW()-'Registry Full'!D2490,0),S2490-D2490))","v":""},{"$nulls":5},""]
["",null,null,"00:00:00",{"$nulls":15},{"$f":"IF(OR(D2491=0,P2491=Presets!$C$67),\"\",IF(S2491=0,ROUNDDOWN(NOW()-'Registry Full'!D2491,0),S2491-D2491))","v":""},{"$nulls":5},""]
["",null,null,"00:00:00",{"$nulls":15},{"$f":"IF(OR(D2492=0,P2492=Presets!$C$67),\"\",IF(S2492=0,ROUNDDOWN(NOW()-'Registry Full'!D2492,0),S2492-D2492))","v":""},{"$nulls":5},""]
["",null,null,"00:00:00",{"$nulls":15},{"$f":"IF(OR(D2493=0,P2493=Presets!$C$67),\"\",IF(S2493=0,ROUNDDOWN(NOW()-'Registry Full'!D2493,0),S2493-D2493))","v":""},{"$nulls":5},""]
["",null,null,"00:00:00",{"$nulls":15},{"$f":"IF(OR(D2494=0,P2494=Presets!$C$67),\"\",IF(S2494=0,ROUNDDOWN(NOW()-'Registry Full'!D2494,0),S2494-D2494))","v":""},{"$nulls":5},""]
["",null,null,"00:00:00",{"$nulls":15},{"$f":"IF(OR(D2495=0,P2495=Presets!$C$67),\"\",IF(S2495=0,ROUNDDOWN(NOW()-'Registry Full'!D2495,0),S2495-D2495))","v":""},{"$nulls":5},""]
["",null,null,"00:00:00",{"$nulls":15},{"$f":"IF(OR(D2496=0,P2496=Presets!$C$67),\"\",IF(S2496=0,ROUNDDOWN(NOW()-'Registry Full'!D2496,0),S2496-D2496))","v":""},{"$nulls":5},""]
["",null,null,"00:00:00",{"$nulls":15},{"$f":"IF(OR(D2497=0,P2497=Presets!$C$67),\"\",IF(S2497=0,ROUNDDOWN(NOW()-'Registry Full'!D2497,0),S2497-D2497))","v":""},{"$nulls":5},""]
["",null,null,"00:00:00",{"$nulls":15},{"$f":"IF(OR(D2498=0,P2498=Presets!$C$67),\"\",IF(S2498=0,ROUNDDOWN(NOW()-'Registry Full'!D2498,0),S2498-D2498))","v":""},{"$nulls":5},""]
["",null,null,"00:00:00",{"$nulls":15},{"$f":"IF(OR(D2499=0,P2499=Presets!$C$67),\"\",IF(S2499=0,ROUNDDOWN(NOW()-'Registry Full'!D2499,0),S2499-D2499))","v":""},{"$nulls":5},""]
["",null,null,"00:00:00",{"$nulls":15},{"$f":"IF(OR(D2500=0,P2500=Presets!$C$67),\"\",IF(S2500=0,ROUNDDOWN(NOW()-'Registry Full'!D2500,0),S2500-D2500))","v":""},{"$nulls":5},""]
["",null,null,"00:00:00",{"$nulls":15},{"$f":"IF(OR(D2501=0,P2501=Presets!$C$67),\"\",IF(S2501=0,ROUNDDOWN(NOW()-'Registry Full'!D2501,0),S2501-D2501))","v":""},{"$nulls":5},""]
["",null,null,{"$f":"IF(C2502=\"\",0,VALUE(RIGHT(C2502,LEN(C2502)-FIND(\"/\",C2502,LEN(C2502)-10))))","v":"00:00:00"},{"$nulls":15},{"$f":"IF(OR(D2502=0,P2502=Presets!$C$67),\"\",IF(S2502=0,ROUNDDOWN(NOW()-'Registry Full'!D2502,0),S2502-D2502))","v":""},{"$nulls":5},""]
["",null,null,"00:00:00",{"$nulls":15},{"$f":"IF(OR(D2503=0,P2503=Presets!$C$67),\"\",IF(S2503=0,ROUNDDOWN(NOW()-'Registry Full'!D2503,0),S2503-D2503))","v":""},{"$nulls":5},{"$f":"IF(OR(D2503=0,Y2503=0),\"\",Y2503-D2503)","v":""}]
["",null,null,"00:00:00",{"$nulls":15},{"$f":"IF(OR(D2504=0,P2504=Presets!$C$67),\"\",IF(S2504=0,ROUNDDOWN(NOW()-'Registry Full'!D2504,0),S2504-D2504))","v":""},{"$nulls":5},""]
["",null,null,"00:00:00",{"$nulls":15},{"$f":"IF(OR(D2505=0,P2505=Presets!$C$67),\"\",IF(S2505=0,ROUNDDOWN(NOW()-'Registry Full'!D2505,0),S2505-D2505))","v":""},{"$nulls":5},""]
["",null,null,"00:00:00",{"$nulls":15},{"$f":"IF(OR(D2506=0,P2506=Presets!$C$67),\"\",IF(S2506=0,ROUNDDOWN(NOW()-'Registry Full'!D2506,0),S2506-D2506))","v":""},{"$nulls":5},""]
["",null,null,"00:00:00",{"$nulls":15},{"$f":"IF(OR(D2507=0,P2507=Presets!$C$67),\"\",IF(S2507=0,ROUNDDOWN(NOW()-'Registry Full'!D2507,0),S2507-D2507))","v":""},{"$nulls":5},""]
["",null,null,"00:00:00",{"$nulls":15},{"$f":"IF(OR(D2508=0,P2508=Presets!$C$67),\"\",IF(S2508=0,ROUNDDOWN(NOW()-'Registry Full'!D2508,0),S2508-D2508))","v":""},{"$nulls":5},""]
["",null,null,"00:00:00",{"$nulls":15},{"$f":"IF(OR(D2509=0,P2509=Presets!$C$67),\"\",IF(S2509=0,ROUNDDOWN(NOW()-'Registry Full'!D2509,0),S2509-D2509))","v":""},{"$nulls":5},""]
["",null,null,"00:00:00",{"$nulls":15},{"$f":"IF(OR(D2510=0,P2510=Presets!$C$67),\"\",IF(S2510=0,ROUNDDOWN(NOW()-'Registry Full'!D2510,0),S2510-D2510))","v":""},{"$nulls":5},""]
["",null,null,"00:00:00",{"$nulls":15},{"$f":"IF(OR(D2511=0,P2511=Presets!$C$67),\"\",IF(S2511=0,ROUNDDOWN(NOW()-'Registry Full'!D2511,0),S2511-D2511))","v":""},{"$nulls":5},""]
["",null,null,"00:00:00",{"$nulls":15},{"$f":"IF(OR(D2512=0,P2512=Presets!$C$67),\"\",IF(S2512=0,ROUNDDOWN(NOW()-'Registry Full'!D2512,0),S2512-D2512))","v":""},{"$nulls":5},""]
["",null,null,"00:00:00",{"$nulls":15},{"$f":"IF(OR(D2513=0,P2513=Presets!$C$67),\"\",IF(S2513=0,ROUNDDOWN(NOW()-'Registry Full'!D2513,0),S2513-D2513))","v":""},{"$nulls":5},""]
["",null,null,"00:00:00",{"$nulls":15},{"$f":"IF(OR(D2514=0,P2514=Presets!$C$67),\"\",IF(S2514=0,ROUNDDOWN(NOW()-'Registry Full'!D2514,0),S2514-D2514))","v":""},{"$nulls":5},""]
["",null,null,"00:00:00",{"$nulls":15},{"$f":"IF(OR(D2515=0,P2515=Presets!$C$67),\"\",IF(S2515=0,ROUNDDOWN(NOW()-'Registry Full'!D2515,0),S2515-D2515))","v":""},{"$nulls":5},""]
["",null,null,"00:00:00",{"$nulls":15},{"$f":"IF(OR(D2516=0,P2516=Presets!$C$67),\"\",IF(S2516=0,ROUNDDOWN(NOW()-'Registry Full'!D2516,0),S2516-D2516))","v":""},{"$nulls":5},""]
["",null,null,"00:00:00",{"$nulls":15},{"$f":"IF(OR(D2517=0,P2517=Presets!$C$67),\"\",IF(S2517=0,ROUNDDOWN(NOW()-'Registry Full'!D2517,0),S2517-D2517))","v":""},{"$nulls":5},""]
["",null,null,"00:00:00",{"$nulls":15},{"$f":"IF(OR(D2518=0,P2518=Presets!$C$67),\"\",IF(S2518=0,ROUNDDOWN(NOW()-'Registry Full'!D2518,0),S2518-D2518))","v":""},{"$nulls":5},""]
[{"$f":"IF(COUNTA(B2519)<>0,A2518+1,\"\")","v":""},null,null,"00:00:00",{"$nulls":15},{"$f":"IF(OR(D2519=0,P2519=Presets!$C$67),\"\",IF(S2519=0,ROUNDDOWN(NOW()-'Registry Full'!D2519,0),S2519-D2519))","v":""},{"$nulls":5},""]
["",null,null,"00:00:00",{"$nulls":15},{"$f":"IF(OR(D2520=0,P2520=Presets!$C$67),\"\",IF(S2520=0,ROUNDDOWN(NOW()-'Registry Full'!D2520,0),S2520-D2520))","v":""},{"$nulls":5},""]
["",null,null,"00:00:00",{"$nulls":15},{"$f":"IF(OR(D2521=0,P2521=Presets!$C$67),\"\",IF(S2521=0,ROUNDDOWN(NOW()-'Registry Full'!D2521,0),S2521-D2521))","v":""},{"$nulls":5},""]
["",null,null,"00:00:00",{"$nulls":15},{"$f":"IF(OR(D2522=0,P2522=Presets!$C$67),\"\",IF(S2522=0,ROUNDDOWN(NOW()-'Registry Full'!D2522,0),S2522-D2522))","v":""},{"$nulls":5},""]
["",null,null,"00:00:00",{"$nulls":15},{"$f":"IF(OR(D2523=0,P2523=Presets!$C$67),\"\",IF(S2523=0,ROUNDDOWN(NOW()-'Registry Full'!D2523,0),S2523-D2523))","v":""},{"$nulls":5},""]
["",null,null,"00:00:00",{"$nulls":15},{"$f":"IF(OR(D2524=0,P2524=Presets!$C$67),\"\",IF(S2524=0,ROUNDDOWN(NOW()-'Registry Full'!D2524,0),S2524-D2524))","v":""},{"$nulls":5},""]
["",null,null,"00:00:00",{"$nulls":15},{"$f":"IF(OR(D2525=0,P2525=Presets!$C$67),\"\",IF(S2525=0,ROUNDDOWN(NOW()-'Registry Full'!D2525,0),S2525-D2525))","v":""},{"$nulls":5},""]
["",null,null,"00:00:00",{"$nulls":15},{"$f":"IF(OR(D2526=0,P2526=Presets!$C$67),\"\",IF(S2526=0,ROUNDDOWN(NOW()-'Registry Full'!D2526,0),S2526-D2526))","v":""},{"$nulls":5},""]
["",null,null,"00:00:00",{"$nulls":15},{"$f":"IF(OR(D2527=0,P2527=Presets!$C$67),\"\",IF(S2527=0,ROUNDDOWN(NOW()-'Registry Full'!D2527,0),S2527-D2527))","v":""},{"$nulls":5},""]
["",null,null,"00:00:00",{"$nulls":15},{"$f":"IF(OR(D2528=0,P2528=Presets!$C$67),\"\",IF(S2528=0,ROUNDDOWN(NOW()-'Registry Full'!D2528,0),S2528-D2528))","v":""},{"$nulls":5},""]
["",null,null,"00:00:00",{"$nulls":15},{"$f":"IF(OR(D2529=0,P2529=Presets!$C$67),\"\",IF(S2529=0,ROUNDDOWN(NOW()-'Registry Full'!D2529,0),S2529-D2529))","v":""},{"$nulls":5},""]
["",null,null,"00:00:00",{"$nulls":15},{"$f":"IF(OR(D2530=0,P2530=Presets!$C$67),\"\",IF(S2530=0,ROUNDDOWN(NOW()-'Registry Full'!D2530,0),S2530-D2530))","v":""},{"$nulls":5},""]
["",null,null,"00:00:00",{"$nulls":15},{"$f":"IF(OR(D2531=0,P2531=Presets!$C$67),\"\",IF(S2531=0,ROUNDDOWN(NOW()-'Registry Full'!D2531,0),S2531-D2531))","v":""},{"$nulls":5},""]
["",null,null,"00:00:00",{"$nulls":15},{"$f":"IF(OR(D2532=0,P2532=Presets!$C$67),\"\",IF(S2532=0,ROUNDDOWN(NOW()-'Registry Full'!D2532,0),S2532-D2532))","v":""},{"$nulls":5},""]
["",null,null,"00:00:00",{"$nulls":15},{"$f":"IF(OR(D2533=0,P2533=Presets!$C$67),\"\",IF(S2533=0,ROUNDDOWN(NOW()-'Registry Full'!D2533,0),S2533-D2533))","v":""},{"$nulls":5},""]
["",null,null,"00:00:00",{"$nulls":15},{"$f":"IF(OR(D2534=0,P2534=Presets!$C$67),\"\",IF(S2534=0,ROUNDDOWN(NOW()-'Registry Full'!D2534,0),S2534-D2534))","v":""},{"$nulls":5},""]
["",null,null,"00:00:00",{"$nulls":15},{"$f":"IF(OR(D2535=0,P2535=Presets!$C$67),\"\",IF(S2535=0,ROUNDDOWN(NOW()-'Registry Full'!D2535,0),S2535-D2535))","v":""},{"$nulls":5},""]
["",null,null,"00:00:00",{"$nulls":15},{"$f":"IF(OR(D2536=0,P2536=Presets!$C$67),\"\",IF(S2536=0,ROUNDDOWN(NOW()-'Registry Full'!D2536,0),S2536-D2536))","v":""},{"$nulls":5},""]
["",null,null,"00:00:00",{"$nulls":15},{"$f":"IF(OR(D2537=0,P2537=Presets!$C$67),\"\",IF(S2537=0,ROUNDDOWN(NOW()-'Registry Full'!D2537,0),S2537-D2537))","v":""},{"$nulls":5},""]
["",null,null,"00:00:00",{"$nulls":15},{"$f":"IF(OR(D2538=0,P2538=Presets!$C$67),\"\",IF(S2538=0,ROUNDDOWN(NOW()-'Registry Full'!D2538,0),S2538-D2538))","v":""},{"$nulls":5},""]
["",null,null,"00:00:00",{"$nulls":15},{"$f":"IF(OR(D2539=0,P2539=Presets!$C$67),\"\",IF(S2539=0,ROUNDDOWN(NOW()-'Registry Full'!D2539,0),S2539-D2539))","v":""},{"$nulls":5},""]
["",null,null,"00:00:00",{"$nulls":15},{"$f":"IF(OR(D2540=0,P2540=Presets!$C$67),\"\",IF(S2540=0,ROUNDDOWN(NOW()-'Registry Full'!D2540,0),S2540-D2540))","v":""},{"$nulls":5},""]
["",null,null,"00:00:00",{"$nulls":15},{"$f":"IF(OR(D2541=0,P2541=Presets!$C$67),\"\",IF(S2541=0,ROUNDDOWN(NOW()-'Registry Full'!D2541,0),S2541-D2541))","v":""},{"$nulls":5},""]
["",null,null,"00:00:00",{"$nulls":15},{"$f":"IF(OR(D2542=0,P2542=Presets!$C$67),\"\",IF(S2542=0,ROUNDDOWN(NOW()-'Registry Full'!D2542,0),S2542-D2542))","v":""},{"$nulls":5},""]
["",null,null,"00:00:00",{"$nulls":15},{"$f":"IF(OR(D2543=0,P2543=Presets!$C$67),\"\",IF(S2543=0,ROUNDDOWN(NOW()-'Registry Full'!D2543,0),S2543-D2543))","v":""},{"$nulls":5},""]
["",null,null,"00:00:00",{"$nulls":15},{"$f":"IF(OR(D2544=0,P2544=Presets!$C$67),\"\",IF(S2544=0,ROUNDDOWN(NOW()-'Registry Full'!D2544,0),S2544-D2544))","v":""},{"$nulls":5},""]
["",null,null,"00:00:00",{"$nulls":15},{"$f":"IF(OR(D2545=0,P2545=Presets!$C$67),\"\",IF(S2545=0,ROUNDDOWN(NOW()-'Registry Full'!D2545,0),S2545-D2545))","v":""},{"$nulls":5},""]
["",null,null,"00:00:00",{"$nulls":15},{"$f":"IF(OR(D2546=0,P2546=Presets!$C$67),\"\",IF(S2546=0,ROUNDDOWN(NOW()-'Registry Full'!D2546,0),S2546-D2546))","v":""},{"$nulls":5},""]
["",null,null,"00:00:00",{"$nulls":15},{"$f":"IF(OR(D2547=0,P2547=Presets!$C$67),\"\",IF(S2547=0,ROUNDDOWN(NOW()-'Registry Full'!D2547,0),S2547-D2547))","v":""},{"$nulls":5},""]
["",null,null,"00:00:00",{"$nulls":15},{"$f":"IF(OR(D2548=0,P2548=Presets!$C$67),\"\",IF(S2548=0,ROUNDDOWN(NOW()-'Registry Full'!D2548,0),S2548-D2548))","v":""},{"$nulls":5},""]
["",null,null,"00:00:00",{"$nulls":15},{"$f":"IF(OR(D2549=0,P2549=Presets!$C$67),\"\",IF(S2549=0,ROUNDDOWN(NOW()-'Registry Full'!D2549,0),S2549-D2549))","v":""},{"$nulls":5},""]
["",null,null,"00:00:00",{"$nulls":15},{"$f":"IF(OR(D2550=0,P2550=Presets!$C$67),\"\",IF(S2550=0,ROUNDDOWN(NOW()-'Registry Full'!D2550,0),S2550-D2550))","v":""},{"$nulls":5},""]
["",null,null,"00:00:00",{"$nulls":15},{"$f":"IF(OR(D2551=0,P2551=Presets!$C$67),\"\",IF(S2551=0,ROUNDDOWN(NOW()-'Registry Full'!D2551,0),S2551-D2551))","v":""},{"$nulls":5},""]
["",null,null,"00:00:00",{"$nulls":15},{"$f":"IF(OR(D2552=0,P2552=Presets!$C$67),\"\",IF(S2552=0,ROUNDDOWN(NOW()-'Registry Full'!D2552,0),S2552-D2552))","v":""},{"$nulls":5},""]
["",null,null,"00:00:00",{"$nulls":15},{"$f":"IF(OR(D2553=0,P2553=Presets!$C$67),\"\",IF(S2553=0,ROUNDDOWN(NOW()-'Registry Full'!D2553,0),S2553-D2553))","v":""},{"$nulls":5},""]
["",null,null,"00:00:00",{"$nulls":15},{"$f":"IF(OR(D2554=0,P2554=Presets!$C$67),\"\",IF(S2554=0,ROUNDDOWN(NOW()-'Registry Full'!D2554,0),S2554-D2554))","v":""},{"$nulls":5},""]
["",null,null,"00:00:00",{"$nulls":15},{"$f":"IF(OR(D2555=0,P2555=Presets!$C$67),\"\",IF(S2555=0,ROUNDDOWN(NOW()-'Registry Full'!D2555,0),S2555-D2555))","v":""},{"$nulls":5},""]
["",null,null,"00:00:00",{"$nulls":15},{"$f":"IF(OR(D2556=0,P2556=Presets!$C$67),\"\",IF(S2556=0,ROUNDDOWN(NOW()-'Registry Full'!D2556,0),S2556-D2556))","v":""},{"$nulls":5},""]
["",null,null,"00:00:00",{"$nulls":15},{"$f":"IF(OR(D2557=0,P2557=Presets!$C$67),\"\",IF(S2557=0,ROUNDDOWN(NOW()-'Registry Full'!D2557,0),S2557-D2557))","v":""},{"$nulls":5},""]
["",null,null,"00:00:00",{"$nulls":15},{"$f":"IF(OR(D2558=0,P2558=Presets!$C$67),\"\",IF(S2558=0,ROUNDDOWN(NOW()-'Registry Full'!D2558,0),S2558-D2558))","v":""},{"$nulls":5},""]
["",null,null,"00:00:00",{"$nulls":15},{"$f":"IF(OR(D2559=0,P2559=Presets!$C$67),\"\",IF(S2559=0,ROUNDDOWN(NOW()-'Registry Full'!D2559,0),S2559-D2559))","v":""},{"$nulls":5},""]
["",null,null,"00:00:00",{"$nulls":15},{"$f":"IF(OR(D2560=0,P2560=Presets!$C$67),\"\",IF(S2560=0,ROUNDDOWN(NOW()-'Registry Full'!D2560,0),S2560-D2560))","v":""},{"$nulls":5},""]
["",null,null,"00:00:00",{"$nulls":15},{"$f":"IF(OR(D2561=0,P2561=Presets!$C$67),\"\",IF(S2561=0,ROUNDDOWN(NOW()-'Registry Full'!D2561,0),S2561-D2561))","v":""},{"$nulls":5},""]
["",null,null,"00:00:00",{"$nulls":15},{"$f":"IF(OR(D2562=0,P2562=Presets!$C$67),\"\",IF(S2562=0,ROUNDDOWN(NOW()-'Registry Full'!D2562,0),S2562-D2562))","v":""},{"$nulls":5},""]
["",null,null,"00:00:00",{"$nulls":15},{"$f":"IF(OR(D2563=0,P2563=Presets!$C$67),\"\",IF(S2563=0,ROUNDDOWN(NOW()-'Registry Full'!D2563,0),S2563-D2563))","v":""},{"$nulls":5},""]
["",null,null,"00:00:00",{"$nulls":15},{"$f":"IF(OR(D2564=0,P2564=Presets!$C$67),\"\",IF(S2564=0,ROUNDDOWN(NOW()-'Registry Full'!D2564,0),S2564-D2564))","v":""},{"$nulls":5},""]
["",null,null,"00:00:00",{"$nulls":15},{"$f":"IF(OR(D2565=0,P2565=Presets!$C$67),\"\",IF(S2565=0,ROUNDDOWN(NOW()-'Registry Full'!D2565,0),S2565-D2565))","v":""},{"$nulls":5},""]
["",null,null,{"$f":"IF(C2566=\"\",0,VALUE(RIGHT(C2566,LEN(C2566)-FIND(\"/\",C2566,LEN(C2566)-10))))","v":"00:00:00"},{"$nulls":15},{"$f":"IF(OR(D2566=0,P2566=Presets!$C$67),\"\",IF(S2566=0,ROUNDDOWN(NOW()-'Registry Full'!D2566,0),S2566-D2566))","v":""},{"$nulls":5},""]
["",null,null,"00:00:00",{"$nulls":15},{"$f":"IF(OR(D2567=0,P2567=Presets!$C$67),\"\",IF(S2567=0,ROUNDDOWN(NOW()-'Registry Full'!D2567,0),S2567-D2567))","v":""},{"$nulls":5},{"$f":"IF(OR(D2567=0,Y2567=0),\"\",Y2567-D2567)","v":""}]
["",null,null,"00:00:00",{"$nulls":15},{"$f":"IF(OR(D2568=0,P2568=Presets!$C$67),\"\",IF(S2568=0,ROUNDDOWN(NOW()-'Registry Full'!D2568,0),S2568-D2568))","v":""},{"$nulls":5},""]
["",null,null,"00:00:00",{"$nulls":15},{"$f":"IF(OR(D2569=0,P2569=Presets!$C$67),\"\",IF(S2569=0,ROUNDDOWN(NOW()-'Registry Full'!D2569,0),S2569-D2569))","v":""},{"$nulls":5},""]
["",null,null,"00:00:00",{"$nulls":15},{"$f":"IF(OR(D2570=0,P2570=Presets!$C$67),\"\",IF(S2570=0,ROUNDDOWN(NOW()-'Registry Full'!D2570,0),S2570-D2570))","v":""},{"$nulls":5},""]
["",null,null,"00:00:00",{"$nulls":15},{"$f":"IF(OR(D2571=0,P2571=Presets!$C$67),\"\",IF(S2571=0,ROUNDDOWN(NOW()-'Registry Full'!D2571,0),S2571-D2571))","v":""},{"$nulls":5},""]
["",null,null,"00:00:00",{"$nulls":15},{"$f":"IF(OR(D2572=0,P2572=Presets!$C$67),\"\",IF(S2572=0,ROUNDDOWN(NOW()-'Registry Full'!D2572,0),S2572-D2572))","v":""},{"$nulls":5},""]
["",null,null,"00:00:00",{"$nulls":15},{"$f":"IF(OR(D2573=0,P2573=Presets!$C$67),\"\",IF(S2573=0,ROUNDDOWN(NOW()-'Registry Full'!D2573,0),S2573-D2573))","v":""},{"$nulls":5},""]
["",null,null,"00:00:00",{"$nulls":15},{"$f":"IF(OR(D2574=0,P2574=Presets!$C$67),\"\",IF(S2574=0,ROUNDDOWN(NOW()-'Registry Full'!D2574,0),S2574-D2574))","v":""},{"$nulls":5},""]
["",null,null,"00:00:00",{"$nulls":15},{"$f":"IF(OR(D2575=0,P2575=Presets!$C$67),\"\",IF(S2575=0,ROUNDDOWN(NOW()-'Registry Full'!D2575,0),S2575-D2575))","v":""},{"$nulls":5},""]
["",null,null,"00:00:00",{"$nulls":15},{"$f":"IF(OR(D2576=0,P2576=Presets!$C$67),\"\",IF(S2576=0,ROUNDDOWN(NOW()-'Registry Full'!D2576,0),S2576-D2576))","v":""},{"$nulls":5},""]
["",null,null,"00:00:00",{"$nulls":15},{"$f":"IF(OR(D2577=0,P2577=Presets!$C$67),\"\",IF(S2577=0,ROUNDDOWN(NOW()-'Registry Full'!D2577,0),S2577-D2577))","v":""},{"$nulls":5},""]
["",null,null,"00:00:00",{"$nulls":15},{"$f":"IF(OR(D2578=0,P2578=Presets!$C$67),\"\",IF(S2578=0,ROUNDDOWN(NOW()-'Registry Full'!D2578,0),S2578-D2578))","v":""},{"$nulls":5},""]
["",null,null,"00:00:00",{"$nulls":15},{"$f":"IF(OR(D2579=0,P2579=Presets!$C$67),\"\",IF(S2579=0,ROUNDDOWN(NOW()-'Registry Full'!D2579,0),S2579-D2579))","v":""},{"$nulls":5},""]
["",null,null,"00:00:00",{"$nulls":15},{"$f":"IF(OR(D2580=0,P2580=Presets!$C$67),\"\",IF(S2580=0,ROUNDDOWN(NOW()-'Registry Full'!D2580,0),S2580-D2580))","v":""},{"$nulls":5},""]
["",null,null,"00:00:00",{"$nulls":15},{"$f":"IF(OR(D2581=0,P2581=Presets!$C$67),\"\",IF(S2581=0,ROUNDDOWN(NOW()-'Registry Full'!D2581,0),S2581-D2581))","v":""},{"$nulls":5},""]
["",null,null,"00:00:00",{"$nulls":15},{"$f":"IF(OR(D2582=0,P2582=Presets!$C$67),\"\",IF(S2582=0,ROUNDDOWN(NOW()-'Registry Full'!D2582,0),S2582-D2582))","v":""},{"$nulls":5},""]
[{"$f":"IF(COUNTA(B2583)<>0,A2582+1,\"\")","v":""},null,null,"00:00:00",{"$nulls":15},{"$f":"IF(OR(D2583=0,P2583=Presets!$C$67),\"\",IF(S2583=0,ROUNDDOWN(NOW()-'Registry Full'!D2583,0),S2583-D2583))","v":""},{"$nulls":5},""]
["",null,null,"00:00:00",{"$nulls":15},{"$f":"IF(OR(D2584=0,P2584=Presets!$C$67),\"\",IF(S2584=0,ROUNDDOWN(NOW()-'Registry Full'!D2584,0),S2584-D2584))","v":""},{"$nulls":5},""]
["",null,null,"00:00:00",{"$nulls":15},{"$f":"IF(OR(D2585=0,P2585=Presets!$C$67),\"\",IF(S2585=0,ROUNDDOWN(NOW()-'Registry Full'!D2585,0),S2585-D2585))","v":""},{"$nulls":5},""]
["",null,null,"00:00:00",{"$nulls":15},{"$f":"IF(OR(D2586=0,P2586=Presets!$C$67),\"\",IF(S2586=0,ROUNDDOWN(NOW()-'Registry Full'!D2586,0),S2586-D2586))","v":""},{"$nulls":5},""]
["",null,null,"00:00:00",{"$nulls":15},{"$f":"IF(OR(D2587=0,P2587=Presets!$C$67),\"\",IF(S2587=0,ROUNDDOWN(NOW()-'Registry Full'!D2587,0),S2587-D2587))","v":""},{"$nulls":5},""]
["",null,null,"00:00:00",{"$nulls":15},{"$f":"IF(OR(D2588=0,P2588=Presets!$C$67),\"\",IF(S2588=0,ROUNDDOWN(NOW()-'Registry Full'!D2588,0),S2588-D2588))","v":""},{"$nulls":5},""]
["",null,null,"00:00:00",{"$nulls":15},{"$f":"IF(OR(D2589=0,P2589=Presets!$C$67),\"\",IF(S2589=0,ROUNDDOWN(NOW()-'Registry Full'!D2589,0),S2589-D2589))","v":""},{"$nulls":5},""]
["",null,null,"00:00:00",{"$nulls":15},{"$f":"IF(OR(D2590=0,P2590=Presets!$C$67),\"\",IF(S2590=0,ROUNDDOWN(NOW()-'Registry Full'!D2590,0),S2590-D2590))","v":""},{"$nulls":5},""]
["",null,null,"00:00:00",{"$nulls":15},{"$f":"IF(OR(D2591=0,P2591=Presets!$C$67),\"\",IF(S2591=0,ROUNDDOWN(NOW()-'Registry Full'!D2591,0),S2591-D2591))","v":""},{"$nulls":5},""]
["",null,null,"00:00:00",{"$nulls":15},{"$f":"IF(OR(D2592=0,P2592=Presets!$C$67),\"\",IF(S2592=0,ROUNDDOWN(NOW()-'Registry Full'!D2592,0),S2592-D2592))","v":""},{"$nulls":5},""]
["",null,null,"00:00:00",{"$nulls":15},{"$f":"IF(OR(D2593=0,P2593=Presets!$C$67),\"\",IF(S2593=0,ROUNDDOWN(NOW()-'Registry Full'!D2593,0),S2593-D2593))","v":""},{"$nulls":5},""]
["",null,null,"00:00:00",{"$nulls":15},{"$f":"IF(OR(D2594=0,P2594=Presets!$C$67),\"\",IF(S2594=0,ROUNDDOWN(NOW()-'Registry Full'!D2594,0),S2594-D2594))","v":""},{"$nulls":5},""]
["",null,null,"00:00:00",{"$nulls":15},{"$f":"IF(OR(D2595=0,P2595=Presets!$C$67),\"\",IF(S2595=0,ROUNDDOWN(NOW()-'Registry Full'!D2595,0),S2595-D2595))","v":""},{"$nulls":5},""]
["",null,null,"00:00:00",{"$nulls":15},{"$f":"IF(OR(D2596=0,P2596=Presets!$C$67),\"\",IF(S2596=0,ROUNDDOWN(NOW()-'Registry Full'!D2596,0),S2596-D2596))","v":""},{"$nulls":5},""]
["",null,null,"00:00:00",{"$nulls":15},{"$f":"IF(OR(D2597=0,P2597=Presets!$C$67),\"\",IF(S2597=0,ROUNDDOWN(NOW()-'Registry Full'!D2597,0),S2597-D2597))","v":""},{"$nulls":5},""]
["",null,null,"00:00:00",{"$nulls":15},{"$f":"IF(OR(D2598=0,P2598=Presets!$C$67),\"\",IF(S2598=0,ROUNDDOWN(NOW()-'Registry Full'!D2598,0),S2598-D2598))","v":""},{"$nulls":5},""]
["",null,null,"00:00:00",{"$nulls":15},{"$f":"IF(OR(D2599=0,P2599=Presets!$C$67),\"\",IF(S2599=0,ROUNDDOWN(NOW()-'Registry Full'!D2599,0),S2599-D2599))","v":""},{"$nulls":5},""]
["",null,null,"00:00:00",{"$nulls":15},{"$f":"IF(OR(D2600=0,P2600=Presets!$C$67),\"\",IF(S2600=0,ROUNDDOWN(NOW()-'Registry Full'!D2600,0),S2600-D2600))","v":""},{"$nulls":5},""]
["",null,null,"00:00:00",{"$nulls":15},{"$f":"IF(OR(D2601=0,P2601=Presets!$C$67),\"\",IF(S2601=0,ROUNDDOWN(NOW()-'Registry Full'!D2601,0),S2601-D2601))","v":""},{"$nulls":5},""]
["",null,null,"00:00:00",{"$nulls":15},{"$f":"IF(OR(D2602=0,P2602=Presets!$C$67),\"\",IF(S2602=0,ROUNDDOWN(NOW()-'Registry Full'!D2602,0),S2602-D2602))","v":""},{"$nulls":5},""]
["",null,null,"00:00:00",{"$nulls":15},{"$f":"IF(OR(D2603=0,P2603=Presets!$C$67),\"\",IF(S2603=0,ROUNDDOWN(NOW()-'Registry Full'!D2603,0),S2603-D2603))","v":""},{"$nulls":5},""]
["",null,null,"00:00:00",{"$nulls":15},{"$f":"IF(OR(D2604=0,P2604=Presets!$C$67),\"\",IF(S2604=0,ROUNDDOWN(NOW()-'Registry Full'!D2604,0),S2604-D2604))","v":""},{"$nulls":5},""]
["",null,null,"00:00:00",{"$nulls":15},{"$f":"IF(OR(D2605=0,P2605=Presets!$C$67),\"\",IF(S2605=0,ROUNDDOWN(NOW()-'Registry Full'!D2605,0),S2605-D2605))","v":""},{"$nulls":5},""]
["",null,null,"00:00:00",{"$nulls":15},{"$f":"IF(OR(D2606=0,P2606=Presets!$C$67),\"\",IF(S2606=0,ROUNDDOWN(NOW()-'Registry Full'!D2606,0),S2606-D2606))","v":""},{"$nulls":5},""]
["",null,null,"00:00:00",{"$nulls":15},{"$f":"IF(OR(D2607=0,P2607=Presets!$C$67),\"\",IF(S2607=0,ROUNDDOWN(NOW()-'Registry Full'!D2607,0),S2607-D2607))","v":""},{"$nulls":5},""]
["",null,null,"00:00:00",{"$nulls":15},{"$f":"IF(OR(D2608=0,P2608=Presets!$C$67),\"\",IF(S2608=0,ROUNDDOWN(NOW()-'Registry Full'!D2608,0),S2608-D2608))","v":""},{"$nulls":5},""]
["",null,null,"00:00:00",{"$nulls":15},{"$f":"IF(OR(D2609=0,P2609=Presets!$C$67),\"\",IF(S2609=0,ROUNDDOWN(NOW()-'Registry Full'!D2609,0),S2609-D2609))","v":""},{"$nulls":5},""]
["",null,null,"00:00:00",{"$nulls":15},{"$f":"IF(OR(D2610=0,P2610=Presets!$C$67),\"\",IF(S2610=0,ROUNDDOWN(NOW()-'Registry Full'!D2610,0),S2610-D2610))","v":""},{"$nulls":5},""]
["",null,null,"00:00:00",{"$nulls":15},{"$f":"IF(OR(D2611=0,P2611=Presets!$C$67),\"\",IF(S2611=0,ROUNDDOWN(NOW()-'Registry Full'!D2611,0),S2611-D2611))","v":""},{"$nulls":5},""]
["",null,null,"00:00:00",{"$nulls":15},{"$f":"IF(OR(D2612=0,P2612=Presets!$C$67),\"\",IF(S2612=0,ROUNDDOWN(NOW()-'Registry Full'!D2612,0),S2612-D2612))","v":""},{"$nulls":5},""]
["",null,null,"00:00:00",{"$nulls":15},{"$f":"IF(OR(D2613=0,P2613=Presets!$C$67),\"\",IF(S2613=0,ROUNDDOWN(NOW()-'Registry Full'!D2613,0),S2613-D2613))","v":""},{"$nulls":5},""]
["",null,null,"00:00:00",{"$nulls":15},{"$f":"IF(OR(D2614=0,P2614=Presets!$C$67),\"\",IF(S2614=0,ROUNDDOWN(NOW()-'Registry Full'!D2614,0),S2614-D2614))","v":""},{"$nulls":5},""]
["",null,null,"00:00:00",{"$nulls":15},{"$f":"IF(OR(D2615=0,P2615=Presets!$C$67),\"\",IF(S2615=0,ROUNDDOWN(NOW()-'Registry Full'!D2615,0),S2615-D2615))","v":""},{"$nulls":5},""]
["",null,null,"00:00:00",{"$nulls":15},{"$f":"IF(OR(D2616=0,P2616=Presets!$C$67),\"\",IF(S2616=0,ROUNDDOWN(NOW()-'Registry Full'!D2616,0),S2616-D2616))","v":""},{"$nulls":5},""]
["",null,null,"00:00:00",{"$nulls":15},{"$f":"IF(OR(D2617=0,P2617=Presets!$C$67),\"\",IF(S2617=0,ROUNDDOWN(NOW()-'Registry Full'!D2617,0),S2617-D2617))","v":""},{"$nulls":5},""]
["",null,null,"00:00:00",{"$nulls":15},{"$f":"IF(OR(D2618=0,P2618=Presets!$C$67),\"\",IF(S2618=0,ROUNDDOWN(NOW()-'Registry Full'!D2618,0),S2618-D2618))","v":""},{"$nulls":5},""]
["",null,null,"00:00:00",{"$nulls":15},{"$f":"IF(OR(D2619=0,P2619=Presets!$C$67),\"\",IF(S2619=0,ROUNDDOWN(NOW()-'Registry Full'!D2619,0),S2619-D2619))","v":""},{"$nulls":5},""]
["",null,null,"00:00:00",{"$nulls":15},{"$f":"IF(OR(D2620=0,P2620=Presets!$C$67),\"\",IF(S2620=0,ROUNDDOWN(NOW()-'Registry Full'!D2620,0),S2620-D2620))","v":""},{"$nulls":5},""]
["",null,null,"00:00:00",{"$nulls":15},{"$f":"IF(OR(D2621=0,P2621=Presets!$C$67),\"\",IF(S2621=0,ROUNDDOWN(NOW()-'Registry Full'!D2621,0),S2621-D2621))","v":""},{"$nulls":5},""]
["",null,null,"00:00:00",{"$nulls":15},{"$f":"IF(OR(D2622=0,P2622=Presets!$C$67),\"\",IF(S2622=0,ROUNDDOWN(NOW()-'Registry Full'!D2622,0),S2622-D2622))","v":""},{"$nulls":5},""]
["",null,null,"00:00:00",{"$nulls":15},{"$f":"IF(OR(D2623=0,P2623=Presets!$C$67),\"\",IF(S2623=0,ROUNDDOWN(NOW()-'Registry Full'!D2623,0),S2623-D2623))","v":""},{"$nulls":5},""]
["",null,null,"00:00:00",{"$nulls":15},{"$f":"IF(OR(D2624=0,P2624=Presets!$C$67),\"\",IF(S2624=0,ROUNDDOWN(NOW()-'Registry Full'!D2624,0),S2624-D2624))","v":""},{"$nulls":5},""]
["",null,null,"00:00:00",{"$nulls":15},{"$f":"IF(OR(D2625=0,P2625=Presets!$C$67),\"\",IF(S2625=0,ROUNDDOWN(NOW()-'Registry Full'!D2625,0),S2625-D2625))","v":""},{"$nulls":5},""]
["",null,null,"00:00:00",{"$nulls":15},{"$f":"IF(OR(D2626=0,P2626=Presets!$C$67),\"\",IF(S2626=0,ROUNDDOWN(NOW()-'Registry Full'!D2626,0),S2626-D2626))","v":""},{"$nulls":5},""]
["",null,null,"00:00:00",{"$nulls":15},{"$f":"IF(OR(D2627=0,P2627=Presets!$C$67),\"\",IF(S2627=0,ROUNDDOWN(NOW()-'Registry Full'!D2627,0),S2627-D2627))","v":""},{"$nulls":5},""]
["",null,null,"00:00:00",{"$nulls":15},{"$f":"IF(OR(D2628=0,P2628=Presets!$C$67),\"\",IF(S2628=0,ROUNDDOWN(NOW()-'Registry Full'!D2628,0),S2628-D2628))","v":""},{"$nulls":5},""]
["",null,null,"00:00:00",{"$nulls":15},{"$f":"IF(OR(D2629=0,P2629=Presets!$C$67),\"\",IF(S2629=0,ROUNDDOWN(NOW()-'Registry Full'!D2629,0),S2629-D2629))","v":""},{"$nulls":5},""]
["",null,null,{"$f":"IF(C2630=\"\",0,VALUE(RIGHT(C2630,LEN(C2630)-FIND(\"/\",C2630,LEN(C2630)-10))))","v":"00:00:00"},{"$nulls":15},{"$f":"IF(OR(D2630=0,P2630=Presets!$C$67),\"\",IF(S2630=0,ROUNDDOWN(NOW()-'Registry Full'!D2630,0),S2630-D2630))","v":""},{"$nulls":5},""]
["",null,null,"00:00:00",{"$nulls":15},{"$f":"IF(OR(D2631=0,P2631=Presets!$C$67),\"\",IF(S2631=0,ROUNDDOWN(NOW()-'Registry Full'!D2631,0),S2631-D2631))","v":""},{"$nulls":5},{"$f":"IF(OR(D2631=0,Y2631=0),\"\",Y2631-D2631)","v":""}]
["",null,null,"00:00:00",{"$nulls":15},{"$f":"IF(OR(D2632=0,P2632=Presets!$C$67),\"\",IF(S2632=0,ROUNDDOWN(NOW()-'Registry Full'!D2632,0),S2632-D2632))","v":""},{"$nulls":5},""]
["",null,null,"00:00:00",{"$nulls":15},{"$f":"IF(OR(D2633=0,P2633=Presets!$C$67),\"\",IF(S2633=0,ROUNDDOWN(NOW()-'Registry Full'!D2633,0),S2633-D2633))","v":""},{"$nulls":5},""]
["",null,null,"00:00:00",{"$nulls":15},{"$f":"IF(OR(D2634=0,P2634=Presets!$C$67),\"\",IF(S2634=0,ROUNDDOWN(NOW()-'Registry Full'!D2634,0),S2634-D2634))","v":""},{"$nulls":5},""]
["",null,null,"00:00:00",{"$nulls":15},{"$f":"IF(OR(D2635=0,P2635=Presets!$C$67),\"\",IF(S2635=0,ROUNDDOWN(NOW()-'Registry Full'!D2635,0),S2635-D2635))","v":""},{"$nulls":5},""]
["",null,null,"00:00:00",{"$nulls":15},{"$f":"IF(OR(D2636=0,P2636=Presets!$C$67),\"\",IF(S2636=0,ROUNDDOWN(NOW()-'Registry Full'!D2636,0),S2636-D2636))","v":""},{"$nulls":5},""]
["",null,null,"00:00:00",{"$nulls":15},{"$f":"IF(OR(D2637=0,P2637=Presets!$C$67),\"\",IF(S2637=0,ROUNDDOWN(NOW()-'Registry Full'!D2637,0),S2637-D2637))","v":""},{"$nulls":5},""]
["",null,null,"00:00:00",{"$nulls":15},{"$f":"IF(OR(D2638=0,P2638=Presets!$C$67),\"\",IF(S2638=0,ROUNDDOWN(NOW()-'Registry Full'!D2638,0),S2638-D2638))","v":""},{"$nulls":5},""]
["",null,null,"00:00:00",{"$nulls":15},{"$f":"IF(OR(D2639=0,P2639=Presets!$C$67),\"\",IF(S2639=0,ROUNDDOWN(NOW()-'Registry Full'!D2639,0),S2639-D2639))","v":""},{"$nulls":5},""]
["",null,null,"00:00:00",{"$nulls":15},{"$f":"IF(OR(D2640=0,P2640=Presets!$C$67),\"\",IF(S2640=0,ROUNDDOWN(NOW()-'Registry Full'!D2640,0),S2640-D2640))","v":""},{"$nulls":5},""]
["",null,null,"00:00:00",{"$nulls":15},{"$f":"IF(OR(D2641=0,P2641=Presets!$C$67),\"\",IF(S2641=0,ROUNDDOWN(NOW()-'Registry Full'!D2641,0),S2641-D2641))","v":""},{"$nulls":5},""]
["",null,null,"00:00:00",{"$nulls":15},{"$f":"IF(OR(D2642=0,P2642=Presets!$C$67),\"\",IF(S2642=0,ROUNDDOWN(NOW()-'Registry Full'!D2642,0),S2642-D2642))","v":""},{"$nulls":5},""]
["",null,null,"00:00:00",{"$nulls":15},{"$f":"IF(OR(D2643=0,P2643=Presets!$C$67),\"\",IF(S2643=0,ROUNDDOWN(NOW()-'Registry Full'!D2643,0),S2643-D2643))","v":""},{"$nulls":5},""]
["",null,null,"00:00:00",{"$nulls":15},{"$f":"IF(OR(D2644=0,P2644=Presets!$C$67),\"\",IF(S2644=0,ROUNDDOWN(NOW()-'Registry Full'!D2644,0),S2644-D2644))","v":""},{"$nulls":5},""]
["",null,null,"00:00:00",{"$nulls":15},{"$f":"IF(OR(D2645=0,P2645=Presets!$C$67),\"\",IF(S2645=0,ROUNDDOWN(NOW()-'Registry Full'!D2645,0),S2645-D2645))","v":""},{"$nulls":5},""]
["",null,null,"00:00:00",{"$nulls":15},{"$f":"IF(OR(D2646=0,P2646=Presets!$C$67),\"\",IF(S2646=0,ROUNDDOWN(NOW()-'Registry Full'!D2646,0),S2646-D2646))","v":""},{"$nulls":5},""]
[{"$f":"IF(COUNTA(B2647)<>0,A2646+1,\"\")","v":""},null,null,"00:00:00",{"$nulls":15},{"$f":"IF(OR(D2647=0,P2647=Presets!$C$67),\"\",IF(S2647=0,ROUNDDOWN(NOW()-'Registry Full'!D2647,0),S2647-D2647))","v":""},{"$nulls":5},""]
["",null,null,"00:00:00",{"$nulls":15},{"$f":"IF(OR(D2648=0,P2648=Presets!$C$67),\"\",IF(S2648=0,ROUNDDOWN(NOW()-'Registry Full'!D2648,0),S2648-D2648))","v":""},{"$nulls":5},""]
["",null,null,"00:00:00",{"$nulls":15},{"$f":"IF(OR(D2649=0,P2649=Presets!$C$67),\"\",IF(S2649=0,ROUNDDOWN(NOW()-'Registry Full'!D2649,0),S2649-D2649))","v":""},{"$nulls":5},""]
["",null,null,"00:00:00",{"$nulls":15},{"$f":"IF(OR(D2650=0,P2650=Presets!$C$67),\"\",IF(S2650=0,ROUNDDOWN(NOW()-'Registry Full'!D2650,0),S2650-D2650))","v":""},{"$nulls":5},""]
["",null,null,"00:00:00",{"$nulls":15},{"$f":"IF(OR(D2651=0,P2651=Presets!$C$67),\"\",IF(S2651=0,ROUNDDOWN(NOW()-'Registry Full'!D2651,0),S2651-D2651))","v":""},{"$nulls":5},""]
["",null,null,"00:00:00",{"$nulls":15},{"$f":"IF(OR(D2652=0,P2652=Presets!$C$67),\"\",IF(S2652=0,ROUNDDOWN(NOW()-'Registry Full'!D2652,0),S2652-D2652))","v":""},{"$nulls":5},""]
["",null,null,"00:00:00",{"$nulls":15},{"$f":"IF(OR(D2653=0,P2653=Presets!$C$67),\"\",IF(S2653=0,ROUNDDOWN(NOW()-'Registry Full'!D2653,0),S2653-D2653))","v":""},{"$nulls":5},""]
["",null,null,"00:00:00",{"$nulls":15},{"$f":"IF(OR(D2654=0,P2654=Presets!$C$67),\"\",IF(S2654=0,ROUNDDOWN(NOW()-'Registry Full'!D2654,0),S2654-D2654))","v":""},{"$nulls":5},""]
["",null,null,"00:00:00",{"$nulls":15},{"$f":"IF(OR(D2655=0,P2655=Presets!$C$67),\"\",IF(S2655=0,ROUNDDOWN(NOW()-'Registry Full'!D2655,0),S2655-D2655))","v":""},{"$nulls":5},""]
["",null,null,"00:00:00",{"$nulls":15},{"$f":"IF(OR(D2656=0,P2656=Presets!$C$67),\"\",IF(S2656=0,ROUNDDOWN(NOW()-'Registry Full'!D2656,0),S2656-D2656))","v":""},{"$nulls":5},""]
["",null,null,"00:00:00",{"$nulls":15},{"$f":"IF(OR(D2657=0,P2657=Presets!$C$67),\"\",IF(S2657=0,ROUNDDOWN(NOW()-'Registry Full'!D2657,0),S2657-D2657))","v":""},{"$nulls":5},""]
["",null,null,"00:00:00",{"$nulls":15},{"$f":"IF(OR(D2658=0,P2658=Presets!$C$67),\"\",IF(S2658=0,ROUNDDOWN(NOW()-'Registry Full'!D2658,0),S2658-D2658))","v":""},{"$nulls":5},""]
["",null,null,"00:00:00",{"$nulls":15},{"$f":"IF(OR(D2659=0,P2659=Presets!$C$67),\"\",IF(S2659=0,ROUNDDOWN(NOW()-'Registry Full'!D2659,0),S2659-D2659))","v":""},{"$nulls":5},""]
["",null,null,"00:00:00",{"$nulls":15},{"$f":"IF(OR(D2660=0,P2660=Presets!$C$67),\"\",IF(S2660=0,ROUNDDOWN(NOW()-'Registry Full'!D2660,0),S2660-D2660))","v":""},{"$nulls":5},""]
["",null,null,"00:00:00",{"$nulls":15},{"$f":"IF(OR(D2661=0,P2661=Presets!$C$67),\"\",IF(S2661=0,ROUNDDOWN(NOW()-'Registry Full'!D2661,0),S2661-D2661))","v":""},{"$nulls":5},""]
["",null,null,"00:00:00",{"$nulls":15},{"$f":"IF(OR(D2662=0,P2662=Presets!$C$67),\"\",IF(S2662=0,ROUNDDOWN(NOW()-'Registry Full'!D2662,0),S2662-D2662))","v":""},{"$nulls":5},""]
["",null,null,"00:00:00",{"$nulls":15},{"$f":"IF(OR(D2663=0,P2663=Presets!$C$67),\"\",IF(S2663=0,ROUNDDOWN(NOW()-'Registry Full'!D2663,0),S2663-D2663))","v":""},{"$nulls":5},""]
["",null,null,"00:00:00",{"$nulls":15},{"$f":"IF(OR(D2664=0,P2664=Presets!$C$67),\"\",IF(S2664=0,ROUNDDOWN(NOW()-'Registry Full'!D2664,0),S2664-D2664))","v":""},{"$nulls":5},""]
["",null,null,"00:00:00",{"$nulls":15},{"$f":"IF(OR(D2665=0,P2665=Presets!$C$67),\"\",IF(S2665=0,ROUNDDOWN(NOW()-'Registry Full'!D2665,0),S2665-D2665))","v":""},{"$nulls":5},""]
["",null,null,"00:00:00",{"$nulls":15},{"$f":"IF(OR(D2666=0,P2666=Presets!$C$67),\"\",IF(S2666=0,ROUNDDOWN(NOW()-'Registry Full'!D2666,0),S2666-D2666))","v":""},{"$nulls":5},""]
["",null,null,"00:00:00",{"$nulls":15},{"$f":"IF(OR(D2667=0,P2667=Presets!$C$67),\"\",IF(S2667=0,ROUNDDOWN(NOW()-'Registry Full'!D2667,0),S2667-D2667))","v":""},{"$nulls":5},""]
["",null,null,"00:00:00",{"$nulls":15},{"$f":"IF(OR(D2668=0,P2668=Presets!$C$67),\"\",IF(S2668=0,ROUNDDOWN(NOW()-'Registry Full'!D2668,0),S2668-D2668))","v":""},{"$nulls":5},""]
["",null,null,"00:00:00",{"$nulls":15},{"$f":"IF(OR(D2669=0,P2669=Presets!$C$67),\"\",IF(S2669=0,ROUNDDOWN(NOW()-'Registry Full'!D2669,0),S2669-D2669))","v":""},{"$nulls":5},""]
["",null,null,"00:00:00",{"$nulls":15},{"$f":"IF(OR(D2670=0,P2670=Presets!$C$67),\"\",IF(S2670=0,ROUNDDOWN(NOW()-'Registry Full'!D2670,0),S2670-D2670))","v":""},{"$nulls":5},""]
["",null,null,"00:00:00",{"$nulls":15},{"$f":"IF(OR(D2671=0,P2671=Presets!$C$67),\"\",IF(S2671=0,ROUNDDOWN(NOW()-'Registry Full'!D2671,0),S2671-D2671))","v":""},{"$nulls":5},""]
["",null,null,"00:00:00",{"$nulls":15},{"$f":"IF(OR(D2672=0,P2672=Presets!$C$67),\"\",IF(S2672=0,ROUNDDOWN(NOW()-'Registry Full'!D2672,0),S2672-D2672))","v":""},{"$nulls":5},""]
["",null,null,"00:00:00",{"$nulls":15},{"$f":"IF(OR(D2673=0,P2673=Presets!$C$67),\"\",IF(S2673=0,ROUNDDOWN(NOW()-'Registry Full'!D2673,0),S2673-D2673))","v":""},{"$nulls":5},""]
["",null,null,"00:00:00",{"$nulls":15},{"$f":"IF(OR(D2674=0,P2674=Presets!$C$67),\"\",IF(S2674=0,ROUNDDOWN(NOW()-'Registry Full'!D2674,0),S2674-D2674))","v":""},{"$nulls":5},""]
["",null,null,"00:00:00",{"$nulls":15},{"$f":"IF(OR(D2675=0,P2675=Presets!$C$67),\"\",IF(S2675=0,ROUNDDOWN(NOW()-'Registry Full'!D2675,0),S2675-D2675))","v":""},{"$nulls":5},""]
["",null,null,"00:00:00",{"$nulls":15},{"$f":"IF(OR(D2676=0,P2676=Presets!$C$67),\"\",IF(S2676=0,ROUNDDOWN(NOW()-'Registry Full'!D2676,0),S2676-D2676))","v":""},{"$nulls":5},""]
["",null,null,"00:00:00",{"$nulls":15},{"$f":"IF(OR(D2677=0,P2677=Presets!$C$67),\"\",IF(S2677=0,ROUNDDOWN(NOW()-'Registry Full'!D2677,0),S2677-D2677))","v":""},{"$nulls":5},""]
["",null,null,"00:00:00",{"$nulls":15},{"$f":"IF(OR(D2678=0,P2678=Presets!$C$67),\"\",IF(S2678=0,ROUNDDOWN(NOW()-'Registry Full'!D2678,0),S2678-D2678))","v":""},{"$nulls":5},""]
["",null,null,"00:00:00",{"$nulls":15},{"$f":"IF(OR(D2679=0,P2679=Presets!$C$67),\"\",IF(S2679=0,ROUNDDOWN(NOW()-'Registry Full'!D2679,0),S2679-D2679))","v":""},{"$nulls":5},""]
["",null,null,"00:00:00",{"$nulls":15},{"$f":"IF(OR(D2680=0,P2680=Presets!$C$67),\"\",IF(S2680=0,ROUNDDOWN(NOW()-'Registry Full'!D2680,0),S2680-D2680))","v":""},{"$nulls":5},""]
["",null,null,"00:00:00",{"$nulls":15},{"$f":"IF(OR(D2681=0,P2681=Presets!$C$67),\"\",IF(S2681=0,ROUNDDOWN(NOW()-'Registry Full'!D2681,0),S2681-D2681))","v":""},{"$nulls":5},""]
["",null,null,"00:00:00",{"$nulls":15},{"$f":"IF(OR(D2682=0,P2682=Presets!$C$67),\"\",IF(S2682=0,ROUNDDOWN(NOW()-'Registry Full'!D2682,0),S2682-D2682))","v":""},{"$nulls":5},""]
["",null,null,"00:00:00",{"$nulls":15},{"$f":"IF(OR(D2683=0,P2683=Presets!$C$67),\"\",IF(S2683=0,ROUNDDOWN(NOW()-'Registry Full'!D2683,0),S2683-D2683))","v":""},{"$nulls":5},""]
["",null,null,"00:00:00",{"$nulls":15},{"$f":"IF(OR(D2684=0,P2684=Presets!$C$67),\"\",IF(S2684=0,ROUNDDOWN(NOW()-'Registry Full'!D2684,0),S2684-D2684))","v":""},{"$nulls":5},""]
["",null,null,"00:00:00",{"$nulls":15},{"$f":"IF(OR(D2685=0,P2685=Presets!$C$67),\"\",IF(S2685=0,ROUNDDOWN(NOW()-'Registry Full'!D2685,0),S2685-D2685))","v":""},{"$nulls":5},""]
["",null,null,"00:00:00",{"$nulls":15},{"$f":"IF(OR(D2686=0,P2686=Presets!$C$67),\"\",IF(S2686=0,ROUNDDOWN(NOW()-'Registry Full'!D2686,0),S2686-D2686))","v":""},{"$nulls":5},""]
["",null,null,"00:00:00",{"$nulls":15},{"$f":"IF(OR(D2687=0,P2687=Presets!$C$67),\"\",IF(S2687=0,ROUNDDOWN(NOW()-'Registry Full'!D2687,0),S2687-D2687))","v":""},{"$nulls":5},""]
["",null,null,"00:00:00",{"$nulls":15},{"$f":"IF(OR(D2688=0,P2688=Presets!$C$67),\"\",IF(S2688=0,ROUNDDOWN(NOW()-'Registry Full'!D2688,0),S2688-D2688))","v":""},{"$nulls":5},""]
["",null,null,"00:00:00",{"$nulls":15},{"$f":"IF(OR(D2689=0,P2689=Presets!$C$67),\"\",IF(S2689=0,ROUNDDOWN(NOW()-'Registry Full'!D2689,0),S2689-D2689))","v":""},{"$nulls":5},""]
["",null,null,"00:00:00",{"$nulls":15},{"$f":"IF(OR(D2690=0,P2690=Presets!$C$67),\"\",IF(S2690=0,ROUNDDOWN(NOW()-'Registry Full'!D2690,0),S2690-D2690))","v":""},{"$nulls":5},""]
["",null,null,"00:00:00",{"$nulls":15},{"$f":"IF(OR(D2691=0,P2691=Presets!$C$67),\"\",IF(S2691=0,ROUNDDOWN(NOW()-'Registry Full'!D2691,0),S2691-D2691))","v":""},{"$nulls":5},""]
["",null,null,"00:00:00",{"$nulls":15},{"$f":"IF(OR(D2692=0,P2692=Presets!$C$67),\"\",IF(S2692=0,ROUNDDOWN(NOW()-'Registry Full'!D2692,0),S2692-D2692))","v":""},{"$nulls":5},""]
["",null,null,"00:00:00",{"$nulls":15},{"$f":"IF(OR(D2693=0,P2693=Presets!$C$67),\"\",IF(S2693=0,ROUNDDOWN(NOW()-'Registry Full'!D2693,0),S2693-D2693))","v":""},{"$nulls":5},""]
["",null,null,{"$f":"IF(C2694=\"\",0,VALUE(RIGHT(C2694,LEN(C2694)-FIND(\"/\",C2694,LEN(C2694)-10))))","v":"00:00:00"},{"$nulls":15},{"$f":"IF(OR(D2694=0,P2694=Presets!$C$67),\"\",IF(S2694=0,ROUNDDOWN(NOW()-'Registry Full'!D2694,0),S2694-D2694))","v":""},{"$nulls":5},""]
["",null,null,"00:00:00",{"$nulls":15},{"$f":"IF(OR(D2695=0,P2695=Presets!$C$67),\"\",IF(S2695=0,ROUNDDOWN(NOW()-'Registry Full'!D2695,0),S2695-D2695))","v":""},{"$nulls":5},{"$f":"IF(OR(D2695=0,Y2695=0),\"\",Y2695-D2695)","v":""}]
["",null,null,"00:00:00",{"$nulls":15},{"$f":"IF(OR(D2696=0,P2696=Presets!$C$67),\"\",IF(S2696=0,ROUNDDOWN(NOW()-'Registry Full'!D2696,0),S2696-D2696))","v":""},{"$nulls":5},""]
["",null,null,"00:00:00",{"$nulls":15},{"$f":"IF(OR(D2697=0,P2697=Presets!$C$67),\"\",IF(S2697=0,ROUNDDOWN(NOW()-'Registry Full'!D2697,0),S2697-D2697))","v":""},{"$nulls":5},""]
["",null,null,"00:00:00",{"$nulls":15},{"$f":"IF(OR(D2698=0,P2698=Presets!$C$67),\"\",IF(S2698=0,ROUNDDOWN(NOW()-'Registry Full'!D2698,0),S2698-D2698))","v":""},{"$nulls":5},""]
["",null,null,"00:00:00",{"$nulls":15},{"$f":"IF(OR(D2699=0,P2699=Presets!$C$67),\"\",IF(S2699=0,ROUNDDOWN(NOW()-'Registry Full'!D2699,0),S2699-D2699))","v":""},{"$nulls":5},""]
["",null,null,"00:00:00",{"$nulls":15},{"$f":"IF(OR(D2700=0,P2700=Presets!$C$67),\"\",IF(S2700=0,ROUNDDOWN(NOW()-'Registry Full'!D2700,0),S2700-D2700))","v":""},{"$nulls":5},""]
["",null,null,"00:00:00",{"$nulls":15},{"$f":"IF(OR(D2701=0,P2701=Presets!$C$67),\"\",IF(S2701=0,ROUNDDOWN(NOW()-'Registry Full'!D2701,0),S2701-D2701))","v":""},{"$nulls":5},""]
["",null,null,"00:00:00",{"$nulls":15},{"$f":"IF(OR(D2702=0,P2702=Presets!$C$67),\"\",IF(S2702=0,ROUNDDOWN(NOW()-'Registry Full'!D2702,0),S2702-D2702))","v":""},{"$nulls":5},""]
["",null,null,"00:00:00",{"$nulls":15},{"$f":"IF(OR(D2703=0,P2703=Presets!$C$67),\"\",IF(S2703=0,ROUNDDOWN(NOW()-'Registry Full'!D2703,0),S2703-D2703))","v":""},{"$nulls":5},""]
["",null,null,"00:00:00",{"$nulls":15},{"$f":"IF(OR(D2704=0,P2704=Presets!$C$67),\"\",IF(S2704=0,ROUNDDOWN(NOW()-'Registry Full'!D2704,0),S2704-D2704))","v":""},{"$nulls":5},""]
["",null,null,"00:00:00",{"$nulls":15},{"$f":"IF(OR(D2705=0,P2705=Presets!$C$67),\"\",IF(S2705=0,ROUNDDOWN(NOW()-'Registry Full'!D2705,0),S2705-D2705))","v":""},{"$nulls":5},""]
["",null,null,"00:00:00",{"$nulls":15},{"$f":"IF(OR(D2706=0,P2706=Presets!$C$67),\"\",IF(S2706=0,ROUNDDOWN(NOW()-'Registry Full'!D2706,0),S2706-D2706))","v":""},{"$nulls":5},""]
["",null,null,"00:00:00",{"$nulls":15},{"$f":"IF(OR(D2707=0,P2707=Presets!$C$67),\"\",IF(S2707=0,ROUNDDOWN(NOW()-'Registry Full'!D2707,0),S2707-D2707))","v":""},{"$nulls":5},""]
["",null,null,"00:00:00",{"$nulls":15},{"$f":"IF(OR(D2708=0,P2708=Presets!$C$67),\"\",IF(S2708=0,ROUNDDOWN(NOW()-'Registry Full'!D2708,0),S2708-D2708))","v":""},{"$nulls":5},""]
["",null,null,"00:00:00",{"$nulls":15},{"$f":"IF(OR(D2709=0,P2709=Presets!$C$67),\"\",IF(S2709=0,ROUNDDOWN(NOW()-'Registry Full'!D2709,0),S2709-D2709))","v":""},{"$nulls":5},""]
["",null,null,"00:00:00",{"$nulls":15},{"$f":"IF(OR(D2710=0,P2710=Presets!$C$67),\"\",IF(S2710=0,ROUNDDOWN(NOW()-'Registry Full'!D2710,0),S2710-D2710))","v":""},{"$nulls":5},""]
[{"$f":"IF(COUNTA(B2711)<>0,A2710+1,\"\")","v":""},null,null,"00:00:00",{"$nulls":15},{"$f":"IF(OR(D2711=0,P2711=Presets!$C$67),\"\",IF(S2711=0,ROUNDDOWN(NOW()-'Registry Full'!D2711,0),S2711-D2711))","v":""},{"$nulls":5},""]
["",null,null,"00:00:00",{"$nulls":15},{"$f":"IF(OR(D2712=0,P2712=Presets!$C$67),\"\",IF(S2712=0,ROUNDDOWN(NOW()-'Registry Full'!D2712,0),S2712-D2712))","v":""},{"$nulls":5},""]
["",null,null,"00:00:00",{"$nulls":15},{"$f":"IF(OR(D2713=0,P2713=Presets!$C$67),\"\",IF(S2713=0,ROUNDDOWN(NOW()-'Registry Full'!D2713,0),S2713-D2713))","v":""},{"$nulls":5},""]
["",null,null,"00:00:00",{"$nulls":15},{"$f":"IF(OR(D2714=0,P2714=Presets!$C$67),\"\",IF(S2714=0,ROUNDDOWN(NOW()-'Registry Full'!D2714,0),S2714-D2714))","v":""},{"$nulls":5},""]
["",null,null,"00:00:00",{"$nulls":15},{"$f":"IF(OR(D2715=0,P2715=Presets!$C$67),\"\",IF(S2715=0,ROUNDDOWN(NOW()-'Registry Full'!D2715,0),S2715-D2715))","v":""},{"$nulls":5},""]
["",null,null,"00:00:00",{"$nulls":15},{"$f":"IF(OR(D2716=0,P2716=Presets!$C$67),\"\",IF(S2716=0,ROUNDDOWN(NOW()-'Registry Full'!D2716,0),S2716-D2716))","v":""},{"$nulls":5},""]
["",null,null,"00:00:00",{"$nulls":15},{"$f":"IF(OR(D2717=0,P2717=Presets!$C$67),\"\",IF(S2717=0,ROUNDDOWN(NOW()-'Registry Full'!D2717,0),S2717-D2717))","v":""},{"$nulls":5},""]
["",null,null,"00:00:00",{"$nulls":15},{"$f":"IF(OR(D2718=0,P2718=Presets!$C$67),\"\",IF(S2718=0,ROUNDDOWN(NOW()-'Registry Full'!D2718,0),S2718-D2718))","v":""},{"$nulls":5},""]
["",null,null,"00:00:00",{"$nulls":15},{"$f":"IF(OR(D2719=0,P2719=Presets!$C$67),\"\",IF(S2719=0,ROUNDDOWN(NOW()-'Registry Full'!D2719,0),S2719-D2719))","v":""},{"$nulls":5},""]
["",null,null,"00:00:00",{"$nulls":15},{"$f":"IF(OR(D2720=0,P2720=Presets!$C$67),\"\",IF(S2720=0,ROUNDDOWN(NOW()-'Registry Full'!D2720,0),S2720-D2720))","v":""},{"$nulls":5},""]
["",null,null,"00:00:00",{"$nulls":15},{"$f":"IF(OR(D2721=0,P2721=Presets!$C$67),\"\",IF(S2721=0,ROUNDDOWN(NOW()-'Registry Full'!D2721,0),S2721-D2721))","v":""},{"$nulls":5},""]
["",null,null,"00:00:00",{"$nulls":15},{"$f":"IF(OR(D2722=0,P2722=Presets!$C$67),\"\",IF(S2722=0,ROUNDDOWN(NOW()-'Registry Full'!D2722,0),S2722-D2722))","v":""},{"$nulls":5},""]
["",null,null,"00:00:00",{"$nulls":15},{"$f":"IF(OR(D2723=0,P2723=Presets!$C$67),\"\",IF(S2723=0,ROUNDDOWN(NOW()-'Registry Full'!D2723,0),S2723-D2723))","v":""},{"$nulls":5},""]
["",null,null,"00:00:00",{"$nulls":15},{"$f":"IF(OR(D2724=0,P2724=Presets!$C$67),\"\",IF(S2724=0,ROUNDDOWN(NOW()-'Registry Full'!D2724,0),S2724-D2724))","v":""},{"$nulls":5},""]
["",null,null,"00:00:00",{"$nulls":15},{"$f":"IF(OR(D2725=0,P2725=Presets!$C$67),\"\",IF(S2725=0,ROUNDDOWN(NOW()-'Registry Full'!D2725,0),S2725-D2725))","v":""},{"$nulls":5},""]
["",null,null,"00:00:00",{"$nulls":15},{"$f":"IF(OR(D2726=0,P2726=Presets!$C$67),\"\",IF(S2726=0,ROUNDDOWN(NOW()-'Registry Full'!D2726,0),S2726-D2726))","v":""},{"$nulls":5},""]
["",null,null,"00:00:00",{"$nulls":15},{"$f":"IF(OR(D2727=0,P2727=Presets!$C$67),\"\",IF(S2727=0,ROUNDDOWN(NOW()-'Registry Full'!D2727,0),S2727-D2727))","v":""},{"$nulls":5},""]
["",null,null,"00:00:00",{"$nulls":15},{"$f":"IF(OR(D2728=0,P2728=Presets!$C$67),\"\",IF(S2728=0,ROUNDDOWN(NOW()-'Registry Full'!D2728,0),S2728-D2728))","v":""},{"$nulls":5},""]
["",null,null,"00:00:00",{"$nulls":15},{"$f":"IF(OR(D2729=0,P2729=Presets!$C$67),\"\",IF(S2729=0,ROUNDDOWN(NOW()-'Registry Full'!D2729,0),S2729-D2729))","v":""},{"$nulls":5},""]
["",null,null,"00:00:00",{"$nulls":15},{"$f":"IF(OR(D2730=0,P2730=Presets!$C$67),\"\",IF(S2730=0,ROUNDDOWN(NOW()-'Registry Full'!D2730,0),S2730-D2730))","v":""},{"$nulls":5},""]
["",null,null,"00:00:00",{"$nulls":15},{"$f":"IF(OR(D2731=0,P2731=Presets!$C$67),\"\",IF(S2731=0,ROUNDDOWN(NOW()-'Registry Full'!D2731,0),S2731-D2731))","v":""},{"$nulls":5},""]
["",null,null,"00:00:00",{"$nulls":15},{"$f":"IF(OR(D2732=0,P2732=Presets!$C$67),\"\",IF(S2732=0,ROUNDDOWN(NOW()-'Registry Full'!D2732,0),S2732-D2732))","v":""},{"$nulls":5},""]
["",null,null,"00:00:00",{"$nulls":15},{"$f":"IF(OR(D2733=0,P2733=Presets!$C$67),\"\",IF(S2733=0,ROUNDDOWN(NOW()-'Registry Full'!D2733,0),S2733-D2733))","v":""},{"$nulls":5},""]
["",null,null,"00:00:00",{"$nulls":15},{"$f":"IF(OR(D2734=0,P2734=Presets!$C$67),\"\",IF(S2734=0,ROUNDDOWN(NOW()-'Registry Full'!D2734,0),S2734-D2734))","v":""},{"$nulls":5},""]
["",null,null,"00:00:00",{"$nulls":15},{"$f":"IF(OR(D2735=0,P2735=Presets!$C$67),\"\",IF(S2735=0,ROUNDDOWN(NOW()-'Registry Full'!D2735,0),S2735-D2735))","v":""},{"$nulls":5},""]
["",null,null,"00:00:00",{"$nulls":15},{"$f":"IF(OR(D2736=0,P2736=Presets!$C$67),\"\",IF(S2736=0,ROUNDDOWN(NOW()-'Registry Full'!D2736,0),S2736-D2736))","v":""},{"$nulls":5},""]
["",null,null,"00:00:00",{"$nulls":15},{"$f":"IF(OR(D2737=0,P2737=Presets!$C$67),\"\",IF(S2737=0,ROUNDDOWN(NOW()-'Registry Full'!D2737,0),S2737-D2737))","v":""},{"$nulls":5},""]
["",null,null,"00:00:00",{"$nulls":15},{"$f":"IF(OR(D2738=0,P2738=Presets!$C$67),\"\",IF(S2738=0,ROUNDDOWN(NOW()-'Registry Full'!D2738,0),S2738-D2738))","v":""},{"$nulls":5},""]
["",null,null,"00:00:00",{"$nulls":15},{"$f":"IF(OR(D2739=0,P2739=Presets!$C$67),\"\",IF(S2739=0,ROUNDDOWN(NOW()-'Registry Full'!D2739,0),S2739-D2739))","v":""},{"$nulls":5},""]
["",null,null,"00:00:00",{"$nulls":15},{"$f":"IF(OR(D2740=0,P2740=Presets!$C$67),\"\",IF(S2740=0,ROUNDDOWN(NOW()-'Registry Full'!D2740,0),S2740-D2740))","v":""},{"$nulls":5},""]
["",null,null,"00:00:00",{"$nulls":15},{"$f":"IF(OR(D2741=0,P2741=Presets!$C$67),\"\",IF(S2741=0,ROUNDDOWN(NOW()-'Registry Full'!D2741,0),S2741-D2741))","v":""},{"$nulls":5},""]
["",null,null,"00:00:00",{"$nulls":15},{"$f":"IF(OR(D2742=0,P2742=Presets!$C$67),\"\",IF(S2742=0,ROUNDDOWN(NOW()-'Registry Full'!D2742,0),S2742-D2742))","v":""},{"$nulls":5},""]
["",null,null,"00:00:00",{"$nulls":15},{"$f":"IF(OR(D2743=0,P2743=Presets!$C$67),\"\",IF(S2743=0,ROUNDDOWN(NOW()-'Registry Full'!D2743,0),S2743-D2743))","v":""},{"$nulls":5},""]
["",null,null,"00:00:00",{"$nulls":15},{"$f":"IF(OR(D2744=0,P2744=Presets!$C$67),\"\",IF(S2744=0,ROUNDDOWN(NOW()-'Registry Full'!D2744,0),S2744-D2744))","v":""},{"$nulls":5},""]
["",null,null,"00:00:00",{"$nulls":15},{"$f":"IF(OR(D2745=0,P2745=Presets!$C$67),\"\",IF(S2745=0,ROUNDDOWN(NOW()-'Registry Full'!D2745,0),S2745-D2745))","v":""},{"$nulls":5},""]
["",null,null,"00:00:00",{"$nulls":15},{"$f":"IF(OR(D2746=0,P2746=Presets!$C$67),\"\",IF(S2746=0,ROUNDDOWN(NOW()-'Registry Full'!D2746,0),S2746-D2746))","v":""},{"$nulls":5},""]
["",null,null,"00:00:00",{"$nulls":15},{"$f":"IF(OR(D2747=0,P2747=Presets!$C$67),\"\",IF(S2747=0,ROUNDDOWN(NOW()-'Registry Full'!D2747,0),S2747-D2747))","v":""},{"$nulls":5},""]
["",null,null,"00:00:00",{"$nulls":15},{"$f":"IF(OR(D2748=0,P2748=Presets!$C$67),\"\",IF(S2748=0,ROUNDDOWN(NOW()-'Registry Full'!D2748,0),S2748-D2748))","v":""},{"$nulls":5},""]
["",null,null,"00:00:00",{"$nulls":15},{"$f":"IF(OR(D2749=0,P2749=Presets!$C$67),\"\",IF(S2749=0,ROUNDDOWN(NOW()-'Registry Full'!D2749,0),S2749-D2749))","v":""},{"$nulls":5},""]
["",null,null,"00:00:00",{"$nulls":15},{"$f":"IF(OR(D2750=0,P2750=Presets!$C$67),\"\",IF(S2750=0,ROUNDDOWN(NOW()-'Registry Full'!D2750,0),S2750-D2750))","v":""},{"$nulls":5},""]
["",null,null,"00:00:00",{"$nulls":15},{"$f":"IF(OR(D2751=0,P2751=Presets!$C$67),\"\",IF(S2751=0,ROUNDDOWN(NOW()-'Registry Full'!D2751,0),S2751-D2751))","v":""},{"$nulls":5},""]
["",null,null,"00:00:00",{"$nulls":15},{"$f":"IF(OR(D2752=0,P2752=Presets!$C$67),\"\",IF(S2752=0,ROUNDDOWN(NOW()-'Registry Full'!D2752,0),S2752-D2752))","v":""},{"$nulls":5},""]
["",null,null,"00:00:00",{"$nulls":15},{"$f":"IF(OR(D2753=0,P2753=Presets!$C$67),\"\",IF(S2753=0,ROUNDDOWN(NOW()-'Registry Full'!D2753,0),S2753-D2753))","v":""},{"$nulls":5},""]
["",null,null,"00:00:00",{"$nulls":15},{"$f":"IF(OR(D2754=0,P2754=Presets!$C$67),\"\",IF(S2754=0,ROUNDDOWN(NOW()-'Registry Full'!D2754,0),S2754-D2754))","v":""},{"$nulls":5},""]
["",null,null,"00:00:00",{"$nulls":15},{"$f":"IF(OR(D2755=0,P2755=Presets!$C$67),\"\",IF(S2755=0,ROUNDDOWN(NOW()-'Registry Full'!D2755,0),S2755-D2755))","v":""},{"$nulls":5},""]
["",null,null,"00:00:00",{"$nulls":15},{"$f":"IF(OR(D2756=0,P2756=Presets!$C$67),\"\",IF(S2756=0,ROUNDDOWN(NOW()-'Registry Full'!D2756,0),S2756-D2756))","v":""},{"$nulls":5},""]
["",null,null,"00:00:00",{"$nulls":15},{"$f":"IF(OR(D2757=0,P2757=Presets!$C$67),\"\",IF(S2757=0,ROUNDDOWN(NOW()-'Registry Full'!D2757,0),S2757-D2757))","v":""},{"$nulls":5},""]
["",null,null,{"$f":"IF(C2758=\"\",0,VALUE(RIGHT(C2758,LEN(C2758)-FIND(\"/\",C2758,LEN(C2758)-10))))","v":"00:00:00"},{"$nulls":15},{"$f":"IF(OR(D2758=0,P2758=Presets!$C$67),\"\",IF(S2758=0,ROUNDDOWN(NOW()-'Registry Full'!D2758,0),S2758-D2758))","v":""},{"$nulls":5},""]
["",null,null,"00:00:00",{"$nulls":15},{"$f":"IF(OR(D2759=0,P2759=Presets!$C$67),\"\",IF(S2759=0,ROUNDDOWN(NOW()-'Registry Full'!D2759,0),S2759-D2759))","v":""},{"$nulls":5},{"$f":"IF(OR(D2759=0,Y2759=0),\"\",Y2759-D2759)","v":""}]
["",null,null,"00:00:00",{"$nulls":15},{"$f":"IF(OR(D2760=0,P2760=Presets!$C$67),\"\",IF(S2760=0,ROUNDDOWN(NOW()-'Registry Full'!D2760,0),S2760-D2760))","v":""},{"$nulls":5},""]
["",null,null,"00:00:00",{"$nulls":15},{"$f":"IF(OR(D2761=0,P2761=Presets!$C$67),\"\",IF(S2761=0,ROUNDDOWN(NOW()-'Registry Full'!D2761,0),S2761-D2761))","v":""},{"$nulls":5},""]
["",null,null,"00:00:00",{"$nulls":15},{"$f":"IF(OR(D2762=0,P2762=Presets!$C$67),\"\",IF(S2762=0,ROUNDDOWN(NOW()-'Registry Full'!D2762,0),S2762-D2762))","v":""},{"$nulls":5},""]
["",null,null,"00:00:00",{"$nulls":15},{"$f":"IF(OR(D2763=0,P2763=Presets!$C$67),\"\",IF(S2763=0,ROUNDDOWN(NOW()-'Registry Full'!D2763,0),S2763-D2763))","v":""},{"$nulls":5},""]
["",null,null,"00:00:00",{"$nulls":15},{"$f":"IF(OR(D2764=0,P2764=Presets!$C$67),\"\",IF(S2764=0,ROUNDDOWN(NOW()-'Registry Full'!D2764,0),S2764-D2764))","v":""},{"$nulls":5},""]
["",null,null,"00:00:00",{"$nulls":15},{"$f":"IF(OR(D2765=0,P2765=Presets!$C$67),\"\",IF(S2765=0,ROUNDDOWN(NOW()-'Registry Full'!D2765,0),S2765-D2765))","v":""},{"$nulls":5},""]
["",null,null,"00:00:00",{"$nulls":15},{"$f":"IF(OR(D2766=0,P2766=Presets!$C$67),\"\",IF(S2766=0,ROUNDDOWN(NOW()-'Registry Full'!D2766,0),S2766-D2766))","v":""},{"$nulls":5},""]
["",null,null,"00:00:00",{"$nulls":15},{"$f":"IF(OR(D2767=0,P2767=Presets!$C$67),\"\",IF(S2767=0,ROUNDDOWN(NOW()-'Registry Full'!D2767,0),S2767-D2767))","v":""},{"$nulls":5},""]
["",null,null,"00:00:00",{"$nulls":15},{"$f":"IF(OR(D2768=0,P2768=Presets!$C$67),\"\",IF(S2768=0,ROUNDDOWN(NOW()-'Registry Full'!D2768,0),S2768-D2768))","v":""},{"$nulls":5},""]
["",null,null,"00:00:00",{"$nulls":15},{"$f":"IF(OR(D2769=0,P2769=Presets!$C$67),\"\",IF(S2769=0,ROUNDDOWN(NOW()-'Registry Full'!D2769,0),S2769-D2769))","v":""},{"$nulls":5},""]
["",null,null,"00:00:00",{"$nulls":15},{"$f":"IF(OR(D2770=0,P2770=Presets!$C$67),\"\",IF(S2770=0,ROUNDDOWN(NOW()-'Registry Full'!D2770,0),S2770-D2770))","v":""},{"$nulls":5},""]
["",null,null,"00:00:00",{"$nulls":15},{"$f":"IF(OR(D2771=0,P2771=Presets!$C$67),\"\",IF(S2771=0,ROUNDDOWN(NOW()-'Registry Full'!D2771,0),S2771-D2771))","v":""},{"$nulls":5},""]
["",null,null,"00:00:00",{"$nulls":15},{"$f":"IF(OR(D2772=0,P2772=Presets!$C$67),\"\",IF(S2772=0,ROUNDDOWN(NOW()-'Registry Full'!D2772,0),S2772-D2772))","v":""},{"$nulls":5},""]
["",null,null,"00:00:00",{"$nulls":15},{"$f":"IF(OR(D2773=0,P2773=Presets!$C$67),\"\",IF(S2773=0,ROUNDDOWN(NOW()-'Registry Full'!D2773,0),S2773-D2773))","v":""},{"$nulls":5},""]
["",null,null,"00:00:00",{"$nulls":15},{"$f":"IF(OR(D2774=0,P2774=Presets!$C$67),\"\",IF(S2774=0,ROUNDDOWN(NOW()-'Registry Full'!D2774,0),S2774-D2774))","v":""},{"$nulls":5},""]
[{"$f":"IF(COUNTA(B2775)<>0,A2774+1,\"\")","v":""},null,null,"00:00:00",{"$nulls":15},{"$f":"IF(OR(D2775=0,P2775=Presets!$C$67),\"\",IF(S2775=0,ROUNDDOWN(NOW()-'Registry Full'!D2775,0),S2775-D2775))","v":""},{"$nulls":5},""]
["",null,null,"00:00:00",{"$nulls":15},{"$f":"IF(OR(D2776=0,P2776=Presets!$C$67),\"\",IF(S2776=0,ROUNDDOWN(NOW()-'Registry Full'!D2776,0),S2776-D2776))","v":""},{"$nulls":5},""]
["",null,null,"00:00:00",{"$nulls":15},{"$f":"IF(OR(D2777=0,P2777=Presets!$C$67),\"\",IF(S2777=0,ROUNDDOWN(NOW()-'Registry Full'!D2777,0),S2777-D2777))","v":""},{"$nulls":5},""]
["",null,null,"00:00:00",{"$nulls":15},{"$f":"IF(OR(D2778=0,P2778=Presets!$C$67),\"\",IF(S2778=0,ROUNDDOWN(NOW()-'Registry Full'!D2778,0),S2778-D2778))","v":""},{"$nulls":5},""]
["",null,null,"00:00:00",{"$nulls":15},{"$f":"IF(OR(D2779=0,P2779=Presets!$C$67),\"\",IF(S2779=0,ROUNDDOWN(NOW()-'Registry Full'!D2779,0),S2779-D2779))","v":""},{"$nulls":5},""]
["",null,null,"00:00:00",{"$nulls":15},{"$f":"IF(OR(D2780=0,P2780=Presets!$C$67),\"\",IF(S2780=0,ROUNDDOWN(NOW()-'Registry Full'!D2780,0),S2780-D2780))","v":""},{"$nulls":5},""]
["",null,null,"00:00:00",{"$nulls":15},{"$f":"IF(OR(D2781=0,P2781=Presets!$C$67),\"\",IF(S2781=0,ROUNDDOWN(NOW()-'Registry Full'!D2781,0),S2781-D2781))","v":""},{"$nulls":5},""]
["",null,null,"00:00:00",{"$nulls":15},{"$f":"IF(OR(D2782=0,P2782=Presets!$C$67),\"\",IF(S2782=0,ROUNDDOWN(NOW()-'Registry Full'!D2782,0),S2782-D2782))","v":""},{"$nulls":5},""]
["",null,null,"00:00:00",{"$nulls":15},{"$f":"IF(OR(D2783=0,P2783=Presets!$C$67),\"\",IF(S2783=0,ROUNDDOWN(NOW()-'Registry Full'!D2783,0),S2783-D2783))","v":""},{"$nulls":5},""]
["",null,null,"00:00:00",{"$nulls":15},{"$f":"IF(OR(D2784=0,P2784=Presets!$C$67),\"\",IF(S2784=0,ROUNDDOWN(NOW()-'Registry Full'!D2784,0),S2784-D2784))","v":""},{"$nulls":5},""]
["",null,null,"00:00:00",{"$nulls":15},{"$f":"IF(OR(D2785=0,P2785=Presets!$C$67),\"\",IF(S2785=0,ROUNDDOWN(NOW()-'Registry Full'!D2785,0),S2785-D2785))","v":""},{"$nulls":5},""]
["",null,null,"00:00:00",{"$nulls":15},{"$f":"IF(OR(D2786=0,P2786=Presets!$C$67),\"\",IF(S2786=0,ROUNDDOWN(NOW()-'Registry Full'!D2786,0),S2786-D2786))","v":""},{"$nulls":5},""]
["",null,null,"00:00:00",{"$nulls":15},{"$f":"IF(OR(D2787=0,P2787=Presets!$C$67),\"\",IF(S2787=0,ROUNDDOWN(NOW()-'Registry Full'!D2787,0),S2787-D2787))","v":""},{"$nulls":5},""]
["",null,null,"00:00:00",{"$nulls":15},{"$f":"IF(OR(D2788=0,P2788=Presets!$C$67),\"\",IF(S2788=0,ROUNDDOWN(NOW()-'Registry Full'!D2788,0),S2788-D2788))","v":""},{"$nulls":5},""]
["",null,null,"00:00:00",{"$nulls":15},{"$f":"IF(OR(D2789=0,P2789=Presets!$C$67),\"\",IF(S2789=0,ROUNDDOWN(NOW()-'Registry Full'!D2789,0),S2789-D2789))","v":""},{"$nulls":5},""]
["",null,null,"00:00:00",{"$nulls":15},{"$f":"IF(OR(D2790=0,P2790=Presets!$C$67),\"\",IF(S2790=0,ROUNDDOWN(NOW()-'Registry Full'!D2790,0),S2790-D2790))","v":""},{"$nulls":5},""]
["",null,null,"00:00:00",{"$nulls":15},{"$f":"IF(OR(D2791=0,P2791=Presets!$C$67),\"\",IF(S2791=0,ROUNDDOWN(NOW()-'Registry Full'!D2791,0),S2791-D2791))","v":""},{"$nulls":5},""]
["",null,null,"00:00:00",{"$nulls":15},{"$f":"IF(OR(D2792=0,P2792=Presets!$C$67),\"\",IF(S2792=0,ROUNDDOWN(NOW()-'Registry Full'!D2792,0),S2792-D2792))","v":""},{"$nulls":5},""]
["",null,null,"00:00:00",{"$nulls":15},{"$f":"IF(OR(D2793=0,P2793=Presets!$C$67),\"\",IF(S2793=0,ROUNDDOWN(NOW()-'Registry Full'!D2793,0),S2793-D2793))","v":""},{"$nulls":5},""]
["",null,null,"00:00:00",{"$nulls":15},{"$f":"IF(OR(D2794=0,P2794=Presets!$C$67),\"\",IF(S2794=0,ROUNDDOWN(NOW()-'Registry Full'!D2794,0),S2794-D2794))","v":""},{"$nulls":5},""]
["",null,null,"00:00:00",{"$nulls":15},{"$f":"IF(OR(D2795=0,P2795=Presets!$C$67),\"\",IF(S2795=0,ROUNDDOWN(NOW()-'Registry Full'!D2795,0),S2795-D2795))","v":""},{"$nulls":5},""]
["",null,null,"00:00:00",{"$nulls":15},{"$f":"IF(OR(D2796=0,P2796=Presets!$C$67),\"\",IF(S2796=0,ROUNDDOWN(NOW()-'Registry Full'!D2796,0),S2796-D2796))","v":""},{"$nulls":5},""]
["",null,null,"00:00:00",{"$nulls":15},{"$f":"IF(OR(D2797=0,P2797=Presets!$C$67),\"\",IF(S2797=0,ROUNDDOWN(NOW()-'Registry Full'!D2797,0),S2797-D2797))","v":""},{"$nulls":5},""]
["",null,null,"00:00:00",{"$nulls":15},{"$f":"IF(OR(D2798=0,P2798=Presets!$C$67),\"\",IF(S2798=0,ROUNDDOWN(NOW()-'Registry Full'!D2798,0),S2798-D2798))","v":""},{"$nulls":5},""]
["",null,null,"00:00:00",{"$nulls":15},{"$f":"IF(OR(D2799=0,P2799=Presets!$C$67),\"\",IF(S2799=0,ROUNDDOWN(NOW()-'Registry Full'!D2799,0),S2799-D2799))","v":""},{"$nulls":5},""]
["",null,null,"00:00:00",{"$nulls":15},{"$f":"IF(OR(D2800=0,P2800=Presets!$C$67),\"\",IF(S2800=0,ROUNDDOWN(NOW()-'Registry Full'!D2800,0),S2800-D2800))","v":""},{"$nulls":5},""]
["",null,null,"00:00:00",{"$nulls":15},{"$f":"IF(OR(D2801=0,P2801=Presets!$C$67),\"\",IF(S2801=0,ROUNDDOWN(NOW()-'Registry Full'!D2801,0),S2801-D2801))","v":""},{"$nulls":5},""]
["",null,null,"00:00:00",{"$nulls":15},{"$f":"IF(OR(D2802=0,P2802=Presets!$C$67),\"\",IF(S2802=0,ROUNDDOWN(NOW()-'Registry Full'!D2802,0),S2802-D2802))","v":""},{"$nulls":5},""]
["",null,null,"00:00:00",{"$nulls":15},{"$f":"IF(OR(D2803=0,P2803=Presets!$C$67),\"\",IF(S2803=0,ROUNDDOWN(NOW()-'Registry Full'!D2803,0),S2803-D2803))","v":""},{"$nulls":5},""]
["",null,null,"00:00:00",{"$nulls":15},{"$f":"IF(OR(D2804=0,P2804=Presets!$C$67),\"\",IF(S2804=0,ROUNDDOWN(NOW()-'Registry Full'!D2804,0),S2804-D2804))","v":""},{"$nulls":5},""]
["",null,null,"00:00:00",{"$nulls":15},{"$f":"IF(OR(D2805=0,P2805=Presets!$C$67),\"\",IF(S2805=0,ROUNDDOWN(NOW()-'Registry Full'!D2805,0),S2805-D2805))","v":""},{"$nulls":5},""]
["",null,null,"00:00:00",{"$nulls":15},{"$f":"IF(OR(D2806=0,P2806=Presets!$C$67),\"\",IF(S2806=0,ROUNDDOWN(NOW()-'Registry Full'!D2806,0),S2806-D2806))","v":""},{"$nulls":5},""]
["",null,null,"00:00:00",{"$nulls":15},{"$f":"IF(OR(D2807=0,P2807=Presets!$C$67),\"\",IF(S2807=0,ROUNDDOWN(NOW()-'Registry Full'!D2807,0),S2807-D2807))","v":""},{"$nulls":5},""]
["",null,null,"00:00:00",{"$nulls":15},{"$f":"IF(OR(D2808=0,P2808=Presets!$C$67),\"\",IF(S2808=0,ROUNDDOWN(NOW()-'Registry Full'!D2808,0),S2808-D2808))","v":""},{"$nulls":5},""]
["",null,null,"00:00:00",{"$nulls":15},{"$f":"IF(OR(D2809=0,P2809=Presets!$C$67),\"\",IF(S2809=0,ROUNDDOWN(NOW()-'Registry Full'!D2809,0),S2809-D2809))","v":""},{"$nulls":5},""]
["",null,null,"00:00:00",{"$nulls":15},{"$f":"IF(OR(D2810=0,P2810=Presets!$C$67),\"\",IF(S2810=0,ROUNDDOWN(NOW()-'Registry Full'!D2810,0),S2810-D2810))","v":""},{"$nulls":5},""]
["",null,null,"00:00:00",{"$nulls":15},{"$f":"IF(OR(D2811=0,P2811=Presets!$C$67),\"\",IF(S2811=0,ROUNDDOWN(NOW()-'Registry Full'!D2811,0),S2811-D2811))","v":""},{"$nulls":5},""]
["",null,null,"00:00:00",{"$nulls":15},{"$f":"IF(OR(D2812=0,P2812=Presets!$C$67),\"\",IF(S2812=0,ROUNDDOWN(NOW()-'Registry Full'!D2812,0),S2812-D2812))","v":""},{"$nulls":5},""]
["",null,null,"00:00:00",{"$nulls":15},{"$f":"IF(OR(D2813=0,P2813=Presets!$C$67),\"\",IF(S2813=0,ROUNDDOWN(NOW()-'Registry Full'!D2813,0),S2813-D2813))","v":""},{"$nulls":5},""]
["",null,null,"00:00:00",{"$nulls":15},{"$f":"IF(OR(D2814=0,P2814=Presets!$C$67),\"\",IF(S2814=0,ROUNDDOWN(NOW()-'Registry Full'!D2814,0),S2814-D2814))","v":""},{"$nulls":5},""]
["",null,null,"00:00:00",{"$nulls":15},{"$f":"IF(OR(D2815=0,P2815=Presets!$C$67),\"\",IF(S2815=0,ROUNDDOWN(NOW()-'Registry Full'!D2815,0),S2815-D2815))","v":""},{"$nulls":5},""]
["",null,null,"00:00:00",{"$nulls":15},{"$f":"IF(OR(D2816=0,P2816=Presets!$C$67),\"\",IF(S2816=0,ROUNDDOWN(NOW()-'Registry Full'!D2816,0),S2816-D2816))","v":""},{"$nulls":5},""]
["",null,null,"00:00:00",{"$nulls":15},{"$f":"IF(OR(D2817=0,P2817=Presets!$C$67),\"\",IF(S2817=0,ROUNDDOWN(NOW()-'Registry Full'!D2817,0),S2817-D2817))","v":""},{"$nulls":5},""]
["",null,null,"00:00:00",{"$nulls":15},{"$f":"IF(OR(D2818=0,P2818=Presets!$C$67),\"\",IF(S2818=0,ROUNDDOWN(NOW()-'Registry Full'!D2818,0),S2818-D2818))","v":""},{"$nulls":5},""]
["",null,null,"00:00:00",{"$nulls":15},{"$f":"IF(OR(D2819=0,P2819=Presets!$C$67),\"\",IF(S2819=0,ROUNDDOWN(NOW()-'Registry Full'!D2819,0),S2819-D2819))","v":""},{"$nulls":5},""]
["",null,null,"00:00:00",{"$nulls":15},{"$f":"IF(OR(D2820=0,P2820=Presets!$C$67),\"\",IF(S2820=0,ROUNDDOWN(NOW()-'Registry Full'!D2820,0),S2820-D2820))","v":""},{"$nulls":5},""]
["",null,null,"00:00:00",{"$nulls":15},{"$f":"IF(OR(D2821=0,P2821=Presets!$C$67),\"\",IF(S2821=0,ROUNDDOWN(NOW()-'Registry Full'!D2821,0),S2821-D2821))","v":""},{"$nulls":5},""]
["",null,null,{"$f":"IF(C2822=\"\",0,VALUE(RIGHT(C2822,LEN(C2822)-FIND(\"/\",C2822,LEN(C2822)-10))))","v":"00:00:00"},{"$nulls":15},{"$f":"IF(OR(D2822=0,P2822=Presets!$C$67),\"\",IF(S2822=0,ROUNDDOWN(NOW()-'Registry Full'!D2822,0),S2822-D2822))","v":""},{"$nulls":5},""]
["",null,null,"00:00:00",{"$nulls":15},{"$f":"IF(OR(D2823=0,P2823=Presets!$C$67),\"\",IF(S2823=0,ROUNDDOWN(NOW()-'Registry Full'!D2823,0),S2823-D2823))","v":""},{"$nulls":5},{"$f":"IF(OR(D2823=0,Y2823=0),\"\",Y2823-D2823)","v":""}]
["",null,null,"00:00:00",{"$nulls":15},{"$f":"IF(OR(D2824=0,P2824=Presets!$C$67),\"\",IF(S2824=0,ROUNDDOWN(NOW()-'Registry Full'!D2824,0),S2824-D2824))","v":""},{"$nulls":5},""]
["",null,null,"00:00:00",{"$nulls":15},{"$f":"IF(OR(D2825=0,P2825=Presets!$C$67),\"\",IF(S2825=0,ROUNDDOWN(NOW()-'Registry Full'!D2825,0),S2825-D2825))","v":""},{"$nulls":5},""]
["",null,null,"00:00:00",{"$nulls":15},{"$f":"IF(OR(D2826=0,P2826=Presets!$C$67),\"\",IF(S2826=0,ROUNDDOWN(NOW()-'Registry Full'!D2826,0),S2826-D2826))","v":""},{"$nulls":5},""]
["",null,null,"00:00:00",{"$nulls":15},{"$f":"IF(OR(D2827=0,P2827=Presets!$C$67),\"\",IF(S2827=0,ROUNDDOWN(NOW()-'Registry Full'!D2827,0),S2827-D2827))","v":""},{"$nulls":5},""]
["",null,null,"00:00:00",{"$nulls":15},{"$f":"IF(OR(D2828=0,P2828=Presets!$C$67),\"\",IF(S2828=0,ROUNDDOWN(NOW()-'Registry Full'!D2828,0),S2828-D2828))","v":""},{"$nulls":5},""]
["",null,null,"00:00:00",{"$nulls":15},{"$f":"IF(OR(D2829=0,P2829=Presets!$C$67),\"\",IF(S2829=0,ROUNDDOWN(NOW()-'Registry Full'!D2829,0),S2829-D2829))","v":""},{"$nulls":5},""]
["",null,null,"00:00:00",{"$nulls":15},{"$f":"IF(OR(D2830=0,P2830=Presets!$C$67),\"\",IF(S2830=0,ROUNDDOWN(NOW()-'Registry Full'!D2830,0),S2830-D2830))","v":""},{"$nulls":5},""]
["",null,null,"00:00:00",{"$nulls":15},{"$f":"IF(OR(D2831=0,P2831=Presets!$C$67),\"\",IF(S2831=0,ROUNDDOWN(NOW()-'Registry Full'!D2831,0),S2831-D2831))","v":""},{"$nulls":5},""]
["",null,null,"00:00:00",{"$nulls":15},{"$f":"IF(OR(D2832=0,P2832=Presets!$C$67),\"\",IF(S2832=0,ROUNDDOWN(NOW()-'Registry Full'!D2832,0),S2832-D2832))","v":""},{"$nulls":5},""]
["",null,null,"00:00:00",{"$nulls":15},{"$f":"IF(OR(D2833=0,P2833=Presets!$C$67),\"\",IF(S2833=0,ROUNDDOWN(NOW()-'Registry Full'!D2833,0),S2833-D2833))","v":""},{"$nulls":5},""]
["",null,null,"00:00:00",{"$nulls":15},{"$f":"IF(OR(D2834=0,P2834=Presets!$C$67),\"\",IF(S2834=0,ROUNDDOWN(NOW()-'Registry Full'!D2834,0),S2834-D2834))","v":""},{"$nulls":5},""]
["",null,null,"00:00:00",{"$nulls":15},{"$f":"IF(OR(D2835=0,P2835=Presets!$C$67),\"\",IF(S2835=0,ROUNDDOWN(NOW()-'Registry Full'!D2835,0),S2835-D2835))","v":""},{"$nulls":5},""]
["",null,null,"00:00:00",{"$nulls":15},{"$f":"IF(OR(D2836=0,P2836=Presets!$C$67),\"\",IF(S2836=0,ROUNDDOWN(NOW()-'Registry Full'!D2836,0),S2836-D2836))","v":""},{"$nulls":5},""]
["",null,null,"00:00:00",{"$nulls":15},{"$f":"IF(OR(D2837=0,P2837=Presets!$C$67),\"\",IF(S2837=0,ROUNDDOWN(NOW()-'Registry Full'!D2837,0),S2837-D2837))","v":""},{"$nulls":5},""]
["",null,null,"00:00:00",{"$nulls":15},{"$f":"IF(OR(D2838=0,P2838=Presets!$C$67),\"\",IF(S2838=0,ROUNDDOWN(NOW()-'Registry Full'!D2838,0),S2838-D2838))","v":""},{"$nulls":5},""]
[{"$f":"IF(COUNTA(B2839)<>0,A2838+1,\"\")","v":""},null,null,"00:00:00",{"$nulls":15},{"$f":"IF(OR(D2839=0,P2839=Presets!$C$67),\"\",IF(S2839=0,ROUNDDOWN(NOW()-'Registry Full'!D2839,0),S2839-D2839))","v":""},{"$nulls":5},""]
["",null,null,"00:00:00",{"$nulls":15},{"$f":"IF(OR(D2840=0,P2840=Presets!$C$67),\"\",IF(S2840=0,ROUNDDOWN(NOW()-'Registry Full'!D2840,0),S2840-D2840))","v":""},{"$nulls":5},""]
["",null,null,"00:00:00",{"$nulls":15},{"$f":"IF(OR(D2841=0,P2841=Presets!$C$67),\"\",IF(S2841=0,ROUNDDOWN(NOW()-'Registry Full'!D2841,0),S2841-D2841))","v":""},{"$nulls":5},""]
["",null,null,"00:00:00",{"$nulls":15},{"$f":"IF(OR(D2842=0,P2842=Presets!$C$67),\"\",IF(S2842=0,ROUNDDOWN(NOW()-'Registry Full'!D2842,0),S2842-D2842))","v":""},{"$nulls":5},""]
["",null,null,"00:00:00",{"$nulls":15},{"$f":"IF(OR(D2843=0,P2843=Presets!$C$67),\"\",IF(S2843=0,ROUNDDOWN(NOW()-'Registry Full'!D2843,0),S2843-D2843))","v":""},{"$nulls":5},""]
["",null,null,"00:00:00",{"$nulls":15},{"$f":"IF(OR(D2844=0,P2844=Presets!$C$67),\"\",IF(S2844=0,ROUNDDOWN(NOW()-'Registry Full'!D2844,0),S2844-D2844))","v":""},{"$nulls":5},""]
["",null,null,"00:00:00",{"$nulls":15},{"$f":"IF(OR(D2845=0,P2845=Presets!$C$67),\"\",IF(S2845=0,ROUNDDOWN(NOW()-'Registry Full'!D2845,0),S2845-D2845))","v":""},{"$nulls":5},""]
["",null,null,"00:00:00",{"$nulls":15},{"$f":"IF(OR(D2846=0,P2846=Presets!$C$67),\"\",IF(S2846=0,ROUNDDOWN(NOW()-'Registry Full'!D2846,0),S2846-D2846))","v":""},{"$nulls":5},""]
["",null,null,"00:00:00",{"$nulls":15},{"$f":"IF(OR(D2847=0,P2847=Presets!$C$67),\"\",IF(S2847=0,ROUNDDOWN(NOW()-'Registry Full'!D2847,0),S2847-D2847))","v":""},{"$nulls":5},""]
["",null,null,"00:00:00",{"$nulls":15},{"$f":"IF(OR(D2848=0,P2848=Presets!$C$67),\"\",IF(S2848=0,ROUNDDOWN(NOW()-'Registry Full'!D2848,0),S2848-D2848))","v":""},{"$nulls":5},""]
["",null,null,"00:00:00",{"$nulls":15},{"$f":"IF(OR(D2849=0,P2849=Presets!$C$67),\"\",IF(S2849=0,ROUNDDOWN(NOW()-'Registry Full'!D2849,0),S2849-D2849))","v":""},{"$nulls":5},""]
["",null,null,"00:00:00",{"$nulls":15},{"$f":"IF(OR(D2850=0,P2850=Presets!$C$67),\"\",IF(S2850=0,ROUNDDOWN(NOW()-'Registry Full'!D2850,0),S2850-D2850))","v":""},{"$nulls":5},""]
["",null,null,"00:00:00",{"$nulls":15},{"$f":"IF(OR(D2851=0,P2851=Presets!$C$67),\"\",IF(S2851=0,ROUNDDOWN(NOW()-'Registry Full'!D2851,0),S2851-D2851))","v":""},{"$nulls":5},""]
["",null,null,"00:00:00",{"$nulls":15},{"$f":"IF(OR(D2852=0,P2852=Presets!$C$67),\"\",IF(S2852=0,ROUNDDOWN(NOW()-'Registry Full'!D2852,0),S2852-D2852))","v":""},{"$nulls":5},""]
["",null,null,"00:00:00",{"$nulls":15},{"$f":"IF(OR(D2853=0,P2853=Presets!$C$67),\"\",IF(S2853=0,ROUNDDOWN(NOW()-'Registry Full'!D2853,0),S2853-D2853))","v":""},{"$nulls":5},""]
["",null,null,"00:00:00",{"$nulls":15},{"$f":"IF(OR(D2854=0,P2854=Presets!$C$67),\"\",IF(S2854=0,ROUNDDOWN(NOW()-'Registry Full'!D2854,0),S2854-D2854))","v":""},{"$nulls":5},""]
["",null,null,"00:00:00",{"$nulls":15},{"$f":"IF(OR(D2855=0,P2855=Presets!$C$67),\"\",IF(S2855=0,ROUNDDOWN(NOW()-'Registry Full'!D2855,0),S2855-D2855))","v":""},{"$nulls":5},""]
["",null,null,"00:00:00",{"$nulls":15},{"$f":"IF(OR(D2856=0,P2856=Presets!$C$67),\"\",IF(S2856=0,ROUNDDOWN(NOW()-'Registry Full'!D2856,0),S2856-D2856))","v":""},{"$nulls":5},""]
["",null,null,"00:00:00",{"$nulls":15},{"$f":"IF(OR(D2857=0,P2857=Presets!$C$67),\"\",IF(S2857=0,ROUNDDOWN(NOW()-'Registry Full'!D2857,0),S2857-D2857))","v":""},{"$nulls":5},""]
["",null,null,"00:00:00",{"$nulls":15},{"$f":"IF(OR(D2858=0,P2858=Presets!$C$67),\"\",IF(S2858=0,ROUNDDOWN(NOW()-'Registry Full'!D2858,0),S2858-D2858))","v":""},{"$nulls":5},""]
["",null,null,"00:00:00",{"$nulls":15},{"$f":"IF(OR(D2859=0,P2859=Presets!$C$67),\"\",IF(S2859=0,ROUNDDOWN(NOW()-'Registry Full'!D2859,0),S2859-D2859))","v":""},{"$nulls":5},""]
["",null,null,"00:00:00",{"$nulls":15},{"$f":"IF(OR(D2860=0,P2860=Presets!$C$67),\"\",IF(S2860=0,ROUNDDOWN(NOW()-'Registry Full'!D2860,0),S2860-D2860))","v":""},{"$nulls":5},""]
["",null,null,"00:00:00",{"$nulls":15},{"$f":"IF(OR(D2861=0,P2861=Presets!$C$67),\"\",IF(S2861=0,ROUNDDOWN(NOW()-'Registry Full'!D2861,0),S2861-D2861))","v":""},{"$nulls":5},""]
["",null,null,"00:00:00",{"$nulls":15},{"$f":"IF(OR(D2862=0,P2862=Presets!$C$67),\"\",IF(S2862=0,ROUNDDOWN(NOW()-'Registry Full'!D2862,0),S2862-D2862))","v":""},{"$nulls":5},""]
["",null,null,"00:00:00",{"$nulls":15},{"$f":"IF(OR(D2863=0,P2863=Presets!$C$67),\"\",IF(S2863=0,ROUNDDOWN(NOW()-'Registry Full'!D2863,0),S2863-D2863))","v":""},{"$nulls":5},""]
["",null,null,"00:00:00",{"$nulls":15},{"$f":"IF(OR(D2864=0,P2864=Presets!$C$67),\"\",IF(S2864=0,ROUNDDOWN(NOW()-'Registry Full'!D2864,0),S2864-D2864))","v":""},{"$nulls":5},""]
["",null,null,"00:00:00",{"$nulls":15},{"$f":"IF(OR(D2865=0,P2865=Presets!$C$67),\"\",IF(S2865=0,ROUNDDOWN(NOW()-'Registry Full'!D2865,0),S2865-D2865))","v":""},{"$nulls":5},""]
["",null,null,"00:00:00",{"$nulls":15},{"$f":"IF(OR(D2866=0,P2866=Presets!$C$67),\"\",IF(S2866=0,ROUNDDOWN(NOW()-'Registry Full'!D2866,0),S2866-D2866))","v":""},{"$nulls":5},""]
["",null,null,"00:00:00",{"$nulls":15},{"$f":"IF(OR(D2867=0,P2867=Presets!$C$67),\"\",IF(S2867=0,ROUNDDOWN(NOW()-'Registry Full'!D2867,0),S2867-D2867))","v":""},{"$nulls":5},""]
["",null,null,"00:00:00",{"$nulls":15},{"$f":"IF(OR(D2868=0,P2868=Presets!$C$67),\"\",IF(S2868=0,ROUNDDOWN(NOW()-'Registry Full'!D2868,0),S2868-D2868))","v":""},{"$nulls":5},""]
["",null,null,"00:00:00",{"$nulls":15},{"$f":"IF(OR(D2869=0,P2869=Presets!$C$67),\"\",IF(S2869=0,ROUNDDOWN(NOW()-'Registry Full'!D2869,0),S2869-D2869))","v":""},{"$nulls":5},""]
["",null,null,"00:00:00",{"$nulls":15},{"$f":"IF(OR(D2870=0,P2870=Presets!$C$67),\"\",IF(S2870=0,ROUNDDOWN(NOW()-'Registry Full'!D2870,0),S2870-D2870))","v":""},{"$nulls":5},""]
["",null,null,"00:00:00",{"$nulls":15},{"$f":"IF(OR(D2871=0,P2871=Presets!$C$67),\"\",IF(S2871=0,ROUNDDOWN(NOW()-'Registry Full'!D2871,0),S2871-D2871))","v":""},{"$nulls":5},""]
["",null,null,"00:00:00",{"$nulls":15},{"$f":"IF(OR(D2872=0,P2872=Presets!$C$67),\"\",IF(S2872=0,ROUNDDOWN(NOW()-'Registry Full'!D2872,0),S2872-D2872))","v":""},{"$nulls":5},""]
["",null,null,"00:00:00",{"$nulls":15},{"$f":"IF(OR(D2873=0,P2873=Presets!$C$67),\"\",IF(S2873=0,ROUNDDOWN(NOW()-'Registry Full'!D2873,0),S2873-D2873))","v":""},{"$nulls":5},""]
["",null,null,"00:00:00",{"$nulls":15},{"$f":"IF(OR(D2874=0,P2874=Presets!$C$67),\"\",IF(S2874=0,ROUNDDOWN(NOW()-'Registry Full'!D2874,0),S2874-D2874))","v":""},{"$nulls":5},""]
["",null,null,"00:00:00",{"$nulls":15},{"$f":"IF(OR(D2875=0,P2875=Presets!$C$67),\"\",IF(S2875=0,ROUNDDOWN(NOW()-'Registry Full'!D2875,0),S2875-D2875))","v":""},{"$nulls":5},""]
["",null,null,"00:00:00",{"$nulls":15},{"$f":"IF(OR(D2876=0,P2876=Presets!$C$67),\"\",IF(S2876=0,ROUNDDOWN(NOW()-'Registry Full'!D2876,0),S2876-D2876))","v":""},{"$nulls":5},""]
["",null,null,"00:00:00",{"$nulls":15},{"$f":"IF(OR(D2877=0,P2877=Presets!$C$67),\"\",IF(S2877=0,ROUNDDOWN(NOW()-'Registry Full'!D2877,0),S2877-D2877))","v":""},{"$nulls":5},""]
["",null,null,"00:00:00",{"$nulls":15},{"$f":"IF(OR(D2878=0,P2878=Presets!$C$67),\"\",IF(S2878=0,ROUNDDOWN(NOW()-'Registry Full'!D2878,0),S2878-D2878))","v":""},{"$nulls":5},""]
["",null,null,"00:00:00",{"$nulls":15},{"$f":"IF(OR(D2879=0,P2879=Presets!$C$67),\"\",IF(S2879=0,ROUNDDOWN(NOW()-'Registry Full'!D2879,0),S2879-D2879))","v":""},{"$nulls":5},""]
["",null,null,"00:00:00",{"$nulls":15},{"$f":"IF(OR(D2880=0,P2880=Presets!$C$67),\"\",IF(S2880=0,ROUNDDOWN(NOW()-'Registry Full'!D2880,0),S2880-D2880))","v":""},{"$nulls":5},""]
["",null,null,"00:00:00",{"$nulls":15},{"$f":"IF(OR(D2881=0,P2881=Presets!$C$67),\"\",IF(S2881=0,ROUNDDOWN(NOW()-'Registry Full'!D2881,0),S2881-D2881))","v":""},{"$nulls":5},""]
["",null,null,"00:00:00",{"$nulls":15},{"$f":"IF(OR(D2882=0,P2882=Presets!$C$67),\"\",IF(S2882=0,ROUNDDOWN(NOW()-'Registry Full'!D2882,0),S2882-D2882))","v":""},{"$nulls":5},""]
["",null,null,"00:00:00",{"$nulls":15},{"$f":"IF(OR(D2883=0,P2883=Presets!$C$67),\"\",IF(S2883=0,ROUNDDOWN(NOW()-'Registry Full'!D2883,0),S2883-D2883))","v":""},{"$nulls":5},""]
["",null,null,"00:00:00",{"$nulls":15},{"$f":"IF(OR(D2884=0,P2884=Presets!$C$67),\"\",IF(S2884=0,ROUNDDOWN(NOW()-'Registry Full'!D2884,0),S2884-D2884))","v":""},{"$nulls":5},""]
["",null,null,"00:00:00",{"$nulls":15},{"$f":"IF(OR(D2885=0,P2885=Presets!$C$67),\"\",IF(S2885=0,ROUNDDOWN(NOW()-'Registry Full'!D2885,0),S2885-D2885))","v":""},{"$nulls":5},""]
["",null,null,{"$f":"IF(C2886=\"\",0,VALUE(RIGHT(C2886,LEN(C2886)-FIND(\"/\",C2886,LEN(C2886)-10))))","v":"00:00:00"},{"$nulls":15},{"$f":"IF(OR(D2886=0,P2886=Presets!$C$67),\"\",IF(S2886=0,ROUNDDOWN(NOW()-'Registry Full'!D2886,0),S2886-D2886))","v":""},{"$nulls":5},""]
["",null,null,"00:00:00",{"$nulls":15},{"$f":"IF(OR(D2887=0,P2887=Presets!$C$67),\"\",IF(S2887=0,ROUNDDOWN(NOW()-'Registry Full'!D2887,0),S2887-D2887))","v":""},{"$nulls":5},{"$f":"IF(OR(D2887=0,Y2887=0),\"\",Y2887-D2887)","v":""}]
["",null,null,"00:00:00",{"$nulls":15},{"$f":"IF(OR(D2888=0,P2888=Presets!$C$67),\"\",IF(S2888=0,ROUNDDOWN(NOW()-'Registry Full'!D2888,0),S2888-D2888))","v":""},{"$nulls":5},""]
["",null,null,"00:00:00",{"$nulls":15},{"$f":"IF(OR(D2889=0,P2889=Presets!$C$67),\"\",IF(S2889=0,ROUNDDOWN(NOW()-'Registry Full'!D2889,0),S2889-D2889))","v":""},{"$nulls":5},""]
["",null,null,"00:00:00",{"$nulls":15},{"$f":"IF(OR(D2890=0,P2890=Presets!$C$67),\"\",IF(S2890=0,ROUNDDOWN(NOW()-'Registry Full'!D2890,0),S2890-D2890))","v":""},{"$nulls":5},""]
["",null,null,"00:00:00",{"$nulls":15},{"$f":"IF(OR(D2891=0,P2891=Presets!$C$67),\"\",IF(S2891=0,ROUNDDOWN(NOW()-'Registry Full'!D2891,0),S2891-D2891))","v":""},{"$nulls":5},""]
["",null,null,"00:00:00",{"$nulls":15},{"$f":"IF(OR(D2892=0,P2892=Presets!$C$67),\"\",IF(S2892=0,ROUNDDOWN(NOW()-'Registry Full'!D2892,0),S2892-D2892))","v":""},{"$nulls":5},""]
["",null,null,"00:00:00",{"$nulls":15},{"$f":"IF(OR(D2893=0,P2893=Presets!$C$67),\"\",IF(S2893=0,ROUNDDOWN(NOW()-'Registry Full'!D2893,0),S2893-D2893))","v":""},{"$nulls":5},""]
["",null,null,"00:00:00",{"$nulls":15},{"$f":"IF(OR(D2894=0,P2894=Presets!$C$67),\"\",IF(S2894=0,ROUNDDOWN(NOW()-'Registry Full'!D2894,0),S2894-D2894))","v":""},{"$nulls":5},""]
["",null,null,"00:00:00",{"$nulls":15},{"$f":"IF(OR(D2895=0,P2895=Presets!$C$67),\"\",IF(S2895=0,ROUNDDOWN(NOW()-'Registry Full'!D2895,0),S2895-D2895))","v":""},{"$nulls":5},""]
["",null,null,"00:00:00",{"$nulls":15},{"$f":"IF(OR(D2896=0,P2896=Presets!$C$67),\"\",IF(S2896=0,ROUNDDOWN(NOW()-'Registry Full'!D2896,0),S2896-D2896))","v":""},{"$nulls":5},""]
["",null,null,"00:00:00",{"$nulls":15},{"$f":"IF(OR(D2897=0,P2897=Presets!$C$67),\"\",IF(S2897=0,ROUNDDOWN(NOW()-'Registry Full'!D2897,0),S2897-D2897))","v":""},{"$nulls":5},""]
["",null,null,"00:00:00",{"$nulls":15},{"$f":"IF(OR(D2898=0,P2898=Presets!$C$67),\"\",IF(S2898=0,ROUNDDOWN(NOW()-'Registry Full'!D2898,0),S2898-D2898))","v":""},{"$nulls":5},""]
["",null,null,"00:00:00",{"$nulls":15},{"$f":"IF(OR(D2899=0,P2899=Presets!$C$67),\"\",IF(S2899=0,ROUNDDOWN(NOW()-'Registry Full'!D2899,0),S2899-D2899))","v":""},{"$nulls":5},""]
["",null,null,"00:00:00",{"$nulls":15},{"$f":"IF(OR(D2900=0,P2900=Presets!$C$67),\"\",IF(S2900=0,ROUNDDOWN(NOW()-'Registry Full'!D2900,0),S2900-D2900))","v":""},{"$nulls":5},""]
["",null,null,"00:00:00",{"$nulls":15},{"$f":"IF(OR(D2901=0,P2901=Presets!$C$67),\"\",IF(S2901=0,ROUNDDOWN(NOW()-'Registry Full'!D2901,0),S2901-D2901))","v":""},{"$nulls":5},""]
["",null,null,"00:00:00",{"$nulls":15},{"$f":"IF(OR(D2902=0,P2902=Presets!$C$67),\"\",IF(S2902=0,ROUNDDOWN(NOW()-'Registry Full'!D2902,0),S2902-D2902))","v":""},{"$nulls":5},""]
[{"$f":"IF(COUNTA(B2903)<>0,A2902+1,\"\")","v":""},null,null,"00:00:00",{"$nulls":15},{"$f":"IF(OR(D2903=0,P2903=Presets!$C$67),\"\",IF(S2903=0,ROUNDDOWN(NOW()-'Registry Full'!D2903,0),S2903-D2903))","v":""},{"$nulls":5},""]
["",null,null,"00:00:00",{"$nulls":15},{"$f":"IF(OR(D2904=0,P2904=Presets!$C$67),\"\",IF(S2904=0,ROUNDDOWN(NOW()-'Registry Full'!D2904,0),S2904-D2904))","v":""},{"$nulls":5},""]
["",null,null,"00:00:00",{"$nulls":15},{"$f":"IF(OR(D2905=0,P2905=Presets!$C$67),\"\",IF(S2905=0,ROUNDDOWN(NOW()-'Registry Full'!D2905,0),S2905-D2905))","v":""},{"$nulls":5},""]
["",null,null,"00:00:00",{"$nulls":15},{"$f":"IF(OR(D2906=0,P2906=Presets!$C$67),\"\",IF(S2906=0,ROUNDDOWN(NOW()-'Registry Full'!D2906,0),S2906-D2906))","v":""},{"$nulls":5},""]
["",null,null,"00:00:00",{"$nulls":15},{"$f":"IF(OR(D2907=0,P2907=Presets!$C$67),\"\",IF(S2907=0,ROUNDDOWN(NOW()-'Registry Full'!D2907,0),S2907-D2907))","v":""},{"$nulls":5},""]
["",null,null,"00:00:00",{"$nulls":15},{"$f":"IF(OR(D2908=0,P2908=Presets!$C$67),\"\",IF(S2908=0,ROUNDDOWN(NOW()-'Registry Full'!D2908,0),S2908-D2908))","v":""},{"$nulls":5},""]
["",null,null,"00:00:00",{"$nulls":15},{"$f":"IF(OR(D2909=0,P2909=Presets!$C$67),\"\",IF(S2909=0,ROUNDDOWN(NOW()-'Registry Full'!D2909,0),S2909-D2909))","v":""},{"$nulls":5},""]
["",null,null,"00:00:00",{"$nulls":15},{"$f":"IF(OR(D2910=0,P2910=Presets!$C$67),\"\",IF(S2910=0,ROUNDDOWN(NOW()-'Registry Full'!D2910,0),S2910-D2910))","v":""},{"$nulls":5},""]
["",null,null,"00:00:00",{"$nulls":15},{"$f":"IF(OR(D2911=0,P2911=Presets!$C$67),\"\",IF(S2911=0,ROUNDDOWN(NOW()-'Registry Full'!D2911,0),S2911-D2911))","v":""},{"$nulls":5},""]
["",null,null,"00:00:00",{"$nulls":15},{"$f":"IF(OR(D2912=0,P2912=Presets!$C$67),\"\",IF(S2912=0,ROUNDDOWN(NOW()-'Registry Full'!D2912,0),S2912-D2912))","v":""},{"$nulls":5},""]
["",null,null,"00:00:00",{"$nulls":15},{"$f":"IF(OR(D2913=0,P2913=Presets!$C$67),\"\",IF(S2913=0,ROUNDDOWN(NOW()-'Registry Full'!D2913,0),S2913-D2913))","v":""},{"$nulls":5},""]
["",null,null,"00:00:00",{"$nulls":15},{"$f":"IF(OR(D2914=0,P2914=Presets!$C$67),\"\",IF(S2914=0,ROUNDDOWN(NOW()-'Registry Full'!D2914,0),S2914-D2914))","v":""},{"$nulls":5},""]
["",null,null,"00:00:00",{"$nulls":15},{"$f":"IF(OR(D2915=0,P2915=Presets!$C$67),\"\",IF(S2915=0,ROUNDDOWN(NOW()-'Registry Full'!D2915,0),S2915-D2915))","v":""},{"$nulls":5},""]
["",null,null,"00:00:00",{"$nulls":15},{"$f":"IF(OR(D2916=0,P2916=Presets!$C$67),\"\",IF(S2916=0,ROUNDDOWN(NOW()-'Registry Full'!D2916,0),S2916-D2916))","v":""},{"$nulls":5},""]
["",null,null,"00:00:00",{"$nulls":15},{"$f":"IF(OR(D2917=0,P2917=Presets!$C$67),\"\",IF(S2917=0,ROUNDDOWN(NOW()-'Registry Full'!D2917,0),S2917-D2917))","v":""},{"$nulls":5},""]
["",null,null,"00:00:00",{"$nulls":15},{"$f":"IF(OR(D2918=0,P2918=Presets!$C$67),\"\",IF(S2918=0,ROUNDDOWN(NOW()-'Registry Full'!D2918,0),S2918-D2918))","v":""},{"$nulls":5},""]
["",null,null,"00:00:00",{"$nulls":15},{"$f":"IF(OR(D2919=0,P2919=Presets!$C$67),\"\",IF(S2919=0,ROUNDDOWN(NOW()-'Registry Full'!D2919,0),S2919-D2919))","v":""},{"$nulls":5},""]
["",null,null,"00:00:00",{"$nulls":15},{"$f":"IF(OR(D2920=0,P2920=Presets!$C$67),\"\",IF(S2920=0,ROUNDDOWN(NOW()-'Registry Full'!D2920,0),S2920-D2920))","v":""},{"$nulls":5},""]
["",null,null,"00:00:00",{"$nulls":15},{"$f":"IF(OR(D2921=0,P2921=Presets!$C$67),\"\",IF(S2921=0,ROUNDDOWN(NOW()-'Registry Full'!D2921,0),S2921-D2921))","v":""},{"$nulls":5},""]
["",null,null,"00:00:00",{"$nulls":15},{"$f":"IF(OR(D2922=0,P2922=Presets!$C$67),\"\",IF(S2922=0,ROUNDDOWN(NOW()-'Registry Full'!D2922,0),S2922-D2922))","v":""},{"$nulls":5},""]
["",null,null,"00:00:00",{"$nulls":15},{"$f":"IF(OR(D2923=0,P2923=Presets!$C$67),\"\",IF(S2923=0,ROUNDDOWN(NOW()-'Registry Full'!D2923,0),S2923-D2923))","v":""},{"$nulls":5},""]
["",null,null,"00:00:00",{"$nulls":15},{"$f":"IF(OR(D2924=0,P2924=Presets!$C$67),\"\",IF(S2924=0,ROUNDDOWN(NOW()-'Registry Full'!D2924,0),S2924-D2924))","v":""},{"$nulls":5},""]
["",null,null,"00:00:00",{"$nulls":15},{"$f":"IF(OR(D2925=0,P2925=Presets!$C$67),\"\",IF(S2925=0,ROUNDDOWN(NOW()-'Registry Full'!D2925,0),S2925-D2925))","v":""},{"$nulls":5},""]
["",null,null,"00:00:00",{"$nulls":15},{"$f":"IF(OR(D2926=0,P2926=Presets!$C$67),\"\",IF(S2926=0,ROUNDDOWN(NOW()-'Registry Full'!D2926,0),S2926-D2926))","v":""},{"$nulls":5},""]
["",null,null,"00:00:00",{"$nulls":15},{"$f":"IF(OR(D2927=0,P2927=Presets!$C$67),\"\",IF(S2927=0,ROUNDDOWN(NOW()-'Registry Full'!D2927,0),S2927-D2927))","v":""},{"$nulls":5},""]
["",null,null,"00:00:00",{"$nulls":15},{"$f":"IF(OR(D2928=0,P2928=Presets!$C$67),\"\",IF(S2928=0,ROUNDDOWN(NOW()-'Registry Full'!D2928,0),S2928-D2928))","v":""},{"$nulls":5},""]
["",null,null,"00:00:00",{"$nulls":15},{"$f":"IF(OR(D2929=0,P2929=Presets!$C$67),\"\",IF(S2929=0,ROUNDDOWN(NOW()-'Registry Full'!D2929,0),S2929-D2929))","v":""},{"$nulls":5},""]
["",null,null,"00:00:00",{"$nulls":15},{"$f":"IF(OR(D2930=0,P2930=Presets!$C$67),\"\",IF(S2930=0,ROUNDDOWN(NOW()-'Registry Full'!D2930,0),S2930-D2930))","v":""},{"$nulls":5},""]
["",null,null,"00:00:00",{"$nulls":15},{"$f":"IF(OR(D2931=0,P2931=Presets!$C$67),\"\",IF(S2931=0,ROUNDDOWN(NOW()-'Registry Full'!D2931,0),S2931-D2931))","v":""},{"$nulls":5},""]
["",null,null,"00:00:00",{"$nulls":15},{"$f":"IF(OR(D2932=0,P2932=Presets!$C$67),\"\",IF(S2932=0,ROUNDDOWN(NOW()-'Registry Full'!D2932,0),S2932-D2932))","v":""},{"$nulls":5},""]
["",null,null,"00:00:00",{"$nulls":15},{"$f":"IF(OR(D2933=0,P2933=Presets!$C$67),\"\",IF(S2933=0,ROUNDDOWN(NOW()-'Registry Full'!D2933,0),S2933-D2933))","v":""},{"$nulls":5},""]
["",null,null,"00:00:00",{"$nulls":15},{"$f":"IF(OR(D2934=0,P2934=Presets!$C$67),\"\",IF(S2934=0,ROUNDDOWN(NOW()-'Registry Full'!D2934,0),S2934-D2934))","v":""},{"$nulls":5},""]
["",null,null,"00:00:00",{"$nulls":15},{"$f":"IF(OR(D2935=0,P2935=Presets!$C$67),\"\",IF(S2935=0,ROUNDDOWN(NOW()-'Registry Full'!D2935,0),S2935-D2935))","v":""},{"$nulls":5},""]
["",null,null,"00:00:00",{"$nulls":15},{"$f":"IF(OR(D2936=0,P2936=Presets!$C$67),\"\",IF(S2936=0,ROUNDDOWN(NOW()-'Registry Full'!D2936,0),S2936-D2936))","v":""},{"$nulls":5},""]
["",null,null,"00:00:00",{"$nulls":15},{"$f":"IF(OR(D2937=0,P2937=Presets!$C$67),\"\",IF(S2937=0,ROUNDDOWN(NOW()-'Registry Full'!D2937,0),S2937-D2937))","v":""},{"$nulls":5},""]
["",null,null,"00:00:00",{"$nulls":15},{"$f":"IF(OR(D2938=0,P2938=Presets!$C$67),\"\",IF(S2938=0,ROUNDDOWN(NOW()-'Registry Full'!D2938,0),S2938-D2938))","v":""},{"$nulls":5},""]
["",null,null,"00:00:00",{"$nulls":15},{"$f":"IF(OR(D2939=0,P2939=Presets!$C$67),\"\",IF(S2939=0,ROUNDDOWN(NOW()-'Registry Full'!D2939,0),S2939-D2939))","v":""},{"$nulls":5},""]
["",null,null,"00:00:00",{"$nulls":15},{"$f":"IF(OR(D2940=0,P2940=Presets!$C$67),\"\",IF(S2940=0,ROUNDDOWN(NOW()-'Registry Full'!D2940,0),S2940-D2940))","v":""},{"$nulls":5},""]
["",null,null,"00:00:00",{"$nulls":15},{"$f":"IF(OR(D2941=0,P2941=Presets!$C$67),\"\",IF(S2941=0,ROUNDDOWN(NOW()-'Registry Full'!D2941,0),S2941-D2941))","v":""},{"$nulls":5},""]
["",null,null,"00:00:00",{"$nulls":15},{"$f":"IF(OR(D2942=0,P2942=Presets!$C$67),\"\",IF(S2942=0,ROUNDDOWN(NOW()-'Registry Full'!D2942,0),S2942-D2942))","v":""},{"$nulls":5},""]
["",null,null,"00:00:00",{"$nulls":15},{"$f":"IF(OR(D2943=0,P2943=Presets!$C$67),\"\",IF(S2943=0,ROUNDDOWN(NOW()-'Registry Full'!D2943,0),S2943-D2943))","v":""},{"$nulls":5},""]
["",null,null,"00:00:00",{"$nulls":15},{"$f":"IF(OR(D2944=0,P2944=Presets!$C$67),\"\",IF(S2944=0,ROUNDDOWN(NOW()-'Registry Full'!D2944,0),S2944-D2944))","v":""},{"$nulls":5},""]
["",null,null,"00:00:00",{"$nulls":15},{"$f":"IF(OR(D2945=0,P2945=Presets!$C$67),\"\",IF(S2945=0,ROUNDDOWN(NOW()-'Registry Full'!D2945,0),S2945-D2945))","v":""},{"$nulls":5},""]
["",null,null,"00:00:00",{"$nulls":15},{"$f":"IF(OR(D2946=0,P2946=Presets!$C$67),\"\",IF(S2946=0,ROUNDDOWN(NOW()-'Registry Full'!D2946,0),S2946-D2946))","v":""},{"$nulls":5},""]
["",null,null,"00:00:00",{"$nulls":15},{"$f":"IF(OR(D2947=0,P2947=Presets!$C$67),\"\",IF(S2947=0,ROUNDDOWN(NOW()-'Registry Full'!D2947,0),S2947-D2947))","v":""},{"$nulls":5},""]
["",null,null,"00:00:00",{"$nulls":15},{"$f":"IF(OR(D2948=0,P2948=Presets!$C$67),\"\",IF(S2948=0,ROUNDDOWN(NOW()-'Registry Full'!D2948,0),S2948-D2948))","v":""},{"$nulls":5},""]
["",null,null,"00:00:00",{"$nulls":15},{"$f":"IF(OR(D2949=0,P2949=Presets!$C$67),\"\",IF(S2949=0,ROUNDDOWN(NOW()-'Registry Full'!D2949,0),S2949-D2949))","v":""},{"$nulls":5},""]
["",null,null,{"$f":"IF(C2950=\"\",0,VALUE(RIGHT(C2950,LEN(C2950)-FIND(\"/\",C2950,LEN(C2950)-10))))","v":"00:00:00"},{"$nulls":15},{"$f":"IF(OR(D2950=0,P2950=Presets!$C$67),\"\",IF(S2950=0,ROUNDDOWN(NOW()-'Registry Full'!D2950,0),S2950-D2950))","v":""},{"$nulls":5},""]
["",null,null,"00:00:00",{"$nulls":15},{"$f":"IF(OR(D2951=0,P2951=Presets!$C$67),\"\",IF(S2951=0,ROUNDDOWN(NOW()-'Registry Full'!D2951,0),S2951-D2951))","v":""},{"$nulls":5},{"$f":"IF(OR(D2951=0,Y2951=0),\"\",Y2951-D2951)","v":""}]
["",null,null,"00:00:00",{"$nulls":15},{"$f":"IF(OR(D2952=0,P2952=Presets!$C$67),\"\",IF(S2952=0,ROUNDDOWN(NOW()-'Registry Full'!D2952,0),S2952-D2952))","v":""},{"$nulls":5},""]
["",null,null,"00:00:00",{"$nulls":15},{"$f":"IF(OR(D2953=0,P2953=Presets!$C$67),\"\",IF(S2953=0,ROUNDDOWN(NOW()-'Registry Full'!D2953,0),S2953-D2953))","v":""},{"$nulls":5},""]
["",null,null,"00:00:00",{"$nulls":15},{"$f":"IF(OR(D2954=0,P2954=Presets!$C$67),\"\",IF(S2954=0,ROUNDDOWN(NOW()-'Registry Full'!D2954,0),S2954-D2954))","v":""},{"$nulls":5},""]
["",null,null,"00:00:00",{"$nulls":15},{"$f":"IF(OR(D2955=0,P2955=Presets!$C$67),\"\",IF(S2955=0,ROUNDDOWN(NOW()-'Registry Full'!D2955,0),S2955-D2955))","v":""},{"$nulls":5},""]
["",null,null,"00:00:00",{"$nulls":15},{"$f":"IF(OR(D2956=0,P2956=Presets!$C$67),\"\",IF(S2956=0,ROUNDDOWN(NOW()-'Registry Full'!D2956,0),S2956-D2956))","v":""},{"$nulls":5},""]
["",null,null,"00:00:00",{"$nulls":15},{"$f":"IF(OR(D2957=0,P2957=Presets!$C$67),\"\",IF(S2957=0,ROUNDDOWN(NOW()-'Registry Full'!D2957,0),S2957-D2957))","v":""},{"$nulls":5},""]
["",null,null,"00:00:00",{"$nulls":15},{"$f":"IF(OR(D2958=0,P2958=Presets!$C$67),\"\",IF(S2958=0,ROUNDDOWN(NOW()-'Registry Full'!D2958,0),S2958-D2958))","v":""},{"$nulls":5},""]
["",null,null,"00:00:00",{"$nulls":15},{"$f":"IF(OR(D2959=0,P2959=Presets!$C$67),\"\",IF(S2959=0,ROUNDDOWN(NOW()-'Registry Full'!D2959,0),S2959-D2959))","v":""},{"$nulls":5},""]
["",null,null,"00:00:00",{"$nulls":15},{"$f":"IF(OR(D2960=0,P2960=Presets!$C$67),\"\",IF(S2960=0,ROUNDDOWN(NOW()-'Registry Full'!D2960,0),S2960-D2960))","v":""},{"$nulls":5},""]
["",null,null,"00:00:00",{"$nulls":15},{"$f":"IF(OR(D2961=0,P2961=Presets!$C$67),\"\",IF(S2961=0,ROUNDDOWN(NOW()-'Registry Full'!D2961,0),S2961-D2961))","v":""},{"$nulls":5},""]
["",null,null,"00:00:00",{"$nulls":15},{"$f":"IF(OR(D2962=0,P2962=Presets!$C$67),\"\",IF(S2962=0,ROUNDDOWN(NOW()-'Registry Full'!D2962,0),S2962-D2962))","v":""},{"$nulls":5},""]
["",null,null,"00:00:00",{"$nulls":15},{"$f":"IF(OR(D2963=0,P2963=Presets!$C$67),\"\",IF(S2963=0,ROUNDDOWN(NOW()-'Registry Full'!D2963,0),S2963-D2963))","v":""},{"$nulls":5},""]
["",null,null,"00:00:00",{"$nulls":15},{"$f":"IF(OR(D2964=0,P2964=Presets!$C$67),\"\",IF(S2964=0,ROUNDDOWN(NOW()-'Registry Full'!D2964,0),S2964-D2964))","v":""},{"$nulls":5},""]
["",null,null,"00:00:00",{"$nulls":15},{"$f":"IF(OR(D2965=0,P2965=Presets!$C$67),\"\",IF(S2965=0,ROUNDDOWN(NOW()-'Registry Full'!D2965,0),S2965-D2965))","v":""},{"$nulls":5},""]
["",null,null,"00:00:00",{"$nulls":15},{"$f":"IF(OR(D2966=0,P2966=Presets!$C$67),\"\",IF(S2966=0,ROUNDDOWN(NOW()-'Registry Full'!D2966,0),S2966-D2966))","v":""},{"$nulls":5},""]
[{"$f":"IF(COUNTA(B2967)<>0,A2966+1,\"\")","v":""},null,null,"00:00:00",{"$nulls":15},{"$f":"IF(OR(D2967=0,P2967=Presets!$C$67),\"\",IF(S2967=0,ROUNDDOWN(NOW()-'Registry Full'!D2967,0),S2967-D2967))","v":""},{"$nulls":5},""]
["",null,null,"00:00:00",{"$nulls":15},{"$f":"IF(OR(D2968=0,P2968=Presets!$C$67),\"\",IF(S2968=0,ROUNDDOWN(NOW()-'Registry Full'!D2968,0),S2968-D2968))","v":""},{"$nulls":5},""]
["",null,null,"00:00:00",{"$nulls":15},{"$f":"IF(OR(D2969=0,P2969=Presets!$C$67),\"\",IF(S2969=0,ROUNDDOWN(NOW()-'Registry Full'!D2969,0),S2969-D2969))","v":""},{"$nulls":5},""]
["",null,null,"00:00:00",{"$nulls":15},{"$f":"IF(OR(D2970=0,P2970=Presets!$C$67),\"\",IF(S2970=0,ROUNDDOWN(NOW()-'Registry Full'!D2970,0),S2970-D2970))","v":""},{"$nulls":5},""]
["",null,null,"00:00:00",{"$nulls":15},{"$f":"IF(OR(D2971=0,P2971=Presets!$C$67),\"\",IF(S2971=0,ROUNDDOWN(NOW()-'Registry Full'!D2971,0),S2971-D2971))","v":""},{"$nulls":5},""]
["",null,null,"00:00:00",{"$nulls":15},{"$f":"IF(OR(D2972=0,P2972=Presets!$C$67),\"\",IF(S2972=0,ROUNDDOWN(NOW()-'Registry Full'!D2972,0),S2972-D2972))","v":""},{"$nulls":5},""]
["",null,null,"00:00:00",{"$nulls":15},{"$f":"IF(OR(D2973=0,P2973=Presets!$C$67),\"\",IF(S2973=0,ROUNDDOWN(NOW()-'Registry Full'!D2973,0),S2973-D2973))","v":""},{"$nulls":5},""]
["",null,null,"00:00:00",{"$nulls":15},{"$f":"IF(OR(D2974=0,P2974=Presets!$C$67),\"\",IF(S2974=0,ROUNDDOWN(NOW()-'Registry Full'!D2974,0),S2974-D2974))","v":""},{"$nulls":5},""]
["",null,null,"00:00:00",{"$nulls":15},{"$f":"IF(OR(D2975=0,P2975=Presets!$C$67),\"\",IF(S2975=0,ROUNDDOWN(NOW()-'Registry Full'!D2975,0),S2975-D2975))","v":""},{"$nulls":5},""]
["",null,null,"00:00:00",{"$nulls":15},{"$f":"IF(OR(D2976=0,P2976=Presets!$C$67),\"\",IF(S2976=0,ROUNDDOWN(NOW()-'Registry Full'!D2976,0),S2976-D2976))","v":""},{"$nulls":5},""]
["",null,null,"00:00:00",{"$nulls":15},{"$f":"IF(OR(D2977=0,P2977=Presets!$C$67),\"\",IF(S2977=0,ROUNDDOWN(NOW()-'Registry Full'!D2977,0),S2977-D2977))","v":""},{"$nulls":5},""]
["",null,null,"00:00:00",{"$nulls":15},{"$f":"IF(OR(D2978=0,P2978=Presets!$C$67),\"\",IF(S2978=0,ROUNDDOWN(NOW()-'Registry Full'!D2978,0),S2978-D2978))","v":""},{"$nulls":5},""]
["",null,null,"00:00:00",{"$nulls":15},{"$f":"IF(OR(D2979=0,P2979=Presets!$C$67),\"\",IF(S2979=0,ROUNDDOWN(NOW()-'Registry Full'!D2979,0),S2979-D2979))","v":""},{"$nulls":5},""]
["",null,null,"00:00:00",{"$nulls":15},{"$f":"IF(OR(D2980=0,P2980=Presets!$C$67),\"\",IF(S2980=0,ROUNDDOWN(NOW()-'Registry Full'!D2980,0),S2980-D2980))","v":""},{"$nulls":5},""]
["",null,null,"00:00:00",{"$nulls":15},{"$f":"IF(OR(D2981=0,P2981=Presets!$C$67),\"\",IF(S2981=0,ROUNDDOWN(NOW()-'Registry Full'!D2981,0),S2981-D2981))","v":""},{"$nulls":5},""]
["",null,null,"00:00:00",{"$nulls":15},{"$f":"IF(OR(D2982=0,P2982=Presets!$C$67),\"\",IF(S2982=0,ROUNDDOWN(NOW()-'Registry Full'!D2982,0),S2982-D2982))","v":""},{"$nulls":5},""]
["",null,null,"00:00:00",{"$nulls":15},{"$f":"IF(OR(D2983=0,P2983=Presets!$C$67),\"\",IF(S2983=0,ROUNDDOWN(NOW()-'Registry Full'!D2983,0),S2983-D2983))","v":""},{"$nulls":5},""]
["",null,null,"00:00:00",{"$nulls":15},{"$f":"IF(OR(D2984=0,P2984=Presets!$C$67),\"\",IF(S2984=0,ROUNDDOWN(NOW()-'Registry Full'!D2984,0),S2984-D2984))","v":""},{"$nulls":5},""]
["",null,null,"00:00:00",{"$nulls":15},{"$f":"IF(OR(D2985=0,P2985=Presets!$C$67),\"\",IF(S2985=0,ROUNDDOWN(NOW()-'Registry Full'!D2985,0),S2985-D2985))","v":""},{"$nulls":5},""]
["",null,null,"00:00:00",{"$nulls":15},{"$f":"IF(OR(D2986=0,P2986=Presets!$C$67),\"\",IF(S2986=0,ROUNDDOWN(NOW()-'Registry Full'!D2986,0),S2986-D2986))","v":""},{"$nulls":5},""]
["",null,null,"00:00:00",{"$nulls":15},{"$f":"IF(OR(D2987=0,P2987=Presets!$C$67),\"\",IF(S2987=0,ROUNDDOWN(NOW()-'Registry Full'!D2987,0),S2987-D2987))","v":""},{"$nulls":5},""]
["",null,null,"00:00:00",{"$nulls":15},{"$f":"IF(OR(D2988=0,P2988=Presets!$C$67),\"\",IF(S2988=0,ROUNDDOWN(NOW()-'Registry Full'!D2988,0),S2988-D2988))","v":""},{"$nulls":5},""]
["",null,null,"00:00:00",{"$nulls":15},{"$f":"IF(OR(D2989=0,P2989=Presets!$C$67),\"\",IF(S2989=0,ROUNDDOWN(NOW()-'Registry Full'!D2989,0),S2989-D2989))","v":""},{"$nulls":5},""]
["",null,null,"00:00:00",{"$nulls":15},{"$f":"IF(OR(D2990=0,P2990=Presets!$C$67),\"\",IF(S2990=0,ROUNDDOWN(NOW()-'Registry Full'!D2990,0),S2990-D2990))","v":""},{"$nulls":5},""]
["",null,null,"00:00:00",{"$nulls":15},{"$f":"IF(OR(D2991=0,P2991=Presets!$C$67),\"\",IF(S2991=0,ROUNDDOWN(NOW()-'Registry Full'!D2991,0),S2991-D2991))","v":""},{"$nulls":5},""]
["",null,null,"00:00:00",{"$nulls":15},{"$f":"IF(OR(D2992=0,P2992=Presets!$C$67),\"\",IF(S2992=0,ROUNDDOWN(NOW()-'Registry Full'!D2992,0),S2992-D2992))","v":""},{"$nulls":5},""]
["",null,null,"00:00:00",{"$nulls":15},{"$f":"IF(OR(D2993=0,P2993=Presets!$C$67),\"\",IF(S2993=0,ROUNDDOWN(NOW()-'Registry Full'!D2993,0),S2993-D2993))","v":""},{"$nulls":5},""]
["",null,null,"00:00:00",{"$nulls":15},{"$f":"IF(OR(D2994=0,P2994=Presets!$C$67),\"\",IF(S2994=0,ROUNDDOWN(NOW()-'Registry Full'!D2994,0),S2994-D2994))","v":""},{"$nulls":5},""]
["",null,null,"00:00:00",{"$nulls":15},{"$f":"IF(OR(D2995=0,P2995=Presets!$C$67),\"\",IF(S2995=0,ROUNDDOWN(NOW()-'Registry Full'!D2995,0),S2995-D2995))","v":""},{"$nulls":5},""]
["",null,null,"00:00:00",{"$nulls":15},{"$f":"IF(OR(D2996=0,P2996=Presets!$C$67),\"\",IF(S2996=0,ROUNDDOWN(NOW()-'Registry Full'!D2996,0),S2996-D2996))","v":""},{"$nulls":5},""]
["",null,null,"00:00:00",{"$nulls":15},{"$f":"IF(OR(D2997=0,P2997=Presets!$C$67),\"\",IF(S2997=0,ROUNDDOWN(NOW()-'Registry Full'!D2997,0),S2997-D2997))","v":""},{"$nulls":5},""]
["",null,null,"00:00:00",{"$nulls":15},{"$f":"IF(OR(D2998=0,P2998=Presets!$C$67),\"\",IF(S2998=0,ROUNDDOWN(NOW()-'Registry Full'!D2998,0),S2998-D2998))","v":""},{"$nulls":5},""]
["",null,null,"00:00:00",{"$nulls":15},{"$f":"IF(OR(D2999=0,P2999=Presets!$C$67),\"\",IF(S2999=0,ROUNDDOWN(NOW()-'Registry Full'!D2999,0),S2999-D2999))","v":""},{"$nulls":5},""]
["",null,null,"00:00:00",{"$nulls":15},{"$f":"IF(OR(D3000=0,P3000=Presets!$C$67),\"\",IF(S3000=0,ROUNDDOWN(NOW()-'Registry Full'!D3000,0),S3000-D3000))","v":""},{"$nulls":5},""]
["",null,null,"00:00:00",{"$nulls":15},{"$f":"IF(OR(D3001=0,P3001=Presets!$C$67),\"\",IF(S3001=0,ROUNDDOWN(NOW()-'Registry Full'!D3001,0),S3001-D3001))","v":""},{"$nulls":5},""]
["",null,null,"00:00:00",{"$nulls":15},{"$f":"IF(OR(D3002=0,P3002=Presets!$C$67),\"\",IF(S3002=0,ROUNDDOWN(NOW()-'Registry Full'!D3002,0),S3002-D3002))","v":""},{"$nulls":5},""]
["",null,null,"00:00:00",{"$nulls":15},{"$f":"IF(OR(D3003=0,P3003=Presets!$C$67),\"\",IF(S3003=0,ROUNDDOWN(NOW()-'Registry Full'!D3003,0),S3003-D3003))","v":""},{"$nulls":5},""]
["",null,null,"00:00:00",{"$nulls":15},{"$f":"IF(OR(D3004=0,P3004=Presets!$C$67),\"\",IF(S3004=0,ROUNDDOWN(NOW()-'Registry Full'!D3004,0),S3004-D3004))","v":""},{"$nulls":5},""]
["",null,null,"00:00:00",{"$nulls":15},{"$f":"IF(OR(D3005=0,P3005=Presets!$C$67),\"\",IF(S3005=0,ROUNDDOWN(NOW()-'Registry Full'!D3005,0),S3005-D3005))","v":""},{"$nulls":5},""]
["",null,null,"00:00:00",{"$nulls":15},{"$f":"IF(OR(D3006=0,P3006=Presets!$C$67),\"\",IF(S3006=0,ROUNDDOWN(NOW()-'Registry Full'!D3006,0),S3006-D3006))","v":""},{"$nulls":5},""]

{"sheet":"Report1","index":2,"n_rows":36,"n_cols":22,"rows_kept":36,"merged":[[0,1,0,21],[1,1,1,21],[2,1,2,21],[3,8,3,9],[3,12,3,13],[4,8,4,9],[4,12,4,13],[7,1,7,21],[9,1,11,1],[9,2,11,2],[9,3,11,3],[9,4,9,6],[9,7,9,11],[9,12,9,14],[9,15,9,19],[9,20,10,21],[10,4,11,4],[10,5,11,5],[10,6,11,6],[10,7,11,7],[10,8,11,8],[10,9,11,9],[10,10,11,10],[10,11,11,11],[10,12,11,12],[10,13,11,13],[10,14,11,14],[10,15,11,15],[10,16,11,16],[10,17,11,17],[10,18,11,18],[10,19,11,19]]}
[null,"СПРАВКА-ОБРАЗЕЦ"]
[null,"за постъпили и обработени жалби от потребители на В и К услуги"]
[null,{"$f":"\"на територията на Асоциация по В и К - \"&Title!$A$14","v":"на територията на Асоциация по В и К - ДОБРИЧ"}]
[{"$nulls":8},{"$f":"IF(I5=IF(ISERROR(EOMONTH(I5,0)),\"грешка\",EOMONTH(I5,-1)+1),\"\",\"грешка!!!\")","v":""},{"$nulls":3},{"$f":"IF(M5=IF(ISERROR(EOMONTH(M5,0)),\"грешка\",EOMONTH(M5,0)),\"\",\"грешка!!!\")","v":""}]
[{"$nulls":7},"от дата:","2021-01-01",null,null,"до дата:","2021-12-31"]
[]
[{"$nulls":21},"стр. 1"]
[null,"Постъпили жалби по Тип на оплакването, Физическо/Юридическо лице, Тип жалба, Резолюция и Статус"]
[]
[null,"№ по ред",{"$f":"Presets!C32","v":"Тип на оплакването"},"Всичко","Физ./Юрид.лице",null,null,"Тип жалба",{"$nulls":4},"Резолюция",null,null,{"$f":"Presets!C65","v":"Статус"},{"$nulls":4},"Разрешен проблем"]
[{"$nulls":4},{"$f":"Presets!$C17","v":"ФЛ"},{"$f":"Presets!$C18","v":"ЮЛ"},"Без ФЛ/ЮЛ",{"$f":"Presets!$C24","v":"Писмена"},{"$f":"Presets!$C25","v":"Електронна"},{"$f":"Presets!$C26","v":"По телефона"},{"$f":"Presets!$C27","v":"\"Лице в лице\""},"Без Тип жалба",{"$f":"Presets!$C59","v":"Да"},{"$f":"Presets!$C60","v":"Не"},"Без Ре-золюция",{"$f":"Presets!$C66","v":"Препратено"},{"$f":"Presets!$C67","v":"Прекратено"},{"$f":"Presets!$C68","v":"Даден ход"},{"$f":"Presets!$C73","v":"Приключило"},"Без Статус"]
[{"$nulls":20},"Да","Не"]
[null,1,{"$f":"IF(Presets!C33=\"\",\"\",Presets!C33)","v":"Присъединяване"},{"$f":"IF($C13=\"\",0,COUNTIFS('Registry Full'!$H$7:$H$3006,$C13,'Registry Full'!$D$7:$D$3006,\">=\"&$I$5,'Registry Full'!$D$7:$D$3006,\"<=\"&$M$5))","v":0},{"$f":"IF($C13=\"\",0,COUNTIFS('Registry Full'!$H$7:$H$3006,$C13,'Registry Full'!$F$7:$F$3006,E$11,'Registry Full'!$D$7:$D$3006,\">=\"&$I$5,'Registry Full'!$D$7:$D$3006,\"<=\"&$M$5))","v":0},{"$f":"IF($C13=\"\",0,COUNTIFS('Registry Full'!$H$7:$H$3006,$C13,'Registry Full'!$F$7:$F$3006,F$11,'Registry Full'!$D$7:$D$3006,\">=\"&$I$5,'Registry Full'!$D$7:$D$3006,\"<=\"&$M$5))","v":0},{"$f":"$D13-(E13+F13)","v":0},{"$f":"IF($C13=\"\",0,COUNTIFS('Registry Full'!$H$7:$H$3006,$C13,'Registry Full'!$G$7:$G$3006,H$11,'Registry Full'!$D$7:$D$3006,\">=\"&$I$5,'Registry Full'!$D$7:$D$3006,\"<=\"&$M$5))","v":0},{"$f":"IF($C13=\"\",0,COUNTIFS('Registry Full'!$H$7:$H$3006,$C13,'Registry Full'!$G$7:$G$3006,I$11,'Registry Full'!$D$7:$D$3006,\">=\"&$I$5,'Registry Full'!$D$7:$D$3006,\"<=\"&$M$5))","v":0},{"$f":"IF($C13=\"\",0,COUNTIFS('Registry Full'!$H$7:$H$3006,$C13,'Registry Full'!$G$7:$G$3006,J$11,'Registry Full'!$D$7:$D$3006,\">=\"&$I$5,'Registry Full'!$D$7:$D$3006,\"<=\"&$M$5))","v":0},{"$f":"IF($C13=\"\",0,COUNTIFS('Registry Full'!$H$7:$H$3006,$C13,'Registry Full'!$G$7:$G$3006,K$11,'Registry Full'!$D$7:$D$3006,\">=\"&$I$5,'Registry Full'!$D$7:$D$3006,\"<=\"&$M$5))","v":0},{"$f":"$D13-(H13+I13+J13+K13)","v":0},{"$f":"IF($C13=\"\",0,COUNTIFS('Registry Full'!$H$7:$H$3006,$C13,'Registry Full'!$N$7:$N$3006,M$11,'Registry Full'!$D$7:$D$3006,\">=\"&$I$5,'Registry Full'!$D$7:$D$3006,\"<=\"&$M$5))","v":0},{"$f":"IF($C13=\"\",0,COUNTIFS('Registry Full'!$H$7:$H$3006,$C13,'Registry Full'!$N$7:$N$3006,N$11,'Registry Full'!$D$7:$D$3006,\">=\"&$I$5,'Registry Full'!$D$7:$D$3006,\"<=\"&$M$5))","v":0},{"$f":"$D13-(M13+N13)","v":0},{"$f":"IF($C13=\"\",0,COUNTIFS('Registry Full'!$H$7:$H$3006,$C13,'Registry Full'!$P$7:$P$3006,P$11,'Registry Full'!$D$7:$D$3006,\">=\"&$I$5,'Registry Full'!$D$7:$D$3006,\"<=\"&$M$5))","v":0},{"$f":"IF($C13=\"\",0,COUNTIFS('Registry Full'!$H$7:$H$3006,$C13,'Registry Full'!$P$7:$P$3006,Q$11,'Registry Full'!$D$7:$D$3006,\">=\"&$I$5,'Registry Full'!$D$7:$D$3006,\"<=\"&$M$5))","v":0},{"$f":"IF($C13=\"\",0,COUNTIFS('Registry Full'!$H$7:$H$3006,$C13,'Registry Full'!$P$7:$P$3006,R$11,'Registry Full'!$D$7:$D$3006,\">=\"&$I$5,'Registry Full'!$D$7:$D$3006,\"<=\"&$M$5))","v":0},{"$f":"IF($C13=\"\",0,COUNTIFS('Registry Full'!$H$7:$H$3006,$C13,'Registry Full'!$P$7:$P$3006,S$11,'Registry Full'!$D$7:$D$3006,\">=\"&$I$5,'Registry Full'!$D$7:$D$3006,\"<=\"&$M$5))","v":0},{"$f":"$D13-(P13+Q13+R13+S13)","v":0},{"$f":"IF($C13=\"\",0,COUNTIFS('Registry Full'!$H$7:$H$3006,$C13,'Registry Full'!$Y$7:$Y$3006,\"<>\"&\"\",'Registry Full'!$D$7:$D$3006,\">=\"&$I$5,'Registry Full'!$D$7:$D$3006,\"<=\"&$M$5))","v":0},{"$f":"IF($C13=\"\",0,COUNTIFS('Registry Full'!$H$7:$H$3006,$C13,'Registry Full'!$Y$7:$Y$3006,\"=\"&\"\",'Registry Full'!$P$7:$P$3006,\"<>\"&Presets!$C$67,'Registry Full'!$D$7:$D$3006,\">=\"&$I$5,'Registry Full'!$D$7:$D$3006,\"<=\"&$M$5))","v":0}]
[null,{"$f":"IF(COUNTBLANK(C14)=0,B13+1,\"\")","v":2},{"$f":"IF(Presets!C34=\"\",\"\",Presets!C34)","v":"Прекъсване на услугата"},{"$f":"IF($C14=\"\",0,COUNTIFS('Registry Full'!$H$7:$H$3006,$C14,'Registry Full'!$D$7:$D$3006,\">=\"&$I$5,'Registry Full'!$D$7:$D$3006,\"<=\"&$M$5))","v":2},{"$f":"IF($C14=\"\",0,COUNTIFS('Registry Full'!$H$7:$H$3006,$C14,'Registry Full'!$F$7:$F$3006,E$11,'Registry Full'!$D$7:$D$3006,\">=\"&$I$5,'Registry Full'!$D$7:$D$3006,\"<=\"&$M$5))","v":2},{"$f":"IF($C14=\"\",0,COUNTIFS('Registry Full'!$H$7:$H$3006,$C14,'Registry Full'!$F$7:$F$3006,F$11,'Registry Full'!$D$7:$D$3006,\">=\"&$I$5,'Registry Full'!$D$7:$D$3006,\"<=\"&$M$5))","v":0},{"$f":"$D14-(E14+F14)","v":0},{"$f":"IF($C14=\"\",0,COUNTIFS('Registry Full'!$H$7:$H$3006,$C14,'Registry Full'!$G$7:$G$3006,H$11,'Registry Full'!$D$7:$D$3006,\">=\"&$I$5,'Registry Full'!$D$7:$D$3006,\"<=\"&$M$5))","v":0},{"$f":"IF($C14=\"\",0,COUNTIFS('Registry Full'!$H$7:$H$3006,$C14,'Registry Full'!$G$7:$G$3006,I$11,'Registry Full'!$D$7:$D$3006,\">=\"&$I$5,'Registry Full'!$D$7:$D$3006,\"<=\"&$M$5))","v":2},{"$f":"IF($C14=\"\",0,COUNTIFS('Registry Full'!$H$7:$H$3006,$C14,'Registry Full'!$G$7:$G$3006,J$11,'Registry Full'!$D$7:$D$3006,\">=\"&$I$5,'Registry Full'!$D$7:$D$3006,\"<=\"&$M$5))","v":0},{"$f":"IF($C14=\"\",0,COUNTIFS('Registry Full'!$H$7:$H$3006,$C14,'Registry Full'!$G$7:$G$3006,K$11,'Registry Full'!$D$7:$D$3006,\">=\"&$I$5,'Registry Full'!$D$7:$D$3006,\"<=\"&$M$5))","v":0},{"$f":"$D14-(H14+I14+J14+K14)","v":0},{"$f":"IF($C14=\"\",0,COUNTIFS('Registry Full'!$H$7:$H$3006,$C14,'Registry Full'!$N$7:$N$3006,M$11,'Registry Full'!$D$7:$D$3006,\">=\"&$I$5,'Registry Full'!$D$7:$D$3006,\"<=\"&$M$5))","v":1},{"$f":"IF($C14=\"\",0,COUNTIFS('Registry Full'!$H$7:$H$3006,$C14,'Registry Full'!$N$7:$N$3006,N$11,'Registry Full'!$D$7:$D$3006,\">=\"&$I$5,'Registry Full'!$D$7:$D$3006,\"<=\"&$M$5))","v":1},{"$f":"$D14-(M14+N14)","v":0},{"$f":"IF($C14=\"\",0,COUNTIFS('Registry Full'!$H$7:$H$3006,$C14,'Registry Full'!$P$7:$P$3006,P$11,'Registry Full'!$D$7:$D$3006,\">=\"&$I$5,'Registry Full'!$D$7:$D$3006,\"<=\"&$M$5))","v":0},{"$f":"IF($C14=\"\",0,COUNTIFS('Registry Full'!$H$7:$H$3006,$C14,'Registry Full'!$P$7:$P$3006,Q$11,'Registry Full'!$D$7:$D$3006,\">=\"&$I$5,'Registry Full'!$D$7:$D$3006,\"<=\"&$M$5))","v":0},{"$f":"IF($C14=\"\",0,COUNTIFS('Registry Full'!$H$7:$H$3006,$C14,'Registry Full'!$P$7:$P$3006,R$11,'Registry Full'!$D$7:$D$3006,\">=\"&$I$5,'Registry Full'!$D$7:$D$3006,\"<=\"&$M$5))","v":0},{"$f":"IF($C14=\"\",0,COUNTIFS('Registry Full'!$H$7:$H$3006,$C14,'Registry Full'!$P$7:$P$3006,S$11,'Registry Full'!$D$7:$D$3006,\">=\"&$I$5,'Registry Full'!$D$7:$D$3006,\"<=\"&$M$5))","v":2},{"$f":"$D14-(P14+Q14+R14+S14)","v":0},{"$f":"IF($C14=\"\",0,COUNTIFS('Registry Full'!$H$7:$H$3006,$C14,'Registry Full'!$Y$7:$Y$3006,\"<>\"&\"\",'Registry Full'!$D$7:$D$3006,\">=\"&$I$5,'Registry Full'!$D$7:$D$3006,\"<=\"&$M$5))","v":2},{"$f":"IF($C14=\"\",0,COUNTIFS('Registry Full'!$H$7:$H$3006,$C14,'Registry Full'!$Y$7:$Y$3006,\"=\"&\"\",'Registry Full'!$P$7:$P$3006,\"<>\"&Presets!$C$67,'Registry Full'!$D$7:$D$3006,\">=\"&$I$5,'Registry Full'!$D$7:$D$3006,\"<=\"&$M$5))","v":0}]
[null,{"$f":"IF(COUNTBLANK(C15)=0,B14+1,\"\")","v":3},{"$f":"IF(Presets!C35=\"\",\"\",Presets!C35)","v":"Липса на вода"},{"$f":"IF($C15=\"\",0,COUNTIFS('Registry Full'!$H$7:$H$3006,$C15,'Registry Full'!$D$7:$D$3006,\">=\"&$I$5,'Registry Full'!$D$7:$D$3006,\"<=\"&$M$5))","v":23},{"$f":"IF($C15=\"\",0,COUNTIFS('Registry Full'!$H$7:$H$3006,$C15,'Registry Full'!$F$7:$F$3006,E$11,'Registry Full'!$D$7:$D$3006,\">=\"&$I$5,'Registry Full'!$D$7:$D$3006,\"<=\"&$M$5))","v":18},{"$f":"IF($C15=\"\",0,COUNTIFS('Registry Full'!$H$7:$H$3006,$C15,'Registry Full'!$F$7:$F$3006,F$11,'Registry Full'!$D$7:$D$3006,\">=\"&$I$5,'Registry Full'!$D$7:$D$3006,\"<=\"&$M$5))","v":5},0,{"$f":"IF($C15=\"\",0,COUNTIFS('Registry Full'!$H$7:$H$3006,$C15,'Registry Full'!$G$7:$G$3006,H$11,'Registry Full'!$D$7:$D$3006,\">=\"&$I$5,'Registry Full'!$D$7:$D$3006,\"<=\"&$M$5))","v":6},{"$f":"IF($C15=\"\",0,COUNTIFS('Registry Full'!$H$7:$H$3006,$C15,'Registry Full'!$G$7:$G$3006,I$11,'Registry Full'!$D$7:$D$3006,\">=\"&$I$5,'Registry Full'!$D$7:$D$3006,\"<=\"&$M$5))","v":9},{"$f":"IF($C15=\"\",0,COUNTIFS('Registry Full'!$H$7:$H$3006,$C15,'Registry Full'!$G$7:$G$3006,J$11,'Registry Full'!$D$7:$D$3006,\">=\"&$I$5,'Registry Full'!$D$7:$D$3006,\"<=\"&$M$5))","v":7},{"$f":"IF($C15=\"\",0,COUNTIFS('Registry Full'!$H$7:$H$3006,$C15,'Registry Full'!$G$7:$G$3006,K$11,'Registry Full'!$D$7:$D$3006,\">=\"&$I$5,'Registry Full'!$D$7:$D$3006,\"<=\"&$M$5))","v":1},0,{"$f":"IF($C15=\"\",0,COUNTIFS('Registry Full'!$H$7:$H$3006,$C15,'Registry Full'!$N$7:$N$3006,M$11,'Registry Full'!$D$7:$D$3006,\">=\"&$I$5,'Registry Full'!$D$7:$D$3006,\"<=\"&$M$5))","v":16},{"$f":"IF($C15=\"\",0,COUNTIFS('Registry Full'!$H$7:$H$3006,$C15,'Registry Full'!$N$7:$N$3006,N$11,'Registry Full'!$D$7:$D$3006,\">=\"&$I$5,'Registry Full'!$D$7:$D$3006,\"<=\"&$M$5))","v":7},0,{"$f":"IF($C15=\"\",0,COUNTIFS('Registry Full'!$H$7:$H$3006,$C15,'Registry Full'!$P$7:$P$3006,P$11,'Registry Full'!$D$7:$D$3006,\">=\"&$I$5,'Registry Full'!$D$7:$D$3006,\"<=\"&$M$5))","v":1},{"$f":"IF($C15=\"\",0,COUNTIFS('Registry Full'!$H$7:$H$3006,$C15,'Registry Full'!$P$7:$P$3006,Q$11,'Registry Full'!$D$7:$D$3006,\">=\"&$I$5,'Registry Full'!$D$7:$D$3006,\"<=\"&$M$5))","v":0},{"$f":"IF($C15=\"\",0,COUNTIFS('Registry Full'!$H$7:$H$3006,$C15,'Registry Full'!$P$7:$P$3006,R$11,'Registry Full'!$D$7:$D$3006,\">=\"&$I$5,'Registry Full'!$D$7:$D$3006,\"<=\"&$M$5))","v":0},{"$f":"IF($C15=\"\",0,COUNTIFS('Registry Full'!$H$7:$H$3006,$C15,'Registry Full'!$P$7:$P$3006,S$11,'Registry Full'!$D$7:$D$3006,\">=\"&$I$5,'Registry Full'!$D$7:$D$3006,\"<=\"&$M$5))","v":22},0,{"$f":"IF($C15=\"\",0,COUNTIFS('Registry Full'!$H$7:$H$3006,$C15,'Registry Full'!$Y$7:$Y$3006,\"<>\"&\"\",'Registry Full'!$D$7:$D$3006,\">=\"&$I$5,'Registry Full'!$D$7:$D$3006,\"<=\"&$M$5))","v":23},{"$f":"IF($C15=\"\",0,COUNTIFS('Registry Full'!$H$7:$H$3006,$C15,'Registry Full'!$Y$7:$Y$3006,\"=\"&\"\",'Registry Full'!$P$7:$P$3006,\"<>\"&Presets!$C$67,'Registry Full'!$D$7:$D$3006,\">=\"&$I$5,'Registry Full'!$D$7:$D$3006,\"<=\"&$M$5))","v":0}]
[null,4,{"$f":"IF(Presets!C36=\"\",\"\",Presets!C36)","v":"Проблеми с налягане"},{"$f":"IF($C16=\"\",0,COUNTIFS('Registry Full'!$H$7:$H$3006,$C16,'Registry Full'!$D$7:$D$3006,\">=\"&$I$5,'Registry Full'!$D$7:$D$3006,\"<=\"&$M$5))","v":2},{"$f":"IF($C16=\"\",0,COUNTIFS('Registry Full'!$H$7:$H$3006,$C16,'Registry Full'!$F$7:$F$3006,E$11,'Registry Full'!$D$7:$D$3006,\">=\"&$I$5,'Registry Full'!$D$7:$D$3006,\"<=\"&$M$5))","v":2},{"$f":"IF($C16=\"\",0,COUNTIFS('Registry Full'!$H$7:$H$3006,$C16,'Registry Full'!$F$7:$F$3006,F$11,'Registry Full'!$D$7:$D$3006,\">=\"&$I$5,'Registry Full'!$D$7:$D$3006,\"<=\"&$M$5))","v":0},0,{"$f":"IF($C16=\"\",0,COUNTIFS('Registry Full'!$H$7:$H$3006,$C16,'Registry Full'!$G$7:$G$3006,H$11,'Registry Full'!$D$7:$D$3006,\">=\"&$I$5,'Registry Full'!$D$7:$D$3006,\"<=\"&$M$5))","v":0},{"$f":"IF($C16=\"\",0,COUNTIFS('Registry Full'!$H$7:$H$3006,$C16,'Registry Full'!$G$7:$G$3006,I$11,'Registry Full'!$D$7:$D$3006,\">=\"&$I$5,'Registry Full'!$D$7:$D$3006,\"<=\"&$M$5))","v":1},{"$f":"IF($C16=\"\",0,COUNTIFS('Registry Full'!$H$7:$H$3006,$C16,'Registry Full'!$G$7:$G$3006,J$11,'Registry Full'!$D$7:$D$3006,\">=\"&$I$5,'Registry Full'!$D$7:$D$3006,\"<=\"&$M$5))","v":1},{"$f":"IF($C16=\"\",0,COUNTIFS('Registry Full'!$H$7:$H$3006,$C16,'Registry Full'!$G$7:$G$3006,K$11,'Registry Full'!$D$7:$D$3006,\">=\"&$I$5,'Registry Full'!$D$7:$D$3006,\"<=\"&$M$5))","v":0},0,{"$f":"IF($C16=\"\",0,COUNTIFS('Registry Full'!$H$7:$H$3006,$C16,'Registry Full'!$N$7:$N$3006,M$11,'Registry Full'!$D$7:$D$3006,\">=\"&$I$5,'Registry Full'!$D$7:$D$3006,\"<=\"&$M$5))","v":1},{"$f":"IF($C16=\"\",0,COUNTIFS('Registry Full'!$H$7:$H$3006,$C16,'Registry Full'!$N$7:$N$3006,N$11,'Registry Full'!$D$7:$D$3006,\">=\"&$I$5,'Registry Full'!$D$7:$D$3006,\"<=\"&$M$5))","v":1},0,{"$f":"IF($C16=\"\",0,COUNTIFS('Registry Full'!$H$7:$H$3006,$C16,'Registry Full'!$P$7:$P$3006,P$11,'Registry Full'!$D$7:$D$3006,\">=\"&$I$5,'Registry Full'!$D$7:$D$3006,\"<=\"&$M$5))","v":0},{"$f":"IF($C16=\"\",0,COUNTIFS('Registry Full'!$H$7:$H$3006,$C16,'Registry Full'!$P$7:$P$3006,Q$11,'Registry Full'!$D$7:$D$3006,\">=\"&$I$5,'Registry Full'!$D$7:$D$3006,\"<=\"&$M$5))","v":0},{"$f":"IF($C16=\"\",0,COUNTIFS('Registry Full'!$H$7:$H$3006,$C16,'Registry Full'!$P$7:$P$3006,R$11,'Registry Full'!$D$7:$D$3006,\">=\"&$I$5,'Registry Full'!$D$7:$D$3006,\"<=\"&$M$5))","v":0},{"$f":"IF($C16=\"\",0,COUNTIFS('Registry Full'!$H$7:$H$3006,$C16,'Registry Full'!$P$7:$P$3006,S$11,'Registry Full'!$D$7:$D$3006,\">=\"&$I$5,'Registry Full'!$D$7:$D$3006,\"<=\"&$M$5))","v":2},0,{"$f":"IF($C16=\"\",0,COUNTIFS('Registry Full'!$H$7:$H$3006,$C16,'Registry Full'!$Y$7:$Y$3006,\"<>\"&\"\",'Registry Full'!$D$7:$D$3006,\">=\"&$I$5,'Registry Full'!$D$7:$D$3006,\"<=\"&$M$5))","v":2},{"$f":"IF($C16=\"\",0,COUNTIFS('Registry Full'!$H$7:$H$3006,$C16,'Registry Full'!$Y$7:$Y$3006,\"=\"&\"\",'Registry Full'!$P$7:$P$3006,\"<>\"&Presets!$C$67,'Registry Full'!$D$7:$D$3006,\">=\"&$I$5,'Registry Full'!$D$7:$D$3006,\"<=\"&$M$5))","v":0}]
[null,5,{"$f":"IF(Presets!C37=\"\",\"\",Presets!C37)","v":"Лошо качество вода"},{"$f":"IF($C17=\"\",0,COUNTIFS('Registry Full'!$H$7:$H$3006,$C17,'Registry Full'!$D$7:$D$3006,\">=\"&$I$5,'Registry Full'!$D$7:$D$3006,\"<=\"&$M$5))","v":1},{"$f":"IF($C17=\"\",0,COUNTIFS('Registry Full'!$H$7:$H$3006,$C17,'Registry Full'!$F$7:$F$3006,E$11,'Registry Full'!$D$7:$D$3006,\">=\"&$I$5,'Registry Full'!$D$7:$D$3006,\"<=\"&$M$5))","v":1},{"$f":"IF($C17=\"\",0,COUNTIFS('Registry Full'!$H$7:$H$3006,$C17,'Registry Full'!$F$7:$F$3006,F$11,'Registry Full'!$D$7:$D$3006,\">=\"&$I$5,'Registry Full'!$D$7:$D$3006,\"<=\"&$M$5))","v":0},0,{"$f":"IF($C17=\"\",0,COUNTIFS('Registry Full'!$H$7:$H$3006,$C17,'Registry Full'!$G$7:$G$3006,H$11,'Registry Full'!$D$7:$D$3006,\">=\"&$I$5,'Registry Full'!$D$7:$D$3006,\"<=\"&$M$5))","v":0},{"$f":"IF($C17=\"\",0,COUNTIFS('Registry Full'!$H$7:$H$3006,$C17,'Registry Full'!$G$7:$G$3006,I$11,'Registry Full'!$D$7:$D$3006,\">=\"&$I$5,'Registry Full'!$D$7:$D$3006,\"<=\"&$M$5))","v":1},{"$f":"IF($C17=\"\",0,COUNTIFS('Registry Full'!$H$7:$H$3006,$C17,'Registry Full'!$G$7:$G$3006,J$11,'Registry Full'!$D$7:$D$3006,\">=\"&$I$5,'Registry Full'!$D$7:$D$3006,\"<=\"&$M$5))","v":0},{"$f":"IF($C17=\"\",0,COUNTIFS('Registry Full'!$H$7:$H$3006,$C17,'Registry Full'!$G$7:$G$3006,K$11,'Registry Full'!$D$7:$D$3006,\">=\"&$I$5,'Registry Full'!$D$7:$D$3006,\"<=\"&$M$5))","v":0},0,{"$f":"IF($C17=\"\",0,COUNTIFS('Registry Full'!$H$7:$H$3006,$C17,'Registry Full'!$N$7:$N$3006,M$11,'Registry Full'!$D$7:$D$3006,\">=\"&$I$5,'Registry Full'!$D$7:$D$3006,\"<=\"&$M$5))","v":1},{"$f":"IF($C17=\"\",0,COUNTIFS('Registry Full'!$H$7:$H$3006,$C17,'Registry Full'!$N$7:$N$3006,N$11,'Registry Full'!$D$7:$D$3006,\">=\"&$I$5,'Registry Full'!$D$7:$D$3006,\"<=\"&$M$5))","v":0},0,{"$f":"IF($C17=\"\",0,COUNTIFS('Registry Full'!$H$7:$H$3006,$C17,'Registry Full'!$P$7:$P$3006,P$11,'Registry Full'!$D$7:$D$3006,\">=\"&$I$5,'Registry Full'!$D$7:$D$3006,\"<=\"&$M$5))","v":0},{"$f":"IF($C17=\"\",0,COUNTIFS('Registry Full'!$H$7:$H$3006,$C17,'Registry Full'!$P$7:$P$3006,Q$11,'Registry Full'!$D$7:$D$3006,\">=\"&$I$5,'Registry Full'!$D$7:$D$3006,\"<=\"&$M$5))","v":0},{"$f":"IF($C17=\"\",0,COUNTIFS('Registry Full'!$H$7:$H$3006,$C17,'Registry Full'!$P$7:$P$3006,R$11,'Registry Full'!$D$7:$D$3006,\">=\"&$I$5,'Registry Full'!$D$7:$D$3006,\"<=\"&$M$5))","v":0},{"$f":"IF($C17=\"\",0,COUNTIFS('Registry Full'!$H$7:$H$3006,$C17,'Registry Full'!$P$7:$P$3006,S$11,'Registry Full'!$D$7:$D$3006,\">=\"&$I$5,'Registry Full'!$D$7:$D$3006,\"<=\"&$M$5))","v":1},0,{"$f":"IF($C17=\"\",0,COUNTIFS('Registry Full'!$H$7:$H$3006,$C17,'Registry Full'!$Y$7:$Y$3006,\"<>\"&\"\",'Registry Full'!$D$7:$D$3006,\">=\"&$I$5,'Registry Full'!$D$7:$D$3006,\"<=\"&$M$5))","v":1},{"$f":"IF($C17=\"\",0,COUNTIFS('Registry Full'!$H$7:$H$3006,$C17,'Registry Full'!$Y$7:$Y$3006,\"=\"&\"\",'Registry Full'!$P$7:$P$3006,\"<>\"&Presets!$C$67,'Registry Full'!$D$7:$D$3006,\">=\"&$I$5,'Registry Full'!$D$7:$D$3006,\"<=\"&$M$5))","v":0}]
[null,6,{"$f":"IF(Presets!C38=\"\",\"\",Presets!C38)","v":"Течове"},{"$f":"IF($C18=\"\",0,COUNTIFS('Registry Full'!$H$7:$H$3006,$C18,'Registry Full'!$D$7:$D$3006,\">=\"&$I$5,'Registry Full'!$D$7:$D$3006,\"<=\"&$M$5))","v":5},{"$f":"IF($C18=\"\",0,COUNTIFS('Registry Full'!$H$7:$H$3006,$C18,'Registry Full'!$F$7:$F$3006,E$11,'Registry Full'!$D$7:$D$3006,\">=\"&$I$5,'Registry Full'!$D$7:$D$3006,\"<=\"&$M$5))","v":5},{"$f":"IF($C18=\"\",0,COUNTIFS('Registry Full'!$H$7:$H$3006,$C18,'Registry Full'!$F$7:$F$3006,F$11,'Registry Full'!$D$7:$D$3006,\">=\"&$I$5,'Registry Full'!$D$7:$D$3006,\"<=\"&$M$5))","v":0},0,{"$f":"IF($C18=\"\",0,COUNTIFS('Registry Full'!$H$7:$H$3006,$C18,'Registry Full'!$G$7:$G$3006,H$11,'Registry Full'!$D$7:$D$3006,\">=\"&$I$5,'Registry Full'!$D$7:$D$3006,\"<=\"&$M$5))","v":1},{"$f":"IF($C18=\"\",0,COUNTIFS('Registry Full'!$H$7:$H$3006,$C18,'Registry Full'!$G$7:$G$3006,I$11,'Registry Full'!$D$7:$D$3006,\">=\"&$I$5,'Registry Full'!$D$7:$D$3006,\"<=\"&$M$5))","v":0},{"$f":"IF($C18=\"\",0,COUNTIFS('Registry Full'!$H$7:$H$3006,$C18,'Registry Full'!$G$7:$G$3006,J$11,'Registry Full'!$D$7:$D$3006,\">=\"&$I$5,'Registry Full'!$D$7:$D$3006,\"<=\"&$M$5))","v":4},{"$f":"IF($C18=\"\",0,COUNTIFS('Registry Full'!$H$7:$H$3006,$C18,'Registry Full'!$G$7:$G$3006,K$11,'Registry Full'!$D$7:$D$3006,\">=\"&$I$5,'Registry Full'!$D$7:$D$3006,\"<=\"&$M$5))","v":0},0,{"$f":"IF($C18=\"\",0,COUNTIFS('Registry Full'!$H$7:$H$3006,$C18,'Registry Full'!$N$7:$N$3006,M$11,'Registry Full'!$D$7:$D$3006,\">=\"&$I$5,'Registry Full'!$D$7:$D$3006,\"<=\"&$M$5))","v":1},{"$f":"IF($C18=\"\",0,COUNTIFS('Registry Full'!$H$7:$H$3006,$C18,'Registry Full'!$N$7:$N$3006,N$11,'Registry Full'!$D$7:$D$3006,\">=\"&$I$5,'Registry Full'!$D$7:$D$3006,\"<=\"&$M$5))","v":4},0,{"$f":"IF($C18=\"\",0,COUNTIFS('Registry Full'!$H$7:$H$3006,$C18,'Registry Full'!$P$7:$P$3006,P$11,'Registry Full'!$D$7:$D$3006,\">=\"&$I$5,'Registry Full'!$D$7:$D$3006,\"<=\"&$M$5))","v":0},{"$f":"IF($C18=\"\",0,COUNTIFS('Registry Full'!$H$7:$H$3006,$C18,'Registry Full'!$P$7:$P$3006,Q$11,'Registry Full'!$D$7:$D$3006,\">=\"&$I$5,'Registry Full'!$D$7:$D$3006,\"<=\"&$M$5))","v":0},{"$f":"IF($C18=\"\",0,COUNTIFS('Registry Full'!$H$7:$H$3006,$C18,'Registry Full'!$P$7:$P$3006,R$11,'Registry Full'!$D$7:$D$3006,\">=\"&$I$5,'Registry Full'!$D$7:$D$3006,\"<=\"&$M$5))","v":0},{"$f":"IF($C18=\"\",0,COUNTIFS('Registry Full'!$H$7:$H$3006,$C18,'Registry Full'!$P$7:$P$3006,S$11,'Registry Full'!$D$7:$D$3006,\">=\"&$I$5,'Registry Full'!$D$7:$D$3006,\"<=\"&$M$5))","v":5},0,{"$f":"IF($C18=\"\",0,COUNTIFS('Registry Full'!$H$7:$H$3006,$C18,'Registry Full'!$Y$7:$Y$3006,\"<>\"&\"\",'Registry Full'!$D$7:$D$3006,\">=\"&$I$5,'Registry Full'!$D$7:$D$3006,\"<=\"&$M$5))","v":4},{"$f":"IF($C18=\"\",0,COUNTIFS('Registry Full'!$H$7:$H$3006,$C18,'Registry Full'!$Y$7:$Y$3006,\"=\"&\"\",'Registry Full'!$P$7:$P$3006,\"<>\"&Presets!$C$67,'Registry Full'!$D$7:$D$3006,\">=\"&$I$5,'Registry Full'!$D$7:$D$3006,\"<=\"&$M$5))","v":1}]
[null,7,{"$f":"IF(Presets!C39=\"\",\"\",Presets!C39)","v":"Щети от авария"},{"$f":"IF($C19=\"\",0,COUNTIFS('Registry Full'!$H$7:$H$3006,$C19,'Registry Full'!$D$7:$D$3006,\">=\"&$I$5,'Registry Full'!$D$7:$D$3006,\"<=\"&$M$5))","v":0},{"$f":"IF($C19=\"\",0,COUNTIFS('Registry Full'!$H$7:$H$3006,$C19,'Registry Full'!$F$7:$F$3006,E$11,'Registry Full'!$D$7:$D$3006,\">=\"&$I$5,'Registry Full'!$D$7:$D$3006,\"<=\"&$M$5))","v":0},{"$f":"IF($C19=\"\",0,COUNTIFS('Registry Full'!$H$7:$H$3006,$C19,'Registry Full'!$F$7:$F$3006,F$11,'Registry Full'!$D$7:$D$3006,\">=\"&$I$5,'Registry Full'!$D$7:$D$3006,\"<=\"&$M$5))","v":0},0,{"$f":"IF($C19=\"\",0,COUNTIFS('Registry Full'!$H$7:$H$3006,$C19,'Registry Full'!$G$7:$G$3006,H$11,'Registry Full'!$D$7:$D$3006,\">=\"&$I$5,'Registry Full'!$D$7:$D$3006,\"<=\"&$M$5))","v":0},{"$f":"IF($C19=\"\",0,COUNTIFS('Registry Full'!$H$7:$H$3006,$C19,'Registry Full'!$G$7:$G$3006,I$11,'Registry Full'!$D$7:$D$3006,\">=\"&$I$5,'Registry Full'!$D$7:$D$3006,\"<=\"&$M$5))","v":0},{"$f":"IF($C19=\"\",0,COUNTIFS('Registry Full'!$H$7:$H$3006,$C19,'Registry Full'!$G$7:$G$3006,J$11,'Registry Full'!$D$7:$D$3006,\">=\"&$I$5,'Registry Full'!$D$7:$D$3006,\"<=\"&$M$5))","v":0},{"$f":"IF($C19=\"\",0,COUNTIFS('Registry Full'!$H$7:$H$3006,$C19,'Registry Full'!$G$7:$G$3006,K$11,'Registry Full'!$D$7:$D$3006,\">=\"&$I$5,'Registry Full'!$D$7:$D$3006,\"<=\"&$M$5))","v":0},0,{"$f":"IF($C19=\"\",0,COUNTIFS('Registry Full'!$H$7:$H$3006,$C19,'Registry Full'!$N$7:$N$3006,M$11,'Registry Full'!$D$7:$D$3006,\">=\"&$I$5,'Registry Full'!$D$7:$D$3006,\"<=\"&$M$5))","v":0},{"$f":"IF($C19=\"\",0,COUNTIFS('Registry Full'!$H$7:$H$3006,$C19,'Registry Full'!$N$7:$N$3006,N$11,'Registry Full'!$D$7:$D$3006,\">=\"&$I$5,'Registry Full'!$D$7:$D$3006,\"<=\"&$M$5))","v":0},0,{"$f":"IF($C19=\"\",0,COUNTIFS('Registry Full'!$H$7:$H$3006,$C19,'Registry Full'!$P$7:$P$3006,P$11,'Registry Full'!$D$7:$D$3006,\">=\"&$I$5,'Registry Full'!$D$7:$D$3006,\"<=\"&$M$5))","v":0},{"$f":"IF($C19=\"\",0,COUNTIFS('Registry Full'!$H$7:$H$3006,$C19,'Registry Full'!$P$7:$P$3006,Q$11,'Registry Full'!$D$7:$D$3006,\">=\"&$I$5,'Registry Full'!$D$7:$D$3006,\"<=\"&$M$5))","v":0},{"$f":"IF($C19=\"\",0,COUNTIFS('Registry Full'!$H$7:$H$3006,$C19,'Registry Full'!$P$7:$P$3006,R$11,'Registry Full'!$D$7:$D$3006,\">=\"&$I$5,'Registry Full'!$D$7:$D$3006,\"<=\"&$M$5))","v":0},{"$f":"IF($C19=\"\",0,COUNTIFS('Registry Full'!$H$7:$H$3006,$C19,'Registry Full'!$P$7:$P$3006,S$11,'Registry Full'!$D$7:$D$3006,\">=\"&$I$5,'Registry Full'!$D$7:$D$3006,\"<=\"&$M$5))","v":0},0,{"$f":"IF($C19=\"\",0,COUNTIFS('Registry Full'!$H$7:$H$3006,$C19,'Registry Full'!$Y$7:$Y$3006,\"<>\"&\"\",'Registry Full'!$D$7:$D$3006,\">=\"&$I$5,'Registry Full'!$D$7:$D$3006,\"<=\"&$M$5))","v":0},{"$f":"IF($C19=\"\",0,COUNTIFS('Registry Full'!$H$7:$H$3006,$C19,'Registry Full'!$Y$7:$Y$3006,\"=\"&\"\",'Registry Full'!$P$7:$P$3006,\"<>\"&Presets!$C$67,'Registry Full'!$D$7:$D$3006,\">=\"&$I$5,'Registry Full'!$D$7:$D$3006,\"<=\"&$M$5))","v":0}]
[null,8,{"$f":"IF(Presets!C40=\"\",\"\",Presets!C40)","v":"Проверка водомер"},{"$f":"IF($C20=\"\",0,COUNTIFS('Registry Full'!$H$7:$H$3006,$C20,'Registry Full'!$D$7:$D$3006,\">=\"&$I$5,'Registry Full'!$D$7:$D$3006,\"<=\"&$M$5))","v":1},{"$f":"IF($C20=\"\",0,COUNTIFS('Registry Full'!$H$7:$H$3006,$C20,'Registry Full'!$F$7:$F$3006,E$11,'Registry Full'!$D$7:$D$3006,\">=\"&$I$5,'Registry Full'!$D$7:$D$3006,\"<=\"&$M$5))","v":1},{"$f":"IF($C20=\"\",0,COUNTIFS('Registry Full'!$H$7:$H$3006,$C20,'Registry Full'!$F$7:$F$3006,F$11,'Registry Full'!$D$7:$D$3006,\">=\"&$I$5,'Registry Full'!$D$7:$D$3006,\"<=\"&$M$5))","v":0},0,{"$f":"IF($C20=\"\",0,COUNTIFS('Registry Full'!$H$7:$H$3006,$C20,'Registry Full'!$G$7:$G$3006,H$11,'Registry Full'!$D$7:$D$3006,\">=\"&$I$5,'Registry Full'!$D$7:$D$3006,\"<=\"&$M$5))","v":0},{"$f":"IF($C20=\"\",0,COUNTIFS('Registry Full'!$H$7:$H$3006,$C20,'Registry Full'!$G$7:$G$3006,I$11,'Registry Full'!$D$7:$D$3006,\">=\"&$I$5,'Registry Full'!$D$7:$D$3006,\"<=\"&$M$5))","v":0},{"$f":"IF($C20=\"\",0,COUNTIFS('Registry Full'!$H$7:$H$3006,$C20,'Registry Full'!$G$7:$G$3006,J$11,'Registry Full'!$D$7:$D$3006,\">=\"&$I$5,'Registry Full'!$D$7:$D$3006,\"<=\"&$M$5))","v":1},{"$f":"IF($C20=\"\",0,COUNTIFS('Registry Full'!$H$7:$H$3006,$C20,'Registry Full'!$G$7:$G$3006,K$11,'Registry Full'!$D$7:$D$3006,\">=\"&$I$5,'Registry Full'!$D$7:$D$3006,\"<=\"&$M$5))","v":0},0,{"$f":"IF($C20=\"\",0,COUNTIFS('Registry Full'!$H$7:$H$3006,$C20,'Registry Full'!$N$7:$N$3006,M$11,'Registry Full'!$D$7:$D$3006,\">=\"&$I$5,'Registry Full'!$D$7:$D$3006,\"<=\"&$M$5))","v":0},{"$f":"IF($C20=\"\",0,COUNTIFS('Registry Full'!$H$7:$H$3006,$C20,'Registry Full'!$N$7:$N$3006,N$11,'Registry Full'!$D$7:$D$3006,\">=\"&$I$5,'Registry Full'!$D$7:$D$3006,\"<=\"&$M$5))","v":1},0,{"$f":"IF($C20=\"\",0,COUNTIFS('Registry Full'!$H$7:$H$3006,$C20,'Registry Full'!$P$7:$P$3006,P$11,'Registry Full'!$D$7:$D$3006,\">=\"&$I$5,'Registry Full'!$D$7:$D$3006,\"<=\"&$M$5))","v":0},{"$f":"IF($C20=\"\",0,COUNTIFS('Registry Full'!$H$7:$H$3006,$C20,'Registry Full'!$P$7:$P$3006,Q$11,'Registry Full'!$D$7:$D$3006,\">=\"&$I$5,'Registry Full'!$D$7:$D$3006,\"<=\"&$M$5))","v":0},{"$f":"IF($C20=\"\",0,COUNTIFS('Registry Full'!$H$7:$H$3006,$C20,'Registry Full'!$P$7:$P$3006,R$11,'Registry Full'!$D$7:$D$3006,\">=\"&$I$5,'Registry Full'!$D$7:$D$3006,\"<=\"&$M$5))","v":0},{"$f":"IF($C20=\"\",0,COUNTIFS('Registry Full'!$H$7:$H$3006,$C20,'Registry Full'!$P$7:$P$3006,S$11,'Registry Full'!$D$7:$D$3006,\">=\"&$I$5,'Registry Full'!$D$7:$D$3006,\"<=\"&$M$5))","v":1},0,{"$f":"IF($C20=\"\",0,COUNTIFS('Registry Full'!$H$7:$H$3006,$C20,'Registry Full'!$Y$7:$Y$3006,\"<>\"&\"\",'Registry Full'!$D$7:$D$3006,\">=\"&$I$5,'Registry Full'!$D$7:$D$3006,\"<=\"&$M$5))","v":1},{"$f":"IF($C20=\"\",0,COUNTIFS('Registry Full'!$H$7:$H$3006,$C20,'Registry Full'!$Y$7:$Y$3006,\"=\"&\"\",'Registry Full'!$P$7:$P$3006,\"<>\"&Presets!$C$67,'Registry Full'!$D$7:$D$3006,\">=\"&$I$5,'Registry Full'!$D$7:$D$3006,\"<=\"&$M$5))","v":0}]
[null,9,{"$f":"IF(Presets!C41=\"\",\"\",Presets!C41)","v":"Грешка в отчитане"},{"$f":"IF($C21=\"\",0,COUNTIFS('Registry Full'!$H$7:$H$3006,$C21,'Registry Full'!$D$7:$D$3006,\">=\"&$I$5,'Registry Full'!$D$7:$D$3006,\"<=\"&$M$5))","v":2},{"$f":"IF($C21=\"\",0,COUNTIFS('Registry Full'!$H$7:$H$3006,$C21,'Registry Full'!$F$7:$F$3006,E$11,'Registry Full'!$D$7:$D$3006,\">=\"&$I$5,'Registry Full'!$D$7:$D$3006,\"<=\"&$M$5))","v":2},{"$f":"IF($C21=\"\",0,COUNTIFS('Registry Full'!$H$7:$H$3006,$C21,'Registry Full'!$F$7:$F$3006,F$11,'Registry Full'!$D$7:$D$3006,\">=\"&$I$5,'Registry Full'!$D$7:$D$3006,\"<=\"&$M$5))","v":0},0,{"$f":"IF($C21=\"\",0,COUNTIFS('Registry Full'!$H$7:$H$3006,$C21,'Registry Full'!$G$7:$G$3006,H$11,'Registry Full'!$D$7:$D$3006,\">=\"&$I$5,'Registry Full'!$D$7:$D$3006,\"<=\"&$M$5))","v":1},{"$f":"IF($C21=\"\",0,COUNTIFS('Registry Full'!$H$7:$H$3006,$C21,'Registry Full'!$G$7:$G$3006,I$11,'Registry Full'!$D$7:$D$3006,\">=\"&$I$5,'Registry Full'!$D$7:$D$3006,\"<=\"&$M$5))","v":0},{"$f":"IF($C21=\"\",0,COUNTIFS('Registry Full'!$H$7:$H$3006,$C21,'Registry Full'!$G$7:$G$3006,J$11,'Registry Full'!$D$7:$D$3006,\">=\"&$I$5,'Registry Full'!$D$7:$D$3006,\"<=\"&$M$5))","v":1},{"$f":"IF($C21=\"\",0,COUNTIFS('Registry Full'!$H$7:$H$3006,$C21,'Registry Full'!$G$7:$G$3006,K$11,'Registry Full'!$D$7:$D$3006,\">=\"&$I$5,'Registry Full'!$D$7:$D$3006,\"<=\"&$M$5))","v":0},0,{"$f":"IF($C21=\"\",0,COUNTIFS('Registry Full'!$H$7:$H$3006,$C21,'Registry Full'!$N$7:$N$3006,M$11,'Registry Full'!$D$7:$D$3006,\">=\"&$I$5,'Registry Full'!$D$7:$D$3006,\"<=\"&$M$5))","v":1},{"$f":"IF($C21=\"\",0,COUNTIFS('Registry Full'!$H$7:$H$3006,$C21,'Registry Full'!$N$7:$N$3006,N$11,'Registry Full'!$D$7:$D$3006,\">=\"&$I$5,'Registry Full'!$D$7:$D$3006,\"<=\"&$M$5))","v":1},0,{"$f":"IF($C21=\"\",0,COUNTIFS('Registry Full'!$H$7:$H$3006,$C21,'Registry Full'!$P$7:$P$3006,P$11,'Registry Full'!$D$7:$D$3006,\">=\"&$I$5,'Registry Full'!$D$7:$D$3006,\"<=\"&$M$5))","v":0},{"$f":"IF($C21=\"\",0,COUNTIFS('Registry Full'!$H$7:$H$3006,$C21,'Registry Full'!$P$7:$P$3006,Q$11,'Registry Full'!$D$7:$D$3006,\">=\"&$I$5,'Registry Full'!$D$7:$D$3006,\"<=\"&$M$5))","v":0},{"$f":"IF($C21=\"\",0,COUNTIFS('Registry Full'!$H$7:$H$3006,$C21,'Registry Full'!$P$7:$P$3006,R$11,'Registry Full'!$D$7:$D$3006,\">=\"&$I$5,'Registry Full'!$D$7:$D$3006,\"<=\"&$M$5))","v":0},{"$f":"IF($C21=\"\",0,COUNTIFS('Registry Full'!$H$7:$H$3006,$C21,'Registry Full'!$P$7:$P$3006,S$11,'Registry Full'!$D$7:$D$3006,\">=\"&$I$5,'Registry Full'!$D$7:$D$3006,\"<=\"&$M$5))","v":2},0,{"$f":"IF($C21=\"\",0,COUNTIFS('Registry Full'!$H$7:$H$3006,$C21,'Registry Full'!$Y$7:$Y$3006,\"<>\"&\"\",'Registry Full'!$D$7:$D$3006,\">=\"&$I$5,'Registry Full'!$D$7:$D$3006,\"<=\"&$M$5))","v":2},{"$f":"IF($C21=\"\",0,COUNTIFS('Registry Full'!$H$7:$H$3006,$C21,'Registry Full'!$Y$7:$Y$3006,\"=\"&\"\",'Registry Full'!$P$7:$P$3006,\"<>\"&Presets!$C$67,'Registry Full'!$D$7:$D$3006,\">=\"&$I$5,'Registry Full'!$D$7:$D$3006,\"<=\"&$M$5))","v":0}]
[null,10,{"$f":"IF(Presets!C42=\"\",\"\",Presets!C42)","v":"Неправилно начисляване"},{"$f":"IF($C22=\"\",0,COUNTIFS('Registry Full'!$H$7:$H$3006,$C22,'Registry Full'!$D$7:$D$3006,\">=\"&$I$5,'Registry Full'!$D$7:$D$3006,\"<=\"&$M$5))","v":0},{"$f":"IF($C22=\"\",0,COUNTIFS('Registry Full'!$H$7:$H$3006,$C22,'Registry Full'!$F$7:$F$3006,E$11,'Registry Full'!$D$7:$D$3006,\">=\"&$I$5,'Registry Full'!$D$7:$D$3006,\"<=\"&$M$5))","v":0},{"$f":"IF($C22=\"\",0,COUNTIFS('Registry Full'!$H$7:$H$3006,$C22,'Registry Full'!$F$7:$F$3006,F$11,'Registry Full'!$D$7:$D$3006,\">=\"&$I$5,'Registry Full'!$D$7:$D$3006,\"<=\"&$M$5))","v":0},{"$f":"$D22-(E22+F22)","v":0},{"$f":"IF($C22=\"\",0,COUNTIFS('Registry Full'!$H$7:$H$3006,$C22,'Registry Full'!$G$7:$G$3006,H$11,'Registry Full'!$D$7:$D$3006,\">=\"&$I$5,'Registry Full'!$D$7:$D$3006,\"<=\"&$M$5))","v":0},{"$f":"IF($C22=\"\",0,COUNTIFS('Registry Full'!$H$7:$H$3006,$C22,'Registry Full'!$G$7:$G$3006,I$11,'Registry Full'!$D$7:$D$3006,\">=\"&$I$5,'Registry Full'!$D$7:$D$3006,\"<=\"&$M$5))","v":0},{"$f":"IF($C22=\"\",0,COUNTIFS('Registry Full'!$H$7:$H$3006,$C22,'Registry Full'!$G$7:$G$3006,J$11,'Registry Full'!$D$7:$D$3006,\">=\"&$I$5,'Registry Full'!$D$7:$D$3006,\"<=\"&$M$5))","v":0},{"$f":"IF($C22=\"\",0,COUNTIFS('Registry Full'!$H$7:$H$3006,$C22,'Registry Full'!$G$7:$G$3006,K$11,'Registry Full'!$D$7:$D$3006,\">=\"&$I$5,'Registry Full'!$D$7:$D$3006,\"<=\"&$M$5))","v":0},{"$f":"$D22-(H22+I22+J22+K22)","v":0},{"$f":"IF($C22=\"\",0,COUNTIFS('Registry Full'!$H$7:$H$3006,$C22,'Registry Full'!$N$7:$N$3006,M$11,'Registry Full'!$D$7:$D$3006,\">=\"&$I$5,'Registry Full'!$D$7:$D$3006,\"<=\"&$M$5))","v":0},{"$f":"IF($C22=\"\",0,COUNTIFS('Registry Full'!$H$7:$H$3006,$C22,'Registry Full'!$N$7:$N$3006,N$11,'Registry Full'!$D$7:$D$3006,\">=\"&$I$5,'Registry Full'!$D$7:$D$3006,\"<=\"&$M$5))","v":0},{"$f":"$D22-(M22+N22)","v":0},{"$f":"IF($C22=\"\",0,COUNTIFS('Registry Full'!$H$7:$H$3006,$C22,'Registry Full'!$P$7:$P$3006,P$11,'Registry Full'!$D$7:$D$3006,\">=\"&$I$5,'Registry Full'!$D$7:$D$3006,\"<=\"&$M$5))","v":0},{"$f":"IF($C22=\"\",0,COUNTIFS('Registry Full'!$H$7:$H$3006,$C22,'Registry Full'!$P$7:$P$3006,Q$11,'Registry Full'!$D$7:$D$3006,\">=\"&$I$5,'Registry Full'!$D$7:$D$3006,\"<=\"&$M$5))","v":0},{"$f":"IF($C22=\"\",0,COUNTIFS('Registry Full'!$H$7:$H$3006,$C22,'Registry Full'!$P$7:$P$3006,R$11,'Registry Full'!$D$7:$D$3006,\">=\"&$I$5,'Registry Full'!$D$7:$D$3006,\"<=\"&$M$5))","v":0},{"$f":"IF($C22=\"\",0,COUNTIFS('Registry Full'!$H$7:$H$3006,$C22,'Registry Full'!$P$7:$P$3006,S$11,'Registry Full'!$D$7:$D$3006,\">=\"&$I$5,'Registry Full'!$D$7:$D$3006,\"<=\"&$M$5))","v":0},{"$f":"$D22-(P22+Q22+R22+S22)","v":0},{"$f":"IF($C22=\"\",0,COUNTIFS('Registry Full'!$H$7:$H$3006,$C22,'Registry Full'!$Y$7:$Y$3006,\"<>\"&\"\",'Registry Full'!$D$7:$D$3006,\">=\"&$I$5,'Registry Full'!$D$7:$D$3006,\"<=\"&$M$5))","v":0},{"$f":"IF($C22=\"\",0,COUNTIFS('Registry Full'!$H$7:$H$3006,$C22,'Registry Full'!$Y$7:$Y$3006,\"=\"&\"\",'Registry Full'!$P$7:$P$3006,\"<>\"&Presets!$C$67,'Registry Full'!$D$7:$D$3006,\">=\"&$I$5,'Registry Full'!$D$7:$D$3006,\"<=\"&$M$5))","v":0}]
[null,11,{"$f":"IF(Presets!C43=\"\",\"\",Presets!C43)","v":"Разпределение обща вода"},{"$f":"IF($C23=\"\",0,COUNTIFS('Registry Full'!$H$7:$H$3006,$C23,'Registry Full'!$D$7:$D$3006,\">=\"&$I$5,'Registry Full'!$D$7:$D$3006,\"<=\"&$M$5))","v":1},{"$f":"IF($C23=\"\",0,COUNTIFS('Registry Full'!$H$7:$H$3006,$C23,'Registry Full'!$F$7:$F$3006,E$11,'Registry Full'!$D$7:$D$3006,\">=\"&$I$5,'Registry Full'!$D$7:$D$3006,\"<=\"&$M$5))","v":1},{"$f":"IF($C23=\"\",0,COUNTIFS('Registry Full'!$H$7:$H$3006,$C23,'Registry Full'!$F$7:$F$3006,F$11,'Registry Full'!$D$7:$D$3006,\">=\"&$I$5,'Registry Full'!$D$7:$D$3006,\"<=\"&$M$5))","v":0},0,{"$f":"IF($C23=\"\",0,COUNTIFS('Registry Full'!$H$7:$H$3006,$C23,'Registry Full'!$G$7:$G$3006,H$11,'Registry Full'!$D$7:$D$3006,\">=\"&$I$5,'Registry Full'!$D$7:$D$3006,\"<=\"&$M$5))","v":0},{"$f":"IF($C23=\"\",0,COUNTIFS('Registry Full'!$H$7:$H$3006,$C23,'Registry Full'!$G$7:$G$3006,I$11,'Registry Full'!$D$7:$D$3006,\">=\"&$I$5,'Registry Full'!$D$7:$D$3006,\"<=\"&$M$5))","v":0},{"$f":"IF($C23=\"\",0,COUNTIFS('Registry Full'!$H$7:$H$3006,$C23,'Registry Full'!$G$7:$G$3006,J$11,'Registry Full'!$D$7:$D$3006,\">=\"&$I$5,'Registry Full'!$D$7:$D$3006,\"<=\"&$M$5))","v":1},{"$f":"IF($C23=\"\",0,COUNTIFS('Registry Full'!$H$7:$H$3006,$C23,'Registry Full'!$G$7:$G$3006,K$11,'Registry Full'!$D$7:$D$3006,\">=\"&$I$5,'Registry Full'!$D$7:$D$3006,\"<=\"&$M$5))","v":0},0,{"$f":"IF($C23=\"\",0,COUNTIFS('Registry Full'!$H$7:$H$3006,$C23,'Registry Full'!$N$7:$N$3006,M$11,'Registry Full'!$D$7:$D$3006,\">=\"&$I$5,'Registry Full'!$D$7:$D$3006,\"<=\"&$M$5))","v":0},{"$f":"IF($C23=\"\",0,COUNTIFS('Registry Full'!$H$7:$H$3006,$C23,'Registry Full'!$N$7:$N$3006,N$11,'Registry Full'!$D$7:$D$3006,\">=\"&$I$5,'Registry Full'!$D$7:$D$3006,\"<=\"&$M$5))","v":1},0,{"$f":"IF($C23=\"\",0,COUNTIFS('Registry Full'!$H$7:$H$3006,$C23,'Registry Full'!$P$7:$P$3006,P$11,'Registry Full'!$D$7:$D$3006,\">=\"&$I$5,'Registry Full'!$D$7:$D$3006,\"<=\"&$M$5))","v":0},{"$f":"IF($C23=\"\",0,COUNTIFS('Registry Full'!$H$7:$H$3006,$C23,'Registry Full'!$P$7:$P$3006,Q$11,'Registry Full'!$D$7:$D$3006,\">=\"&$I$5,'Registry Full'!$D$7:$D$3006,\"<=\"&$M$5))","v":0},{"$f":"IF($C23=\"\",0,COUNTIFS('Registry Full'!$H$7:$H$3006,$C23,'Registry Full'!$P$7:$P$3006,R$11,'Registry Full'!$D$7:$D$3006,\">=\"&$I$5,'Registry Full'!$D$7:$D$3006,\"<=\"&$M$5))","v":0},{"$f":"IF($C23=\"\",0,COUNTIFS('Registry Full'!$H$7:$H$3006,$C23,'Registry Full'!$P$7:$P$3006,S$11,'Registry Full'!$D$7:$D$3006,\">=\"&$I$5,'Registry Full'!$D$7:$D$3006,\"<=\"&$M$5))","v":1},0,{"$f":"IF($C23=\"\",0,COUNTIFS('Registry Full'!$H$7:$H$3006,$C23,'Registry Full'!$Y$7:$Y$3006,\"<>\"&\"\",'Registry Full'!$D$7:$D$3006,\">=\"&$I$5,'Registry Full'!$D$7:$D$3006,\"<=\"&$M$5))","v":1},{"$f":"IF($C23=\"\",0,COUNTIFS('Registry Full'!$H$7:$H$3006,$C23,'Registry Full'!$Y$7:$Y$3006,\"=\"&\"\",'Registry Full'!$P$7:$P$3006,\"<>\"&Presets!$C$67,'Registry Full'!$D$7:$D$3006,\">=\"&$I$5,'Registry Full'!$D$7:$D$3006,\"<=\"&$M$5))","v":0}]
[null,12,{"$f":"IF(Presets!C44=\"\",\"\",Presets!C44)","v":"Грешка в сумата"},{"$f":"IF($C24=\"\",0,COUNTIFS('Registry Full'!$H$7:$H$3006,$C24,'Registry Full'!$D$7:$D$3006,\">=\"&$I$5,'Registry Full'!$D$7:$D$3006,\"<=\"&$M$5))","v":1},{"$f":"IF($C24=\"\",0,COUNTIFS('Registry Full'!$H$7:$H$3006,$C24,'Registry Full'!$F$7:$F$3006,E$11,'Registry Full'!$D$7:$D$3006,\">=\"&$I$5,'Registry Full'!$D$7:$D$3006,\"<=\"&$M$5))","v":1},{"$f":"IF($C24=\"\",0,COUNTIFS('Registry Full'!$H$7:$H$3006,$C24,'Registry Full'!$F$7:$F$3006,F$11,'Registry Full'!$D$7:$D$3006,\">=\"&$I$5,'Registry Full'!$D$7:$D$3006,\"<=\"&$M$5))","v":0},0,{"$f":"IF($C24=\"\",0,COUNTIFS('Registry Full'!$H$7:$H$3006,$C24,'Registry Full'!$G$7:$G$3006,H$11,'Registry Full'!$D$7:$D$3006,\">=\"&$I$5,'Registry Full'!$D$7:$D$3006,\"<=\"&$M$5))","v":0},{"$f":"IF($C24=\"\",0,COUNTIFS('Registry Full'!$H$7:$H$3006,$C24,'Registry Full'!$G$7:$G$3006,I$11,'Registry Full'!$D$7:$D$3006,\">=\"&$I$5,'Registry Full'!$D$7:$D$3006,\"<=\"&$M$5))","v":0},{"$f":"IF($C24=\"\",0,COUNTIFS('Registry Full'!$H$7:$H$3006,$C24,'Registry Full'!$G$7:$G$3006,J$11,'Registry Full'!$D$7:$D$3006,\">=\"&$I$5,'Registry Full'!$D$7:$D$3006,\"<=\"&$M$5))","v":1},{"$f":"IF($C24=\"\",0,COUNTIFS('Registry Full'!$H$7:$H$3006,$C24,'Registry Full'!$G$7:$G$3006,K$11,'Registry Full'!$D$7:$D$3006,\">=\"&$I$5,'Registry Full'!$D$7:$D$3006,\"<=\"&$M$5))","v":0},0,{"$f":"IF($C24=\"\",0,COUNTIFS('Registry Full'!$H$7:$H$3006,$C24,'Registry Full'!$N$7:$N$3006,M$11,'Registry Full'!$D$7:$D$3006,\">=\"&$I$5,'Registry Full'!$D$7:$D$3006,\"<=\"&$M$5))","v":0},{"$f":"IF($C24=\"\",0,COUNTIFS('Registry Full'!$H$7:$H$3006,$C24,'Registry Full'!$N$7:$N$3006,N$11,'Registry Full'!$D$7:$D$3006,\">=\"&$I$5,'Registry Full'!$D$7:$D$3006,\"<=\"&$M$5))","v":1},0,{"$f":"IF($C24=\"\",0,COUNTIFS('Registry Full'!$H$7:$H$3006,$C24,'Registry Full'!$P$7:$P$3006,P$11,'Registry Full'!$D$7:$D$3006,\">=\"&$I$5,'Registry Full'!$D$7:$D$3006,\"<=\"&$M$5))","v":0},{"$f":"IF($C24=\"\",0,COUNTIFS('Registry Full'!$H$7:$H$3006,$C24,'Registry Full'!$P$7:$P$3006,Q$11,'Registry Full'!$D$7:$D$3006,\">=\"&$I$5,'Registry Full'!$D$7:$D$3006,\"<=\"&$M$5))","v":0},{"$f":"IF($C24=\"\",0,COUNTIFS('Registry Full'!$H$7:$H$3006,$C24,'Registry Full'!$P$7:$P$3006,R$11,'Registry Full'!$D$7:$D$3006,\">=\"&$I$5,'Registry Full'!$D$7:$D$3006,\"<=\"&$M$5))","v":0},{"$f":"IF($C24=\"\",0,COUNTIFS('Registry Full'!$H$7:$H$3006,$C24,'Registry Full'!$P$7:$P$3006,S$11,'Registry Full'!$D$7:$D$3006,\">=\"&$I$5,'Registry Full'!$D$7:$D$3006,\"<=\"&$M$5))","v":1},0,{"$f":"IF($C24=\"\",0,COUNTIFS('Registry Full'!$H$7:$H$3006,$C24,'Registry Full'!$Y$7:$Y$3006,\"<>\"&\"\",'Registry Full'!$D$7:$D$3006,\">=\"&$I$5,'Registry Full'!$D$7:$D$3006,\"<=\"&$M$5))","v":1},{"$f":"IF($C24=\"\",0,COUNTIFS('Registry Full'!$H$7:$H$3006,$C24,'Registry Full'!$Y$7:$Y$3006,\"=\"&\"\",'Registry Full'!$P$7:$P$3006,\"<>\"&Presets!$C$67,'Registry Full'!$D$7:$D$3006,\">=\"&$I$5,'Registry Full'!$D$7:$D$3006,\"<=\"&$M$5))","v":0}]
[null,13,{"$f":"IF(Presets!C45=\"\",\"\",Presets!C45)","v":"Некачествен ремонт водопр."},{"$f":"IF($C25=\"\",0,COUNTIFS('Registry Full'!$H$7:$H$3006,$C25,'Registry Full'!$D$7:$D$3006,\">=\"&$I$5,'Registry Full'!$D$7:$D$3006,\"<=\"&$M$5))","v":2},{"$f":"IF($C25=\"\",0,COUNTIFS('Registry Full'!$H$7:$H$3006,$C25,'Registry Full'!$F$7:$F$3006,E$11,'Registry Full'!$D$7:$D$3006,\">=\"&$I$5,'Registry Full'!$D$7:$D$3006,\"<=\"&$M$5))","v":2},{"$f":"IF($C25=\"\",0,COUNTIFS('Registry Full'!$H$7:$H$3006,$C25,'Registry Full'!$F$7:$F$3006,F$11,'Registry Full'!$D$7:$D$3006,\">=\"&$I$5,'Registry Full'!$D$7:$D$3006,\"<=\"&$M$5))","v":0},0,{"$f":"IF($C25=\"\",0,COUNTIFS('Registry Full'!$H$7:$H$3006,$C25,'Registry Full'!$G$7:$G$3006,H$11,'Registry Full'!$D$7:$D$3006,\">=\"&$I$5,'Registry Full'!$D$7:$D$3006,\"<=\"&$M$5))","v":1},{"$f":"IF($C25=\"\",0,COUNTIFS('Registry Full'!$H$7:$H$3006,$C25,'Registry Full'!$G$7:$G$3006,I$11,'Registry Full'!$D$7:$D$3006,\">=\"&$I$5,'Registry Full'!$D$7:$D$3006,\"<=\"&$M$5))","v":1},{"$f":"IF($C25=\"\",0,COUNTIFS('Registry Full'!$H$7:$H$3006,$C25,'Registry Full'!$G$7:$G$3006,J$11,'Registry Full'!$D$7:$D$3006,\">=\"&$I$5,'Registry Full'!$D$7:$D$3006,\"<=\"&$M$5))","v":0},{"$f":"IF($C25=\"\",0,COUNTIFS('Registry Full'!$H$7:$H$3006,$C25,'Registry Full'!$G$7:$G$3006,K$11,'Registry Full'!$D$7:$D$3006,\">=\"&$I$5,'Registry Full'!$D$7:$D$3006,\"<=\"&$M$5))","v":0},0,{"$f":"IF($C25=\"\",0,COUNTIFS('Registry Full'!$H$7:$H$3006,$C25,'Registry Full'!$N$7:$N$3006,M$11,'Registry Full'!$D$7:$D$3006,\">=\"&$I$5,'Registry Full'!$D$7:$D$3006,\"<=\"&$M$5))","v":2},{"$f":"IF($C25=\"\",0,COUNTIFS('Registry Full'!$H$7:$H$3006,$C25,'Registry Full'!$N$7:$N$3006,N$11,'Registry Full'!$D$7:$D$3006,\">=\"&$I$5,'Registry Full'!$D$7:$D$3006,\"<=\"&$M$5))","v":0},0,{"$f":"IF($C25=\"\",0,COUNTIFS('Registry Full'!$H$7:$H$3006,$C25,'Registry Full'!$P$7:$P$3006,P$11,'Registry Full'!$D$7:$D$3006,\">=\"&$I$5,'Registry Full'!$D$7:$D$3006,\"<=\"&$M$5))","v":0},{"$f":"IF($C25=\"\",0,COUNTIFS('Registry Full'!$H$7:$H$3006,$C25,'Registry Full'!$P$7:$P$3006,Q$11,'Registry Full'!$D$7:$D$3006,\">=\"&$I$5,'Registry Full'!$D$7:$D$3006,\"<=\"&$M$5))","v":0},{"$f":"IF($C25=\"\",0,COUNTIFS('Registry Full'!$H$7:$H$3006,$C25,'Registry Full'!$P$7:$P$3006,R$11,'Registry Full'!$D$7:$D$3006,\">=\"&$I$5,'Registry Full'!$D$7:$D$3006,\"<=\"&$M$5))","v":0},{"$f":"IF($C25=\"\",0,COUNTIFS('Registry Full'!$H$7:$H$3006,$C25,'Registry Full'!$P$7:$P$3006,S$11,'Registry Full'!$D$7:$D$3006,\">=\"&$I$5,'Registry Full'!$D$7:$D$3006,\"<=\"&$M$5))","v":2},0,{"$f":"IF($C25=\"\",0,COUNTIFS('Registry Full'!$H$7:$H$3006,$C25,'Registry Full'!$Y$7:$Y$3006,\"<>\"&\"\",'Registry Full'!$D$7:$D$3006,\">=\"&$I$5,'Registry Full'!$D$7:$D$3006,\"<=\"&$M$5))","v":2},{"$f":"IF($C25=\"\",0,COUNTIFS('Registry Full'!$H$7:$H$3006,$C25,'Registry Full'!$Y$7:$Y$3006,\"=\"&\"\",'Registry Full'!$P$7:$P$3006,\"<>\"&Presets!$C$67,'Registry Full'!$D$7:$D$3006,\">=\"&$I$5,'Registry Full'!$D$7:$D$3006,\"<=\"&$M$5))","v":0}]
[null,14,{"$f":"IF(Presets!C46=\"\",\"\",Presets!C46)","v":"Друго по водоснабдяване"},{"$f":"IF($C26=\"\",0,COUNTIFS('Registry Full'!$H$7:$H$3006,$C26,'Registry Full'!$D$7:$D$3006,\">=\"&$I$5,'Registry Full'!$D$7:$D$3006,\"<=\"&$M$5))","v":3},{"$f":"IF($C26=\"\",0,COUNTIFS('Registry Full'!$H$7:$H$3006,$C26,'Registry Full'!$F$7:$F$3006,E$11,'Registry Full'!$D$7:$D$3006,\">=\"&$I$5,'Registry Full'!$D$7:$D$3006,\"<=\"&$M$5))","v":3},{"$f":"IF($C26=\"\",0,COUNTIFS('Registry Full'!$H$7:$H$3006,$C26,'Registry Full'!$F$7:$F$3006,F$11,'Registry Full'!$D$7:$D$3006,\">=\"&$I$5,'Registry Full'!$D$7:$D$3006,\"<=\"&$M$5))","v":0},0,{"$f":"IF($C26=\"\",0,COUNTIFS('Registry Full'!$H$7:$H$3006,$C26,'Registry Full'!$G$7:$G$3006,H$11,'Registry Full'!$D$7:$D$3006,\">=\"&$I$5,'Registry Full'!$D$7:$D$3006,\"<=\"&$M$5))","v":1},{"$f":"IF($C26=\"\",0,COUNTIFS('Registry Full'!$H$7:$H$3006,$C26,'Registry Full'!$G$7:$G$3006,I$11,'Registry Full'!$D$7:$D$3006,\">=\"&$I$5,'Registry Full'!$D$7:$D$3006,\"<=\"&$M$5))","v":2},{"$f":"IF($C26=\"\",0,COUNTIFS('Registry Full'!$H$7:$H$3006,$C26,'Registry Full'!$G$7:$G$3006,J$11,'Registry Full'!$D$7:$D$3006,\">=\"&$I$5,'Registry Full'!$D$7:$D$3006,\"<=\"&$M$5))","v":0},{"$f":"IF($C26=\"\",0,COUNTIFS('Registry Full'!$H$7:$H$3006,$C26,'Registry Full'!$G$7:$G$3006,K$11,'Registry Full'!$D$7:$D$3006,\">=\"&$I$5,'Registry Full'!$D$7:$D$3006,\"<=\"&$M$5))","v":0},0,{"$f":"IF($C26=\"\",0,COUNTIFS('Registry Full'!$H$7:$H$3006,$C26,'Registry Full'!$N$7:$N$3006,M$11,'Registry Full'!$D$7:$D$3006,\">=\"&$I$5,'Registry Full'!$D$7:$D$3006,\"<=\"&$M$5))","v":3},{"$f":"IF($C26=\"\",0,COUNTIFS('Registry Full'!$H$7:$H$3006,$C26,'Registry Full'!$N$7:$N$3006,N$11,'Registry Full'!$D$7:$D$3006,\">=\"&$I$5,'Registry Full'!$D$7:$D$3006,\"<=\"&$M$5))","v":0},0,{"$f":"IF($C26=\"\",0,COUNTIFS('Registry Full'!$H$7:$H$3006,$C26,'Registry Full'!$P$7:$P$3006,P$11,'Registry Full'!$D$7:$D$3006,\">=\"&$I$5,'Registry Full'!$D$7:$D$3006,\"<=\"&$M$5))","v":0},{"$f":"IF($C26=\"\",0,COUNTIFS('Registry Full'!$H$7:$H$3006,$C26,'Registry Full'!$P$7:$P$3006,Q$11,'Registry Full'!$D$7:$D$3006,\">=\"&$I$5,'Registry Full'!$D$7:$D$3006,\"<=\"&$M$5))","v":0},{"$f":"IF($C26=\"\",0,COUNTIFS('Registry Full'!$H$7:$H$3006,$C26,'Registry Full'!$P$7:$P$3006,R$11,'Registry Full'!$D$7:$D$3006,\">=\"&$I$5,'Registry Full'!$D$7:$D$3006,\"<=\"&$M$5))","v":0},{"$f":"IF($C26=\"\",0,COUNTIFS('Registry Full'!$H$7:$H$3006,$C26,'Registry Full'!$P$7:$P$3006,S$11,'Registry Full'!$D$7:$D$3006,\">=\"&$I$5,'Registry Full'!$D$7:$D$3006,\"<=\"&$M$5))","v":3},0,{"$f":"IF($C26=\"\",0,COUNTIFS('Registry Full'!$H$7:$H$3006,$C26,'Registry Full'!$Y$7:$Y$3006,\"<>\"&\"\",'Registry Full'!$D$7:$D$3006,\">=\"&$I$5,'Registry Full'!$D$7:$D$3006,\"<=\"&$M$5))","v":3},{"$f":"IF($C26=\"\",0,COUNTIFS('Registry Full'!$H$7:$H$3006,$C26,'Registry Full'!$Y$7:$Y$3006,\"=\"&\"\",'Registry Full'!$P$7:$P$3006,\"<>\"&Presets!$C$67,'Registry Full'!$D$7:$D$3006,\">=\"&$I$5,'Registry Full'!$D$7:$D$3006,\"<=\"&$M$5))","v":0}]
[null,15,{"$f":"IF(Presets!C47=\"\",\"\",Presets!C47)","v":"Запушване на канализация"},{"$f":"IF($C27=\"\",0,COUNTIFS('Registry Full'!$H$7:$H$3006,$C27,'Registry Full'!$D$7:$D$3006,\">=\"&$I$5,'Registry Full'!$D$7:$D$3006,\"<=\"&$M$5))","v":4},{"$f":"IF($C27=\"\",0,COUNTIFS('Registry Full'!$H$7:$H$3006,$C27,'Registry Full'!$F$7:$F$3006,E$11,'Registry Full'!$D$7:$D$3006,\">=\"&$I$5,'Registry Full'!$D$7:$D$3006,\"<=\"&$M$5))","v":3},{"$f":"IF($C27=\"\",0,COUNTIFS('Registry Full'!$H$7:$H$3006,$C27,'Registry Full'!$F$7:$F$3006,F$11,'Registry Full'!$D$7:$D$3006,\">=\"&$I$5,'Registry Full'!$D$7:$D$3006,\"<=\"&$M$5))","v":1},0,{"$f":"IF($C27=\"\",0,COUNTIFS('Registry Full'!$H$7:$H$3006,$C27,'Registry Full'!$G$7:$G$3006,H$11,'Registry Full'!$D$7:$D$3006,\">=\"&$I$5,'Registry Full'!$D$7:$D$3006,\"<=\"&$M$5))","v":4},{"$f":"IF($C27=\"\",0,COUNTIFS('Registry Full'!$H$7:$H$3006,$C27,'Registry Full'!$G$7:$G$3006,I$11,'Registry Full'!$D$7:$D$3006,\">=\"&$I$5,'Registry Full'!$D$7:$D$3006,\"<=\"&$M$5))","v":0},{"$f":"IF($C27=\"\",0,COUNTIFS('Registry Full'!$H$7:$H$3006,$C27,'Registry Full'!$G$7:$G$3006,J$11,'Registry Full'!$D$7:$D$3006,\">=\"&$I$5,'Registry Full'!$D$7:$D$3006,\"<=\"&$M$5))","v":0},{"$f":"IF($C27=\"\",0,COUNTIFS('Registry Full'!$H$7:$H$3006,$C27,'Registry Full'!$G$7:$G$3006,K$11,'Registry Full'!$D$7:$D$3006,\">=\"&$I$5,'Registry Full'!$D$7:$D$3006,\"<=\"&$M$5))","v":0},0,{"$f":"IF($C27=\"\",0,COUNTIFS('Registry Full'!$H$7:$H$3006,$C27,'Registry Full'!$N$7:$N$3006,M$11,'Registry Full'!$D$7:$D$3006,\">=\"&$I$5,'Registry Full'!$D$7:$D$3006,\"<=\"&$M$5))","v":4},{"$f":"IF($C27=\"\",0,COUNTIFS('Registry Full'!$H$7:$H$3006,$C27,'Registry Full'!$N$7:$N$3006,N$11,'Registry Full'!$D$7:$D$3006,\">=\"&$I$5,'Registry Full'!$D$7:$D$3006,\"<=\"&$M$5))","v":0},0,{"$f":"IF($C27=\"\",0,COUNTIFS('Registry Full'!$H$7:$H$3006,$C27,'Registry Full'!$P$7:$P$3006,P$11,'Registry Full'!$D$7:$D$3006,\">=\"&$I$5,'Registry Full'!$D$7:$D$3006,\"<=\"&$M$5))","v":0},{"$f":"IF($C27=\"\",0,COUNTIFS('Registry Full'!$H$7:$H$3006,$C27,'Registry Full'!$P$7:$P$3006,Q$11,'Registry Full'!$D$7:$D$3006,\">=\"&$I$5,'Registry Full'!$D$7:$D$3006,\"<=\"&$M$5))","v":0},{"$f":"IF($C27=\"\",0,COUNTIFS('Registry Full'!$H$7:$H$3006,$C27,'Registry Full'!$P$7:$P$3006,R$11,'Registry Full'!$D$7:$D$3006,\">=\"&$I$5,'Registry Full'!$D$7:$D$3006,\"<=\"&$M$5))","v":0},{"$f":"IF($C27=\"\",0,COUNTIFS('Registry Full'!$H$7:$H$3006,$C27,'Registry Full'!$P$7:$P$3006,S$11,'Registry Full'!$D$7:$D$3006,\">=\"&$I$5,'Registry Full'!$D$7:$D$3006,\"<=\"&$M$5))","v":4},0,{"$f":"IF($C27=\"\",0,COUNTIFS('Registry Full'!$H$7:$H$3006,$C27,'Registry Full'!$Y$7:$Y$3006,\"<>\"&\"\",'Registry Full'!$D$7:$D$3006,\">=\"&$I$5,'Registry Full'!$D$7:$D$3006,\"<=\"&$M$5))","v":4},{"$f":"IF($C27=\"\",0,COUNTIFS('Registry Full'!$H$7:$H$3006,$C27,'Registry Full'!$Y$7:$Y$3006,\"=\"&\"\",'Registry Full'!$P$7:$P$3006,\"<>\"&Presets!$C$67,'Registry Full'!$D$7:$D$3006,\">=\"&$I$5,'Registry Full'!$D$7:$D$3006,\"<=\"&$M$5))","v":0}]
[null,16,{"$f":"IF(Presets!C48=\"\",\"\",Presets!C48)","v":"Наводняване от отпад. води"},{"$f":"IF($C28=\"\",0,COUNTIFS('Registry Full'!$H$7:$H$3006,$C28,'Registry Full'!$D$7:$D$3006,\">=\"&$I$5,'Registry Full'!$D$7:$D$3006,\"<=\"&$M$5))","v":4},{"$f":"IF($C28=\"\",0,COUNTIFS('Registry Full'!$H$7:$H$3006,$C28,'Registry Full'!$F$7:$F$3006,E$11,'Registry Full'!$D$7:$D$3006,\">=\"&$I$5,'Registry Full'!$D$7:$D$3006,\"<=\"&$M$5))","v":4},{"$f":"IF($C28=\"\",0,COUNTIFS('Registry Full'!$H$7:$H$3006,$C28,'Registry Full'!$F$7:$F$3006,F$11,'Registry Full'!$D$7:$D$3006,\">=\"&$I$5,'Registry Full'!$D$7:$D$3006,\"<=\"&$M$5))","v":0},0,{"$f":"IF($C28=\"\",0,COUNTIFS('Registry Full'!$H$7:$H$3006,$C28,'Registry Full'!$G$7:$G$3006,H$11,'Registry Full'!$D$7:$D$3006,\">=\"&$I$5,'Registry Full'!$D$7:$D$3006,\"<=\"&$M$5))","v":1},{"$f":"IF($C28=\"\",0,COUNTIFS('Registry Full'!$H$7:$H$3006,$C28,'Registry Full'!$G$7:$G$3006,I$11,'Registry Full'!$D$7:$D$3006,\">=\"&$I$5,'Registry Full'!$D$7:$D$3006,\"<=\"&$M$5))","v":2},{"$f":"IF($C28=\"\",0,COUNTIFS('Registry Full'!$H$7:$H$3006,$C28,'Registry Full'!$G$7:$G$3006,J$11,'Registry Full'!$D$7:$D$3006,\">=\"&$I$5,'Registry Full'!$D$7:$D$3006,\"<=\"&$M$5))","v":1},{"$f":"IF($C28=\"\",0,COUNTIFS('Registry Full'!$H$7:$H$3006,$C28,'Registry Full'!$G$7:$G$3006,K$11,'Registry Full'!$D$7:$D$3006,\">=\"&$I$5,'Registry Full'!$D$7:$D$3006,\"<=\"&$M$5))","v":0},0,{"$f":"IF($C28=\"\",0,COUNTIFS('Registry Full'!$H$7:$H$3006,$C28,'Registry Full'!$N$7:$N$3006,M$11,'Registry Full'!$D$7:$D$3006,\">=\"&$I$5,'Registry Full'!$D$7:$D$3006,\"<=\"&$M$5))","v":4},{"$f":"IF($C28=\"\",0,COUNTIFS('Registry Full'!$H$7:$H$3006,$C28,'Registry Full'!$N$7:$N$3006,N$11,'Registry Full'!$D$7:$D$3006,\">=\"&$I$5,'Registry Full'!$D$7:$D$3006,\"<=\"&$M$5))","v":0},0,{"$f":"IF($C28=\"\",0,COUNTIFS('Registry Full'!$H$7:$H$3006,$C28,'Registry Full'!$P$7:$P$3006,P$11,'Registry Full'!$D$7:$D$3006,\">=\"&$I$5,'Registry Full'!$D$7:$D$3006,\"<=\"&$M$5))","v":0},{"$f":"IF($C28=\"\",0,COUNTIFS('Registry Full'!$H$7:$H$3006,$C28,'Registry Full'!$P$7:$P$3006,Q$11,'Registry Full'!$D$7:$D$3006,\">=\"&$I$5,'Registry Full'!$D$7:$D$3006,\"<=\"&$M$5))","v":0},{"$f":"IF($C28=\"\",0,COUNTIFS('Registry Full'!$H$7:$H$3006,$C28,'Registry Full'!$P$7:$P$3006,R$11,'Registry Full'!$D$7:$D$3006,\">=\"&$I$5,'Registry Full'!$D$7:$D$3006,\"<=\"&$M$5))","v":0},{"$f":"IF($C28=\"\",0,COUNTIFS('Registry Full'!$H$7:$H$3006,$C28,'Registry Full'!$P$7:$P$3006,S$11,'Registry Full'!$D$7:$D$3006,\">=\"&$I$5,'Registry Full'!$D$7:$D$3006,\"<=\"&$M$5))","v":4},0,{"$f":"IF($C28=\"\",0,COUNTIFS('Registry Full'!$H$7:$H$3006,$C28,'Registry Full'!$Y$7:$Y$3006,\"<>\"&\"\",'Registry Full'!$D$7:$D$3006,\">=\"&$I$5,'Registry Full'!$D$7:$D$3006,\"<=\"&$M$5))","v":4},{"$f":"IF($C28=\"\",0,COUNTIFS('Registry Full'!$H$7:$H$3006,$C28,'Registry Full'!$Y$7:$Y$3006,\"=\"&\"\",'Registry Full'!$P$7:$P$3006,\"<>\"&Presets!$C$67,'Registry Full'!$D$7:$D$3006,\">=\"&$I$5,'Registry Full'!$D$7:$D$3006,\"<=\"&$M$5))","v":0}]
[null,17,{"$f":"IF(Presets!C49=\"\",\"\",Presets!C49)","v":"Наводняване от дъжд. води"},{"$f":"IF($C29=\"\",0,COUNTIFS('Registry Full'!$H$7:$H$3006,$C29,'Registry Full'!$D$7:$D$3006,\">=\"&$I$5,'Registry Full'!$D$7:$D$3006,\"<=\"&$M$5))","v":0},{"$f":"IF($C29=\"\",0,COUNTIFS('Registry Full'!$H$7:$H$3006,$C29,'Registry Full'!$F$7:$F$3006,E$11,'Registry Full'!$D$7:$D$3006,\">=\"&$I$5,'Registry Full'!$D$7:$D$3006,\"<=\"&$M$5))","v":0},{"$f":"IF($C29=\"\",0,COUNTIFS('Registry Full'!$H$7:$H$3006,$C29,'Registry Full'!$F$7:$F$3006,F$11,'Registry Full'!$D$7:$D$3006,\">=\"&$I$5,'Registry Full'!$D$7:$D$3006,\"<=\"&$M$5))","v":0},0,{"$f":"IF($C29=\"\",0,COUNTIFS('Registry Full'!$H$7:$H$3006,$C29,'Registry Full'!$G$7:$G$3006,H$11,'Registry Full'!$D$7:$D$3006,\">=\"&$I$5,'Registry Full'!$D$7:$D$3006,\"<=\"&$M$5))","v":0},{"$f":"IF($C29=\"\",0,COUNTIFS('Registry Full'!$H$7:$H$3006,$C29,'Registry Full'!$G$7:$G$3006,I$11,'Registry Full'!$D$7:$D$3006,\">=\"&$I$5,'Registry Full'!$D$7:$D$3006,\"<=\"&$M$5))","v":0},{"$f":"IF($C29=\"\",0,COUNTIFS('Registry Full'!$H$7:$H$3006,$C29,'Registry Full'!$G$7:$G$3006,J$11,'Registry Full'!$D$7:$D$3006,\">=\"&$I$5,'Registry Full'!$D$7:$D$3006,\"<=\"&$M$5))","v":0},{"$f":"IF($C29=\"\",0,COUNTIFS('Registry Full'!$H$7:$H$3006,$C29,'Registry Full'!$G$7:$G$3006,K$11,'Registry Full'!$D$7:$D$3006,\">=\"&$I$5,'Registry Full'!$D$7:$D$3006,\"<=\"&$M$5))","v":0},0,{"$f":"IF($C29=\"\",0,COUNTIFS('Registry Full'!$H$7:$H$3006,$C29,'Registry Full'!$N$7:$N$3006,M$11,'Registry Full'!$D$7:$D$3006,\">=\"&$I$5,'Registry Full'!$D$7:$D$3006,\"<=\"&$M$5))","v":0},{"$f":"IF($C29=\"\",0,COUNTIFS('Registry Full'!$H$7:$H$3006,$C29,'Registry Full'!$N$7:$N$3006,N$11,'Registry Full'!$D$7:$D$3006,\">=\"&$I$5,'Registry Full'!$D$7:$D$3006,\"<=\"&$M$5))","v":0},0,{"$f":"IF($C29=\"\",0,COUNTIFS('Registry Full'!$H$7:$H$3006,$C29,'Registry Full'!$P$7:$P$3006,P$11,'Registry Full'!$D$7:$D$3006,\">=\"&$I$5,'Registry Full'!$D$7:$D$3006,\"<=\"&$M$5))","v":0},{"$f":"IF($C29=\"\",0,COUNTIFS('Registry Full'!$H$7:$H$3006,$C29,'Registry Full'!$P$7:$P$3006,Q$11,'Registry Full'!$D$7:$D$3006,\">=\"&$I$5,'Registry Full'!$D$7:$D$3006,\"<=\"&$M$5))","v":0},{"$f":"IF($C29=\"\",0,COUNTIFS('Registry Full'!$H$7:$H$3006,$C29,'Registry Full'!$P$7:$P$3006,R$11,'Registry Full'!$D$7:$D$3006,\">=\"&$I$5,'Registry Full'!$D$7:$D$3006,\"<=\"&$M$5))","v":0},{"$f":"IF($C29=\"\",0,COUNTIFS('Registry Full'!$H$7:$H$3006,$C29,'Registry Full'!$P$7:$P$3006,S$11,'Registry Full'!$D$7:$D$3006,\">=\"&$I$5,'Registry Full'!$D$7:$D$3006,\"<=\"&$M$5))","v":0},0,{"$f":"IF($C29=\"\",0,COUNTIFS('Registry Full'!$H$7:$H$3006,$C29,'Registry Full'!$Y$7:$Y$3006,\"<>\"&\"\",'Registry Full'!$D$7:$D$3006,\">=\"&$I$5,'Registry Full'!$D$7:$D$3006,\"<=\"&$M$5))","v":0},{"$f":"IF($C29=\"\",0,COUNTIFS('Registry Full'!$H$7:$H$3006,$C29,'Registry Full'!$Y$7:$Y$3006,\"=\"&\"\",'Registry Full'!$P$7:$P$3006,\"<>\"&Presets!$C$67,'Registry Full'!$D$7:$D$3006,\">=\"&$I$5,'Registry Full'!$D$7:$D$3006,\"<=\"&$M$5))","v":0}]
[null,18,{"$f":"IF(Presets!C50=\"\",\"\",Presets!C50)","v":"Некачествен ремонт канал"},{"$f":"IF($C30=\"\",0,COUNTIFS('Registry Full'!$H$7:$H$3006,$C30,'Registry Full'!$D$7:$D$3006,\">=\"&$I$5,'Registry Full'!$D$7:$D$3006,\"<=\"&$M$5))","v":0},{"$f":"IF($C30=\"\",0,COUNTIFS('Registry Full'!$H$7:$H$3006,$C30,'Registry Full'!$F$7:$F$3006,E$11,'Registry Full'!$D$7:$D$3006,\">=\"&$I$5,'Registry Full'!$D$7:$D$3006,\"<=\"&$M$5))","v":0},{"$f":"IF($C30=\"\",0,COUNTIFS('Registry Full'!$H$7:$H$3006,$C30,'Registry Full'!$F$7:$F$3006,F$11,'Registry Full'!$D$7:$D$3006,\">=\"&$I$5,'Registry Full'!$D$7:$D$3006,\"<=\"&$M$5))","v":0},0,{"$f":"IF($C30=\"\",0,COUNTIFS('Registry Full'!$H$7:$H$3006,$C30,'Registry Full'!$G$7:$G$3006,H$11,'Registry Full'!$D$7:$D$3006,\">=\"&$I$5,'Registry Full'!$D$7:$D$3006,\"<=\"&$M$5))","v":0},{"$f":"IF($C30=\"\",0,COUNTIFS('Registry Full'!$H$7:$H$3006,$C30,'Registry Full'!$G$7:$G$3006,I$11,'Registry Full'!$D$7:$D$3006,\">=\"&$I$5,'Registry Full'!$D$7:$D$3006,\"<=\"&$M$5))","v":0},{"$f":"IF($C30=\"\",0,COUNTIFS('Registry Full'!$H$7:$H$3006,$C30,'Registry Full'!$G$7:$G$3006,J$11,'Registry Full'!$D$7:$D$3006,\">=\"&$I$5,'Registry Full'!$D$7:$D$3006,\"<=\"&$M$5))","v":0},{"$f":"IF($C30=\"\",0,COUNTIFS('Registry Full'!$H$7:$H$3006,$C30,'Registry Full'!$G$7:$G$3006,K$11,'Registry Full'!$D$7:$D$3006,\">=\"&$I$5,'Registry Full'!$D$7:$D$3006,\"<=\"&$M$5))","v":0},0,{"$f":"IF($C30=\"\",0,COUNTIFS('Registry Full'!$H$7:$H$3006,$C30,'Registry Full'!$N$7:$N$3006,M$11,'Registry Full'!$D$7:$D$3006,\">=\"&$I$5,'Registry Full'!$D$7:$D$3006,\"<=\"&$M$5))","v":0},{"$f":"IF($C30=\"\",0,COUNTIFS('Registry Full'!$H$7:$H$3006,$C30,'Registry Full'!$N$7:$N$3006,N$11,'Registry Full'!$D$7:$D$3006,\">=\"&$I$5,'Registry Full'!$D$7:$D$3006,\"<=\"&$M$5))","v":0},0,{"$f":"IF($C30=\"\",0,COUNTIFS('Registry Full'!$H$7:$H$3006,$C30,'Registry Full'!$P$7:$P$3006,P$11,'Registry Full'!$D$7:$D$3006,\">=\"&$I$5,'Registry Full'!$D$7:$D$3006,\"<=\"&$M$5))","v":0},{"$f":"IF($C30=\"\",0,COUNTIFS('Registry Full'!$H$7:$H$3006,$C30,'Registry Full'!$P$7:$P$3006,Q$11,'Registry Full'!$D$7:$D$3006,\">=\"&$I$5,'Registry Full'!$D$7:$D$3006,\"<=\"&$M$5))","v":0},{"$f":"IF($C30=\"\",0,COUNTIFS('Registry Full'!$H$7:$H$3006,$C30,'Registry Full'!$P$7:$P$3006,R$11,'Registry Full'!$D$7:$D$3006,\">=\"&$I$5,'Registry Full'!$D$7:$D$3006,\"<=\"&$M$5))","v":0},{"$f":"IF($C30=\"\",0,COUNTIFS('Registry Full'!$H$7:$H$3006,$C30,'Registry Full'!$P$7:$P$3006,S$11,'Registry Full'!$D$7:$D$3006,\">=\"&$I$5,'Registry Full'!$D$7:$D$3006,\"<=\"&$M$5))","v":0},0,{"$f":"IF($C30=\"\",0,COUNTIFS('Registry Full'!$H$7:$H$3006,$C30,'Registry Full'!$Y$7:$Y$3006,\"<>\"&\"\",'Registry Full'!$D$7:$D$3006,\">=\"&$I$5,'Registry Full'!$D$7:$D$3006,\"<=\"&$M$5))","v":0},{"$f":"IF($C30=\"\",0,COUNTIFS('Registry Full'!$H$7:$H$3006,$C30,'Registry Full'!$Y$7:$Y$3006,\"=\"&\"\",'Registry Full'!$P$7:$P$3006,\"<>\"&Presets!$C$67,'Registry Full'!$D$7:$D$3006,\">=\"&$I$5,'Registry Full'!$D$7:$D$3006,\"<=\"&$M$5))","v":0}]
[null,19,{"$f":"IF(Presets!C51=\"\",\"\",Presets!C51)","v":"Друго по канализация"},{"$f":"IF($C31=\"\",0,COUNTIFS('Registry Full'!$H$7:$H$3006,$C31,'Registry Full'!$D$7:$D$3006,\">=\"&$I$5,'Registry Full'!$D$7:$D$3006,\"<=\"&$M$5))","v":1},{"$f":"IF($C31=\"\",0,COUNTIFS('Registry Full'!$H$7:$H$3006,$C31,'Registry Full'!$F$7:$F$3006,E$11,'Registry Full'!$D$7:$D$3006,\">=\"&$I$5,'Registry Full'!$D$7:$D$3006,\"<=\"&$M$5))","v":1},{"$f":"IF($C31=\"\",0,COUNTIFS('Registry Full'!$H$7:$H$3006,$C31,'Registry Full'!$F$7:$F$3006,F$11,'Registry Full'!$D$7:$D$3006,\">=\"&$I$5,'Registry Full'!$D$7:$D$3006,\"<=\"&$M$5))","v":0},0,{"$f":"IF($C31=\"\",0,COUNTIFS('Registry Full'!$H$7:$H$3006,$C31,'Registry Full'!$G$7:$G$3006,H$11,'Registry Full'!$D$7:$D$3006,\">=\"&$I$5,'Registry Full'!$D$7:$D$3006,\"<=\"&$M$5))","v":1},{"$f":"IF($C31=\"\",0,COUNTIFS('Registry Full'!$H$7:$H$3006,$C31,'Registry Full'!$G$7:$G$3006,I$11,'Registry Full'!$D$7:$D$3006,\">=\"&$I$5,'Registry Full'!$D$7:$D$3006,\"<=\"&$M$5))","v":0},{"$f":"IF($C31=\"\",0,COUNTIFS('Registry Full'!$H$7:$H$3006,$C31,'Registry Full'!$G$7:$G$3006,J$11,'Registry Full'!$D$7:$D$3006,\">=\"&$I$5,'Registry Full'!$D$7:$D$3006,\"<=\"&$M$5))","v":0},{"$f":"IF($C31=\"\",0,COUNTIFS('Registry Full'!$H$7:$H$3006,$C31,'Registry Full'!$G$7:$G$3006,K$11,'Registry Full'!$D$7:$D$3006,\">=\"&$I$5,'Registry Full'!$D$7:$D$3006,\"<=\"&$M$5))","v":0},0,{"$f":"IF($C31=\"\",0,COUNTIFS('Registry Full'!$H$7:$H$3006,$C31,'Registry Full'!$N$7:$N$3006,M$11,'Registry Full'!$D$7:$D$3006,\">=\"&$I$5,'Registry Full'!$D$7:$D$3006,\"<=\"&$M$5))","v":1},{"$f":"IF($C31=\"\",0,COUNTIFS('Registry Full'!$H$7:$H$3006,$C31,'Registry Full'!$N$7:$N$3006,N$11,'Registry Full'!$D$7:$D$3006,\">=\"&$I$5,'Registry Full'!$D$7:$D$3006,\"<=\"&$M$5))","v":0},0,{"$f":"IF($C31=\"\",0,COUNTIFS('Registry Full'!$H$7:$H$3006,$C31,'Registry Full'!$P$7:$P$3006,P$11,'Registry Full'!$D$7:$D$3006,\">=\"&$I$5,'Registry Full'!$D$7:$D$3006,\"<=\"&$M$5))","v":0},{"$f":"IF($C31=\"\",0,COUNTIFS('Registry Full'!$H$7:$H$3006,$C31,'Registry Full'!$P$7:$P$3006,Q$11,'Registry Full'!$D$7:$D$3006,\">=\"&$I$5,'Registry Full'!$D$7:$D$3006,\"<=\"&$M$5))","v":0},{"$f":"IF($C31=\"\",0,COUNTIFS('Registry Full'!$H$7:$H$3006,$C31,'Registry Full'!$P$7:$P$3006,R$11,'Registry Full'!$D$7:$D$3006,\">=\"&$I$5,'Registry Full'!$D$7:$D$3006,\"<=\"&$M$5))","v":0},{"$f":"IF($C31=\"\",0,COUNTIFS('Registry Full'!$H$7:$H$3006,$C31,'Registry Full'!$P$7:$P$3006,S$11,'Registry Full'!$D$7:$D$3006,\">=\"&$I$5,'Registry Full'!$D$7:$D$3006,\"<=\"&$M$5))","v":1},0,{"$f":"IF($C31=\"\",0,COUNTIFS('Registry Full'!$H$7:$H$3006,$C31,'Registry Full'!$Y$7:$Y$3006,\"<>\"&\"\",'Registry Full'!$D$7:$D$3006,\">=\"&$I$5,'Registry Full'!$D$7:$D$3006,\"<=\"&$M$5))","v":1},{"$f":"IF($C31=\"\",0,COUNTIFS('Registry Full'!$H$7:$H$3006,$C31,'Registry Full'!$Y$7:$Y$3006,\"=\"&\"\",'Registry Full'!$P$7:$P$3006,\"<>\"&Presets!$C$67,'Registry Full'!$D$7:$D$3006,\">=\"&$I$5,'Registry Full'!$D$7:$D$3006,\"<=\"&$M$5))","v":0}]
[null,20,{"$f":"IF(Presets!C52=\"\",\"\",Presets!C52)","v":"Проблеми с ПСОВ"},{"$f":"IF($C32=\"\",0,COUNTIFS('Registry Full'!$H$7:$H$3006,$C32,'Registry Full'!$D$7:$D$3006,\">=\"&$I$5,'Registry Full'!$D$7:$D$3006,\"<=\"&$M$5))","v":0},{"$f":"IF($C32=\"\",0,COUNTIFS('Registry Full'!$H$7:$H$3006,$C32,'Registry Full'!$F$7:$F$3006,E$11,'Registry Full'!$D$7:$D$3006,\">=\"&$I$5,'Registry Full'!$D$7:$D$3006,\"<=\"&$M$5))","v":0},{"$f":"IF($C32=\"\",0,COUNTIFS('Registry Full'!$H$7:$H$3006,$C32,'Registry Full'!$F$7:$F$3006,F$11,'Registry Full'!$D$7:$D$3006,\">=\"&$I$5,'Registry Full'!$D$7:$D$3006,\"<=\"&$M$5))","v":0},0,{"$f":"IF($C32=\"\",0,COUNTIFS('Registry Full'!$H$7:$H$3006,$C32,'Registry Full'!$G$7:$G$3006,H$11,'Registry Full'!$D$7:$D$3006,\">=\"&$I$5,'Registry Full'!$D$7:$D$3006,\"<=\"&$M$5))","v":0},{"$f":"IF($C32=\"\",0,COUNTIFS('Registry Full'!$H$7:$H$3006,$C32,'Registry Full'!$G$7:$G$3006,I$11,'Registry Full'!$D$7:$D$3006,\">=\"&$I$5,'Registry Full'!$D$7:$D$3006,\"<=\"&$M$5))","v":0},{"$f":"IF($C32=\"\",0,COUNTIFS('Registry Full'!$H$7:$H$3006,$C32,'Registry Full'!$G$7:$G$3006,J$11,'Registry Full'!$D$7:$D$3006,\">=\"&$I$5,'Registry Full'!$D$7:$D$3006,\"<=\"&$M$5))","v":0},{"$f":"IF($C32=\"\",0,COUNTIFS('Registry Full'!$H$7:$H$3006,$C32,'Registry Full'!$G$7:$G$3006,K$11,'Registry Full'!$D$7:$D$3006,\">=\"&$I$5,'Registry Full'!$D$7:$D$3006,\"<=\"&$M$5))","v":0},0,{"$f":"IF($C32=\"\",0,COUNTIFS('Registry Full'!$H$7:$H$3006,$C32,'Registry Full'!$N$7:$N$3006,M$11,'Registry Full'!$D$7:$D$3006,\">=\"&$I$5,'Registry Full'!$D$7:$D$3006,\"<=\"&$M$5))","v":0},{"$f":"IF($C32=\"\",0,COUNTIFS('Registry Full'!$H$7:$H$3006,$C32,'Registry Full'!$N$7:$N$3006,N$11,'Registry Full'!$D$7:$D$3006,\">=\"&$I$5,'Registry Full'!$D$7:$D$3006,\"<=\"&$M$5))","v":0},0,{"$f":"IF($C32=\"\",0,COUNTIFS('Registry Full'!$H$7:$H$3006,$C32,'Registry Full'!$P$7:$P$3006,P$11,'Registry Full'!$D$7:$D$3006,\">=\"&$I$5,'Registry Full'!$D$7:$D$3006,\"<=\"&$M$5))","v":0},{"$f":"IF($C32=\"\",0,COUNTIFS('Registry Full'!$H$7:$H$3006,$C32,'Registry Full'!$P$7:$P$3006,Q$11,'Registry Full'!$D$7:$D$3006,\">=\"&$I$5,'Registry Full'!$D$7:$D$3006,\"<=\"&$M$5))","v":0},{"$f":"IF($C32=\"\",0,COUNTIFS('Registry Full'!$H$7:$H$3006,$C32,'Registry Full'!$P$7:$P$3006,R$11,'Registry Full'!$D$7:$D$3006,\">=\"&$I$5,'Registry Full'!$D$7:$D$3006,\"<=\"&$M$5))","v":0},{"$f":"IF($C32=\"\",0,COUNTIFS('Registry Full'!$H$7:$H$3006,$C32,'Registry Full'!$P$7:$P$3006,S$11,'Registry Full'!$D$7:$D$3006,\">=\"&$I$5,'Registry Full'!$D$7:$D$3006,\"<=\"&$M$5))","v":0},0,{"$f":"IF($C32=\"\",0,COUNTIFS('Registry Full'!$H$7:$H$3006,$C32,'Registry Full'!$Y$7:$Y$3006,\"<>\"&\"\",'Registry Full'!$D$7:$D$3006,\">=\"&$I$5,'Registry Full'!$D$7:$D$3006,\"<=\"&$M$5))","v":0},{"$f":"IF($C32=\"\",0,COUNTIFS('Registry Full'!$H$7:$H$3006,$C32,'Registry Full'!$Y$7:$Y$3006,\"=\"&\"\",'Registry Full'!$P$7:$P$3006,\"<>\"&Presets!$C$67,'Registry Full'!$D$7:$D$3006,\">=\"&$I$5,'Registry Full'!$D$7:$D$3006,\"<=\"&$M$5))","v":0}]
[null,21,{"$f":"IF(Presets!C53=\"\",\"\",Presets!C53)","v":"Спорове по ЗОП"},{"$f":"IF($C33=\"\",0,COUNTIFS('Registry Full'!$H$7:$H$3006,$C33,'Registry Full'!$D$7:$D$3006,\">=\"&$I$5,'Registry Full'!$D$7:$D$3006,\"<=\"&$M$5))","v":0},{"$f":"IF($C33=\"\",0,COUNTIFS('Registry Full'!$H$7:$H$3006,$C33,'Registry Full'!$F$7:$F$3006,E$11,'Registry Full'!$D$7:$D$3006,\">=\"&$I$5,'Registry Full'!$D$7:$D$3006,\"<=\"&$M$5))","v":0},{"$f":"IF($C33=\"\",0,COUNTIFS('Registry Full'!$H$7:$H$3006,$C33,'Registry Full'!$F$7:$F$3006,F$11,'Registry Full'!$D$7:$D$3006,\">=\"&$I$5,'Registry Full'!$D$7:$D$3006,\"<=\"&$M$5))","v":0},0,{"$f":"IF($C33=\"\",0,COUNTIFS('Registry Full'!$H$7:$H$3006,$C33,'Registry Full'!$G$7:$G$3006,H$11,'Registry Full'!$D$7:$D$3006,\">=\"&$I$5,'Registry Full'!$D$7:$D$3006,\"<=\"&$M$5))","v":0},{"$f":"IF($C33=\"\",0,COUNTIFS('Registry Full'!$H$7:$H$3006,$C33,'Registry Full'!$G$7:$G$3006,I$11,'Registry Full'!$D$7:$D$3006,\">=\"&$I$5,'Registry Full'!$D$7:$D$3006,\"<=\"&$M$5))","v":0},{"$f":"IF($C33=\"\",0,COUNTIFS('Registry Full'!$H$7:$H$3006,$C33,'Registry Full'!$G$7:$G$3006,J$11,'Registry Full'!$D$7:$D$3006,\">=\"&$I$5,'Registry Full'!$D$7:$D$3006,\"<=\"&$M$5))","v":0},{"$f":"IF($C33=\"\",0,COUNTIFS('Registry Full'!$H$7:$H$3006,$C33,'Registry Full'!$G$7:$G$3006,K$11,'Registry Full'!$D$7:$D$3006,\">=\"&$I$5,'Registry Full'!$D$7:$D$3006,\"<=\"&$M$5))","v":0},0,{"$f":"IF($C33=\"\",0,COUNTIFS('Registry Full'!$H$7:$H$3006,$C33,'Registry Full'!$N$7:$N$3006,M$11,'Registry Full'!$D$7:$D$3006,\">=\"&$I$5,'Registry Full'!$D$7:$D$3006,\"<=\"&$M$5))","v":0},{"$f":"IF($C33=\"\",0,COUNTIFS('Registry Full'!$H$7:$H$3006,$C33,'Registry Full'!$N$7:$N$3006,N$11,'Registry Full'!$D$7:$D$3006,\">=\"&$I$5,'Registry Full'!$D$7:$D$3006,\"<=\"&$M$5))","v":0},0,{"$f":"IF($C33=\"\",0,COUNTIFS('Registry Full'!$H$7:$H$3006,$C33,'Registry Full'!$P$7:$P$3006,P$11,'Registry Full'!$D$7:$D$3006,\">=\"&$I$5,'Registry Full'!$D$7:$D$3006,\"<=\"&$M$5))","v":0},{"$f":"IF($C33=\"\",0,COUNTIFS('Registry Full'!$H$7:$H$3006,$C33,'Registry Full'!$P$7:$P$3006,Q$11,'Registry Full'!$D$7:$D$3006,\">=\"&$I$5,'Registry Full'!$D$7:$D$3006,\"<=\"&$M$5))","v":0},{"$f":"IF($C33=\"\",0,COUNTIFS('Registry Full'!$H$7:$H$3006,$C33,'Registry Full'!$P$7:$P$3006,R$11,'Registry Full'!$D$7:$D$3006,\">=\"&$I$5,'Registry Full'!$D$7:$D$3006,\"<=\"&$M$5))","v":0},{"$f":"IF($C33=\"\",0,COUNTIFS('Registry Full'!$H$7:$H$3006,$C33,'Registry Full'!$P$7:$P$3006,S$11,'Registry Full'!$D$7:$D$3006,\">=\"&$I$5,'Registry Full'!$D$7:$D$3006,\"<=\"&$M$5))","v":0},0,{"$f":"IF($C33=\"\",0,COUNTIFS('Registry Full'!$H$7:$H$3006,$C33,'Registry Full'!$Y$7:$Y$3006,\"<>\"&\"\",'Registry Full'!$D$7:$D$3006,\">=\"&$I$5,'Registry Full'!$D$7:$D$3006,\"<=\"&$M$5))","v":0},{"$f":"IF($C33=\"\",0,COUNTIFS('Registry Full'!$H$7:$H$3006,$C33,'Registry Full'!$Y$7:$Y$3006,\"=\"&\"\",'Registry Full'!$P$7:$P$3006,\"<>\"&Presets!$C$67,'Registry Full'!$D$7:$D$3006,\">=\"&$I$5,'Registry Full'!$D$7:$D$3006,\"<=\"&$M$5))","v":0}]
[null,{"$f":"IF(COUNTBLANK(C34)=0,B33+1,\"\")","v":22},{"$f":"IF(Presets!C54=\"\",\"\",Presets!C54)","v":"Друго"},{"$f":"IF($C34=\"\",0,COUNTIFS('Registry Full'!$H$7:$H$3006,$C34,'Registry Full'!$D$7:$D$3006,\">=\"&$I$5,'Registry Full'!$D$7:$D$3006,\"<=\"&$M$5))","v":3},{"$f":"IF($C34=\"\",0,COUNTIFS('Registry Full'!$H$7:$H$3006,$C34,'Registry Full'!$F$7:$F$3006,E$11,'Registry Full'!$D$7:$D$3006,\">=\"&$I$5,'Registry Full'!$D$7:$D$3006,\"<=\"&$M$5))","v":2},{"$f":"IF($C34=\"\",0,COUNTIFS('Registry Full'!$H$7:$H$3006,$C34,'Registry Full'!$F$7:$F$3006,F$11,'Registry Full'!$D$7:$D$3006,\">=\"&$I$5,'Registry Full'!$D$7:$D$3006,\"<=\"&$M$5))","v":1},{"$f":"$D34-(E34+F34)","v":0},{"$f":"IF($C34=\"\",0,COUNTIFS('Registry Full'!$H$7:$H$3006,$C34,'Registry Full'!$G$7:$G$3006,H$11,'Registry Full'!$D$7:$D$3006,\">=\"&$I$5,'Registry Full'!$D$7:$D$3006,\"<=\"&$M$5))","v":1},{"$f":"IF($C34=\"\",0,COUNTIFS('Registry Full'!$H$7:$H$3006,$C34,'Registry Full'!$G$7:$G$3006,I$11,'Registry Full'!$D$7:$D$3006,\">=\"&$I$5,'Registry Full'!$D$7:$D$3006,\"<=\"&$M$5))","v":2},{"$f":"IF($C34=\"\",0,COUNTIFS('Registry Full'!$H$7:$H$3006,$C34,'Registry Full'!$G$7:$G$3006,J$11,'Registry Full'!$D$7:$D$3006,\">=\"&$I$5,'Registry Full'!$D$7:$D$3006,\"<=\"&$M$5))","v":0},{"$f":"IF($C34=\"\",0,COUNTIFS('Registry Full'!$H$7:$H$3006,$C34,'Registry Full'!$G$7:$G$3006,K$11,'Registry Full'!$D$7:$D$3006,\">=\"&$I$5,'Registry Full'!$D$7:$D$3006,\"<=\"&$M$5))","v":0},{"$f":"$D34-(H34+I34+J34+K34)","v":0},{"$f":"IF($C34=\"\",0,COUNTIFS('Registry Full'!$H$7:$H$3006,$C34,'Registry Full'!$N$7:$N$3006,M$11,'Registry Full'!$D$7:$D$3006,\">=\"&$I$5,'Registry Full'!$D$7:$D$3006,\"<=\"&$M$5))","v":3},{"$f":"IF($C34=\"\",0,COUNTIFS('Registry Full'!$H$7:$H$3006,$C34,'Registry Full'!$N$7:$N$3006,N$11,'Registry Full'!$D$7:$D$3006,\">=\"&$I$5,'Registry Full'!$D$7:$D$3006,\"<=\"&$M$5))","v":0},{"$f":"$D34-(M34+N34)","v":0},{"$f":"IF($C34=\"\",0,COUNTIFS('Registry Full'!$H$7:$H$3006,$C34,'Registry Full'!$P$7:$P$3006,P$11,'Registry Full'!$D$7:$D$3006,\">=\"&$I$5,'Registry Full'!$D$7:$D$3006,\"<=\"&$M$5))","v":0},{"$f":"IF($C34=\"\",0,COUNTIFS('Registry Full'!$H$7:$H$3006,$C34,'Registry Full'!$P$7:$P$3006,Q$11,'Registry Full'!$D$7:$D$3006,\">=\"&$I$5,'Registry Full'!$D$7:$D$3006,\"<=\"&$M$5))","v":0},{"$f":"IF($C34=\"\",0,COUNTIFS('Registry Full'!$H$7:$H$3006,$C34,'Registry Full'!$P$7:$P$3006,R$11,'Registry Full'!$D$7:$D$3006,\">=\"&$I$5,'Registry Full'!$D$7:$D$3006,\"<=\"&$M$5))","v":0},{"$f":"IF($C34=\"\",0,COUNTIFS('Registry Full'!$H$7:$H$3006,$C34,'Registry Full'!$P$7:$P$3006,S$11,'Registry Full'!$D$7:$D$3006,\">=\"&$I$5,'Registry Full'!$D$7:$D$3006,\"<=\"&$M$5))","v":3},{"$f":"$D34-(P34+Q34+R34+S34)","v":0},{"$f":"IF($C34=\"\",0,COUNTIFS('Registry Full'!$H$7:$H$3006,$C34,'Registry Full'!$Y$7:$Y$3006,\"<>\"&\"\",'Registry Full'!$D$7:$D$3006,\">=\"&$I$5,'Registry Full'!$D$7:$D$3006,\"<=\"&$M$5))","v":3},{"$f":"IF($C34=\"\",0,COUNTIFS('Registry Full'!$H$7:$H$3006,$C34,'Registry Full'!$Y$7:$Y$3006,\"=\"&\"\",'Registry Full'!$P$7:$P$3006,\"<>\"&Presets!$C$67,'Registry Full'!$D$7:$D$3006,\">=\"&$I$5,'Registry Full'!$D$7:$D$3006,\"<=\"&$M$5))","v":0}]
[null,"",{"$f":"IF(Presets!C55=\"\",\"\",Presets!C55)","v":""},{"$f":"IF($C35=\"\",0,COUNTIFS('Registry Full'!$H$7:$H$3006,$C35,'Registry Full'!$D$7:$D$3006,\">=\"&$I$5,'Registry Full'!$D$7:$D$3006,\"<=\"&$M$5))","v":0},{"$f":"IF($C35=\"\",0,COUNTIFS('Registry Full'!$H$7:$H$3006,$C35,'Registry Full'!$F$7:$F$3006,E$11,'Registry Full'!$D$7:$D$3006,\">=\"&$I$5,'Registry Full'!$D$7:$D$3006,\"<=\"&$M$5))","v":0},{"$f":"IF($C35=\"\",0,COUNTIFS('Registry Full'!$H$7:$H$3006,$C35,'Registry Full'!$F$7:$F$3006,F$11,'Registry Full'!$D$7:$D$3006,\">=\"&$I$5,'Registry Full'!$D$7:$D$3006,\"<=\"&$M$5))","v":0},0,{"$f":"IF($C35=\"\",0,COUNTIFS('Registry Full'!$H$7:$H$3006,$C35,'Registry Full'!$G$7:$G$3006,H$11,'Registry Full'!$D$7:$D$3006,\">=\"&$I$5,'Registry Full'!$D$7:$D$3006,\"<=\"&$M$5))","v":0},{"$f":"IF($C35=\"\",0,COUNTIFS('Registry Full'!$H$7:$H$3006,$C35,'Registry Full'!$G$7:$G$3006,I$11,'Registry Full'!$D$7:$D$3006,\">=\"&$I$5,'Registry Full'!$D$7:$D$3006,\"<=\"&$M$5))","v":0},{"$f":"IF($C35=\"\",0,COUNTIFS('Registry Full'!$H$7:$H$3006,$C35,'Registry Full'!$G$7:$G$3006,J$11,'Registry Full'!$D$7:$D$3006,\">=\"&$I$5,'Registry Full'!$D$7:$D$3006,\"<=\"&$M$5))","v":0},{"$f":"IF($C35=\"\",0,COUNTIFS('Registry Full'!$H$7:$H$3006,$C35,'Registry Full'!$G$7:$G$3006,K$11,'Registry Full'!$D$7:$D$3006,\">=\"&$I$5,'Registry Full'!$D$7:$D$3006,\"<=\"&$M$5))","v":0},0,{"$f":"IF($C35=\"\",0,COUNTIFS('Registry Full'!$H$7:$H$3006,$C35,'Registry Full'!$N$7:$N$3006,M$11,'Registry Full'!$D$7:$D$3006,\">=\"&$I$5,'Registry Full'!$D$7:$D$3006,\"<=\"&$M$5))","v":0},{"$f":"IF($C35=\"\",0,COUNTIFS('Registry Full'!$H$7:$H$3006,$C35,'Registry Full'!$N$7:$N$3006,N$11,'Registry Full'!$D$7:$D$3006,\">=\"&$I$5,'Registry Full'!$D$7:$D$3006,\"<=\"&$M$5))","v":0},0,{"$f":"IF($C35=\"\",0,COUNTIFS('Registry Full'!$H$7:$H$3006,$C35,'Registry Full'!$P$7:$P$3006,P$11,'Registry Full'!$D$7:$D$3006,\">=\"&$I$5,'Registry Full'!$D$7:$D$3006,\"<=\"&$M$5))","v":0},{"$f":"IF($C35=\"\",0,COUNTIFS('Registry Full'!$H$7:$H$3006,$C35,'Registry Full'!$P$7:$P$3006,Q$11,'Registry Full'!$D$7:$D$3006,\">=\"&$I$5,'Registry Full'!$D$7:$D$3006,\"<=\"&$M$5))","v":0},{"$f":"IF($C35=\"\",0,COUNTIFS('Registry Full'!$H$7:$H$3006,$C35,'Registry Full'!$P$7:$P$3006,R$11,'Registry Full'!$D$7:$D$3006,\">=\"&$I$5,'Registry Full'!$D$7:$D$3006,\"<=\"&$M$5))","v":0},{"$f":"IF($C35=\"\",0,COUNTIFS('Registry Full'!$H$7:$H$3006,$C35,'Registry Full'!$P$7:$P$3006,S$11,'Registry Full'!$D$7:$D$3006,\">=\"&$I$5,'Registry Full'!$D$7:$D$3006,\"<=\"&$M$5))","v":0},0,{"$f":"IF($C35=\"\",0,COUNTIFS('Registry Full'!$H$7:$H$3006,$C35,'Registry Full'!$Y$7:$Y$3006,\"<>\"&\"\",'Registry Full'!$D$7:$D$3006,\">=\"&$I$5,'Registry Full'!$D$7:$D$3006,\"<=\"&$M$5))","v":0},{"$f":"IF($C35=\"\",0,COUNTIFS('Registry Full'!$H$7:$H$3006,$C35,'Registry Full'!$Y$7:$Y$3006,\"=\"&\"\",'Registry Full'!$P$7:$P$3006,\"<>\"&Presets!$C$67,'Registry Full'!$D$7:$D$3006,\">=\"&$I$5,'Registry Full'!$D$7:$D$3006,\"<=\"&$M$5))","v":0}]
[null,null,"Всичко",{"$f":"SUM(D13:D35)","v":55},{"$f":"SUM(E13:E35)","v":48},7,0,17,20,17,1,0,38,17,0,1,0,0,54,0,54,1]

{"sheet":"Report2","index":3,"n_rows":36,"n_cols":15,"rows_kept":36,"merged":[[0,1,0,14],[1,1,1,14],[2,1,2,14],[3,5,3,6],[3,9,3,10],[4,5,4,6],[4,9,4,10],[7,1,7,14],[9,1,11,1],[9,2,11,2],[9,3,9,13],[9,14,11,14]]}
[null,"СПРАВКА-ОБРАЗЕЦ"]
[null,"за постъпили и обработени жалби от потребители на В и К услуги"]
[null,{"$f":"\"на територията на Асоциация по В и К - \"&Title!$A$14","v":"на територията на Асоциация по В и К - ДОБРИЧ"}]
[{"$nulls":5},{"$f":"IF(F5=IF(ISERROR(EOMONTH(F5,0)),\"грешка\",EOMONTH(F5,-1)+1),\"\",\"грешка!!!\")","v":""},{"$nulls":3},{"$f":"IF(J5=IF(ISERROR(EOMONTH(J5,0)),\"грешка\",EOMONTH(J5,0)),\"\",\"грешка!!!\")","v":""}]
[{"$nulls":4},"от дата:",{"$f":"Report1!I5","v":"2021-01-01"},null,null,"до дата:",{"$f":"Report1!M5","v":"2021-12-31"}]
[]
[{"$nulls":14},"стр. 2"]
[null,"Постъпили жалби по Тип на оплакването и Начин на постъпване"]
[]
[null,"№ по ред",{"$f":"Presets!C32","v":"Тип на оплакването"},{"$f":"Presets!C2","v":"Получено/ препратено от:"},{"$nulls":10},"Всичко"]
[{"$nulls":3},{"$f":"IF(OFFSET(Presets!$C$3,D$12-1,0)=0,\"\",OFFSET(Presets!$C$3,D$12-1,0))","v":"Потребител"},{"$f":"IF(OFFSET(Presets!$C$3,E$12-1,0)=0,\"\",OFFSET(Presets!$C$3,E$12-1,0))","v":"Оператор"},{"$f":"IF(OFFSET(Presets!$C$3,F$12-1,0)=0,\"\",OFFSET(Presets!$C$3,F$12-1,0))","v":"КЕВР"},{"$f":"IF(OFFSET(Presets!$C$3,G$12-1,0)=0,\"\",OFFSET(Presets!$C$3,G$12-1,0))","v":"КЗК"},{"$f":"IF(OFFSET(Presets!$C$3,H$12-1,0)=0,\"\",OFFSET(Presets!$C$3,H$12-1,0))","v":"КЗП"},{"$f":"IF(OFFSET(Presets!$C$3,I$12-1,0)=0,\"\",OFFSET(Presets!$C$3,I$12-1,0))","v":"МРРБ"},{"$f":"IF(OFFSET(Presets!$C$3,J$12-1,0)=0,\"\",OFFSET(Presets!$C$3,J$12-1,0))","v":"МОСВ"},{"$f":"IF(OFFSET(Presets!$C$3,K$12-1,0)=0,\"\",OFFSET(Presets!$C$3,K$12-1,0))","v":"Омбудсман"},{"$f":"IF(OFFSET(Presets!$C$3,L$12-1,0)=0,\"\",OFFSET(Presets!$C$3,L$12-1,0))","v":"Друго"},{"$f":"IF(OFFSET(Presets!$C$3,M$12-1,0)=0,\"\",OFFSET(Presets!$C$3,M$12-1,0))","v":""},{"$f":"IF(OFFSET(Presets!$C$3,N$12-1,0)=0,\"\",OFFSET(Presets!$C$3,N$12-1,0))","v":""}]
[{"$nulls":3},1,2,3,4,5,6,7,8,9,10,11]
[null,1,{"$f":"IF(Presets!C33=\"\",\"\",Presets!C33)","v":"Присъединяване"},{"$f":"COUNTIFS('Registry Full'!$H$7:$H$3006,$C13,'Registry Full'!$B$7:$B$3006,D$11,'Registry Full'!$D$7:$D$3006,\">=\"&$F$5,'Registry Full'!$D$7:$D$3006,\"<=\"&$J$5)","v":0},{"$f":"COUNTIFS('Registry Full'!$H$7:$H$3006,$C13,'Registry Full'!$B$7:$B$3006,E$11,'Registry Full'!$D$7:$D$3006,\">=\"&$F$5,'Registry Full'!$D$7:$D$3006,\"<=\"&$J$5)","v":0},{"$f":"COUNTIFS('Registry Full'!$H$7:$H$3006,$C13,'Registry Full'!$B$7:$B$3006,F$11,'Registry Full'!$D$7:$D$3006,\">=\"&$F$5,'Registry Full'!$D$7:$D$3006,\"<=\"&$J$5)","v":0},{"$f":"COUNTIFS('Registry Full'!$H$7:$H$3006,$C13,'Registry Full'!$B$7:$B$3006,G$11,'Registry Full'!$D$7:$D$3006,\">=\"&$F$5,'Registry Full'!$D$7:$D$3006,\"<=\"&$J$5)","v":0},{"$f":"COUNTIFS('Registry Full'!$H$7:$H$3006,$C13,'Registry Full'!$B$7:$B$3006,H$11,'Registry Full'!$D$7:$D$3006,\">=\"&$F$5,'Registry Full'!$D$7:$D$3006,\"<=\"&$J$5)","v":0},{"$f":"COUNTIFS('Registry Full'!$H$7:$H$3006,$C13,'Registry Full'!$B$7:$B$3006,I$11,'Registry Full'!$D$7:$D$3006,\">=\"&$F$5,'Registry Full'!$D$7:$D$3006,\"<=\"&$J$5)","v":0},{"$f":"COUNTIFS('Registry Full'!$H$7:$H$3006,$C13,'Registry Full'!$B$7:$B$3006,J$11,'Registry Full'!$D$7:$D$3006,\">=\"&$F$5,'Registry Full'!$D$7:$D$3006,\"<=\"&$J$5)","v":0},{"$f":"COUNTIFS('Registry Full'!$H$7:$H$3006,$C13,'Registry Full'!$B$7:$B$3006,K$11,'Registry Full'!$D$7:$D$3006,\">=\"&$F$5,'Registry Full'!$D$7:$D$3006,\"<=\"&$J$5)","v":0},{"$f":"COUNTIFS('Registry Full'!$H$7:$H$3006,$C13,'Registry Full'!$B$7:$B$3006,L$11,'Registry Full'!$D$7:$D$3006,\">=\"&$F$5,'Registry Full'!$D$7:$D$3006,\"<=\"&$J$5)","v":0},{"$f":"COUNTIFS('Registry Full'!$H$7:$H$3006,$C13,'Registry Full'!$B$7:$B$3006,M$11,'Registry Full'!$D$7:$D$3006,\">=\"&$F$5,'Registry Full'!$D$7:$D$3006,\"<=\"&$J$5)","v":0},{"$f":"COUNTIFS('Registry Full'!$H$7:$H$3006,$C13,'Registry Full'!$B$7:$B$3006,N$11,'Registry Full'!$D$7:$D$3006,\">=\"&$F$5,'Registry Full'!$D$7:$D$3006,\"<=\"&$J$5)","v":0},{"$f":"IF(C13=\"\",\"\",SUM(D13:N13))","v":0}]
[null,{"$f":"IF(COUNTBLANK(C14)=0,B13+1,\"\")","v":2},{"$f":"IF(Presets!C34=\"\",\"\",Presets!C34)","v":"Прекъсване на услугата"},{"$f":"COUNTIFS('Registry Full'!$H$7:$H$3006,$C14,'Registry Full'!$B$7:$B$3006,D$11,'Registry Full'!$D$7:$D$3006,\">=\"&$F$5,'Registry Full'!$D$7:$D$3006,\"<=\"&$J$5)","v":0},{"$f":"COUNTIFS('Registry Full'!$H$7:$H$3006,$C14,'Registry Full'!$B$7:$B$3006,E$11,'Registry Full'!$D$7:$D$3006,\">=\"&$F$5,'Registry Full'!$D$7:$D$3006,\"<=\"&$J$5)","v":0},{"$f":"COUNTIFS('Registry Full'!$H$7:$H$3006,$C14,'Registry Full'!$B$7:$B$3006,F$11,'Registry Full'!$D$7:$D$3006,\">=\"&$F$5,'Registry Full'!$D$7:$D$3006,\"<=\"&$J$5)","v":0},{"$f":"COUNTIFS('Registry Full'!$H$7:$H$3006,$C14,'Registry Full'!$B$7:$B$3006,G$11,'Registry Full'!$D$7:$D$3006,\">=\"&$F$5,'Registry Full'!$D$7:$D$3006,\"<=\"&$J$5)","v":0},{"$f":"COUNTIFS('Registry Full'!$H$7:$H$3006,$C14,'Registry Full'!$B$7:$B$3006,H$11,'Registry Full'!$D$7:$D$3006,\">=\"&$F$5,'Registry Full'!$D$7:$D$3006,\"<=\"&$J$5)","v":0},{"$f":"COUNTIFS('Registry Full'!$H$7:$H$3006,$C14,'Registry Full'!$B$7:$B$3006,I$11,'Registry Full'!$D$7:$D$3006,\">=\"&$F$5,'Registry Full'!$D$7:$D$3006,\"<=\"&$J$5)","v":2},{"$f":"COUNTIFS('Registry Full'!$H$7:$H$3006,$C14,'Registry Full'!$B$7:$B$3006,J$11,'Registry Full'!$D$7:$D$3006,\">=\"&$F$5,'Registry Full'!$D$7:$D$3006,\"<=\"&$J$5)","v":0},{"$f":"COUNTIFS('Registry Full'!$H$7:$H$3006,$C14,'Registry Full'!$B$7:$B$3006,K$11,'Registry Full'!$D$7:$D$3006,\">=\"&$F$5,'Registry Full'!$D$7:$D$3006,\"<=\"&$J$5)","v":0},{"$f":"COUNTIFS('Registry Full'!$H$7:$H$3006,$C14,'Registry Full'!$B$7:$B$3006,L$11,'Registry Full'!$D$7:$D$3006,\">=\"&$F$5,'Registry Full'!$D$7:$D$3006,\"<=\"&$J$5)","v":0},{"$f":"COUNTIFS('Registry Full'!$H$7:$H$3006,$C14,'Registry Full'!$B$7:$B$3006,M$11,'Registry Full'!$D$7:$D$3006,\">=\"&$F$5,'Registry Full'!$D$7:$D$3006,\"<=\"&$J$5)","v":0},{"$f":"COUNTIFS('Registry Full'!$H$7:$H$3006,$C14,'Registry Full'!$B$7:$B$3006,N$11,'Registry Full'!$D$7:$D$3006,\">=\"&$F$5,'Registry Full'!$D$7:$D$3006,\"<=\"&$J$5)","v":0},2]
[null,{"$f":"IF(COUNTBLANK(C15)=0,B14+1,\"\")","v":3},{"$f":"IF(Presets!C35=\"\",\"\",Presets!C35)","v":"Липса на вода"},{"$f":"COUNTIFS('Registry Full'!$H$7:$H$3006,$C15,'Registry Full'!$B$7:$B$3006,D$11,'Registry Full'!$D$7:$D$3006,\">=\"&$F$5,'Registry Full'!$D$7:$D$3006,\"<=\"&$J$5)","v":12},{"$f":"COUNTIFS('Registry Full'!$H$7:$H$3006,$C15,'Registry Full'!$B$7:$B$3006,E$11,'Registry Full'!$D$7:$D$3006,\">=\"&$F$5,'Registry Full'!$D$7:$D$3006,\"<=\"&$J$5)","v":0},{"$f":"COUNTIFS('Registry Full'!$H$7:$H$3006,$C15,'Registry Full'!$B$7:$B$3006,F$11,'Registry Full'!$D$7:$D$3006,\">=\"&$F$5,'Registry Full'!$D$7:$D$3006,\"<=\"&$J$5)","v":0},{"$f":"COUNTIFS('Registry Full'!$H$7:$H$3006,$C15,'Registry Full'!$B$7:$B$3006,G$11,'Registry Full'!$D$7:$D$3006,\">=\"&$F$5,'Registry Full'!$D$7:$D$3006,\"<=\"&$J$5)","v":0},{"$f":"COUNTIFS('Registry Full'!$H$7:$H$3006,$C15,'Registry Full'!$B$7:$B$3006,H$11,'Registry Full'!$D$7:$D$3006,\">=\"&$F$5,'Registry Full'!$D$7:$D$3006,\"<=\"&$J$5)","v":0},{"$f":"COUNTIFS('Registry Full'!$H$7:$H$3006,$C15,'Registry Full'!$B$7:$B$3006,I$11,'Registry Full'!$D$7:$D$3006,\">=\"&$F$5,'Registry Full'!$D$7:$D$3006,\"<=\"&$J$5)","v":6},{"$f":"COUNTIFS('Registry Full'!$H$7:$H$3006,$C15,'Registry Full'!$B$7:$B$3006,J$11,'Registry Full'!$D$7:$D$3006,\">=\"&$F$5,'Registry Full'!$D$7:$D$3006,\"<=\"&$J$5)","v":0},{"$f":"COUNTIFS('Registry Full'!$H$7:$H$3006,$C15,'Registry Full'!$B$7:$B$3006,K$11,'Registry Full'!$D$7:$D$3006,\">=\"&$F$5,'Registry Full'!$D$7:$D$3006,\"<=\"&$J$5)","v":0},{"$f":"COUNTIFS('Registry Full'!$H$7:$H$3006,$C15,'Registry Full'!$B$7:$B$3006,L$11,'Registry Full'!$D$7:$D$3006,\">=\"&$F$5,'Registry Full'!$D$7:$D$3006,\"<=\"&$J$5)","v":5},{"$f":"COUNTIFS('Registry Full'!$H$7:$H$3006,$C15,'Registry Full'!$B$7:$B$3006,M$11,'Registry Full'!$D$7:$D$3006,\">=\"&$F$5,'Registry Full'!$D$7:$D$3006,\"<=\"&$J$5)","v":0},{"$f":"COUNTIFS('Registry Full'!$H$7:$H$3006,$C15,'Registry Full'!$B$7:$B$3006,N$11,'Registry Full'!$D$7:$D$3006,\">=\"&$F$5,'Registry Full'!$D$7:$D$3006,\"<=\"&$J$5)","v":0},23]
[null,4,{"$f":"IF(Presets!C36=\"\",\"\",Presets!C36)","v":"Проблеми с налягане"},{"$f":"COUNTIFS('Registry Full'!$H$7:$H$3006,$C16,'Registry Full'!$B$7:$B$3006,D$11,'Registry Full'!$D$7:$D$3006,\">=\"&$F$5,'Registry Full'!$D$7:$D$3006,\"<=\"&$J$5)","v":1},{"$f":"COUNTIFS('Registry Full'!$H$7:$H$3006,$C16,'Registry Full'!$B$7:$B$3006,E$11,'Registry Full'!$D$7:$D$3006,\">=\"&$F$5,'Registry Full'!$D$7:$D$3006,\"<=\"&$J$5)","v":0},{"$f":"COUNTIFS('Registry Full'!$H$7:$H$3006,$C16,'Registry Full'!$B$7:$B$3006,F$11,'Registry Full'!$D$7:$D$3006,\">=\"&$F$5,'Registry Full'!$D$7:$D$3006,\"<=\"&$J$5)","v":0},{"$f":"COUNTIFS('Registry Full'!$H$7:$H$3006,$C16,'Registry Full'!$B$7:$B$3006,G$11,'Registry Full'!$D$7:$D$3006,\">=\"&$F$5,'Registry Full'!$D$7:$D$3006,\"<=\"&$J$5)","v":0},{"$f":"COUNTIFS('Registry Full'!$H$7:$H$3006,$C16,'Registry Full'!$B$7:$B$3006,H$11,'Registry Full'!$D$7:$D$3006,\">=\"&$F$5,'Registry Full'!$D$7:$D$3006,\"<=\"&$J$5)","v":0},{"$f":"COUNTIFS('Registry Full'!$H$7:$H$3006,$C16,'Registry Full'!$B$7:$B$3006,I$11,'Registry Full'!$D$7:$D$3006,\">=\"&$F$5,'Registry Full'!$D$7:$D$3006,\"<=\"&$J$5)","v":1},{"$f":"COUNTIFS('Registry Full'!$H$7:$H$3006,$C16,'Registry Full'!$B$7:$B$3006,J$11,'Registry Full'!$D$7:$D$3006,\">=\"&$F$5,'Registry Full'!$D$7:$D$3006,\"<=\"&$J$5)","v":0},{"$f":"COUNTIFS('Registry Full'!$H$7:$H$3006,$C16,'Registry Full'!$B$7:$B$3006,K$11,'Registry Full'!$D$7:$D$3006,\">=\"&$F$5,'Registry Full'!$D$7:$D$3006,\"<=\"&$J$5)","v":0},{"$f":"COUNTIFS('Registry Full'!$H$7:$H$3006,$C16,'Registry Full'!$B$7:$B$3006,L$11,'Registry Full'!$D$7:$D$3006,\">=\"&$F$5,'Registry Full'!$D$7:$D$3006,\"<=\"&$J$5)","v":0},{"$f":"COUNTIFS('Registry Full'!$H$7:$H$3006,$C16,'Registry Full'!$B$7:$B$3006,M$11,'Registry Full'!$D$7:$D$3006,\">=\"&$F$5,'Registry Full'!$D$7:$D$3006,\"<=\"&$J$5)","v":0},{"$f":"COUNTIFS('Registry Full'!$H$7:$H$3006,$C16,'Registry Full'!$B$7:$B$3006,N$11,'Registry Full'!$D$7:$D$3006,\">=\"&$F$5,'Registry Full'!$D$7:$D$3006,\"<=\"&$J$5)","v":0},2]
[null,5,{"$f":"IF(Presets!C37=\"\",\"\",Presets!C37)","v":"Лошо качество вода"},{"$f":"COUNTIFS('Registry Full'!$H$7:$H$3006,$C17,'Registry Full'!$B$7:$B$3006,D$11,'Registry Full'!$D$7:$D$3006,\">=\"&$F$5,'Registry Full'!$D$7:$D$3006,\"<=\"&$J$5)","v":0},{"$f":"COUNTIFS('Registry Full'!$H$7:$H$3006,$C17,'Registry Full'!$B$7:$B$3006,E$11,'Registry Full'!$D$7:$D$3006,\">=\"&$F$5,'Registry Full'!$D$7:$D$3006,\"<=\"&$J$5)","v":0},{"$f":"COUNTIFS('Registry Full'!$H$7:$H$3006,$C17,'Registry Full'!$B$7:$B$3006,F$11,'Registry Full'!$D$7:$D$3006,\">=\"&$F$5,'Registry Full'!$D$7:$D$3006,\"<=\"&$J$5)","v":0},{"$f":"COUNTIFS('Registry Full'!$H$7:$H$3006,$C17,'Registry Full'!$B$7:$B$3006,G$11,'Registry Full'!$D$7:$D$3006,\">=\"&$F$5,'Registry Full'!$D$7:$D$3006,\"<=\"&$J$5)","v":0},{"$f":"COUNTIFS('Registry Full'!$H$7:$H$3006,$C17,'Registry Full'!$B$7:$B$3006,H$11,'Registry Full'!$D$7:$D$3006,\">=\"&$F$5,'Registry Full'!$D$7:$D$3006,\"<=\"&$J$5)","v":0},{"$f":"COUNTIFS('Registry Full'!$H$7:$H$3006,$C17,'Registry Full'!$B$7:$B$3006,I$11,'Registry Full'!$D$7:$D$3006,\">=\"&$F$5,'Registry Full'!$D$7:$D$3006,\"<=\"&$J$5)","v":1},{"$f":"COUNTIFS('Registry Full'!$H$7:$H$3006,$C17,'Registry Full'!$B$7:$B$3006,J$11,'Registry Full'!$D$7:$D$3006,\">=\"&$F$5,'Registry Full'!$D$7:$D$3006,\"<=\"&$J$5)","v":0},{"$f":"COUNTIFS('Registry Full'!$H$7:$H$3006,$C17,'Registry Full'!$B$7:$B$3006,K$11,'Registry Full'!$D$7:$D$3006,\">=\"&$F$5,'Registry Full'!$D$7:$D$3006,\"<=\"&$J$5)","v":0},{"$f":"COUNTIFS('Registry Full'!$H$7:$H$3006,$C17,'Registry Full'!$B$7:$B$3006,L$11,'Registry Full'!$D$7:$D$3006,\">=\"&$F$5,'Registry Full'!$D$7:$D$3006,\"<=\"&$J$5)","v":0},{"$f":"COUNTIFS('Registry Full'!$H$7:$H$3006,$C17,'Registry Full'!$B$7:$B$3006,M$11,'Registry Full'!$D$7:$D$3006,\">=\"&$F$5,'Registry Full'!$D$7:$D$3006,\"<=\"&$J$5)","v":0},{"$f":"COUNTIFS('Registry Full'!$H$7:$H$3006,$C17,'Registry Full'!$B$7:$B$3006,N$11,'Registry Full'!$D$7:$D$3006,\">=\"&$F$5,'Registry Full'!$D$7:$D$3006,\"<=\"&$J$5)","v":0},1]
[null,6,{"$f":"IF(Presets!C38=\"\",\"\",Presets!C38)","v":"Течове"},{"$f":"COUNTIFS('Registry Full'!$H$7:$H$3006,$C18,'Registry Full'!$B$7:$B$3006,D$11,'Registry Full'!$D$7:$D$3006,\">=\"&$F$5,'Registry Full'!$D$7:$D$3006,\"<=\"&$J$5)","v":5},{"$f":"COUNTIFS('Registry Full'!$H$7:$H$3006,$C18,'Registry Full'!$B$7:$B$3006,E$11,'Registry Full'!$D$7:$D$3006,\">=\"&$F$5,'Registry Full'!$D$7:$D$3006,\"<=\"&$J$5)","v":0},{"$f":"COUNTIFS('Registry Full'!$H$7:$H$3006,$C18,'Registry Full'!$B$7:$B$3006,F$11,'Registry Full'!$D$7:$D$3006,\">=\"&$F$5,'Registry Full'!$D$7:$D$3006,\"<=\"&$J$5)","v":0},{"$f":"COUNTIFS('Registry Full'!$H$7:$H$3006,$C18,'Registry Full'!$B$7:$B$3006,G$11,'Registry Full'!$D$7:$D$3006,\">=\"&$F$5,'Registry Full'!$D$7:$D$3006,\"<=\"&$J$5)","v":0},{"$f":"COUNTIFS('Registry Full'!$H$7:$H$3006,$C18,'Registry Full'!$B$7:$B$3006,H$11,'Registry Full'!$D$7:$D$3006,\">=\"&$F$5,'Registry Full'!$D$7:$D$3006,\"<=\"&$J$5)","v":0},{"$f":"COUNTIFS('Registry Full'!$H$7:$H$3006,$C18,'Registry Full'!$B$7:$B$3006,I$11,'Registry Full'!$D$7:$D$3006,\">=\"&$F$5,'Registry Full'!$D$7:$D$3006,\"<=\"&$J$5)","v":0},{"$f":"COUNTIFS('Registry Full'!$H$7:$H$3006,$C18,'Registry Full'!$B$7:$B$3006,J$11,'Registry Full'!$D$7:$D$3006,\">=\"&$F$5,'Registry Full'!$D$7:$D$3006,\"<=\"&$J$5)","v":0},{"$f":"COUNTIFS('Registry Full'!$H$7:$H$3006,$C18,'Registry Full'!$B$7:$B$3006,K$11,'Registry Full'!$D$7:$D$3006,\">=\"&$F$5,'Registry Full'!$D$7:$D$3006,\"<=\"&$J$5)","v":0},{"$f":"COUNTIFS('Registry Full'!$H$7:$H$3006,$C18,'Registry Full'!$B$7:$B$3006,L$11,'Registry Full'!$D$7:$D$3006,\">=\"&$F$5,'Registry Full'!$D$7:$D$3006,\"<=\"&$J$5)","v":0},{"$f":"COUNTIFS('Registry Full'!$H$7:$H$3006,$C18,'Registry Full'!$B$7:$B$3006,M$11,'Registry Full'!$D$7:$D$3006,\">=\"&$F$5,'Registry Full'!$D$7:$D$3006,\"<=\"&$J$5)","v":0},{"$f":"COUNTIFS('Registry Full'!$H$7:$H$3006,$C18,'Registry Full'!$B$7:$B$3006,N$11,'Registry Full'!$D$7:$D$3006,\">=\"&$F$5,'Registry Full'!$D$7:$D$3006,\"<=\"&$J$5)","v":0},5]
[null,7,{"$f":"IF(Presets!C39=\"\",\"\",Presets!C39)","v":"Щети от авария"},{"$f":"COUNTIFS('Registry Full'!$H$7:$H$3006,$C19,'Registry Full'!$B$7:$B$3006,D$11,'Registry Full'!$D$7:$D$3006,\">=\"&$F$5,'Registry Full'!$D$7:$D$3006,\"<=\"&$J$5)","v":0},{"$f":"COUNTIFS('Registry Full'!$H$7:$H$3006,$C19,'Registry Full'!$B$7:$B$3006,E$11,'Registry Full'!$D$7:$D$3006,\">=\"&$F$5,'Registry Full'!$D$7:$D$3006,\"<=\"&$J$5)","v":0},{"$f":"COUNTIFS('Registry Full'!$H$7:$H$3006,$C19,'Registry Full'!$B$7:$B$3006,F$11,'Registry Full'!$D$7:$D$3006,\">=\"&$F$5,'Registry Full'!$D$7:$D$3006,\"<=\"&$J$5)","v":0},{"$f":"COUNTIFS('Registry Full'!$H$7:$H$3006,$C19,'Registry Full'!$B$7:$B$3006,G$11,'Registry Full'!$D$7:$D$3006,\">=\"&$F$5,'Registry Full'!$D$7:$D$3006,\"<=\"&$J$5)","v":0},{"$f":"COUNTIFS('Registry Full'!$H$7:$H$3006,$C19,'Registry Full'!$B$7:$B$3006,H$11,'Registry Full'!$D$7:$D$3006,\">=\"&$F$5,'Registry Full'!$D$7:$D$3006,\"<=\"&$J$5)","v":0},{"$f":"COUNTIFS('Registry Full'!$H$7:$H$3006,$C19,'Registry Full'!$B$7:$B$3006,I$11,'Registry Full'!$D$7:$D$3006,\">=\"&$F$5,'Registry Full'!$D$7:$D$3006,\"<=\"&$J$5)","v":0},{"$f":"COUNTIFS('Registry Full'!$H$7:$H$3006,$C19,'Registry Full'!$B$7:$B$3006,J$11,'Registry Full'!$D$7:$D$3006,\">=\"&$F$5,'Registry Full'!$D$7:$D$3006,\"<=\"&$J$5)","v":0},{"$f":"COUNTIFS('Registry Full'!$H$7:$H$3006,$C19,'Registry Full'!$B$7:$B$3006,K$11,'Registry Full'!$D$7:$D$3006,\">=\"&$F$5,'Registry Full'!$D$7:$D$3006,\"<=\"&$J$5)","v":0},{"$f":"COUNTIFS('Registry Full'!$H$7:$H$3006,$C19,'Registry Full'!$B$7:$B$3006,L$11,'Registry Full'!$D$7:$D$3006,\">=\"&$F$5,'Registry Full'!$D$7:$D$3006,\"<=\"&$J$5)","v":0},{"$f":"COUNTIFS('Registry Full'!$H$7:$H$3006,$C19,'Registry Full'!$B$7:$B$3006,M$11,'Registry Full'!$D$7:$D$3006,\">=\"&$F$5,'Registry Full'!$D$7:$D$3006,\"<=\"&$J$5)","v":0},{"$f":"COUNTIFS('Registry Full'!$H$7:$H$3006,$C19,'Registry Full'!$B$7:$B$3006,N$11,'Registry Full'!$D$7:$D$3006,\">=\"&$F$5,'Registry Full'!$D$7:$D$3006,\"<=\"&$J$5)","v":0},0]
[null,8,{"$f":"IF(Presets!C40=\"\",\"\",Presets!C40)","v":"Проверка водомер"},{"$f":"COUNTIFS('Registry Full'!$H$7:$H$3006,$C20,'Registry Full'!$B$7:$B$3006,D$11,'Registry Full'!$D$7:$D$3006,\">=\"&$F$5,'Registry Full'!$D$7:$D$3006,\"<=\"&$J$5)","v":1},{"$f":"COUNTIFS('Registry Full'!$H$7:$H$3006,$C20,'Registry Full'!$B$7:$B$3006,E$11,'Registry Full'!$D$7:$D$3006,\">=\"&$F$5,'Registry Full'!$D$7:$D$3006,\"<=\"&$J$5)","v":0},{"$f":"COUNTIFS('Registry Full'!$H$7:$H$3006,$C20,'Registry Full'!$B$7:$B$3006,F$11,'Registry Full'!$D$7:$D$3006,\">=\"&$F$5,'Registry Full'!$D$7:$D$3006,\"<=\"&$J$5)","v":0},{"$f":"COUNTIFS('Registry Full'!$H$7:$H$3006,$C20,'Registry Full'!$B$7:$B$3006,G$11,'Registry Full'!$D$7:$D$3006,\">=\"&$F$5,'Registry Full'!$D$7:$D$3006,\"<=\"&$J$5)","v":0},{"$f":"COUNTIFS('Registry Full'!$H$7:$H$3006,$C20,'Registry Full'!$B$7:$B$3006,H$11,'Registry Full'!$D$7:$D$3006,\">=\"&$F$5,'Registry Full'!$D$7:$D$3006,\"<=\"&$J$5)","v":0},{"$f":"COUNTIFS('Registry Full'!$H$7:$H$3006,$C20,'Registry Full'!$B$7:$B$3006,I$11,'Registry Full'!$D$7:$D$3006,\">=\"&$F$5,'Registry Full'!$D$7:$D$3006,\"<=\"&$J$5)","v":0},{"$f":"COUNTIFS('Registry Full'!$H$7:$H$3006,$C20,'Registry Full'!$B$7:$B$3006,J$11,'Registry Full'!$D$7:$D$3006,\">=\"&$F$5,'Registry Full'!$D$7:$D$3006,\"<=\"&$J$5)","v":0},{"$f":"COUNTIFS('Registry Full'!$H$7:$H$3006,$C20,'Registry Full'!$B$7:$B$3006,K$11,'Registry Full'!$D$7:$D$3006,\">=\"&$F$5,'Registry Full'!$D$7:$D$3006,\"<=\"&$J$5)","v":0},{"$f":"COUNTIFS('Registry Full'!$H$7:$H$3006,$C20,'Registry Full'!$B$7:$B$3006,L$11,'Registry Full'!$D$7:$D$3006,\">=\"&$F$5,'Registry Full'!$D$7:$D$3006,\"<=\"&$J$5)","v":0},{"$f":"COUNTIFS('Registry Full'!$H$7:$H$3006,$C20,'Registry Full'!$B$7:$B$3006,M$11,'Registry Full'!$D$7:$D$3006,\">=\"&$F$5,'Registry Full'!$D$7:$D$3006,\"<=\"&$J$5)","v":0},{"$f":"COUNTIFS('Registry Full'!$H$7:$H$3006,$C20,'Registry Full'!$B$7:$B$3006,N$11,'Registry Full'!$D$7:$D$3006,\">=\"&$F$5,'Registry Full'!$D$7:$D$3006,\"<=\"&$J$5)","v":0},1]
[null,9,{"$f":"IF(Presets!C41=\"\",\"\",Presets!C41)","v":"Грешка в отчитане"},{"$f":"COUNTIFS('Registry Full'!$H$7:$H$3006,$C21,'Registry Full'!$B$7:$B$3006,D$11,'Registry Full'!$D$7:$D$3006,\">=\"&$F$5,'Registry Full'!$D$7:$D$3006,\"<=\"&$J$5)","v":1},{"$f":"COUNTIFS('Registry Full'!$H$7:$H$3006,$C21,'Registry Full'!$B$7:$B$3006,E$11,'Registry Full'!$D$7:$D$3006,\">=\"&$F$5,'Registry Full'!$D$7:$D$3006,\"<=\"&$J$5)","v":0},{"$f":"COUNTIFS('Registry Full'!$H$7:$H$3006,$C21,'Registry Full'!$B$7:$B$3006,F$11,'Registry Full'!$D$7:$D$3006,\">=\"&$F$5,'Registry Full'!$D$7:$D$3006,\"<=\"&$J$5)","v":0},{"$f":"COUNTIFS('Registry Full'!$H$7:$H$3006,$C21,'Registry Full'!$B$7:$B$3006,G$11,'Registry Full'!$D$7:$D$3006,\">=\"&$F$5,'Registry Full'!$D$7:$D$3006,\"<=\"&$J$5)","v":0},{"$f":"COUNTIFS('Registry Full'!$H$7:$H$3006,$C21,'Registry Full'!$B$7:$B$3006,H$11,'Registry Full'!$D$7:$D$3006,\">=\"&$F$5,'Registry Full'!$D$7:$D$3006,\"<=\"&$J$5)","v":0},{"$f":"COUNTIFS('Registry Full'!$H$7:$H$3006,$C21,'Registry Full'!$B$7:$B$3006,I$11,'Registry Full'!$D$7:$D$3006,\">=\"&$F$5,'Registry Full'!$D$7:$D$3006,\"<=\"&$J$5)","v":1},{"$f":"COUNTIFS('Registry Full'!$H$7:$H$3006,$C21,'Registry Full'!$B$7:$B$3006,J$11,'Registry Full'!$D$7:$D$3006,\">=\"&$F$5,'Registry Full'!$D$7:$D$3006,\"<=\"&$J$5)","v":0},{"$f":"COUNTIFS('Registry Full'!$H$7:$H$3006,$C21,'Registry Full'!$B$7:$B$3006,K$11,'Registry Full'!$D$7:$D$3006,\">=\"&$F$5,'Registry Full'!$D$7:$D$3006,\"<=\"&$J$5)","v":0},{"$f":"COUNTIFS('Registry Full'!$H$7:$H$3006,$C21,'Registry Full'!$B$7:$B$3006,L$11,'Registry Full'!$D$7:$D$3006,\">=\"&$F$5,'Registry Full'!$D$7:$D$3006,\"<=\"&$J$5)","v":0},{"$f":"COUNTIFS('Registry Full'!$H$7:$H$3006,$C21,'Registry Full'!$B$7:$B$3006,M$11,'Registry Full'!$D$7:$D$3006,\">=\"&$F$5,'Registry Full'!$D$7:$D$3006,\"<=\"&$J$5)","v":0},{"$f":"COUNTIFS('Registry Full'!$H$7:$H$3006,$C21,'Registry Full'!$B$7:$B$3006,N$11,'Registry Full'!$D$7:$D$3006,\">=\"&$F$5,'Registry Full'!$D$7:$D$3006,\"<=\"&$J$5)","v":0},2]
[null,{"$f":"IF(COUNTBLANK(C22)=0,B21+1,\"\")","v":10},{"$f":"IF(Presets!C42=\"\",\"\",Presets!C42)","v":"Неправилно начисляване"},{"$f":"COUNTIFS('Registry Full'!$H$7:$H$3006,$C22,'Registry Full'!$B$7:$B$3006,D$11,'Registry Full'!$D$7:$D$3006,\">=\"&$F$5,'Registry Full'!$D$7:$D$3006,\"<=\"&$J$5)","v":0},{"$f":"COUNTIFS('Registry Full'!$H$7:$H$3006,$C22,'Registry Full'!$B$7:$B$3006,E$11,'Registry Full'!$D$7:$D$3006,\">=\"&$F$5,'Registry Full'!$D$7:$D$3006,\"<=\"&$J$5)","v":0},{"$f":"COUNTIFS('Registry Full'!$H$7:$H$3006,$C22,'Registry Full'!$B$7:$B$3006,F$11,'Registry Full'!$D$7:$D$3006,\">=\"&$F$5,'Registry Full'!$D$7:$D$3006,\"<=\"&$J$5)","v":0},{"$f":"COUNTIFS('Registry Full'!$H$7:$H$3006,$C22,'Registry Full'!$B$7:$B$3006,G$11,'Registry Full'!$D$7:$D$3006,\">=\"&$F$5,'Registry Full'!$D$7:$D$3006,\"<=\"&$J$5)","v":0},{"$f":"COUNTIFS('Registry Full'!$H$7:$H$3006,$C22,'Registry Full'!$B$7:$B$3006,H$11,'Registry Full'!$D$7:$D$3006,\">=\"&$F$5,'Registry Full'!$D$7:$D$3006,\"<=\"&$J$5)","v":0},{"$f":"COUNTIFS('Registry Full'!$H$7:$H$3006,$C22,'Registry Full'!$B$7:$B$3006,I$11,'Registry Full'!$D$7:$D$3006,\">=\"&$F$5,'Registry Full'!$D$7:$D$3006,\"<=\"&$J$5)","v":0},{"$f":"COUNTIFS('Registry Full'!$H$7:$H$3006,$C22,'Registry Full'!$B$7:$B$3006,J$11,'Registry Full'!$D$7:$D$3006,\">=\"&$F$5,'Registry Full'!$D$7:$D$3006,\"<=\"&$J$5)","v":0},{"$f":"COUNTIFS('Registry Full'!$H$7:$H$3006,$C22,'Registry Full'!$B$7:$B$3006,K$11,'Registry Full'!$D$7:$D$3006,\">=\"&$F$5,'Registry Full'!$D$7:$D$3006,\"<=\"&$J$5)","v":0},{"$f":"COUNTIFS('Registry Full'!$H$7:$H$3006,$C22,'Registry Full'!$B$7:$B$3006,L$11,'Registry Full'!$D$7:$D$3006,\">=\"&$F$5,'Registry Full'!$D$7:$D$3006,\"<=\"&$J$5)","v":0},{"$f":"COUNTIFS('Registry Full'!$H$7:$H$3006,$C22,'Registry Full'!$B$7:$B$3006,M$11,'Registry Full'!$D$7:$D$3006,\">=\"&$F$5,'Registry Full'!$D$7:$D$3006,\"<=\"&$J$5)","v":0},{"$f":"COUNTIFS('Registry Full'!$H$7:$H$3006,$C22,'Registry Full'!$B$7:$B$3006,N$11,'Registry Full'!$D$7:$D$3006,\">=\"&$F$5,'Registry Full'!$D$7:$D$3006,\"<=\"&$J$5)","v":0},{"$f":"IF(C22=\"\",\"\",SUM(D22:N22))","v":0}]
[null,11,{"$f":"IF(Presets!C43=\"\",\"\",Presets!C43)","v":"Разпределение обща вода"},{"$f":"COUNTIFS('Registry Full'!$H$7:$H$3006,$C23,'Registry Full'!$B$7:$B$3006,D$11,'Registry Full'!$D$7:$D$3006,\">=\"&$F$5,'Registry Full'!$D$7:$D$3006,\"<=\"&$J$5)","v":1},{"$f":"COUNTIFS('Registry Full'!$H$7:$H$3006,$C23,'Registry Full'!$B$7:$B$3006,E$11,'Registry Full'!$D$7:$D$3006,\">=\"&$F$5,'Registry Full'!$D$7:$D$3006,\"<=\"&$J$5)","v":0},{"$f":"COUNTIFS('Registry Full'!$H$7:$H$3006,$C23,'Registry Full'!$B$7:$B$3006,F$11,'Registry Full'!$D$7:$D$3006,\">=\"&$F$5,'Registry Full'!$D$7:$D$3006,\"<=\"&$J$5)","v":0},{"$f":"COUNTIFS('Registry Full'!$H$7:$H$3006,$C23,'Registry Full'!$B$7:$B$3006,G$11,'Registry Full'!$D$7:$D$3006,\">=\"&$F$5,'Registry Full'!$D$7:$D$3006,\"<=\"&$J$5)","v":0},{"$f":"COUNTIFS('Registry Full'!$H$7:$H$3006,$C23,'Registry Full'!$B$7:$B$3006,H$11,'Registry Full'!$D$7:$D$3006,\">=\"&$F$5,'Registry Full'!$D$7:$D$3006,\"<=\"&$J$5)","v":0},{"$f":"COUNTIFS('Registry Full'!$H$7:$H$3006,$C23,'Registry Full'!$B$7:$B$3006,I$11,'Registry Full'!$D$7:$D$3006,\">=\"&$F$5,'Registry Full'!$D$7:$D$3006,\"<=\"&$J$5)","v":0},{"$f":"COUNTIFS('Registry Full'!$H$7:$H$3006,$C23,'Registry Full'!$B$7:$B$3006,J$11,'Registry Full'!$D$7:$D$3006,\">=\"&$F$5,'Registry Full'!$D$7:$D$3006,\"<=\"&$J$5)","v":0},{"$f":"COUNTIFS('Registry Full'!$H$7:$H$3006,$C23,'Registry Full'!$B$7:$B$3006,K$11,'Registry Full'!$D$7:$D$3006,\">=\"&$F$5,'Registry Full'!$D$7:$D$3006,\"<=\"&$J$5)","v":0},{"$f":"COUNTIFS('Registry Full'!$H$7:$H$3006,$C23,'Registry Full'!$B$7:$B$3006,L$11,'Registry Full'!$D$7:$D$3006,\">=\"&$F$5,'Registry Full'!$D$7:$D$3006,\"<=\"&$J$5)","v":0},{"$f":"COUNTIFS('Registry Full'!$H$7:$H$3006,$C23,'Registry Full'!$B$7:$B$3006,M$11,'Registry Full'!$D$7:$D$3006,\">=\"&$F$5,'Registry Full'!$D$7:$D$3006,\"<=\"&$J$5)","v":0},{"$f":"COUNTIFS('Registry Full'!$H$7:$H$3006,$C23,'Registry Full'!$B$7:$B$3006,N$11,'Registry Full'!$D$7:$D$3006,\">=\"&$F$5,'Registry Full'!$D$7:$D$3006,\"<=\"&$J$5)","v":0},1]
[null,12,{"$f":"IF(Presets!C44=\"\",\"\",Presets!C44)","v":"Грешка в сумата"},{"$f":"COUNTIFS('Registry Full'!$H$7:$H$3006,$C24,'Registry Full'!$B$7:$B$3006,D$11,'Registry Full'!$D$7:$D$3006,\">=\"&$F$5,'Registry Full'!$D$7:$D$3006,\"<=\"&$J$5)","v":1},{"$f":"COUNTIFS('Registry Full'!$H$7:$H$3006,$C24,'Registry Full'!$B$7:$B$3006,E$11,'Registry Full'!$D$7:$D$3006,\">=\"&$F$5,'Registry Full'!$D$7:$D$3006,\"<=\"&$J$5)","v":0},{"$f":"COUNTIFS('Registry Full'!$H$7:$H$3006,$C24,'Registry Full'!$B$7:$B$3006,F$11,'Registry Full'!$D$7:$D$3006,\">=\"&$F$5,'Registry Full'!$D$7:$D$3006,\"<=\"&$J$5)","v":0},{"$f":"COUNTIFS('Registry Full'!$H$7:$H$3006,$C24,'Registry Full'!$B$7:$B$3006,G$11,'Registry Full'!$D$7:$D$3006,\">=\"&$F$5,'Registry Full'!$D$7:$D$3006,\"<=\"&$J$5)","v":0},{"$f":"COUNTIFS('Registry Full'!$H$7:$H$3006,$C24,'Registry Full'!$B$7:$B$3006,H$11,'Registry Full'!$D$7:$D$3006,\">=\"&$F$5,'Registry Full'!$D$7:$D$3006,\"<=\"&$J$5)","v":0},{"$f":"COUNTIFS('Registry Full'!$H$7:$H$3006,$C24,'Registry Full'!$B$7:$B$3006,I$11,'Registry Full'!$D$7:$D$3006,\">=\"&$F$5,'Registry Full'!$D$7:$D$3006,\"<=\"&$J$5)","v":0},{"$f":"COUNTIFS('Registry Full'!$H$7:$H$3006,$C24,'Registry Full'!$B$7:$B$3006,J$11,'Registry Full'!$D$7:$D$3006,\">=\"&$F$5,'Registry Full'!$D$7:$D$3006,\"<=\"&$J$5)","v":0},{"$f":"COUNTIFS('Registry Full'!$H$7:$H$3006,$C24,'Registry Full'!$B$7:$B$3006,K$11,'Registry Full'!$D$7:$D$3006,\">=\"&$F$5,'Registry Full'!$D$7:$D$3006,\"<=\"&$J$5)","v":0},{"$f":"COUNTIFS('Registry Full'!$H$7:$H$3006,$C24,'Registry Full'!$B$7:$B$3006,L$11,'Registry Full'!$D$7:$D$3006,\">=\"&$F$5,'Registry Full'!$D$7:$D$3006,\"<=\"&$J$5)","v":0},{"$f":"COUNTIFS('Registry Full'!$H$7:$H$3006,$C24,'Registry Full'!$B$7:$B$3006,M$11,'Registry Full'!$D$7:$D$3006,\">=\"&$F$5,'Registry Full'!$D$7:$D$3006,\"<=\"&$J$5)","v":0},{"$f":"COUNTIFS('Registry Full'!$H$7:$H$3006,$C24,'Registry Full'!$B$7:$B$3006,N$11,'Registry Full'!$D$7:$D$3006,\">=\"&$F$5,'Registry Full'!$D$7:$D$3006,\"<=\"&$J$5)","v":0},1]
[null,13,{"$f":"IF(Presets!C45=\"\",\"\",Presets!C45)","v":"Некачествен ремонт водопр."},{"$f":"COUNTIFS('Registry Full'!$H$7:$H$3006,$C25,'Registry Full'!$B$7:$B$3006,D$11,'Registry Full'!$D$7:$D$3006,\">=\"&$F$5,'Registry Full'!$D$7:$D$3006,\"<=\"&$J$5)","v":0},{"$f":"COUNTIFS('Registry Full'!$H$7:$H$3006,$C25,'Registry Full'!$B$7:$B$3006,E$11,'Registry Full'!$D$7:$D$3006,\">=\"&$F$5,'Registry Full'!$D$7:$D$3006,\"<=\"&$J$5)","v":0},{"$f":"COUNTIFS('Registry Full'!$H$7:$H$3006,$C25,'Registry Full'!$B$7:$B$3006,F$11,'Registry Full'!$D$7:$D$3006,\">=\"&$F$5,'Registry Full'!$D$7:$D$3006,\"<=\"&$J$5)","v":0},{"$f":"COUNTIFS('Registry Full'!$H$7:$H$3006,$C25,'Registry Full'!$B$7:$B$3006,G$11,'Registry Full'!$D$7:$D$3006,\">=\"&$F$5,'Registry Full'!$D$7:$D$3006,\"<=\"&$J$5)","v":0},{"$f":"COUNTIFS('Registry Full'!$H$7:$H$3006,$C25,'Registry Full'!$B$7:$B$3006,H$11,'Registry Full'!$D$7:$D$3006,\">=\"&$F$5,'Registry Full'!$D$7:$D$3006,\"<=\"&$J$5)","v":0},{"$f":"COUNTIFS('Registry Full'!$H$7:$H$3006,$C25,'Registry Full'!$B$7:$B$3006,I$11,'Registry Full'!$D$7:$D$3006,\">=\"&$F$5,'Registry Full'!$D$7:$D$3006,\"<=\"&$J$5)","v":2},{"$f":"COUNTIFS('Registry Full'!$H$7:$H$3006,$C25,'Registry Full'!$B$7:$B$3006,J$11,'Registry Full'!$D$7:$D$3006,\">=\"&$F$5,'Registry Full'!$D$7:$D$3006,\"<=\"&$J$5)","v":0},{"$f":"COUNTIFS('Registry Full'!$H$7:$H$3006,$C25,'Registry Full'!$B$7:$B$3006,K$11,'Registry Full'!$D$7:$D$3006,\">=\"&$F$5,'Registry Full'!$D$7:$D$3006,\"<=\"&$J$5)","v":0},{"$f":"COUNTIFS('Registry Full'!$H$7:$H$3006,$C25,'Registry Full'!$B$7:$B$3006,L$11,'Registry Full'!$D$7:$D$3006,\">=\"&$F$5,'Registry Full'!$D$7:$D$3006,\"<=\"&$J$5)","v":0},{"$f":"COUNTIFS('Registry Full'!$H$7:$H$3006,$C25,'Registry Full'!$B$7:$B$3006,M$11,'Registry Full'!$D$7:$D$3006,\">=\"&$F$5,'Registry Full'!$D$7:$D$3006,\"<=\"&$J$5)","v":0},{"$f":"COUNTIFS('Registry Full'!$H$7:$H$3006,$C25,'Registry Full'!$B$7:$B$3006,N$11,'Registry Full'!$D$7:$D$3006,\">=\"&$F$5,'Registry Full'!$D$7:$D$3006,\"<=\"&$J$5)","v":0},2]
[null,14,{"$f":"IF(Presets!C46=\"\",\"\",Presets!C46)","v":"Друго по водоснабдяване"},{"$f":"COUNTIFS('Registry Full'!$H$7:$H$3006,$C26,'Registry Full'!$B$7:$B$3006,D$11,'Registry Full'!$D$7:$D$3006,\">=\"&$F$5,'Registry Full'!$D$7:$D$3006,\"<=\"&$J$5)","v":2},{"$f":"COUNTIFS('Registry Full'!$H$7:$H$3006,$C26,'Registry Full'!$B$7:$B$3006,E$11,'Registry Full'!$D$7:$D$3006,\">=\"&$F$5,'Registry Full'!$D$7:$D$3006,\"<=\"&$J$5)","v":0},{"$f":"COUNTIFS('Registry Full'!$H$7:$H$3006,$C26,'Registry Full'!$B$7:$B$3006,F$11,'Registry Full'!$D$7:$D$3006,\">=\"&$F$5,'Registry Full'!$D$7:$D$3006,\"<=\"&$J$5)","v":0},{"$f":"COUNTIFS('Registry Full'!$H$7:$H$3006,$C26,'Registry Full'!$B$7:$B$3006,G$11,'Registry Full'!$D$7:$D$3006,\">=\"&$F$5,'Registry Full'!$D$7:$D$3006,\"<=\"&$J$5)","v":0},{"$f":"COUNTIFS('Registry Full'!$H$7:$H$3006,$C26,'Registry Full'!$B$7:$B$3006,H$11,'Registry Full'!$D$7:$D$3006,\">=\"&$F$5,'Registry Full'!$D$7:$D$3006,\"<=\"&$J$5)","v":0},{"$f":"COUNTIFS('Registry Full'!$H$7:$H$3006,$C26,'Registry Full'!$B$7:$B$3006,I$11,'Registry Full'!$D$7:$D$3006,\">=\"&$F$5,'Registry Full'!$D$7:$D$3006,\"<=\"&$J$5)","v":1},{"$f":"COUNTIFS('Registry Full'!$H$7:$H$3006,$C26,'Registry Full'!$B$7:$B$3006,J$11,'Registry Full'!$D$7:$D$3006,\">=\"&$F$5,'Registry Full'!$D$7:$D$3006,\"<=\"&$J$5)","v":0},{"$f":"COUNTIFS('Registry Full'!$H$7:$H$3006,$C26,'Registry Full'!$B$7:$B$3006,K$11,'Registry Full'!$D$7:$D$3006,\">=\"&$F$5,'Registry Full'!$D$7:$D$3006,\"<=\"&$J$5)","v":0},{"$f":"COUNTIFS('Registry Full'!$H$7:$H$3006,$C26,'Registry Full'!$B$7:$B$3006,L$11,'Registry Full'!$D$7:$D$3006,\">=\"&$F$5,'Registry Full'!$D$7:$D$3006,\"<=\"&$J$5)","v":0},{"$f":"COUNTIFS('Registry Full'!$H$7:$H$3006,$C26,'Registry Full'!$B$7:$B$3006,M$11,'Registry Full'!$D$7:$D$3006,\">=\"&$F$5,'Registry Full'!$D$7:$D$3006,\"<=\"&$J$5)","v":0},{"$f":"COUNTIFS('Registry Full'!$H$7:$H$3006,$C26,'Registry Full'!$B$7:$B$3006,N$11,'Registry Full'!$D$7:$D$3006,\">=\"&$F$5,'Registry Full'!$D$7:$D$3006,\"<=\"&$J$5)","v":0},3]
[null,15,{"$f":"IF(Presets!C47=\"\",\"\",Presets!C47)","v":"Запушване на канализация"},{"$f":"COUNTIFS('Registry Full'!$H$7:$H$3006,$C27,'Registry Full'!$B$7:$B$3006,D$11,'Registry Full'!$D$7:$D$3006,\">=\"&$F$5,'Registry Full'!$D$7:$D$3006,\"<=\"&$J$5)","v":3},{"$f":"COUNTIFS('Registry Full'!$H$7:$H$3006,$C27,'Registry Full'!$B$7:$B$3006,E$11,'Registry Full'!$D$7:$D$3006,\">=\"&$F$5,'Registry Full'!$D$7:$D$3006,\"<=\"&$J$5)","v":0},{"$f":"COUNTIFS('Registry Full'!$H$7:$H$3006,$C27,'Registry Full'!$B$7:$B$3006,F$11,'Registry Full'!$D$7:$D$3006,\">=\"&$F$5,'Registry Full'!$D$7:$D$3006,\"<=\"&$J$5)","v":0},{"$f":"COUNTIFS('Registry Full'!$H$7:$H$3006,$C27,'Registry Full'!$B$7:$B$3006,G$11,'Registry Full'!$D$7:$D$3006,\">=\"&$F$5,'Registry Full'!$D$7:$D$3006,\"<=\"&$J$5)","v":0},{"$f":"COUNTIFS('Registry Full'!$H$7:$H$3006,$C27,'Registry Full'!$B$7:$B$3006,H$11,'Registry Full'!$D$7:$D$3006,\">=\"&$F$5,'Registry Full'!$D$7:$D$3006,\"<=\"&$J$5)","v":0},{"$f":"COUNTIFS('Registry Full'!$H$7:$H$3006,$C27,'Registry Full'!$B$7:$B$3006,I$11,'Registry Full'!$D$7:$D$3006,\">=\"&$F$5,'Registry Full'!$D$7:$D$3006,\"<=\"&$J$5)","v":0},{"$f":"COUNTIFS('Registry Full'!$H$7:$H$3006,$C27,'Registry Full'!$B$7:$B$3006,J$11,'Registry Full'!$D$7:$D$3006,\">=\"&$F$5,'Registry Full'!$D$7:$D$3006,\"<=\"&$J$5)","v":0},{"$f":"COUNTIFS('Registry Full'!$H$7:$H$3006,$C27,'Registry Full'!$B$7:$B$3006,K$11,'Registry Full'!$D$7:$D$3006,\">=\"&$F$5,'Registry Full'!$D$7:$D$3006,\"<=\"&$J$5)","v":0},{"$f":"COUNTIFS('Registry Full'!$H$7:$H$3006,$C27,'Registry Full'!$B$7:$B$3006,L$11,'Registry Full'!$D$7:$D$3006,\">=\"&$F$5,'Registry Full'!$D$7:$D$3006,\"<=\"&$J$5)","v":1},{"$f":"COUNTIFS('Registry Full'!$H$7:$H$3006,$C27,'Registry Full'!$B$7:$B$3006,M$11,'Registry Full'!$D$7:$D$3006,\">=\"&$F$5,'Registry Full'!$D$7:$D$3006,\"<=\"&$J$5)","v":0},{"$f":"COUNTIFS('Registry Full'!$H$7:$H$3006,$C27,'Registry Full'!$B$7:$B$3006,N$11,'Registry Full'!$D$7:$D$3006,\">=\"&$F$5,'Registry Full'!$D$7:$D$3006,\"<=\"&$J$5)","v":0},4]
[null,16,{"$f":"IF(Presets!C48=\"\",\"\",Presets!C48)","v":"Наводняване от отпад. води"},{"$f":"COUNTIFS('Registry Full'!$H$7:$H$3006,$C28,'Registry Full'!$B$7:$B$3006,D$11,'Registry Full'!$D$7:$D$3006,\">=\"&$F$5,'Registry Full'!$D$7:$D$3006,\"<=\"&$J$5)","v":3},{"$f":"COUNTIFS('Registry Full'!$H$7:$H$3006,$C28,'Registry Full'!$B$7:$B$3006,E$11,'Registry Full'!$D$7:$D$3006,\">=\"&$F$5,'Registry Full'!$D$7:$D$3006,\"<=\"&$J$5)","v":0},{"$f":"COUNTIFS('Registry Full'!$H$7:$H$3006,$C28,'Registry Full'!$B$7:$B$3006,F$11,'Registry Full'!$D$7:$D$3006,\">=\"&$F$5,'Registry Full'!$D$7:$D$3006,\"<=\"&$J$5)","v":0},{"$f":"COUNTIFS('Registry Full'!$H$7:$H$3006,$C28,'Registry Full'!$B$7:$B$3006,G$11,'Registry Full'!$D$7:$D$3006,\">=\"&$F$5,'Registry Full'!$D$7:$D$3006,\"<=\"&$J$5)","v":0},{"$f":"COUNTIFS('Registry Full'!$H$7:$H$3006,$C28,'Registry Full'!$B$7:$B$3006,H$11,'Registry Full'!$D$7:$D$3006,\">=\"&$F$5,'Registry Full'!$D$7:$D$3006,\"<=\"&$J$5)","v":0},{"$f":"COUNTIFS('Registry Full'!$H$7:$H$3006,$C28,'Registry Full'!$B$7:$B$3006,I$11,'Registry Full'!$D$7:$D$3006,\">=\"&$F$5,'Registry Full'!$D$7:$D$3006,\"<=\"&$J$5)","v":1},{"$f":"COUNTIFS('Registry Full'!$H$7:$H$3006,$C28,'Registry Full'!$B$7:$B$3006,J$11,'Registry Full'!$D$7:$D$3006,\">=\"&$F$5,'Registry Full'!$D$7:$D$3006,\"<=\"&$J$5)","v":0},{"$f":"COUNTIFS('Registry Full'!$H$7:$H$3006,$C28,'Registry Full'!$B$7:$B$3006,K$11,'Registry Full'!$D$7:$D$3006,\">=\"&$F$5,'Registry Full'!$D$7:$D$3006,\"<=\"&$J$5)","v":0},{"$f":"COUNTIFS('Registry Full'!$H$7:$H$3006,$C28,'Registry Full'!$B$7:$B$3006,L$11,'Registry Full'!$D$7:$D$3006,\">=\"&$F$5,'Registry Full'!$D$7:$D$3006,\"<=\"&$J$5)","v":0},{"$f":"COUNTIFS('Registry Full'!$H$7:$H$3006,$C28,'Registry Full'!$B$7:$B$3006,M$11,'Registry Full'!$D$7:$D$3006,\">=\"&$F$5,'Registry Full'!$D$7:$D$3006,\"<=\"&$J$5)","v":0},{"$f":"COUNTIFS('Registry Full'!$H$7:$H$3006,$C28,'Registry Full'!$B$7:$B$3006,N$11,'Registry Full'!$D$7:$D$3006,\">=\"&$F$5,'Registry Full'!$D$7:$D$3006,\"<=\"&$J$5)","v":0},4]
[null,17,{"$f":"IF(Presets!C49=\"\",\"\",Presets!C49)","v":"Наводняване от дъжд. води"},{"$f":"COUNTIFS('Registry Full'!$H$7:$H$3006,$C29,'Registry Full'!$B$7:$B$3006,D$11,'Registry Full'!$D$7:$D$3006,\">=\"&$F$5,'Registry Full'!$D$7:$D$3006,\"<=\"&$J$5)","v":0},{"$f":"COUNTIFS('Registry Full'!$H$7:$H$3006,$C29,'Registry Full'!$B$7:$B$3006,E$11,'Registry Full'!$D$7:$D$3006,\">=\"&$F$5,'Registry Full'!$D$7:$D$3006,\"<=\"&$J$5)","v":0},{"$f":"COUNTIFS('Registry Full'!$H$7:$H$3006,$C29,'Registry Full'!$B$7:$B$3006,F$11,'Registry Full'!$D$7:$D$3006,\">=\"&$F$5,'Registry Full'!$D$7:$D$3006,\"<=\"&$J$5)","v":0},{"$f":"COUNTIFS('Registry Full'!$H$7:$H$3006,$C29,'Registry Full'!$B$7:$B$3006,G$11,'Registry Full'!$D$7:$D$3006,\">=\"&$F$5,'Registry Full'!$D$7:$D$3006,\"<=\"&$J$5)","v":0},{"$f":"COUNTIFS('Registry Full'!$H$7:$H$3006,$C29,'Registry Full'!$B$7:$B$3006,H$11,'Registry Full'!$D$7:$D$3006,\">=\"&$F$5,'Registry Full'!$D$7:$D$3006,\"<=\"&$J$5)","v":0},{"$f":"COUNTIFS('Registry Full'!$H$7:$H$3006,$C29,'Registry Full'!$B$7:$B$3006,I$11,'Registry Full'!$D$7:$D$3006,\">=\"&$F$5,'Registry Full'!$D$7:$D$3006,\"<=\"&$J$5)","v":0},{"$f":"COUNTIFS('Registry Full'!$H$7:$H$3006,$C29,'Registry Full'!$B$7:$B$3006,J$11,'Registry Full'!$D$7:$D$3006,\">=\"&$F$5,'Registry Full'!$D$7:$D$3006,\"<=\"&$J$5)","v":0},{"$f":"COUNTIFS('Registry Full'!$H$7:$H$3006,$C29,'Registry Full'!$B$7:$B$3006,K$11,'Registry Full'!$D$7:$D$3006,\">=\"&$F$5,'Registry Full'!$D$7:$D$3006,\"<=\"&$J$5)","v":0},{"$f":"COUNTIFS('Registry Full'!$H$7:$H$3006,$C29,'Registry Full'!$B$7:$B$3006,L$11,'Registry Full'!$D$7:$D$3006,\">=\"&$F$5,'Registry Full'!$D$7:$D$3006,\"<=\"&$J$5)","v":0},{"$f":"COUNTIFS('Registry Full'!$H$7:$H$3006,$C29,'Registry Full'!$B$7:$B$3006,M$11,'Registry Full'!$D$7:$D$3006,\">=\"&$F$5,'Registry Full'!$D$7:$D$3006,\"<=\"&$J$5)","v":0},{"$f":"COUNTIFS('Registry Full'!$H$7:$H$3006,$C29,'Registry Full'!$B$7:$B$3006,N$11,'Registry Full'!$D$7:$D$3006,\">=\"&$F$5,'Registry Full'!$D$7:$D$3006,\"<=\"&$J$5)","v":0},0]
[null,18,{"$f":"IF(Presets!C50=\"\",\"\",Presets!C50)","v":"Некачествен ремонт канал"},{"$f":"COUNTIFS('Registry Full'!$H$7:$H$3006,$C30,'Registry Full'!$B$7:$B$3006,D$11,'Registry Full'!$D$7:$D$3006,\">=\"&$F$5,'Registry Full'!$D$7:$D$3006,\"<=\"&$J$5)","v":0},{"$f":"COUNTIFS('Registry Full'!$H$7:$H$3006,$C30,'Registry Full'!$B$7:$B$3006,E$11,'Registry Full'!$D$7:$D$3006,\">=\"&$F$5,'Registry Full'!$D$7:$D$3006,\"<=\"&$J$5)","v":0},{"$f":"COUNTIFS('Registry Full'!$H$7:$H$3006,$C30,'Registry Full'!$B$7:$B$3006,F$11,'Registry Full'!$D$7:$D$3006,\">=\"&$F$5,'Registry Full'!$D$7:$D$3006,\"<=\"&$J$5)","v":0},{"$f":"COUNTIFS('Registry Full'!$H$7:$H$3006,$C30,'Registry Full'!$B$7:$B$3006,G$11,'Registry Full'!$D$7:$D$3006,\">=\"&$F$5,'Registry Full'!$D$7:$D$3006,\"<=\"&$J$5)","v":0},{"$f":"COUNTIFS('Registry Full'!$H$7:$H$3006,$C30,'Registry Full'!$B$7:$B$3006,H$11,'Registry Full'!$D$7:$D$3006,\">=\"&$F$5,'Registry Full'!$D$7:$D$3006,\"<=\"&$J$5)","v":0},{"$f":"COUNTIFS('Registry Full'!$H$7:$H$3006,$C30,'Registry Full'!$B$7:$B$3006,I$11,'Registry Full'!$D$7:$D$3006,\">=\"&$F$5,'Registry Full'!$D$7:$D$3006,\"<=\"&$J$5)","v":0},{"$f":"COUNTIFS('Registry Full'!$H$7:$H$3006,$C30,'Registry Full'!$B$7:$B$3006,J$11,'Registry Full'!$D$7:$D$3006,\">=\"&$F$5,'Registry Full'!$D$7:$D$3006,\"<=\"&$J$5)","v":0},{"$f":"COUNTIFS('Registry Full'!$H$7:$H$3006,$C30,'Registry Full'!$B$7:$B$3006,K$11,'Registry Full'!$D$7:$D$3006,\">=\"&$F$5,'Registry Full'!$D$7:$D$3006,\"<=\"&$J$5)","v":0},{"$f":"COUNTIFS('Registry Full'!$H$7:$H$3006,$C30,'Registry Full'!$B$7:$B$3006,L$11,'Registry Full'!$D$7:$D$3006,\">=\"&$F$5,'Registry Full'!$D$7:$D$3006,\"<=\"&$J$5)","v":0},{"$f":"COUNTIFS('Registry Full'!$H$7:$H$3006,$C30,'Registry Full'!$B$7:$B$3006,M$11,'Registry Full'!$D$7:$D$3006,\">=\"&$F$5,'Registry Full'!$D$7:$D$3006,\"<=\"&$J$5)","v":0},{"$f":"COUNTIFS('Registry Full'!$H$7:$H$3006,$C30,'Registry Full'!$B$7:$B$3006,N$11,'Registry Full'!$D$7:$D$3006,\">=\"&$F$5,'Registry Full'!$D$7:$D$3006,\"<=\"&$J$5)","v":0},0]
[null,19,{"$f":"IF(Presets!C51=\"\",\"\",Presets!C51)","v":"Друго по канализация"},{"$f":"COUNTIFS('Registry Full'!$H$7:$H$3006,$C31,'Registry Full'!$B$7:$B$3006,D$11,'Registry Full'!$D$7:$D$3006,\">=\"&$F$5,'Registry Full'!$D$7:$D$3006,\"<=\"&$J$5)","v":1},{"$f":"COUNTIFS('Registry Full'!$H$7:$H$3006,$C31,'Registry Full'!$B$7:$B$3006,E$11,'Registry Full'!$D$7:$D$3006,\">=\"&$F$5,'Registry Full'!$D$7:$D$3006,\"<=\"&$J$5)","v":0},{"$f":"COUNTIFS('Registry Full'!$H$7:$H$3006,$C31,'Registry Full'!$B$7:$B$3006,F$11,'Registry Full'!$D$7:$D$3006,\">=\"&$F$5,'Registry Full'!$D$7:$D$3006,\"<=\"&$J$5)","v":0},{"$f":"COUNTIFS('Registry Full'!$H$7:$H$3006,$C31,'Registry Full'!$B$7:$B$3006,G$11,'Registry Full'!$D$7:$D$3006,\">=\"&$F$5,'Registry Full'!$D$7:$D$3006,\"<=\"&$J$5)","v":0},{"$f":"COUNTIFS('Registry Full'!$H$7:$H$3006,$C31,'Registry Full'!$B$7:$B$3006,H$11,'Registry Full'!$D$7:$D$3006,\">=\"&$F$5,'Registry Full'!$D$7:$D$3006,\"<=\"&$J$5)","v":0},{"$f":"COUNTIFS('Registry Full'!$H$7:$H$3006,$C31,'Registry Full'!$B$7:$B$3006,I$11,'Registry Full'!$D$7:$D$3006,\">=\"&$F$5,'Registry Full'!$D$7:$D$3006,\"<=\"&$J$5)","v":0},{"$f":"COUNTIFS('Registry Full'!$H$7:$H$3006,$C31,'Registry Full'!$B$7:$B$3006,J$11,'Registry Full'!$D$7:$D$3006,\">=\"&$F$5,'Registry Full'!$D$7:$D$3006,\"<=\"&$J$5)","v":0},{"$f":"COUNTIFS('Registry Full'!$H$7:$H$3006,$C31,'Registry Full'!$B$7:$B$3006,K$11,'Registry Full'!$D$7:$D$3006,\">=\"&$F$5,'Registry Full'!$D$7:$D$3006,\"<=\"&$J$5)","v":0},{"$f":"COUNTIFS('Registry Full'!$H$7:$H$3006,$C31,'Registry Full'!$B$7:$B$3006,L$11,'Registry Full'!$D$7:$D$3006,\">=\"&$F$5,'Registry Full'!$D$7:$D$3006,\"<=\"&$J$5)","v":0},{"$f":"COUNTIFS('Registry Full'!$H$7:$H$3006,$C31,'Registry Full'!$B$7:$B$3006,M$11,'Registry Full'!$D$7:$D$3006,\">=\"&$F$5,'Registry Full'!$D$7:$D$3006,\"<=\"&$J$5)","v":0},{"$f":"COUNTIFS('Registry Full'!$H$7:$H$3006,$C31,'Registry Full'!$B$7:$B$3006,N$11,'Registry Full'!$D$7:$D$3006,\">=\"&$F$5,'Registry Full'!$D$7:$D$3006,\"<=\"&$J$5)","v":0},1]
[null,20,{"$f":"IF(Presets!C52=\"\",\"\",Presets!C52)","v":"Проблеми с ПСОВ"},{"$f":"COUNTIFS('Registry Full'!$H$7:$H$3006,$C32,'Registry Full'!$B$7:$B$3006,D$11,'Registry Full'!$D$7:$D$3006,\">=\"&$F$5,'Registry Full'!$D$7:$D$3006,\"<=\"&$J$5)","v":0},{"$f":"COUNTIFS('Registry Full'!$H$7:$H$3006,$C32,'Registry Full'!$B$7:$B$3006,E$11,'Registry Full'!$D$7:$D$3006,\">=\"&$F$5,'Registry Full'!$D$7:$D$3006,\"<=\"&$J$5)","v":0},{"$f":"COUNTIFS('Registry Full'!$H$7:$H$3006,$C32,'Registry Full'!$B$7:$B$3006,F$11,'Registry Full'!$D$7:$D$3006,\">=\"&$F$5,'Registry Full'!$D$7:$D$3006,\"<=\"&$J$5)","v":0},{"$f":"COUNTIFS('Registry Full'!$H$7:$H$3006,$C32,'Registry Full'!$B$7:$B$3006,G$11,'Registry Full'!$D$7:$D$3006,\">=\"&$F$5,'Registry Full'!$D$7:$D$3006,\"<=\"&$J$5)","v":0},{"$f":"COUNTIFS('Registry Full'!$H$7:$H$3006,$C32,'Registry Full'!$B$7:$B$3006,H$11,'Registry Full'!$D$7:$D$3006,\">=\"&$F$5,'Registry Full'!$D$7:$D$3006,\"<=\"&$J$5)","v":0},{"$f":"COUNTIFS('Registry Full'!$H$7:$H$3006,$C32,'Registry Full'!$B$7:$B$3006,I$11,'Registry Full'!$D$7:$D$3006,\">=\"&$F$5,'Registry Full'!$D$7:$D$3006,\"<=\"&$J$5)","v":0},{"$f":"COUNTIFS('Registry Full'!$H$7:$H$3006,$C32,'Registry Full'!$B$7:$B$3006,J$11,'Registry Full'!$D$7:$D$3006,\">=\"&$F$5,'Registry Full'!$D$7:$D$3006,\"<=\"&$J$5)","v":0},{"$f":"COUNTIFS('Registry Full'!$H$7:$H$3006,$C32,'Registry Full'!$B$7:$B$3006,K$11,'Registry Full'!$D$7:$D$3006,\">=\"&$F$5,'Registry Full'!$D$7:$D$3006,\"<=\"&$J$5)","v":0},{"$f":"COUNTIFS('Registry Full'!$H$7:$H$3006,$C32,'Registry Full'!$B$7:$B$3006,L$11,'Registry Full'!$D$7:$D$3006,\">=\"&$F$5,'Registry Full'!$D$7:$D$3006,\"<=\"&$J$5)","v":0},{"$f":"COUNTIFS('Registry Full'!$H$7:$H$3006,$C32,'Registry Full'!$B$7:$B$3006,M$11,'Registry Full'!$D$7:$D$3006,\">=\"&$F$5,'Registry Full'!$D$7:$D$3006,\"<=\"&$J$5)","v":0},{"$f":"COUNTIFS('Registry Full'!$H$7:$H$3006,$C32,'Registry Full'!$B$7:$B$3006,N$11,'Registry Full'!$D$7:$D$3006,\">=\"&$F$5,'Registry Full'!$D$7:$D$3006,\"<=\"&$J$5)","v":0},0]
[null,21,{"$f":"IF(Presets!C53=\"\",\"\",Presets!C53)","v":"Спорове по ЗОП"},{"$f":"COUNTIFS('Registry Full'!$H$7:$H$3006,$C33,'Registry Full'!$B$7:$B$3006,D$11,'Registry Full'!$D$7:$D$3006,\">=\"&$F$5,'Registry Full'!$D$7:$D$3006,\"<=\"&$J$5)","v":0},{"$f":"COUNTIFS('Registry Full'!$H$7:$H$3006,$C33,'Registry Full'!$B$7:$B$3006,E$11,'Registry Full'!$D$7:$D$3006,\">=\"&$F$5,'Registry Full'!$D$7:$D$3006,\"<=\"&$J$5)","v":0},{"$f":"COUNTIFS('Registry Full'!$H$7:$H$3006,$C33,'Registry Full'!$B$7:$B$3006,F$11,'Registry Full'!$D$7:$D$3006,\">=\"&$F$5,'Registry Full'!$D$7:$D$3006,\"<=\"&$J$5)","v":0},{"$f":"COUNTIFS('Registry Full'!$H$7:$H$3006,$C33,'Registry Full'!$B$7:$B$3006,G$11,'Registry Full'!$D$7:$D$3006,\">=\"&$F$5,'Registry Full'!$D$7:$D$3006,\"<=\"&$J$5)","v":0},{"$f":"COUNTIFS('Registry Full'!$H$7:$H$3006,$C33,'Registry Full'!$B$7:$B$3006,H$11,'Registry Full'!$D$7:$D$3006,\">=\"&$F$5,'Registry Full'!$D$7:$D$3006,\"<=\"&$J$5)","v":0},{"$f":"COUNTIFS('Registry Full'!$H$7:$H$3006,$C33,'Registry Full'!$B$7:$B$3006,I$11,'Registry Full'!$D$7:$D$3006,\">=\"&$F$5,'Registry Full'!$D$7:$D$3006,\"<=\"&$J$5)","v":0},{"$f":"COUNTIFS('Registry Full'!$H$7:$H$3006,$C33,'Registry Full'!$B$7:$B$3006,J$11,'Registry Full'!$D$7:$D$3006,\">=\"&$F$5,'Registry Full'!$D$7:$D$3006,\"<=\"&$J$5)","v":0},{"$f":"COUNTIFS('Registry Full'!$H$7:$H$3006,$C33,'Registry Full'!$B$7:$B$3006,K$11,'Registry Full'!$D$7:$D$3006,\">=\"&$F$5,'Registry Full'!$D$7:$D$3006,\"<=\"&$J$5)","v":0},{"$f":"COUNTIFS('Registry Full'!$H$7:$H$3006,$C33,'Registry Full'!$B$7:$B$3006,L$11,'Registry Full'!$D$7:$D$3006,\">=\"&$F$5,'Registry Full'!$D$7:$D$3006,\"<=\"&$J$5)","v":0},{"$f":"COUNTIFS('Registry Full'!$H$7:$H$3006,$C33,'Registry Full'!$B$7:$B$3006,M$11,'Registry Full'!$D$7:$D$3006,\">=\"&$F$5,'Registry Full'!$D$7:$D$3006,\"<=\"&$J$5)","v":0},{"$f":"COUNTIFS('Registry Full'!$H$7:$H$3006,$C33,'Registry Full'!$B$7:$B$3006,N$11,'Registry Full'!$D$7:$D$3006,\">=\"&$F$5,'Registry Full'!$D$7:$D$3006,\"<=\"&$J$5)","v":0},0]
[null,{"$f":"IF(COUNTBLANK(C34)=0,B33+1,\"\")","v":22},{"$f":"IF(Presets!C54=\"\",\"\",Presets!C54)","v":"Друго"},{"$f":"COUNTIFS('Registry Full'!$H$7:$H$3006,$C34,'Registry Full'!$B$7:$B$3006,D$11,'Registry Full'!$D$7:$D$3006,\">=\"&$F$5,'Registry Full'!$D$7:$D$3006,\"<=\"&$J$5)","v":0},{"$f":"COUNTIFS('Registry Full'!$H$7:$H$3006,$C34,'Registry Full'!$B$7:$B$3006,E$11,'Registry Full'!$D$7:$D$3006,\">=\"&$F$5,'Registry Full'!$D$7:$D$3006,\"<=\"&$J$5)","v":0},{"$f":"COUNTIFS('Registry Full'!$H$7:$H$3006,$C34,'Registry Full'!$B$7:$B$3006,F$11,'Registry Full'!$D$7:$D$3006,\">=\"&$F$5,'Registry Full'!$D$7:$D$3006,\"<=\"&$J$5)","v":1},{"$f":"COUNTIFS('Registry Full'!$H$7:$H$3006,$C34,'Registry Full'!$B$7:$B$3006,G$11,'Registry Full'!$D$7:$D$3006,\">=\"&$F$5,'Registry Full'!$D$7:$D$3006,\"<=\"&$J$5)","v":0},{"$f":"COUNTIFS('Registry Full'!$H$7:$H$3006,$C34,'Registry Full'!$B$7:$B$3006,H$11,'Registry Full'!$D$7:$D$3006,\">=\"&$F$5,'Registry Full'!$D$7:$D$3006,\"<=\"&$J$5)","v":0},{"$f":"COUNTIFS('Registry Full'!$H$7:$H$3006,$C34,'Registry Full'!$B$7:$B$3006,I$11,'Registry Full'!$D$7:$D$3006,\">=\"&$F$5,'Registry Full'!$D$7:$D$3006,\"<=\"&$J$5)","v":0},{"$f":"COUNTIFS('Registry Full'!$H$7:$H$3006,$C34,'Registry Full'!$B$7:$B$3006,J$11,'Registry Full'!$D$7:$D$3006,\">=\"&$F$5,'Registry Full'!$D$7:$D$3006,\"<=\"&$J$5)","v":0},{"$f":"COUNTIFS('Registry Full'!$H$7:$H$3006,$C34,'Registry Full'!$B$7:$B$3006,K$11,'Registry Full'!$D$7:$D$3006,\">=\"&$F$5,'Registry Full'!$D$7:$D$3006,\"<=\"&$J$5)","v":0},{"$f":"COUNTIFS('Registry Full'!$H$7:$H$3006,$C34,'Registry Full'!$B$7:$B$3006,L$11,'Registry Full'!$D$7:$D$3006,\">=\"&$F$5,'Registry Full'!$D$7:$D$3006,\"<=\"&$J$5)","v":2},{"$f":"COUNTIFS('Registry Full'!$H$7:$H$3006,$C34,'Registry Full'!$B$7:$B$3006,M$11,'Registry Full'!$D$7:$D$3006,\">=\"&$F$5,'Registry Full'!$D$7:$D$3006,\"<=\"&$J$5)","v":0},{"$f":"COUNTIFS('Registry Full'!$H$7:$H$3006,$C34,'Registry Full'!$B$7:$B$3006,N$11,'Registry Full'!$D$7:$D$3006,\">=\"&$F$5,'Registry Full'!$D$7:$D$3006,\"<=\"&$J$5)","v":0},{"$f":"IF(C34=\"\",\"\",SUM(D34:N34))","v":3}]
[null,"",{"$f":"IF(Presets!C55=\"\",\"\",Presets!C55)","v":""},{"$f":"COUNTIFS('Registry Full'!$H$7:$H$3006,$C35,'Registry Full'!$B$7:$B$3006,D$11,'Registry Full'!$D$7:$D$3006,\">=\"&$F$5,'Registry Full'!$D$7:$D$3006,\"<=\"&$J$5)","v":0},{"$f":"COUNTIFS('Registry Full'!$H$7:$H$3006,$C35,'Registry Full'!$B$7:$B$3006,E$11,'Registry Full'!$D$7:$D$3006,\">=\"&$F$5,'Registry Full'!$D$7:$D$3006,\"<=\"&$J$5)","v":0},{"$f":"COUNTIFS('Registry Full'!$H$7:$H$3006,$C35,'Registry Full'!$B$7:$B$3006,F$11,'Registry Full'!$D$7:$D$3006,\">=\"&$F$5,'Registry Full'!$D$7:$D$3006,\"<=\"&$J$5)","v":0},{"$f":"COUNTIFS('Registry Full'!$H$7:$H$3006,$C35,'Registry Full'!$B$7:$B$3006,G$11,'Registry Full'!$D$7:$D$3006,\">=\"&$F$5,'Registry Full'!$D$7:$D$3006,\"<=\"&$J$5)","v":0},{"$f":"COUNTIFS('Registry Full'!$H$7:$H$3006,$C35,'Registry Full'!$B$7:$B$3006,H$11,'Registry Full'!$D$7:$D$3006,\">=\"&$F$5,'Registry Full'!$D$7:$D$3006,\"<=\"&$J$5)","v":0},{"$f":"COUNTIFS('Registry Full'!$H$7:$H$3006,$C35,'Registry Full'!$B$7:$B$3006,I$11,'Registry Full'!$D$7:$D$3006,\">=\"&$F$5,'Registry Full'!$D$7:$D$3006,\"<=\"&$J$5)","v":0},{"$f":"COUNTIFS('Registry Full'!$H$7:$H$3006,$C35,'Registry Full'!$B$7:$B$3006,J$11,'Registry Full'!$D$7:$D$3006,\">=\"&$F$5,'Registry Full'!$D$7:$D$3006,\"<=\"&$J$5)","v":0},{"$f":"COUNTIFS('Registry Full'!$H$7:$H$3006,$C35,'Registry Full'!$B$7:$B$3006,K$11,'Registry Full'!$D$7:$D$3006,\">=\"&$F$5,'Registry Full'!$D$7:$D$3006,\"<=\"&$J$5)","v":0},{"$f":"COUNTIFS('Registry Full'!$H$7:$H$3006,$C35,'Registry Full'!$B$7:$B$3006,L$11,'Registry Full'!$D$7:$D$3006,\">=\"&$F$5,'Registry Full'!$D$7:$D$3006,\"<=\"&$J$5)","v":0},{"$f":"COUNTIFS('Registry Full'!$H$7:$H$3006,$C35,'Registry Full'!$B$7:$B$3006,M$11,'Registry Full'!$D$7:$D$3006,\">=\"&$F$5,'Registry Full'!$D$7:$D$3006,\"<=\"&$J$5)","v":0},{"$f":"COUNTIFS('Registry Full'!$H$7:$H$3006,$C35,'Registry Full'!$B$7:$B$3006,N$11,'Registry Full'!$D$7:$D$3006,\">=\"&$F$5,'Registry Full'!$D$7:$D$3006,\"<=\"&$J$5)","v":0},""]
[null,null,"Всичко",{"$f":"SUM(D13:D34)","v":31},{"$f":"SUM(E13:E34)","v":0},1,0,0,15,0,0,8,0,0,{"$f":"SUM(O13:O34)","v":55}]

{"sheet":"Report3","index":4,"n_rows":36,"n_cols":17,"rows_kept":36,"merged":[[0,1,0,16],[1,1,1,16],[2,1,2,16],[3,6,3,7],[3,9,3,10],[4,6,4,7],[4,10,4,11],[7,1,7,16],[9,1,11,1],[9,2,11,2],[9,3,9,14],[9,15,11,15],[9,16,11,16]]}
[null,"СПРАВКА-ОБРАЗЕЦ"]
[null,"за постъпили и обработени жалби от потребители на В и К услуги"]
[null,{"$f":"\"на територията на Асоциация по В и К - \"&Title!$A$14","v":"на територията на Асоциация по В и К - ДОБРИЧ"}]
[{"$nulls":6},{"$f":"IF(G5=IF(ISERROR(EOMONTH(G5,0)),\"грешка\",EOMONTH(G5,-1)+1),\"\",\"грешка!!!\")","v":""},null,null,{"$f":"IF(K5=IF(ISERROR(EOMONTH(K5,0)),\"грешка\",EOMONTH(K5,0)),\"\",\"грешка!!!\")","v":""}]
[{"$nulls":5},"от дата:",{"$f":"Report1!I5","v":"2021-01-01"},null,null,"до дата:",{"$f":"Report1!M5","v":"2021-12-31"}]
[]
[{"$nulls":16},"стр. 3"]
[null,"Постъпили жалби по Тип на оплакването и Експлоатационен район"]
[]
[null,"№ по ред",{"$f":"Presets!C32","v":"Тип на оплакването"},{"$f":"Presets!C78","v":"Експлоатационен район"},{"$nulls":11},"Без Експл. район","Всичко"]
[{"$nulls":3},{"$f":"OFFSET(Presets!$C$79,D$12-1,0)","v":"Добрич град"},{"$f":"OFFSET(Presets!$C$79,E$12-1,0)","v":"Добрич селски район"},{"$f":"OFFSET(Presets!$C$79,F$12-1,0)","v":"Тервел"},{"$f":"OFFSET(Presets!$C$79,G$12-1,0)","v":"Генерал Тошево"},{"$f":"OFFSET(Presets!$C$79,H$12-1,0)","v":"Крушари"},{"$f":"OFFSET(Presets!$C$79,I$12-1,0)","v":"Балчик"},{"$f":"OFFSET(Presets!$C$79,J$12-1,0)","v":"Каварна"},{"$f":"OFFSET(Presets!$C$79,K$12-1,0)","v":"Шабла"},{"$f":"OFFSET(Presets!$C$79,L$12-1,0)","v":0},{"$f":"OFFSET(Presets!$C$79,M$12-1,0)","v":0},{"$f":"OFFSET(Presets!$C$79,N$12-1,0)","v":0},{"$f":"OFFSET(Presets!$C$79,O$12-1,0)","v":0}]
[{"$nulls":3},1,2,3,4,5,6,7,8,9,10,11,12]
[null,1,{"$f":"IF(Presets!C33=\"\",\"\",Presets!C33)","v":"Присъединяване"},{"$f":"COUNTIFS('Registry Full'!$H$7:$H$3006,$C13,'Registry Full'!$I$7:$I$3006,D$11,'Registry Full'!$D$7:$D$3006,\">=\"&$G$5,'Registry Full'!$D$7:$D$3006,\"<=\"&$K$5)","v":0},{"$f":"COUNTIFS('Registry Full'!$H$7:$H$3006,$C13,'Registry Full'!$I$7:$I$3006,E$11,'Registry Full'!$D$7:$D$3006,\">=\"&$G$5,'Registry Full'!$D$7:$D$3006,\"<=\"&$K$5)","v":0},{"$f":"COUNTIFS('Registry Full'!$H$7:$H$3006,$C13,'Registry Full'!$I$7:$I$3006,F$11,'Registry Full'!$D$7:$D$3006,\">=\"&$G$5,'Registry Full'!$D$7:$D$3006,\"<=\"&$K$5)","v":0},{"$f":"COUNTIFS('Registry Full'!$H$7:$H$3006,$C13,'Registry Full'!$I$7:$I$3006,G$11,'Registry Full'!$D$7:$D$3006,\">=\"&$G$5,'Registry Full'!$D$7:$D$3006,\"<=\"&$K$5)","v":0},{"$f":"COUNTIFS('Registry Full'!$H$7:$H$3006,$C13,'Registry Full'!$I$7:$I$3006,H$11,'Registry Full'!$D$7:$D$3006,\">=\"&$G$5,'Registry Full'!$D$7:$D$3006,\"<=\"&$K$5)","v":0},{"$f":"COUNTIFS('Registry Full'!$H$7:$H$3006,$C13,'Registry Full'!$I$7:$I$3006,I$11,'Registry Full'!$D$7:$D$3006,\">=\"&$G$5,'Registry Full'!$D$7:$D$3006,\"<=\"&$K$5)","v":0},{"$f":"COUNTIFS('Registry Full'!$H$7:$H$3006,$C13,'Registry Full'!$I$7:$I$3006,J$11,'Registry Full'!$D$7:$D$3006,\">=\"&$G$5,'Registry Full'!$D$7:$D$3006,\"<=\"&$K$5)","v":0},{"$f":"COUNTIFS('Registry Full'!$H$7:$H$3006,$C13,'Registry Full'!$I$7:$I$3006,K$11,'Registry Full'!$D$7:$D$3006,\">=\"&$G$5,'Registry Full'!$D$7:$D$3006,\"<=\"&$K$5)","v":0},{"$f":"COUNTIFS('Registry Full'!$H$7:$H$3006,$C13,'Registry Full'!$I$7:$I$3006,L$11,'Registry Full'!$D$7:$D$3006,\">=\"&$G$5,'Registry Full'!$D$7:$D$3006,\"<=\"&$K$5)","v":0},{"$f":"COUNTIFS('Registry Full'!$H$7:$H$3006,$C13,'Registry Full'!$I$7:$I$3006,M$11,'Registry Full'!$D$7:$D$3006,\">=\"&$G$5,'Registry Full'!$D$7:$D$3006,\"<=\"&$K$5)","v":0},{"$f":"COUNTIFS('Registry Full'!$H$7:$H$3006,$C13,'Registry Full'!$I$7:$I$3006,N$11,'Registry Full'!$D$7:$D$3006,\">=\"&$G$5,'Registry Full'!$D$7:$D$3006,\"<=\"&$K$5)","v":0},{"$f":"COUNTIFS('Registry Full'!$H$7:$H$3006,$C13,'Registry Full'!$I$7:$I$3006,O$11,'Registry Full'!$D$7:$D$3006,\">=\"&$G$5,'Registry Full'!$D$7:$D$3006,\"<=\"&$K$5)","v":0},{"$f":"Report1!D13-SUM(Report3!D13:O13)","v":0},{"$f":"IF(C13=\"\",\"\",SUM(D13:P13))","v":0}]
[null,{"$f":"IF(COUNTBLANK(C14)=0,B13+1,\"\")","v":2},{"$f":"IF(Presets!C34=\"\",\"\",Presets!C34)","v":"Прекъсване на услугата"},{"$f":"COUNTIFS('Registry Full'!$H$7:$H$3006,$C14,'Registry Full'!$I$7:$I$3006,D$11,'Registry Full'!$D$7:$D$3006,\">=\"&$G$5,'Registry Full'!$D$7:$D$3006,\"<=\"&$K$5)","v":0},{"$f":"COUNTIFS('Registry Full'!$H$7:$H$3006,$C14,'Registry Full'!$I$7:$I$3006,E$11,'Registry Full'!$D$7:$D$3006,\">=\"&$G$5,'Registry Full'!$D$7:$D$3006,\"<=\"&$K$5)","v":1},{"$f":"COUNTIFS('Registry Full'!$H$7:$H$3006,$C14,'Registry Full'!$I$7:$I$3006,F$11,'Registry Full'!$D$7:$D$3006,\">=\"&$G$5,'Registry Full'!$D$7:$D$3006,\"<=\"&$K$5)","v":0},{"$f":"COUNTIFS('Registry Full'!$H$7:$H$3006,$C14,'Registry Full'!$I$7:$I$3006,G$11,'Registry Full'!$D$7:$D$3006,\">=\"&$G$5,'Registry Full'!$D$7:$D$3006,\"<=\"&$K$5)","v":1},{"$f":"COUNTIFS('Registry Full'!$H$7:$H$3006,$C14,'Registry Full'!$I$7:$I$3006,H$11,'Registry Full'!$D$7:$D$3006,\">=\"&$G$5,'Registry Full'!$D$7:$D$3006,\"<=\"&$K$5)","v":0},{"$f":"COUNTIFS('Registry Full'!$H$7:$H$3006,$C14,'Registry Full'!$I$7:$I$3006,I$11,'Registry Full'!$D$7:$D$3006,\">=\"&$G$5,'Registry Full'!$D$7:$D$3006,\"<=\"&$K$5)","v":0},{"$f":"COUNTIFS('Registry Full'!$H$7:$H$3006,$C14,'Registry Full'!$I$7:$I$3006,J$11,'Registry Full'!$D$7:$D$3006,\">=\"&$G$5,'Registry Full'!$D$7:$D$3006,\"<=\"&$K$5)","v":0},{"$f":"COUNTIFS('Registry Full'!$H$7:$H$3006,$C14,'Registry Full'!$I$7:$I$3006,K$11,'Registry Full'!$D$7:$D$3006,\">=\"&$G$5,'Registry Full'!$D$7:$D$3006,\"<=\"&$K$5)","v":0},{"$f":"COUNTIFS('Registry Full'!$H$7:$H$3006,$C14,'Registry Full'!$I$7:$I$3006,L$11,'Registry Full'!$D$7:$D$3006,\">=\"&$G$5,'Registry Full'!$D$7:$D$3006,\"<=\"&$K$5)","v":0},{"$f":"COUNTIFS('Registry Full'!$H$7:$H$3006,$C14,'Registry Full'!$I$7:$I$3006,M$11,'Registry Full'!$D$7:$D$3006,\">=\"&$G$5,'Registry Full'!$D$7:$D$3006,\"<=\"&$K$5)","v":0},{"$f":"COUNTIFS('Registry Full'!$H$7:$H$3006,$C14,'Registry Full'!$I$7:$I$3006,N$11,'Registry Full'!$D$7:$D$3006,\">=\"&$G$5,'Registry Full'!$D$7:$D$3006,\"<=\"&$K$5)","v":0},{"$f":"COUNTIFS('Registry Full'!$H$7:$H$3006,$C14,'Registry Full'!$I$7:$I$3006,O$11,'Registry Full'!$D$7:$D$3006,\">=\"&$G$5,'Registry Full'!$D$7:$D$3006,\"<=\"&$K$5)","v":0},{"$f":"Report1!D14-SUM(Report3!D14:O14)","v":0},{"$f":"IF(C14=\"\",\"\",SUM(D14:P14))","v":2}]
[null,{"$f":"IF(COUNTBLANK(C15)=0,B14+1,\"\")","v":3},{"$f":"IF(Presets!C35=\"\",\"\",Presets!C35)","v":"Липса на вода"},{"$f":"COUNTIFS('Registry Full'!$H$7:$H$3006,$C15,'Registry Full'!$I$7:$I$3006,D$11,'Registry Full'!$D$7:$D$3006,\">=\"&$G$5,'Registry Full'!$D$7:$D$3006,\"<=\"&$K$5)","v":1},{"$f":"COUNTIFS('Registry Full'!$H$7:$H$3006,$C15,'Registry Full'!$I$7:$I$3006,E$11,'Registry Full'!$D$7:$D$3006,\">=\"&$G$5,'Registry Full'!$D$7:$D$3006,\"<=\"&$K$5)","v":11},{"$f":"COUNTIFS('Registry Full'!$H$7:$H$3006,$C15,'Registry Full'!$I$7:$I$3006,F$11,'Registry Full'!$D$7:$D$3006,\">=\"&$G$5,'Registry Full'!$D$7:$D$3006,\"<=\"&$K$5)","v":1},{"$f":"COUNTIFS('Registry Full'!$H$7:$H$3006,$C15,'Registry Full'!$I$7:$I$3006,G$11,'Registry Full'!$D$7:$D$3006,\">=\"&$G$5,'Registry Full'!$D$7:$D$3006,\"<=\"&$K$5)","v":1},{"$f":"COUNTIFS('Registry Full'!$H$7:$H$3006,$C15,'Registry Full'!$I$7:$I$3006,H$11,'Registry Full'!$D$7:$D$3006,\">=\"&$G$5,'Registry Full'!$D$7:$D$3006,\"<=\"&$K$5)","v":0},{"$f":"COUNTIFS('Registry Full'!$H$7:$H$3006,$C15,'Registry Full'!$I$7:$I$3006,I$11,'Registry Full'!$D$7:$D$3006,\">=\"&$G$5,'Registry Full'!$D$7:$D$3006,\"<=\"&$K$5)","v":6},{"$f":"COUNTIFS('Registry Full'!$H$7:$H$3006,$C15,'Registry Full'!$I$7:$I$3006,J$11,'Registry Full'!$D$7:$D$3006,\">=\"&$G$5,'Registry Full'!$D$7:$D$3006,\"<=\"&$K$5)","v":3},{"$f":"COUNTIFS('Registry Full'!$H$7:$H$3006,$C15,'Registry Full'!$I$7:$I$3006,K$11,'Registry Full'!$D$7:$D$3006,\">=\"&$G$5,'Registry Full'!$D$7:$D$3006,\"<=\"&$K$5)","v":0},{"$f":"COUNTIFS('Registry Full'!$H$7:$H$3006,$C15,'Registry Full'!$I$7:$I$3006,L$11,'Registry Full'!$D$7:$D$3006,\">=\"&$G$5,'Registry Full'!$D$7:$D$3006,\"<=\"&$K$5)","v":0},{"$f":"COUNTIFS('Registry Full'!$H$7:$H$3006,$C15,'Registry Full'!$I$7:$I$3006,M$11,'Registry Full'!$D$7:$D$3006,\">=\"&$G$5,'Registry Full'!$D$7:$D$3006,\"<=\"&$K$5)","v":0},{"$f":"COUNTIFS('Registry Full'!$H$7:$H$3006,$C15,'Registry Full'!$I$7:$I$3006,N$11,'Registry Full'!$D$7:$D$3006,\">=\"&$G$5,'Registry Full'!$D$7:$D$3006,\"<=\"&$K$5)","v":0},{"$f":"COUNTIFS('Registry Full'!$H$7:$H$3006,$C15,'Registry Full'!$I$7:$I$3006,O$11,'Registry Full'!$D$7:$D$3006,\">=\"&$G$5,'Registry Full'!$D$7:$D$3006,\"<=\"&$K$5)","v":0},{"$f":"Report1!D15-SUM(Report3!D15:O15)","v":0},23]
[null,4,{"$f":"IF(Presets!C36=\"\",\"\",Presets!C36)","v":"Проблеми с налягане"},{"$f":"COUNTIFS('Registry Full'!$H$7:$H$3006,$C16,'Registry Full'!$I$7:$I$3006,D$11,'Registry Full'!$D$7:$D$3006,\">=\"&$G$5,'Registry Full'!$D$7:$D$3006,\"<=\"&$K$5)","v":0},{"$f":"COUNTIFS('Registry Full'!$H$7:$H$3006,$C16,'Registry Full'!$I$7:$I$3006,E$11,'Registry Full'!$D$7:$D$3006,\">=\"&$G$5,'Registry Full'!$D$7:$D$3006,\"<=\"&$K$5)","v":2},{"$f":"COUNTIFS('Registry Full'!$H$7:$H$3006,$C16,'Registry Full'!$I$7:$I$3006,F$11,'Registry Full'!$D$7:$D$3006,\">=\"&$G$5,'Registry Full'!$D$7:$D$3006,\"<=\"&$K$5)","v":0},{"$f":"COUNTIFS('Registry Full'!$H$7:$H$3006,$C16,'Registry Full'!$I$7:$I$3006,G$11,'Registry Full'!$D$7:$D$3006,\">=\"&$G$5,'Registry Full'!$D$7:$D$3006,\"<=\"&$K$5)","v":0},{"$f":"COUNTIFS('Registry Full'!$H$7:$H$3006,$C16,'Registry Full'!$I$7:$I$3006,H$11,'Registry Full'!$D$7:$D$3006,\">=\"&$G$5,'Registry Full'!$D$7:$D$3006,\"<=\"&$K$5)","v":0},{"$f":"COUNTIFS('Registry Full'!$H$7:$H$3006,$C16,'Registry Full'!$I$7:$I$3006,I$11,'Registry Full'!$D$7:$D$3006,\">=\"&$G$5,'Registry Full'!$D$7:$D$3006,\"<=\"&$K$5)","v":0},{"$f":"COUNTIFS('Registry Full'!$H$7:$H$3006,$C16,'Registry Full'!$I$7:$I$3006,J$11,'Registry Full'!$D$7:$D$3006,\">=\"&$G$5,'Registry Full'!$D$7:$D$3006,\"<=\"&$K$5)","v":0},{"$f":"COUNTIFS('Registry Full'!$H$7:$H$3006,$C16,'Registry Full'!$I$7:$I$3006,K$11,'Registry Full'!$D$7:$D$3006,\">=\"&$G$5,'Registry Full'!$D$7:$D$3006,\"<=\"&$K$5)","v":0},{"$f":"COUNTIFS('Registry Full'!$H$7:$H$3006,$C16,'Registry Full'!$I$7:$I$3006,L$11,'Registry Full'!$D$7:$D$3006,\">=\"&$G$5,'Registry Full'!$D$7:$D$3006,\"<=\"&$K$5)","v":0},{"$f":"COUNTIFS('Registry Full'!$H$7:$H$3006,$C16,'Registry Full'!$I$7:$I$3006,M$11,'Registry Full'!$D$7:$D$3006,\">=\"&$G$5,'Registry Full'!$D$7:$D$3006,\"<=\"&$K$5)","v":0},{"$f":"COUNTIFS('Registry Full'!$H$7:$H$3006,$C16,'Registry Full'!$I$7:$I$3006,N$11,'Registry Full'!$D$7:$D$3006,\">=\"&$G$5,'Registry Full'!$D$7:$D$3006,\"<=\"&$K$5)","v":0},{"$f":"COUNTIFS('Registry Full'!$H$7:$H$3006,$C16,'Registry Full'!$I$7:$I$3006,O$11,'Registry Full'!$D$7:$D$3006,\">=\"&$G$5,'Registry Full'!$D$7:$D$3006,\"<=\"&$K$5)","v":0},{"$f":"Report1!D16-SUM(Report3!D16:O16)","v":0},2]
[null,5,{"$f":"IF(Presets!C37=\"\",\"\",Presets!C37)","v":"Лошо качество вода"},{"$f":"COUNTIFS('Registry Full'!$H$7:$H$3006,$C17,'Registry Full'!$I$7:$I$3006,D$11,'Registry Full'!$D$7:$D$3006,\">=\"&$G$5,'Registry Full'!$D$7:$D$3006,\"<=\"&$K$5)","v":0},{"$f":"COUNTIFS('Registry Full'!$H$7:$H$3006,$C17,'Registry Full'!$I$7:$I$3006,E$11,'Registry Full'!$D$7:$D$3006,\">=\"&$G$5,'Registry Full'!$D$7:$D$3006,\"<=\"&$K$5)","v":1},{"$f":"COUNTIFS('Registry Full'!$H$7:$H$3006,$C17,'Registry Full'!$I$7:$I$3006,F$11,'Registry Full'!$D$7:$D$3006,\">=\"&$G$5,'Registry Full'!$D$7:$D$3006,\"<=\"&$K$5)","v":0},{"$f":"COUNTIFS('Registry Full'!$H$7:$H$3006,$C17,'Registry Full'!$I$7:$I$3006,G$11,'Registry Full'!$D$7:$D$3006,\">=\"&$G$5,'Registry Full'!$D$7:$D$3006,\"<=\"&$K$5)","v":0},{"$f":"COUNTIFS('Registry Full'!$H$7:$H$3006,$C17,'Registry Full'!$I$7:$I$3006,H$11,'Registry Full'!$D$7:$D$3006,\">=\"&$G$5,'Registry Full'!$D$7:$D$3006,\"<=\"&$K$5)","v":0},{"$f":"COUNTIFS('Registry Full'!$H$7:$H$3006,$C17,'Registry Full'!$I$7:$I$3006,I$11,'Registry Full'!$D$7:$D$3006,\">=\"&$G$5,'Registry Full'!$D$7:$D$3006,\"<=\"&$K$5)","v":0},{"$f":"COUNTIFS('Registry Full'!$H$7:$H$3006,$C17,'Registry Full'!$I$7:$I$3006,J$11,'Registry Full'!$D$7:$D$3006,\">=\"&$G$5,'Registry Full'!$D$7:$D$3006,\"<=\"&$K$5)","v":0},{"$f":"COUNTIFS('Registry Full'!$H$7:$H$3006,$C17,'Registry Full'!$I$7:$I$3006,K$11,'Registry Full'!$D$7:$D$3006,\">=\"&$G$5,'Registry Full'!$D$7:$D$3006,\"<=\"&$K$5)","v":0},{"$f":"COUNTIFS('Registry Full'!$H$7:$H$3006,$C17,'Registry Full'!$I$7:$I$3006,L$11,'Registry Full'!$D$7:$D$3006,\">=\"&$G$5,'Registry Full'!$D$7:$D$3006,\"<=\"&$K$5)","v":0},{"$f":"COUNTIFS('Registry Full'!$H$7:$H$3006,$C17,'Registry Full'!$I$7:$I$3006,M$11,'Registry Full'!$D$7:$D$3006,\">=\"&$G$5,'Registry Full'!$D$7:$D$3006,\"<=\"&$K$5)","v":0},{"$f":"COUNTIFS('Registry Full'!$H$7:$H$3006,$C17,'Registry Full'!$I$7:$I$3006,N$11,'Registry Full'!$D$7:$D$3006,\">=\"&$G$5,'Registry Full'!$D$7:$D$3006,\"<=\"&$K$5)","v":0},{"$f":"COUNTIFS('Registry Full'!$H$7:$H$3006,$C17,'Registry Full'!$I$7:$I$3006,O$11,'Registry Full'!$D$7:$D$3006,\">=\"&$G$5,'Registry Full'!$D$7:$D$3006,\"<=\"&$K$5)","v":0},{"$f":"Report1!D17-SUM(Report3!D17:O17)","v":0},1]
[null,6,{"$f":"IF(Presets!C38=\"\",\"\",Presets!C38)","v":"Течове"},{"$f":"COUNTIFS('Registry Full'!$H$7:$H$3006,$C18,'Registry Full'!$I$7:$I$3006,D$11,'Registry Full'!$D$7:$D$3006,\">=\"&$G$5,'Registry Full'!$D$7:$D$3006,\"<=\"&$K$5)","v":5},{"$f":"COUNTIFS('Registry Full'!$H$7:$H$3006,$C18,'Registry Full'!$I$7:$I$3006,E$11,'Registry Full'!$D$7:$D$3006,\">=\"&$G$5,'Registry Full'!$D$7:$D$3006,\"<=\"&$K$5)","v":0},{"$f":"COUNTIFS('Registry Full'!$H$7:$H$3006,$C18,'Registry Full'!$I$7:$I$3006,F$11,'Registry Full'!$D$7:$D$3006,\">=\"&$G$5,'Registry Full'!$D$7:$D$3006,\"<=\"&$K$5)","v":0},{"$f":"COUNTIFS('Registry Full'!$H$7:$H$3006,$C18,'Registry Full'!$I$7:$I$3006,G$11,'Registry Full'!$D$7:$D$3006,\">=\"&$G$5,'Registry Full'!$D$7:$D$3006,\"<=\"&$K$5)","v":0},{"$f":"COUNTIFS('Registry Full'!$H$7:$H$3006,$C18,'Registry Full'!$I$7:$I$3006,H$11,'Registry Full'!$D$7:$D$3006,\">=\"&$G$5,'Registry Full'!$D$7:$D$3006,\"<=\"&$K$5)","v":0},{"$f":"COUNTIFS('Registry Full'!$H$7:$H$3006,$C18,'Registry Full'!$I$7:$I$3006,I$11,'Registry Full'!$D$7:$D$3006,\">=\"&$G$5,'Registry Full'!$D$7:$D$3006,\"<=\"&$K$5)","v":0},{"$f":"COUNTIFS('Registry Full'!$H$7:$H$3006,$C18,'Registry Full'!$I$7:$I$3006,J$11,'Registry Full'!$D$7:$D$3006,\">=\"&$G$5,'Registry Full'!$D$7:$D$3006,\"<=\"&$K$5)","v":0},{"$f":"COUNTIFS('Registry Full'!$H$7:$H$3006,$C18,'Registry Full'!$I$7:$I$3006,K$11,'Registry Full'!$D$7:$D$3006,\">=\"&$G$5,'Registry Full'!$D$7:$D$3006,\"<=\"&$K$5)","v":0},{"$f":"COUNTIFS('Registry Full'!$H$7:$H$3006,$C18,'Registry Full'!$I$7:$I$3006,L$11,'Registry Full'!$D$7:$D$3006,\">=\"&$G$5,'Registry Full'!$D$7:$D$3006,\"<=\"&$K$5)","v":0},{"$f":"COUNTIFS('Registry Full'!$H$7:$H$3006,$C18,'Registry Full'!$I$7:$I$3006,M$11,'Registry Full'!$D$7:$D$3006,\">=\"&$G$5,'Registry Full'!$D$7:$D$3006,\"<=\"&$K$5)","v":0},{"$f":"COUNTIFS('Registry Full'!$H$7:$H$3006,$C18,'Registry Full'!$I$7:$I$3006,N$11,'Registry Full'!$D$7:$D$3006,\">=\"&$G$5,'Registry Full'!$D$7:$D$3006,\"<=\"&$K$5)","v":0},{"$f":"COUNTIFS('Registry Full'!$H$7:$H$3006,$C18,'Registry Full'!$I$7:$I$3006,O$11,'Registry Full'!$D$7:$D$3006,\">=\"&$G$5,'Registry Full'!$D$7:$D$3006,\"<=\"&$K$5)","v":0},{"$f":"Report1!D18-SUM(Report3!D18:O18)","v":0},5]
[null,7,{"$f":"IF(Presets!C39=\"\",\"\",Presets!C39)","v":"Щети от авария"},{"$f":"COUNTIFS('Registry Full'!$H$7:$H$3006,$C19,'Registry Full'!$I$7:$I$3006,D$11,'Registry Full'!$D$7:$D$3006,\">=\"&$G$5,'Registry Full'!$D$7:$D$3006,\"<=\"&$K$5)","v":0},{"$f":"COUNTIFS('Registry Full'!$H$7:$H$3006,$C19,'Registry Full'!$I$7:$I$3006,E$11,'Registry Full'!$D$7:$D$3006,\">=\"&$G$5,'Registry Full'!$D$7:$D$3006,\"<=\"&$K$5)","v":0},{"$f":"COUNTIFS('Registry Full'!$H$7:$H$3006,$C19,'Registry Full'!$I$7:$I$3006,F$11,'Registry Full'!$D$7:$D$3006,\">=\"&$G$5,'Registry Full'!$D$7:$D$3006,\"<=\"&$K$5)","v":0},{"$f":"COUNTIFS('Registry Full'!$H$7:$H$3006,$C19,'Registry Full'!$I$7:$I$3006,G$11,'Registry Full'!$D$7:$D$3006,\">=\"&$G$5,'Registry Full'!$D$7:$D$3006,\"<=\"&$K$5)","v":0},{"$f":"COUNTIFS('Registry Full'!$H$7:$H$3006,$C19,'Registry Full'!$I$7:$I$3006,H$11,'Registry Full'!$D$7:$D$3006,\">=\"&$G$5,'Registry Full'!$D$7:$D$3006,\"<=\"&$K$5)","v":0},{"$f":"COUNTIFS('Registry Full'!$H$7:$H$3006,$C19,'Registry Full'!$I$7:$I$3006,I$11,'Registry Full'!$D$7:$D$3006,\">=\"&$G$5,'Registry Full'!$D$7:$D$3006,\"<=\"&$K$5)","v":0},{"$f":"COUNTIFS('Registry Full'!$H$7:$H$3006,$C19,'Registry Full'!$I$7:$I$3006,J$11,'Registry Full'!$D$7:$D$3006,\">=\"&$G$5,'Registry Full'!$D$7:$D$3006,\"<=\"&$K$5)","v":0},{"$f":"COUNTIFS('Registry Full'!$H$7:$H$3006,$C19,'Registry Full'!$I$7:$I$3006,K$11,'Registry Full'!$D$7:$D$3006,\">=\"&$G$5,'Registry Full'!$D$7:$D$3006,\"<=\"&$K$5)","v":0},{"$f":"COUNTIFS('Registry Full'!$H$7:$H$3006,$C19,'Registry Full'!$I$7:$I$3006,L$11,'Registry Full'!$D$7:$D$3006,\">=\"&$G$5,'Registry Full'!$D$7:$D$3006,\"<=\"&$K$5)","v":0},{"$f":"COUNTIFS('Registry Full'!$H$7:$H$3006,$C19,'Registry Full'!$I$7:$I$3006,M$11,'Registry Full'!$D$7:$D$3006,\">=\"&$G$5,'Registry Full'!$D$7:$D$3006,\"<=\"&$K$5)","v":0},{"$f":"COUNTIFS('Registry Full'!$H$7:$H$3006,$C19,'Registry Full'!$I$7:$I$3006,N$11,'Registry Full'!$D$7:$D$3006,\">=\"&$G$5,'Registry Full'!$D$7:$D$3006,\"<=\"&$K$5)","v":0},{"$f":"COUNTIFS('Registry Full'!$H$7:$H$3006,$C19,'Registry Full'!$I$7:$I$3006,O$11,'Registry Full'!$D$7:$D$3006,\">=\"&$G$5,'Registry Full'!$D$7:$D$3006,\"<=\"&$K$5)","v":0},{"$f":"Report1!D19-SUM(Report3!D19:O19)","v":0},0]
[null,8,{"$f":"IF(Presets!C40=\"\",\"\",Presets!C40)","v":"Проверка водомер"},{"$f":"COUNTIFS('Registry Full'!$H$7:$H$3006,$C20,'Registry Full'!$I$7:$I$3006,D$11,'Registry Full'!$D$7:$D$3006,\">=\"&$G$5,'Registry Full'!$D$7:$D$3006,\"<=\"&$K$5)","v":0},{"$f":"COUNTIFS('Registry Full'!$H$7:$H$3006,$C20,'Registry Full'!$I$7:$I$3006,E$11,'Registry Full'!$D$7:$D$3006,\">=\"&$G$5,'Registry Full'!$D$7:$D$3006,\"<=\"&$K$5)","v":0},{"$f":"COUNTIFS('Registry Full'!$H$7:$H$3006,$C20,'Registry Full'!$I$7:$I$3006,F$11,'Registry Full'!$D$7:$D$3006,\">=\"&$G$5,'Registry Full'!$D$7:$D$3006,\"<=\"&$K$5)","v":0},{"$f":"COUNTIFS('Registry Full'!$H$7:$H$3006,$C20,'Registry Full'!$I$7:$I$3006,G$11,'Registry Full'!$D$7:$D$3006,\">=\"&$G$5,'Registry Full'!$D$7:$D$3006,\"<=\"&$K$5)","v":1},{"$f":"COUNTIFS('Registry Full'!$H$7:$H$3006,$C20,'Registry Full'!$I$7:$I$3006,H$11,'Registry Full'!$D$7:$D$3006,\">=\"&$G$5,'Registry Full'!$D$7:$D$3006,\"<=\"&$K$5)","v":0},{"$f":"COUNTIFS('Registry Full'!$H$7:$H$3006,$C20,'Registry Full'!$I$7:$I$3006,I$11,'Registry Full'!$D$7:$D$3006,\">=\"&$G$5,'Registry Full'!$D$7:$D$3006,\"<=\"&$K$5)","v":0},{"$f":"COUNTIFS('Registry Full'!$H$7:$H$3006,$C20,'Registry Full'!$I$7:$I$3006,J$11,'Registry Full'!$D$7:$D$3006,\">=\"&$G$5,'Registry Full'!$D$7:$D$3006,\"<=\"&$K$5)","v":0},{"$f":"COUNTIFS('Registry Full'!$H$7:$H$3006,$C20,'Registry Full'!$I$7:$I$3006,K$11,'Registry Full'!$D$7:$D$3006,\">=\"&$G$5,'Registry Full'!$D$7:$D$3006,\"<=\"&$K$5)","v":0},{"$f":"COUNTIFS('Registry Full'!$H$7:$H$3006,$C20,'Registry Full'!$I$7:$I$3006,L$11,'Registry Full'!$D$7:$D$3006,\">=\"&$G$5,'Registry Full'!$D$7:$D$3006,\"<=\"&$K$5)","v":0},{"$f":"COUNTIFS('Registry Full'!$H$7:$H$3006,$C20,'Registry Full'!$I$7:$I$3006,M$11,'Registry Full'!$D$7:$D$3006,\">=\"&$G$5,'Registry Full'!$D$7:$D$3006,\"<=\"&$K$5)","v":0},{"$f":"COUNTIFS('Registry Full'!$H$7:$H$3006,$C20,'Registry Full'!$I$7:$I$3006,N$11,'Registry Full'!$D$7:$D$3006,\">=\"&$G$5,'Registry Full'!$D$7:$D$3006,\"<=\"&$K$5)","v":0},{"$f":"COUNTIFS('Registry Full'!$H$7:$H$3006,$C20,'Registry Full'!$I$7:$I$3006,O$11,'Registry Full'!$D$7:$D$3006,\">=\"&$G$5,'Registry Full'!$D$7:$D$3006,\"<=\"&$K$5)","v":0},{"$f":"Report1!D20-SUM(Report3!D20:O20)","v":0},1]
[null,9,{"$f":"IF(Presets!C41=\"\",\"\",Presets!C41)","v":"Грешка в отчитане"},{"$f":"COUNTIFS('Registry Full'!$H$7:$H$3006,$C21,'Registry Full'!$I$7:$I$3006,D$11,'Registry Full'!$D$7:$D$3006,\">=\"&$G$5,'Registry Full'!$D$7:$D$3006,\"<=\"&$K$5)","v":1},{"$f":"COUNTIFS('Registry Full'!$H$7:$H$3006,$C21,'Registry Full'!$I$7:$I$3006,E$11,'Registry Full'!$D$7:$D$3006,\">=\"&$G$5,'Registry Full'!$D$7:$D$3006,\"<=\"&$K$5)","v":0},{"$f":"COUNTIFS('Registry Full'!$H$7:$H$3006,$C21,'Registry Full'!$I$7:$I$3006,F$11,'Registry Full'!$D$7:$D$3006,\">=\"&$G$5,'Registry Full'!$D$7:$D$3006,\"<=\"&$K$5)","v":0},{"$f":"COUNTIFS('Registry Full'!$H$7:$H$3006,$C21,'Registry Full'!$I$7:$I$3006,G$11,'Registry Full'!$D$7:$D$3006,\">=\"&$G$5,'Registry Full'!$D$7:$D$3006,\"<=\"&$K$5)","v":0},{"$f":"COUNTIFS('Registry Full'!$H$7:$H$3006,$C21,'Registry Full'!$I$7:$I$3006,H$11,'Registry Full'!$D$7:$D$3006,\">=\"&$G$5,'Registry Full'!$D$7:$D$3006,\"<=\"&$K$5)","v":0},{"$f":"COUNTIFS('Registry Full'!$H$7:$H$3006,$C21,'Registry Full'!$I$7:$I$3006,I$11,'Registry Full'!$D$7:$D$3006,\">=\"&$G$5,'Registry Full'!$D$7:$D$3006,\"<=\"&$K$5)","v":1},{"$f":"COUNTIFS('Registry Full'!$H$7:$H$3006,$C21,'Registry Full'!$I$7:$I$3006,J$11,'Registry Full'!$D$7:$D$3006,\">=\"&$G$5,'Registry Full'!$D$7:$D$3006,\"<=\"&$K$5)","v":0},{"$f":"COUNTIFS('Registry Full'!$H$7:$H$3006,$C21,'Registry Full'!$I$7:$I$3006,K$11,'Registry Full'!$D$7:$D$3006,\">=\"&$G$5,'Registry Full'!$D$7:$D$3006,\"<=\"&$K$5)","v":0},{"$f":"COUNTIFS('Registry Full'!$H$7:$H$3006,$C21,'Registry Full'!$I$7:$I$3006,L$11,'Registry Full'!$D$7:$D$3006,\">=\"&$G$5,'Registry Full'!$D$7:$D$3006,\"<=\"&$K$5)","v":0},{"$f":"COUNTIFS('Registry Full'!$H$7:$H$3006,$C21,'Registry Full'!$I$7:$I$3006,M$11,'Registry Full'!$D$7:$D$3006,\">=\"&$G$5,'Registry Full'!$D$7:$D$3006,\"<=\"&$K$5)","v":0},{"$f":"COUNTIFS('Registry Full'!$H$7:$H$3006,$C21,'Registry Full'!$I$7:$I$3006,N$11,'Registry Full'!$D$7:$D$3006,\">=\"&$G$5,'Registry Full'!$D$7:$D$3006,\"<=\"&$K$5)","v":0},{"$f":"COUNTIFS('Registry Full'!$H$7:$H$3006,$C21,'Registry Full'!$I$7:$I$3006,O$11,'Registry Full'!$D$7:$D$3006,\">=\"&$G$5,'Registry Full'!$D$7:$D$3006,\"<=\"&$K$5)","v":0},{"$f":"Report1!D21-SUM(Report3!D21:O21)","v":0},2]
[null,10,{"$f":"IF(Presets!C42=\"\",\"\",Presets!C42)","v":"Неправилно начисляване"},{"$f":"COUNTIFS('Registry Full'!$H$7:$H$3006,$C22,'Registry Full'!$I$7:$I$3006,D$11,'Registry Full'!$D$7:$D$3006,\">=\"&$G$5,'Registry Full'!$D$7:$D$3006,\"<=\"&$K$5)","v":0},{"$f":"COUNTIFS('Registry Full'!$H$7:$H$3006,$C22,'Registry Full'!$I$7:$I$3006,E$11,'Registry Full'!$D$7:$D$3006,\">=\"&$G$5,'Registry Full'!$D$7:$D$3006,\"<=\"&$K$5)","v":0},{"$f":"COUNTIFS('Registry Full'!$H$7:$H$3006,$C22,'Registry Full'!$I$7:$I$3006,F$11,'Registry Full'!$D$7:$D$3006,\">=\"&$G$5,'Registry Full'!$D$7:$D$3006,\"<=\"&$K$5)","v":0},{"$f":"COUNTIFS('Registry Full'!$H$7:$H$3006,$C22,'Registry Full'!$I$7:$I$3006,G$11,'Registry Full'!$D$7:$D$3006,\">=\"&$G$5,'Registry Full'!$D$7:$D$3006,\"<=\"&$K$5)","v":0},{"$f":"COUNTIFS('Registry Full'!$H$7:$H$3006,$C22,'Registry Full'!$I$7:$I$3006,H$11,'Registry Full'!$D$7:$D$3006,\">=\"&$G$5,'Registry Full'!$D$7:$D$3006,\"<=\"&$K$5)","v":0},{"$f":"COUNTIFS('Registry Full'!$H$7:$H$3006,$C22,'Registry Full'!$I$7:$I$3006,I$11,'Registry Full'!$D$7:$D$3006,\">=\"&$G$5,'Registry Full'!$D$7:$D$3006,\"<=\"&$K$5)","v":0},{"$f":"COUNTIFS('Registry Full'!$H$7:$H$3006,$C22,'Registry Full'!$I$7:$I$3006,J$11,'Registry Full'!$D$7:$D$3006,\">=\"&$G$5,'Registry Full'!$D$7:$D$3006,\"<=\"&$K$5)","v":0},{"$f":"COUNTIFS('Registry Full'!$H$7:$H$3006,$C22,'Registry Full'!$I$7:$I$3006,K$11,'Registry Full'!$D$7:$D$3006,\">=\"&$G$5,'Registry Full'!$D$7:$D$3006,\"<=\"&$K$5)","v":0},{"$f":"COUNTIFS('Registry Full'!$H$7:$H$3006,$C22,'Registry Full'!$I$7:$I$3006,L$11,'Registry Full'!$D$7:$D$3006,\">=\"&$G$5,'Registry Full'!$D$7:$D$3006,\"<=\"&$K$5)","v":0},{"$f":"COUNTIFS('Registry Full'!$H$7:$H$3006,$C22,'Registry Full'!$I$7:$I$3006,M$11,'Registry Full'!$D$7:$D$3006,\">=\"&$G$5,'Registry Full'!$D$7:$D$3006,\"<=\"&$K$5)","v":0},{"$f":"COUNTIFS('Registry Full'!$H$7:$H$3006,$C22,'Registry Full'!$I$7:$I$3006,N$11,'Registry Full'!$D$7:$D$3006,\">=\"&$G$5,'Registry Full'!$D$7:$D$3006,\"<=\"&$K$5)","v":0},{"$f":"COUNTIFS('Registry Full'!$H$7:$H$3006,$C22,'Registry Full'!$I$7:$I$3006,O$11,'Registry Full'!$D$7:$D$3006,\">=\"&$G$5,'Registry Full'!$D$7:$D$3006,\"<=\"&$K$5)","v":0},{"$f":"Report1!D22-SUM(Report3!D22:O22)","v":0},{"$f":"IF(C22=\"\",\"\",SUM(D22:P22))","v":0}]
[null,11,{"$f":"IF(Presets!C43=\"\",\"\",Presets!C43)","v":"Разпределение обща вода"},{"$f":"COUNTIFS('Registry Full'!$H$7:$H$3006,$C23,'Registry Full'!$I$7:$I$3006,D$11,'Registry Full'!$D$7:$D$3006,\">=\"&$G$5,'Registry Full'!$D$7:$D$3006,\"<=\"&$K$5)","v":1},{"$f":"COUNTIFS('Registry Full'!$H$7:$H$3006,$C23,'Registry Full'!$I$7:$I$3006,E$11,'Registry Full'!$D$7:$D$3006,\">=\"&$G$5,'Registry Full'!$D$7:$D$3006,\"<=\"&$K$5)","v":0},{"$f":"COUNTIFS('Registry Full'!$H$7:$H$3006,$C23,'Registry Full'!$I$7:$I$3006,F$11,'Registry Full'!$D$7:$D$3006,\">=\"&$G$5,'Registry Full'!$D$7:$D$3006,\"<=\"&$K$5)","v":0},{"$f":"COUNTIFS('Registry Full'!$H$7:$H$3006,$C23,'Registry Full'!$I$7:$I$3006,G$11,'Registry Full'!$D$7:$D$3006,\">=\"&$G$5,'Registry Full'!$D$7:$D$3006,\"<=\"&$K$5)","v":0},{"$f":"COUNTIFS('Registry Full'!$H$7:$H$3006,$C23,'Registry Full'!$I$7:$I$3006,H$11,'Registry Full'!$D$7:$D$3006,\">=\"&$G$5,'Registry Full'!$D$7:$D$3006,\"<=\"&$K$5)","v":0},{"$f":"COUNTIFS('Registry Full'!$H$7:$H$3006,$C23,'Registry Full'!$I$7:$I$3006,I$11,'Registry Full'!$D$7:$D$3006,\">=\"&$G$5,'Registry Full'!$D$7:$D$3006,\"<=\"&$K$5)","v":0},{"$f":"COUNTIFS('Registry Full'!$H$7:$H$3006,$C23,'Registry Full'!$I$7:$I$3006,J$11,'Registry Full'!$D$7:$D$3006,\">=\"&$G$5,'Registry Full'!$D$7:$D$3006,\"<=\"&$K$5)","v":0},{"$f":"COUNTIFS('Registry Full'!$H$7:$H$3006,$C23,'Registry Full'!$I$7:$I$3006,K$11,'Registry Full'!$D$7:$D$3006,\">=\"&$G$5,'Registry Full'!$D$7:$D$3006,\"<=\"&$K$5)","v":0},{"$f":"COUNTIFS('Registry Full'!$H$7:$H$3006,$C23,'Registry Full'!$I$7:$I$3006,L$11,'Registry Full'!$D$7:$D$3006,\">=\"&$G$5,'Registry Full'!$D$7:$D$3006,\"<=\"&$K$5)","v":0},{"$f":"COUNTIFS('Registry Full'!$H$7:$H$3006,$C23,'Registry Full'!$I$7:$I$3006,M$11,'Registry Full'!$D$7:$D$3006,\">=\"&$G$5,'Registry Full'!$D$7:$D$3006,\"<=\"&$K$5)","v":0},{"$f":"COUNTIFS('Registry Full'!$H$7:$H$3006,$C23,'Registry Full'!$I$7:$I$3006,N$11,'Registry Full'!$D$7:$D$3006,\">=\"&$G$5,'Registry Full'!$D$7:$D$3006,\"<=\"&$K$5)","v":0},{"$f":"COUNTIFS('Registry Full'!$H$7:$H$3006,$C23,'Registry Full'!$I$7:$I$3006,O$11,'Registry Full'!$D$7:$D$3006,\">=\"&$G$5,'Registry Full'!$D$7:$D$3006,\"<=\"&$K$5)","v":0},{"$f":"Report1!D23-SUM(Report3!D23:O23)","v":0},1]
[null,12,{"$f":"IF(Presets!C44=\"\",\"\",Presets!C44)","v":"Грешка в сумата"},{"$f":"COUNTIFS('Registry Full'!$H$7:$H$3006,$C24,'Registry Full'!$I$7:$I$3006,D$11,'Registry Full'!$D$7:$D$3006,\">=\"&$G$5,'Registry Full'!$D$7:$D$3006,\"<=\"&$K$5)","v":0},{"$f":"COUNTIFS('Registry Full'!$H$7:$H$3006,$C24,'Registry Full'!$I$7:$I$3006,E$11,'Registry Full'!$D$7:$D$3006,\">=\"&$G$5,'Registry Full'!$D$7:$D$3006,\"<=\"&$K$5)","v":0},{"$f":"COUNTIFS('Registry Full'!$H$7:$H$3006,$C24,'Registry Full'!$I$7:$I$3006,F$11,'Registry Full'!$D$7:$D$3006,\">=\"&$G$5,'Registry Full'!$D$7:$D$3006,\"<=\"&$K$5)","v":0},{"$f":"COUNTIFS('Registry Full'!$H$7:$H$3006,$C24,'Registry Full'!$I$7:$I$3006,G$11,'Registry Full'!$D$7:$D$3006,\">=\"&$G$5,'Registry Full'!$D$7:$D$3006,\"<=\"&$K$5)","v":0},{"$f":"COUNTIFS('Registry Full'!$H$7:$H$3006,$C24,'Registry Full'!$I$7:$I$3006,H$11,'Registry Full'!$D$7:$D$3006,\">=\"&$G$5,'Registry Full'!$D$7:$D$3006,\"<=\"&$K$5)","v":0},{"$f":"COUNTIFS('Registry Full'!$H$7:$H$3006,$C24,'Registry Full'!$I$7:$I$3006,I$11,'Registry Full'!$D$7:$D$3006,\">=\"&$G$5,'Registry Full'!$D$7:$D$3006,\"<=\"&$K$5)","v":1},{"$f":"COUNTIFS('Registry Full'!$H$7:$H$3006,$C24,'Registry Full'!$I$7:$I$3006,J$11,'Registry Full'!$D$7:$D$3006,\">=\"&$G$5,'Registry Full'!$D$7:$D$3006,\"<=\"&$K$5)","v":0},{"$f":"COUNTIFS('Registry Full'!$H$7:$H$3006,$C24,'Registry Full'!$I$7:$I$3006,K$11,'Registry Full'!$D$7:$D$3006,\">=\"&$G$5,'Registry Full'!$D$7:$D$3006,\"<=\"&$K$5)","v":0},{"$f":"COUNTIFS('Registry Full'!$H$7:$H$3006,$C24,'Registry Full'!$I$7:$I$3006,L$11,'Registry Full'!$D$7:$D$3006,\">=\"&$G$5,'Registry Full'!$D$7:$D$3006,\"<=\"&$K$5)","v":0},{"$f":"COUNTIFS('Registry Full'!$H$7:$H$3006,$C24,'Registry Full'!$I$7:$I$3006,M$11,'Registry Full'!$D$7:$D$3006,\">=\"&$G$5,'Registry Full'!$D$7:$D$3006,\"<=\"&$K$5)","v":0},{"$f":"COUNTIFS('Registry Full'!$H$7:$H$3006,$C24,'Registry Full'!$I$7:$I$3006,N$11,'Registry Full'!$D$7:$D$3006,\">=\"&$G$5,'Registry Full'!$D$7:$D$3006,\"<=\"&$K$5)","v":0},{"$f":"COUNTIFS('Registry Full'!$H$7:$H$3006,$C24,'Registry Full'!$I$7:$I$3006,O$11,'Registry Full'!$D$7:$D$3006,\">=\"&$G$5,'Registry Full'!$D$7:$D$3006,\"<=\"&$K$5)","v":0},{"$f":"Report1!D24-SUM(Report3!D24:O24)","v":0},1]
[null,13,{"$f":"IF(Presets!C45=\"\",\"\",Presets!C45)","v":"Некачествен ремонт водопр."},{"$f":"COUNTIFS('Registry Full'!$H$7:$H$3006,$C25,'Registry Full'!$I$7:$I$3006,D$11,'Registry Full'!$D$7:$D$3006,\">=\"&$G$5,'Registry Full'!$D$7:$D$3006,\"<=\"&$K$5)","v":2},{"$f":"COUNTIFS('Registry Full'!$H$7:$H$3006,$C25,'Registry Full'!$I$7:$I$3006,E$11,'Registry Full'!$D$7:$D$3006,\">=\"&$G$5,'Registry Full'!$D$7:$D$3006,\"<=\"&$K$5)","v":0},{"$f":"COUNTIFS('Registry Full'!$H$7:$H$3006,$C25,'Registry Full'!$I$7:$I$3006,F$11,'Registry Full'!$D$7:$D$3006,\">=\"&$G$5,'Registry Full'!$D$7:$D$3006,\"<=\"&$K$5)","v":0},{"$f":"COUNTIFS('Registry Full'!$H$7:$H$3006,$C25,'Registry Full'!$I$7:$I$3006,G$11,'Registry Full'!$D$7:$D$3006,\">=\"&$G$5,'Registry Full'!$D$7:$D$3006,\"<=\"&$K$5)","v":0},{"$f":"COUNTIFS('Registry Full'!$H$7:$H$3006,$C25,'Registry Full'!$I$7:$I$3006,H$11,'Registry Full'!$D$7:$D$3006,\">=\"&$G$5,'Registry Full'!$D$7:$D$3006,\"<=\"&$K$5)","v":0},{"$f":"COUNTIFS('Registry Full'!$H$7:$H$3006,$C25,'Registry Full'!$I$7:$I$3006,I$11,'Registry Full'!$D$7:$D$3006,\">=\"&$G$5,'Registry Full'!$D$7:$D$3006,\"<=\"&$K$5)","v":0},{"$f":"COUNTIFS('Registry Full'!$H$7:$H$3006,$C25,'Registry Full'!$I$7:$I$3006,J$11,'Registry Full'!$D$7:$D$3006,\">=\"&$G$5,'Registry Full'!$D$7:$D$3006,\"<=\"&$K$5)","v":0},{"$f":"COUNTIFS('Registry Full'!$H$7:$H$3006,$C25,'Registry Full'!$I$7:$I$3006,K$11,'Registry Full'!$D$7:$D$3006,\">=\"&$G$5,'Registry Full'!$D$7:$D$3006,\"<=\"&$K$5)","v":0},{"$f":"COUNTIFS('Registry Full'!$H$7:$H$3006,$C25,'Registry Full'!$I$7:$I$3006,L$11,'Registry Full'!$D$7:$D$3006,\">=\"&$G$5,'Registry Full'!$D$7:$D$3006,\"<=\"&$K$5)","v":0},{"$f":"COUNTIFS('Registry Full'!$H$7:$H$3006,$C25,'Registry Full'!$I$7:$I$3006,M$11,'Registry Full'!$D$7:$D$3006,\">=\"&$G$5,'Registry Full'!$D$7:$D$3006,\"<=\"&$K$5)","v":0},{"$f":"COUNTIFS('Registry Full'!$H$7:$H$3006,$C25,'Registry Full'!$I$7:$I$3006,N$11,'Registry Full'!$D$7:$D$3006,\">=\"&$G$5,'Registry Full'!$D$7:$D$3006,\"<=\"&$K$5)","v":0},{"$f":"COUNTIFS('Registry Full'!$H$7:$H$3006,$C25,'Registry Full'!$I$7:$I$3006,O$11,'Registry Full'!$D$7:$D$3006,\">=\"&$G$5,'Registry Full'!$D$7:$D$3006,\"<=\"&$K$5)","v":0},{"$f":"Report1!D25-SUM(Report3!D25:O25)","v":0},2]
[null,14,{"$f":"IF(Presets!C46=\"\",\"\",Presets!C46)","v":"Друго по водоснабдяване"},{"$f":"COUNTIFS('Registry Full'!$H$7:$H$3006,$C26,'Registry Full'!$I$7:$I$3006,D$11,'Registry Full'!$D$7:$D$3006,\">=\"&$G$5,'Registry Full'!$D$7:$D$3006,\"<=\"&$K$5)","v":3},{"$f":"COUNTIFS('Registry Full'!$H$7:$H$3006,$C26,'Registry Full'!$I$7:$I$3006,E$11,'Registry Full'!$D$7:$D$3006,\">=\"&$G$5,'Registry Full'!$D$7:$D$3006,\"<=\"&$K$5)","v":0},{"$f":"COUNTIFS('Registry Full'!$H$7:$H$3006,$C26,'Registry Full'!$I$7:$I$3006,F$11,'Registry Full'!$D$7:$D$3006,\">=\"&$G$5,'Registry Full'!$D$7:$D$3006,\"<=\"&$K$5)","v":0},{"$f":"COUNTIFS('Registry Full'!$H$7:$H$3006,$C26,'Registry Full'!$I$7:$I$3006,G$11,'Registry Full'!$D$7:$D$3006,\">=\"&$G$5,'Registry Full'!$D$7:$D$3006,\"<=\"&$K$5)","v":0},{"$f":"COUNTIFS('Registry Full'!$H$7:$H$3006,$C26,'Registry Full'!$I$7:$I$3006,H$11,'Registry Full'!$D$7:$D$3006,\">=\"&$G$5,'Registry Full'!$D$7:$D$3006,\"<=\"&$K$5)","v":0},{"$f":"COUNTIFS('Registry Full'!$H$7:$H$3006,$C26,'Registry Full'!$I$7:$I$3006,I$11,'Registry Full'!$D$7:$D$3006,\">=\"&$G$5,'Registry Full'!$D$7:$D$3006,\"<=\"&$K$5)","v":0},{"$f":"COUNTIFS('Registry Full'!$H$7:$H$3006,$C26,'Registry Full'!$I$7:$I$3006,J$11,'Registry Full'!$D$7:$D$3006,\">=\"&$G$5,'Registry Full'!$D$7:$D$3006,\"<=\"&$K$5)","v":0},{"$f":"COUNTIFS('Registry Full'!$H$7:$H$3006,$C26,'Registry Full'!$I$7:$I$3006,K$11,'Registry Full'!$D$7:$D$3006,\">=\"&$G$5,'Registry Full'!$D$7:$D$3006,\"<=\"&$K$5)","v":0},{"$f":"COUNTIFS('Registry Full'!$H$7:$H$3006,$C26,'Registry Full'!$I$7:$I$3006,L$11,'Registry Full'!$D$7:$D$3006,\">=\"&$G$5,'Registry Full'!$D$7:$D$3006,\"<=\"&$K$5)","v":0},{"$f":"COUNTIFS('Registry Full'!$H$7:$H$3006,$C26,'Registry Full'!$I$7:$I$3006,M$11,'Registry Full'!$D$7:$D$3006,\">=\"&$G$5,'Registry Full'!$D$7:$D$3006,\"<=\"&$K$5)","v":0},{"$f":"COUNTIFS('Registry Full'!$H$7:$H$3006,$C26,'Registry Full'!$I$7:$I$3006,N$11,'Registry Full'!$D$7:$D$3006,\">=\"&$G$5,'Registry Full'!$D$7:$D$3006,\"<=\"&$K$5)","v":0},{"$f":"COUNTIFS('Registry Full'!$H$7:$H$3006,$C26,'Registry Full'!$I$7:$I$3006,O$11,'Registry Full'!$D$7:$D$3006,\">=\"&$G$5,'Registry Full'!$D$7:$D$3006,\"<=\"&$K$5)","v":0},{"$f":"Report1!D26-SUM(Report3!D26:O26)","v":0},3]
[null,15,{"$f":"IF(Presets!C47=\"\",\"\",Presets!C47)","v":"Запушване на канализация"},{"$f":"COUNTIFS('Registry Full'!$H$7:$H$3006,$C27,'Registry Full'!$I$7:$I$3006,D$11,'Registry Full'!$D$7:$D$3006,\">=\"&$G$5,'Registry Full'!$D$7:$D$3006,\"<=\"&$K$5)","v":4},{"$f":"COUNTIFS('Registry Full'!$H$7:$H$3006,$C27,'Registry Full'!$I$7:$I$3006,E$11,'Registry Full'!$D$7:$D$3006,\">=\"&$G$5,'Registry Full'!$D$7:$D$3006,\"<=\"&$K$5)","v":0},{"$f":"COUNTIFS('Registry Full'!$H$7:$H$3006,$C27,'Registry Full'!$I$7:$I$3006,F$11,'Registry Full'!$D$7:$D$3006,\">=\"&$G$5,'Registry Full'!$D$7:$D$3006,\"<=\"&$K$5)","v":0},{"$f":"COUNTIFS('Registry Full'!$H$7:$H$3006,$C27,'Registry Full'!$I$7:$I$3006,G$11,'Registry Full'!$D$7:$D$3006,\">=\"&$G$5,'Registry Full'!$D$7:$D$3006,\"<=\"&$K$5)","v":0},{"$f":"COUNTIFS('Registry Full'!$H$7:$H$3006,$C27,'Registry Full'!$I$7:$I$3006,H$11,'Registry Full'!$D$7:$D$3006,\">=\"&$G$5,'Registry Full'!$D$7:$D$3006,\"<=\"&$K$5)","v":0},{"$f":"COUNTIFS('Registry Full'!$H$7:$H$3006,$C27,'Registry Full'!$I$7:$I$3006,I$11,'Registry Full'!$D$7:$D$3006,\">=\"&$G$5,'Registry Full'!$D$7:$D$3006,\"<=\"&$K$5)","v":0},{"$f":"COUNTIFS('Registry Full'!$H$7:$H$3006,$C27,'Registry Full'!$I$7:$I$3006,J$11,'Registry Full'!$D$7:$D$3006,\">=\"&$G$5,'Registry Full'!$D$7:$D$3006,\"<=\"&$K$5)","v":0},{"$f":"COUNTIFS('Registry Full'!$H$7:$H$3006,$C27,'Registry Full'!$I$7:$I$3006,K$11,'Registry Full'!$D$7:$D$3006,\">=\"&$G$5,'Registry Full'!$D$7:$D$3006,\"<=\"&$K$5)","v":0},{"$f":"COUNTIFS('Registry Full'!$H$7:$H$3006,$C27,'Registry Full'!$I$7:$I$3006,L$11,'Registry Full'!$D$7:$D$3006,\">=\"&$G$5,'Registry Full'!$D$7:$D$3006,\"<=\"&$K$5)","v":0},{"$f":"COUNTIFS('Registry Full'!$H$7:$H$3006,$C27,'Registry Full'!$I$7:$I$3006,M$11,'Registry Full'!$D$7:$D$3006,\">=\"&$G$5,'Registry Full'!$D$7:$D$3006,\"<=\"&$K$5)","v":0},{"$f":"COUNTIFS('Registry Full'!$H$7:$H$3006,$C27,'Registry Full'!$I$7:$I$3006,N$11,'Registry Full'!$D$7:$D$3006,\">=\"&$G$5,'Registry Full'!$D$7:$D$3006,\"<=\"&$K$5)","v":0},{"$f":"COUNTIFS('Registry Full'!$H$7:$H$3006,$C27,'Registry Full'!$I$7:$I$3006,O$11,'Registry Full'!$D$7:$D$3006,\">=\"&$G$5,'Registry Full'!$D$7:$D$3006,\"<=\"&$K$5)","v":0},{"$f":"Report1!D27-SUM(Report3!D27:O27)","v":0},4]
[null,16,{"$f":"IF(Presets!C48=\"\",\"\",Presets!C48)","v":"Наводняване от отпад. води"},{"$f":"COUNTIFS('Registry Full'!$H$7:$H$3006,$C28,'Registry Full'!$I$7:$I$3006,D$11,'Registry Full'!$D$7:$D$3006,\">=\"&$G$5,'Registry Full'!$D$7:$D$3006,\"<=\"&$K$5)","v":4},{"$f":"COUNTIFS('Registry Full'!$H$7:$H$3006,$C28,'Registry Full'!$I$7:$I$3006,E$11,'Registry Full'!$D$7:$D$3006,\">=\"&$G$5,'Registry Full'!$D$7:$D$3006,\"<=\"&$K$5)","v":0},{"$f":"COUNTIFS('Registry Full'!$H$7:$H$3006,$C28,'Registry Full'!$I$7:$I$3006,F$11,'Registry Full'!$D$7:$D$3006,\">=\"&$G$5,'Registry Full'!$D$7:$D$3006,\"<=\"&$K$5)","v":0},{"$f":"COUNTIFS('Registry Full'!$H$7:$H$3006,$C28,'Registry Full'!$I$7:$I$3006,G$11,'Registry Full'!$D$7:$D$3006,\">=\"&$G$5,'Registry Full'!$D$7:$D$3006,\"<=\"&$K$5)","v":0},{"$f":"COUNTIFS('Registry Full'!$H$7:$H$3006,$C28,'Registry Full'!$I$7:$I$3006,H$11,'Registry Full'!$D$7:$D$3006,\">=\"&$G$5,'Registry Full'!$D$7:$D$3006,\"<=\"&$K$5)","v":0},{"$f":"COUNTIFS('Registry Full'!$H$7:$H$3006,$C28,'Registry Full'!$I$7:$I$3006,I$11,'Registry Full'!$D$7:$D$3006,\">=\"&$G$5,'Registry Full'!$D$7:$D$3006,\"<=\"&$K$5)","v":0},{"$f":"COUNTIFS('Registry Full'!$H$7:$H$3006,$C28,'Registry Full'!$I$7:$I$3006,J$11,'Registry Full'!$D$7:$D$3006,\">=\"&$G$5,'Registry Full'!$D$7:$D$3006,\"<=\"&$K$5)","v":0},{"$f":"COUNTIFS('Registry Full'!$H$7:$H$3006,$C28,'Registry Full'!$I$7:$I$3006,K$11,'Registry Full'!$D$7:$D$3006,\">=\"&$G$5,'Registry Full'!$D$7:$D$3006,\"<=\"&$K$5)","v":0},{"$f":"COUNTIFS('Registry Full'!$H$7:$H$3006,$C28,'Registry Full'!$I$7:$I$3006,L$11,'Registry Full'!$D$7:$D$3006,\">=\"&$G$5,'Registry Full'!$D$7:$D$3006,\"<=\"&$K$5)","v":0},{"$f":"COUNTIFS('Registry Full'!$H$7:$H$3006,$C28,'Registry Full'!$I$7:$I$3006,M$11,'Registry Full'!$D$7:$D$3006,\">=\"&$G$5,'Registry Full'!$D$7:$D$3006,\"<=\"&$K$5)","v":0},{"$f":"COUNTIFS('Registry Full'!$H$7:$H$3006,$C28,'Registry Full'!$I$7:$I$3006,N$11,'Registry Full'!$D$7:$D$3006,\">=\"&$G$5,'Registry Full'!$D$7:$D$3006,\"<=\"&$K$5)","v":0},{"$f":"COUNTIFS('Registry Full'!$H$7:$H$3006,$C28,'Registry Full'!$I$7:$I$3006,O$11,'Registry Full'!$D$7:$D$3006,\">=\"&$G$5,'Registry Full'!$D$7:$D$3006,\"<=\"&$K$5)","v":0},{"$f":"Report1!D28-SUM(Report3!D28:O28)","v":0},4]
[null,17,{"$f":"IF(Presets!C49=\"\",\"\",Presets!C49)","v":"Наводняване от дъжд. води"},{"$f":"COUNTIFS('Registry Full'!$H$7:$H$3006,$C29,'Registry Full'!$I$7:$I$3006,D$11,'Registry Full'!$D$7:$D$3006,\">=\"&$G$5,'Registry Full'!$D$7:$D$3006,\"<=\"&$K$5)","v":0},{"$f":"COUNTIFS('Registry Full'!$H$7:$H$3006,$C29,'Registry Full'!$I$7:$I$3006,E$11,'Registry Full'!$D$7:$D$3006,\">=\"&$G$5,'Registry Full'!$D$7:$D$3006,\"<=\"&$K$5)","v":0},{"$f":"COUNTIFS('Registry Full'!$H$7:$H$3006,$C29,'Registry Full'!$I$7:$I$3006,F$11,'Registry Full'!$D$7:$D$3006,\">=\"&$G$5,'Registry Full'!$D$7:$D$3006,\"<=\"&$K$5)","v":0},{"$f":"COUNTIFS('Registry Full'!$H$7:$H$3006,$C29,'Registry Full'!$I$7:$I$3006,G$11,'Registry Full'!$D$7:$D$3006,\">=\"&$G$5,'Registry Full'!$D$7:$D$3006,\"<=\"&$K$5)","v":0},{"$f":"COUNTIFS('Registry Full'!$H$7:$H$3006,$C29,'Registry Full'!$I$7:$I$3006,H$11,'Registry Full'!$D$7:$D$3006,\">=\"&$G$5,'Registry Full'!$D$7:$D$3006,\"<=\"&$K$5)","v":0},{"$f":"COUNTIFS('Registry Full'!$H$7:$H$3006,$C29,'Registry Full'!$I$7:$I$3006,I$11,'Registry Full'!$D$7:$D$3006,\">=\"&$G$5,'Registry Full'!$D$7:$D$3006,\"<=\"&$K$5)","v":0},{"$f":"COUNTIFS('Registry Full'!$H$7:$H$3006,$C29,'Registry Full'!$I$7:$I$3006,J$11,'Registry Full'!$D$7:$D$3006,\">=\"&$G$5,'Registry Full'!$D$7:$D$3006,\"<=\"&$K$5)","v":0},{"$f":"COUNTIFS('Registry Full'!$H$7:$H$3006,$C29,'Registry Full'!$I$7:$I$3006,K$11,'Registry Full'!$D$7:$D$3006,\">=\"&$G$5,'Registry Full'!$D$7:$D$3006,\"<=\"&$K$5)","v":0},{"$f":"COUNTIFS('Registry Full'!$H$7:$H$3006,$C29,'Registry Full'!$I$7:$I$3006,L$11,'Registry Full'!$D$7:$D$3006,\">=\"&$G$5,'Registry Full'!$D$7:$D$3006,\"<=\"&$K$5)","v":0},{"$f":"COUNTIFS('Registry Full'!$H$7:$H$3006,$C29,'Registry Full'!$I$7:$I$3006,M$11,'Registry Full'!$D$7:$D$3006,\">=\"&$G$5,'Registry Full'!$D$7:$D$3006,\"<=\"&$K$5)","v":0},{"$f":"COUNTIFS('Registry Full'!$H$7:$H$3006,$C29,'Registry Full'!$I$7:$I$3006,N$11,'Registry Full'!$D$7:$D$3006,\">=\"&$G$5,'Registry Full'!$D$7:$D$3006,\"<=\"&$K$5)","v":0},{"$f":"COUNTIFS('Registry Full'!$H$7:$H$3006,$C29,'Registry Full'!$I$7:$I$3006,O$11,'Registry Full'!$D$7:$D$3006,\">=\"&$G$5,'Registry Full'!$D$7:$D$3006,\"<=\"&$K$5)","v":0},{"$f":"Report1!D29-SUM(Report3!D29:O29)","v":0},0]
[null,18,{"$f":"IF(Presets!C50=\"\",\"\",Presets!C50)","v":"Некачествен ремонт канал"},{"$f":"COUNTIFS('Registry Full'!$H$7:$H$3006,$C30,'Registry Full'!$I$7:$I$3006,D$11,'Registry Full'!$D$7:$D$3006,\">=\"&$G$5,'Registry Full'!$D$7:$D$3006,\"<=\"&$K$5)","v":0},{"$f":"COUNTIFS('Registry Full'!$H$7:$H$3006,$C30,'Registry Full'!$I$7:$I$3006,E$11,'Registry Full'!$D$7:$D$3006,\">=\"&$G$5,'Registry Full'!$D$7:$D$3006,\"<=\"&$K$5)","v":0},{"$f":"COUNTIFS('Registry Full'!$H$7:$H$3006,$C30,'Registry Full'!$I$7:$I$3006,F$11,'Registry Full'!$D$7:$D$3006,\">=\"&$G$5,'Registry Full'!$D$7:$D$3006,\"<=\"&$K$5)","v":0},{"$f":"COUNTIFS('Registry Full'!$H$7:$H$3006,$C30,'Registry Full'!$I$7:$I$3006,G$11,'Registry Full'!$D$7:$D$3006,\">=\"&$G$5,'Registry Full'!$D$7:$D$3006,\"<=\"&$K$5)","v":0},{"$f":"COUNTIFS('Registry Full'!$H$7:$H$3006,$C30,'Registry Full'!$I$7:$I$3006,H$11,'Registry Full'!$D$7:$D$3006,\">=\"&$G$5,'Registry Full'!$D$7:$D$3006,\"<=\"&$K$5)","v":0},{"$f":"COUNTIFS('Registry Full'!$H$7:$H$3006,$C30,'Registry Full'!$I$7:$I$3006,I$11,'Registry Full'!$D$7:$D$3006,\">=\"&$G$5,'Registry Full'!$D$7:$D$3006,\"<=\"&$K$5)","v":0},{"$f":"COUNTIFS('Registry Full'!$H$7:$H$3006,$C30,'Registry Full'!$I$7:$I$3006,J$11,'Registry Full'!$D$7:$D$3006,\">=\"&$G$5,'Registry Full'!$D$7:$D$3006,\"<=\"&$K$5)","v":0},{"$f":"COUNTIFS('Registry Full'!$H$7:$H$3006,$C30,'Registry Full'!$I$7:$I$3006,K$11,'Registry Full'!$D$7:$D$3006,\">=\"&$G$5,'Registry Full'!$D$7:$D$3006,\"<=\"&$K$5)","v":0},{"$f":"COUNTIFS('Registry Full'!$H$7:$H$3006,$C30,'Registry Full'!$I$7:$I$3006,L$11,'Registry Full'!$D$7:$D$3006,\">=\"&$G$5,'Registry Full'!$D$7:$D$3006,\"<=\"&$K$5)","v":0},{"$f":"COUNTIFS('Registry Full'!$H$7:$H$3006,$C30,'Registry Full'!$I$7:$I$3006,M$11,'Registry Full'!$D$7:$D$3006,\">=\"&$G$5,'Registry Full'!$D$7:$D$3006,\"<=\"&$K$5)","v":0},{"$f":"COUNTIFS('Registry Full'!$H$7:$H$3006,$C30,'Registry Full'!$I$7:$I$3006,N$11,'Registry Full'!$D$7:$D$3006,\">=\"&$G$5,'Registry Full'!$D$7:$D$3006,\"<=\"&$K$5)","v":0},{"$f":"COUNTIFS('Registry Full'!$H$7:$H$3006,$C30,'Registry Full'!$I$7:$I$3006,O$11,'Registry Full'!$D$7:$D$3006,\">=\"&$G$5,'Registry Full'!$D$7:$D$3006,\"<=\"&$K$5)","v":0},{"$f":"Report1!D30-SUM(Report3!D30:O30)","v":0},0]
[null,19,{"$f":"IF(Presets!C51=\"\",\"\",Presets!C51)","v":"Друго по канализация"},{"$f":"COUNTIFS('Registry Full'!$H$7:$H$3006,$C31,'Registry Full'!$I$7:$I$3006,D$11,'Registry Full'!$D$7:$D$3006,\">=\"&$G$5,'Registry Full'!$D$7:$D$3006,\"<=\"&$K$5)","v":1},{"$f":"COUNTIFS('Registry Full'!$H$7:$H$3006,$C31,'Registry Full'!$I$7:$I$3006,E$11,'Registry Full'!$D$7:$D$3006,\">=\"&$G$5,'Registry Full'!$D$7:$D$3006,\"<=\"&$K$5)","v":0},{"$f":"COUNTIFS('Registry Full'!$H$7:$H$3006,$C31,'Registry Full'!$I$7:$I$3006,F$11,'Registry Full'!$D$7:$D$3006,\">=\"&$G$5,'Registry Full'!$D$7:$D$3006,\"<=\"&$K$5)","v":0},{"$f":"COUNTIFS('Registry Full'!$H$7:$H$3006,$C31,'Registry Full'!$I$7:$I$3006,G$11,'Registry Full'!$D$7:$D$3006,\">=\"&$G$5,'Registry Full'!$D$7:$D$3006,\"<=\"&$K$5)","v":0},{"$f":"COUNTIFS('Registry Full'!$H$7:$H$3006,$C31,'Registry Full'!$I$7:$I$3006,H$11,'Registry Full'!$D$7:$D$3006,\">=\"&$G$5,'Registry Full'!$D$7:$D$3006,\"<=\"&$K$5)","v":0},{"$f":"COUNTIFS('Registry Full'!$H$7:$H$3006,$C31,'Registry Full'!$I$7:$I$3006,I$11,'Registry Full'!$D$7:$D$3006,\">=\"&$G$5,'Registry Full'!$D$7:$D$3006,\"<=\"&$K$5)","v":0},{"$f":"COUNTIFS('Registry Full'!$H$7:$H$3006,$C31,'Registry Full'!$I$7:$I$3006,J$11,'Registry Full'!$D$7:$D$3006,\">=\"&$G$5,'Registry Full'!$D$7:$D$3006,\"<=\"&$K$5)","v":0},{"$f":"COUNTIFS('Registry Full'!$H$7:$H$3006,$C31,'Registry Full'!$I$7:$I$3006,K$11,'Registry Full'!$D$7:$D$3006,\">=\"&$G$5,'Registry Full'!$D$7:$D$3006,\"<=\"&$K$5)","v":0},{"$f":"COUNTIFS('Registry Full'!$H$7:$H$3006,$C31,'Registry Full'!$I$7:$I$3006,L$11,'Registry Full'!$D$7:$D$3006,\">=\"&$G$5,'Registry Full'!$D$7:$D$3006,\"<=\"&$K$5)","v":0},{"$f":"COUNTIFS('Registry Full'!$H$7:$H$3006,$C31,'Registry Full'!$I$7:$I$3006,M$11,'Registry Full'!$D$7:$D$3006,\">=\"&$G$5,'Registry Full'!$D$7:$D$3006,\"<=\"&$K$5)","v":0},{"$f":"COUNTIFS('Registry Full'!$H$7:$H$3006,$C31,'Registry Full'!$I$7:$I$3006,N$11,'Registry Full'!$D$7:$D$3006,\">=\"&$G$5,'Registry Full'!$D$7:$D$3006,\"<=\"&$K$5)","v":0},{"$f":"COUNTIFS('Registry Full'!$H$7:$H$3006,$C31,'Registry Full'!$I$7:$I$3006,O$11,'Registry Full'!$D$7:$D$3006,\">=\"&$G$5,'Registry Full'!$D$7:$D$3006,\"<=\"&$K$5)","v":0},{"$f":"Report1!D31-SUM(Report3!D31:O31)","v":0},1]
[null,20,{"$f":"IF(Presets!C52=\"\",\"\",Presets!C52)","v":"Проблеми с ПСОВ"},{"$f":"COUNTIFS('Registry Full'!$H$7:$H$3006,$C32,'Registry Full'!$I$7:$I$3006,D$11,'Registry Full'!$D$7:$D$3006,\">=\"&$G$5,'Registry Full'!$D$7:$D$3006,\"<=\"&$K$5)","v":0},{"$f":"COUNTIFS('Registry Full'!$H$7:$H$3006,$C32,'Registry Full'!$I$7:$I$3006,E$11,'Registry Full'!$D$7:$D$3006,\">=\"&$G$5,'Registry Full'!$D$7:$D$3006,\"<=\"&$K$5)","v":0},{"$f":"COUNTIFS('Registry Full'!$H$7:$H$3006,$C32,'Registry Full'!$I$7:$I$3006,F$11,'Registry Full'!$D$7:$D$3006,\">=\"&$G$5,'Registry Full'!$D$7:$D$3006,\"<=\"&$K$5)","v":0},{"$f":"COUNTIFS('Registry Full'!$H$7:$H$3006,$C32,'Registry Full'!$I$7:$I$3006,G$11,'Registry Full'!$D$7:$D$3006,\">=\"&$G$5,'Registry Full'!$D$7:$D$3006,\"<=\"&$K$5)","v":0},{"$f":"COUNTIFS('Registry Full'!$H$7:$H$3006,$C32,'Registry Full'!$I$7:$I$3006,H$11,'Registry Full'!$D$7:$D$3006,\">=\"&$G$5,'Registry Full'!$D$7:$D$3006,\"<=\"&$K$5)","v":0},{"$f":"COUNTIFS('Registry Full'!$H$7:$H$3006,$C32,'Registry Full'!$I$7:$I$3006,I$11,'Registry Full'!$D$7:$D$3006,\">=\"&$G$5,'Registry Full'!$D$7:$D$3006,\"<=\"&$K$5)","v":0},{"$f":"COUNTIFS('Registry Full'!$H$7:$H$3006,$C32,'Registry Full'!$I$7:$I$3006,J$11,'Registry Full'!$D$7:$D$3006,\">=\"&$G$5,'Registry Full'!$D$7:$D$3006,\"<=\"&$K$5)","v":0},{"$f":"COUNTIFS('Registry Full'!$H$7:$H$3006,$C32,'Registry Full'!$I$7:$I$3006,K$11,'Registry Full'!$D$7:$D$3006,\">=\"&$G$5,'Registry Full'!$D$7:$D$3006,\"<=\"&$K$5)","v":0},{"$f":"COUNTIFS('Registry Full'!$H$7:$H$3006,$C32,'Registry Full'!$I$7:$I$3006,L$11,'Registry Full'!$D$7:$D$3006,\">=\"&$G$5,'Registry Full'!$D$7:$D$3006,\"<=\"&$K$5)","v":0},{"$f":"COUNTIFS('Registry Full'!$H$7:$H$3006,$C32,'Registry Full'!$I$7:$I$3006,M$11,'Registry Full'!$D$7:$D$3006,\">=\"&$G$5,'Registry Full'!$D$7:$D$3006,\"<=\"&$K$5)","v":0},{"$f":"COUNTIFS('Registry Full'!$H$7:$H$3006,$C32,'Registry Full'!$I$7:$I$3006,N$11,'Registry Full'!$D$7:$D$3006,\">=\"&$G$5,'Registry Full'!$D$7:$D$3006,\"<=\"&$K$5)","v":0},{"$f":"COUNTIFS('Registry Full'!$H$7:$H$3006,$C32,'Registry Full'!$I$7:$I$3006,O$11,'Registry Full'!$D$7:$D$3006,\">=\"&$G$5,'Registry Full'!$D$7:$D$3006,\"<=\"&$K$5)","v":0},{"$f":"Report1!D32-SUM(Report3!D32:O32)","v":0},0]
[null,21,{"$f":"IF(Presets!C53=\"\",\"\",Presets!C53)","v":"Спорове по ЗОП"},{"$f":"COUNTIFS('Registry Full'!$H$7:$H$3006,$C33,'Registry Full'!$I$7:$I$3006,D$11,'Registry Full'!$D$7:$D$3006,\">=\"&$G$5,'Registry Full'!$D$7:$D$3006,\"<=\"&$K$5)","v":0},{"$f":"COUNTIFS('Registry Full'!$H$7:$H$3006,$C33,'Registry Full'!$I$7:$I$3006,E$11,'Registry Full'!$D$7:$D$3006,\">=\"&$G$5,'Registry Full'!$D$7:$D$3006,\"<=\"&$K$5)","v":0},{"$f":"COUNTIFS('Registry Full'!$H$7:$H$3006,$C33,'Registry Full'!$I$7:$I$3006,F$11,'Registry Full'!$D$7:$D$3006,\">=\"&$G$5,'Registry Full'!$D$7:$D$3006,\"<=\"&$K$5)","v":0},{"$f":"COUNTIFS('Registry Full'!$H$7:$H$3006,$C33,'Registry Full'!$I$7:$I$3006,G$11,'Registry Full'!$D$7:$D$3006,\">=\"&$G$5,'Registry Full'!$D$7:$D$3006,\"<=\"&$K$5)","v":0},{"$f":"COUNTIFS('Registry Full'!$H$7:$H$3006,$C33,'Registry Full'!$I$7:$I$3006,H$11,'Registry Full'!$D$7:$D$3006,\">=\"&$G$5,'Registry Full'!$D$7:$D$3006,\"<=\"&$K$5)","v":0},{"$f":"COUNTIFS('Registry Full'!$H$7:$H$3006,$C33,'Registry Full'!$I$7:$I$3006,I$11,'Registry Full'!$D$7:$D$3006,\">=\"&$G$5,'Registry Full'!$D$7:$D$3006,\"<=\"&$K$5)","v":0},{"$f":"COUNTIFS('Registry Full'!$H$7:$H$3006,$C33,'Registry Full'!$I$7:$I$3006,J$11,'Registry Full'!$D$7:$D$3006,\">=\"&$G$5,'Registry Full'!$D$7:$D$3006,\"<=\"&$K$5)","v":0},{"$f":"COUNTIFS('Registry Full'!$H$7:$H$3006,$C33,'Registry Full'!$I$7:$I$3006,K$11,'Registry Full'!$D$7:$D$3006,\">=\"&$G$5,'Registry Full'!$D$7:$D$3006,\"<=\"&$K$5)","v":0},{"$f":"COUNTIFS('Registry Full'!$H$7:$H$3006,$C33,'Registry Full'!$I$7:$I$3006,L$11,'Registry Full'!$D$7:$D$3006,\">=\"&$G$5,'Registry Full'!$D$7:$D$3006,\"<=\"&$K$5)","v":0},{"$f":"COUNTIFS('Registry Full'!$H$7:$H$3006,$C33,'Registry Full'!$I$7:$I$3006,M$11,'Registry Full'!$D$7:$D$3006,\">=\"&$G$5,'Registry Full'!$D$7:$D$3006,\"<=\"&$K$5)","v":0},{"$f":"COUNTIFS('Registry Full'!$H$7:$H$3006,$C33,'Registry Full'!$I$7:$I$3006,N$11,'Registry Full'!$D$7:$D$3006,\">=\"&$G$5,'Registry Full'!$D$7:$D$3006,\"<=\"&$K$5)","v":0},{"$f":"COUNTIFS('Registry Full'!$H$7:$H$3006,$C33,'Registry Full'!$I$7:$I$3006,O$11,'Registry Full'!$D$7:$D$3006,\">=\"&$G$5,'Registry Full'!$D$7:$D$3006,\"<=\"&$K$5)","v":0},{"$f":"Report1!D33-SUM(Report3!D33:O33)","v":0},0]
[null,22,{"$f":"IF(Presets!C54=\"\",\"\",Presets!C54)","v":"Друго"},{"$f":"COUNTIFS('Registry Full'!$H$7:$H$3006,$C34,'Registry Full'!$I$7:$I$3006,D$11,'Registry Full'!$D$7:$D$3006,\">=\"&$G$5,'Registry Full'!$D$7:$D$3006,\"<=\"&$K$5)","v":3},{"$f":"COUNTIFS('Registry Full'!$H$7:$H$3006,$C34,'Registry Full'!$I$7:$I$3006,E$11,'Registry Full'!$D$7:$D$3006,\">=\"&$G$5,'Registry Full'!$D$7:$D$3006,\"<=\"&$K$5)","v":0},{"$f":"COUNTIFS('Registry Full'!$H$7:$H$3006,$C34,'Registry Full'!$I$7:$I$3006,F$11,'Registry Full'!$D$7:$D$3006,\">=\"&$G$5,'Registry Full'!$D$7:$D$3006,\"<=\"&$K$5)","v":0},{"$f":"COUNTIFS('Registry Full'!$H$7:$H$3006,$C34,'Registry Full'!$I$7:$I$3006,G$11,'Registry Full'!$D$7:$D$3006,\">=\"&$G$5,'Registry Full'!$D$7:$D$3006,\"<=\"&$K$5)","v":0},{"$f":"COUNTIFS('Registry Full'!$H$7:$H$3006,$C34,'Registry Full'!$I$7:$I$3006,H$11,'Registry Full'!$D$7:$D$3006,\">=\"&$G$5,'Registry Full'!$D$7:$D$3006,\"<=\"&$K$5)","v":0},{"$f":"COUNTIFS('Registry Full'!$H$7:$H$3006,$C34,'Registry Full'!$I$7:$I$3006,I$11,'Registry Full'!$D$7:$D$3006,\">=\"&$G$5,'Registry Full'!$D$7:$D$3006,\"<=\"&$K$5)","v":0},{"$f":"COUNTIFS('Registry Full'!$H$7:$H$3006,$C34,'Registry Full'!$I$7:$I$3006,J$11,'Registry Full'!$D$7:$D$3006,\">=\"&$G$5,'Registry Full'!$D$7:$D$3006,\"<=\"&$K$5)","v":0},{"$f":"COUNTIFS('Registry Full'!$H$7:$H$3006,$C34,'Registry Full'!$I$7:$I$3006,K$11,'Registry Full'!$D$7:$D$3006,\">=\"&$G$5,'Registry Full'!$D$7:$D$3006,\"<=\"&$K$5)","v":0},{"$f":"COUNTIFS('Registry Full'!$H$7:$H$3006,$C34,'Registry Full'!$I$7:$I$3006,L$11,'Registry Full'!$D$7:$D$3006,\">=\"&$G$5,'Registry Full'!$D$7:$D$3006,\"<=\"&$K$5)","v":0},{"$f":"COUNTIFS('Registry Full'!$H$7:$H$3006,$C34,'Registry Full'!$I$7:$I$3006,M$11,'Registry Full'!$D$7:$D$3006,\">=\"&$G$5,'Registry Full'!$D$7:$D$3006,\"<=\"&$K$5)","v":0},{"$f":"COUNTIFS('Registry Full'!$H$7:$H$3006,$C34,'Registry Full'!$I$7:$I$3006,N$11,'Registry Full'!$D$7:$D$3006,\">=\"&$G$5,'Registry Full'!$D$7:$D$3006,\"<=\"&$K$5)","v":0},{"$f":"COUNTIFS('Registry Full'!$H$7:$H$3006,$C34,'Registry Full'!$I$7:$I$3006,O$11,'Registry Full'!$D$7:$D$3006,\">=\"&$G$5,'Registry Full'!$D$7:$D$3006,\"<=\"&$K$5)","v":0},{"$f":"Report1!D34-SUM(Report3!D34:O34)","v":0},3]
[null,{"$f":"IF(COUNTBLANK(C35)=0,B34+1,\"\")","v":""},{"$f":"IF(Presets!C55=\"\",\"\",Presets!C55)","v":""},{"$f":"COUNTIFS('Registry Full'!$H$7:$H$3006,$C35,'Registry Full'!$I$7:$I$3006,D$11,'Registry Full'!$D$7:$D$3006,\">=\"&$G$5,'Registry Full'!$D$7:$D$3006,\"<=\"&$K$5)","v":0},{"$f":"COUNTIFS('Registry Full'!$H$7:$H$3006,$C35,'Registry Full'!$I$7:$I$3006,E$11,'Registry Full'!$D$7:$D$3006,\">=\"&$G$5,'Registry Full'!$D$7:$D$3006,\"<=\"&$K$5)","v":0},{"$f":"COUNTIFS('Registry Full'!$H$7:$H$3006,$C35,'Registry Full'!$I$7:$I$3006,F$11,'Registry Full'!$D$7:$D$3006,\">=\"&$G$5,'Registry Full'!$D$7:$D$3006,\"<=\"&$K$5)","v":0},{"$f":"COUNTIFS('Registry Full'!$H$7:$H$3006,$C35,'Registry Full'!$I$7:$I$3006,G$11,'Registry Full'!$D$7:$D$3006,\">=\"&$G$5,'Registry Full'!$D$7:$D$3006,\"<=\"&$K$5)","v":0},{"$f":"COUNTIFS('Registry Full'!$H$7:$H$3006,$C35,'Registry Full'!$I$7:$I$3006,H$11,'Registry Full'!$D$7:$D$3006,\">=\"&$G$5,'Registry Full'!$D$7:$D$3006,\"<=\"&$K$5)","v":0},{"$f":"COUNTIFS('Registry Full'!$H$7:$H$3006,$C35,'Registry Full'!$I$7:$I$3006,I$11,'Registry Full'!$D$7:$D$3006,\">=\"&$G$5,'Registry Full'!$D$7:$D$3006,\"<=\"&$K$5)","v":0},{"$f":"COUNTIFS('Registry Full'!$H$7:$H$3006,$C35,'Registry Full'!$I$7:$I$3006,J$11,'Registry Full'!$D$7:$D$3006,\">=\"&$G$5,'Registry Full'!$D$7:$D$3006,\"<=\"&$K$5)","v":0},{"$f":"COUNTIFS('Registry Full'!$H$7:$H$3006,$C35,'Registry Full'!$I$7:$I$3006,K$11,'Registry Full'!$D$7:$D$3006,\">=\"&$G$5,'Registry Full'!$D$7:$D$3006,\"<=\"&$K$5)","v":0},{"$f":"COUNTIFS('Registry Full'!$H$7:$H$3006,$C35,'Registry Full'!$I$7:$I$3006,L$11,'Registry Full'!$D$7:$D$3006,\">=\"&$G$5,'Registry Full'!$D$7:$D$3006,\"<=\"&$K$5)","v":0},{"$f":"COUNTIFS('Registry Full'!$H$7:$H$3006,$C35,'Registry Full'!$I$7:$I$3006,M$11,'Registry Full'!$D$7:$D$3006,\">=\"&$G$5,'Registry Full'!$D$7:$D$3006,\"<=\"&$K$5)","v":0},{"$f":"COUNTIFS('Registry Full'!$H$7:$H$3006,$C35,'Registry Full'!$I$7:$I$3006,N$11,'Registry Full'!$D$7:$D$3006,\">=\"&$G$5,'Registry Full'!$D$7:$D$3006,\"<=\"&$K$5)","v":0},{"$f":"COUNTIFS('Registry Full'!$H$7:$H$3006,$C35,'Registry Full'!$I$7:$I$3006,O$11,'Registry Full'!$D$7:$D$3006,\">=\"&$G$5,'Registry Full'!$D$7:$D$3006,\"<=\"&$K$5)","v":0},{"$f":"Report1!D35-SUM(Report3!D35:O35)","v":0},{"$f":"IF(C35=\"\",\"\",SUM(D35:P35))","v":""}]
[null,null,"Всичко",{"$f":"SUM(D13:D34)","v":25},{"$f":"SUM(E13:E34)","v":15},1,3,0,8,3,0,0,0,0,0,0,{"$f":"SUM(Q13:Q34)","v":55}]

{"sheet":"Report4","index":5,"n_rows":36,"n_cols":17,"rows_kept":36,"merged":[[0,1,0,16],[1,1,1,16],[2,1,2,16],[3,6,3,7],[3,9,3,10],[4,6,4,7],[4,10,4,11],[7,1,7,4],[9,1,11,1],[9,2,11,2],[9,3,9,4],[9,7,11,9],[9,10,9,11],[10,3,11,3],[10,4,11,4],[10,10,11,10],[10,11,11,11],[12,7,12,8],[13,7,13,8],[14,7,14,8],[15,7,15,8],[16,7,16,9],[17,7,17,11],[35,1,35,4]]}
[null,"СПРАВКА-ОБРАЗЕЦ"]
[null,"за постъпили и обработени жалби от потребители на В и К услуги"]
[null,{"$f":"\"на територията на Асоциация по В и К - \"&Title!$A$14","v":"на територията на Асоциация по В и К - ДОБРИЧ"}]
[{"$nulls":6},{"$f":"IF(G5=IF(ISERROR(EOMONTH(G5,0)),\"грешка\",EOMONTH(G5,-1)+1),\"\",\"грешка!!!\")","v":""},null,null,{"$f":"IF(K5=IF(ISERROR(EOMONTH(K5,0)),\"грешка\",EOMONTH(K5,0)),\"\",\"грешка!!!\")","v":""}]
[{"$nulls":5},"от дата:",{"$f":"Report1!I5","v":"2021-01-01"},null,null,"до дата:",{"$f":"Report1!M5","v":"2021-12-31"},null,null,"Отговор до:",14,"дни"]
[]
[{"$nulls":16},"стр. 4"]
[null,"Възложени жалби по Длъжност и Срок на отговор",{"$nulls":5},"Постъпили жалби по Физ./Юрид. лице и Срок на отговор"]
[]
[null,"№ по ред",{"$f":"Presets!C101","v":"Длъжност"},"Възложени жалби",{"$nulls":3},"Физическо/\nюридическо лице",null,null,"Постъпили жалби"]
[{"$nulls":3},"Общ брой",{"$f":"\"Отговор до \"&$O$5&\" дни\"","v":"Отговор до 14 дни"},{"$nulls":5},"Общ брой",{"$f":"\"Отговор до \"&$O$5&\" дни\"","v":"Отговор до 14 дни"}]
[]
[null,1,{"$f":"IF(Presets!C102=\"\",\"\",Presets!C102)","v":" "},{"$f":"IF($C13=\"\",\"\",COUNTIFS('Registry Full'!$Q$7:$Q$3006,$C13,'Registry Full'!$D$7:$D$3006,\">=\"&$G$5,'Registry Full'!$D$7:$D$3006,\"<=\"&$K$5))","v":0},{"$f":"IF($C13=\"\",\"\",COUNTIFS('Registry Full'!$Q$7:$Q$3006,$C13,'Registry Full'!$T$7:$T$3006,\"<=\"&$O$5,'Registry Full'!$D$7:$D$3006,\">=\"&$G$5,'Registry Full'!$D$7:$D$3006,\"<=\"&$K$5))","v":0},null,null,"Физическо лице",null,{"$f":"IF(Presets!C17=\"\",\"\",Presets!C17)","v":"ФЛ"},{"$f":"IF($C13=\"\",\"\",COUNTIFS('Registry Full'!$F$7:$F$3006,$J13,'Registry Full'!$D$7:$D$3006,\">=\"&$G$5,'Registry Full'!$D$7:$D$3006,\"<=\"&$K$5))","v":48},{"$f":"IF($C13=\"\",\"\",COUNTIFS('Registry Full'!$F$7:$F$3006,$J13,'Registry Full'!$T$7:$T$3006,\"<=\"&$O$5,'Registry Full'!$D$7:$D$3006,\">=\"&$G$5,'Registry Full'!$D$7:$D$3006,\"<=\"&$K$5))","v":43}]
[null,{"$f":"IF(COUNTBLANK(C14)=0,B13+1,\"\")","v":2},{"$f":"IF(Presets!C103=\"\",\"\",Presets!C103)","v":"Р-л Район Добрич 1"},{"$f":"IF($C14=\"\",\"\",COUNTIFS('Registry Full'!$Q$7:$Q$3006,$C14,'Registry Full'!$D$7:$D$3006,\">=\"&$G$5,'Registry Full'!$D$7:$D$3006,\"<=\"&$K$5))","v":20},{"$f":"IF($C14=\"\",\"\",COUNTIFS('Registry Full'!$Q$7:$Q$3006,$C14,'Registry Full'!$T$7:$T$3006,\"<=\"&$O$5,'Registry Full'!$D$7:$D$3006,\">=\"&$G$5,'Registry Full'!$D$7:$D$3006,\"<=\"&$K$5))","v":19},null,null,"Юридическо лице",null,{"$f":"IF(Presets!C18=\"\",\"\",Presets!C18)","v":"ЮЛ"},{"$f":"IF($C14=\"\",\"\",COUNTIFS('Registry Full'!$F$7:$F$3006,$J14,'Registry Full'!$D$7:$D$3006,\">=\"&$G$5,'Registry Full'!$D$7:$D$3006,\"<=\"&$K$5))","v":7},{"$f":"IF($C14=\"\",\"\",COUNTIFS('Registry Full'!$F$7:$F$3006,$J14,'Registry Full'!$T$7:$T$3006,\"<=\"&$O$5,'Registry Full'!$D$7:$D$3006,\">=\"&$G$5,'Registry Full'!$D$7:$D$3006,\"<=\"&$K$5))","v":5}]
[null,{"$f":"IF(COUNTBLANK(C15)=0,B14+1,\"\")","v":3},{"$f":"IF(Presets!C104=\"\",\"\",Presets!C104)","v":"Р-л Район Добрич 2"},{"$f":"IF($C15=\"\",\"\",COUNTIFS('Registry Full'!$Q$7:$Q$3006,$C15,'Registry Full'!$D$7:$D$3006,\">=\"&$G$5,'Registry Full'!$D$7:$D$3006,\"<=\"&$K$5))","v":12},{"$f":"IF($C15=\"\",\"\",COUNTIFS('Registry Full'!$Q$7:$Q$3006,$C15,'Registry Full'!$T$7:$T$3006,\"<=\"&$O$5,'Registry Full'!$D$7:$D$3006,\">=\"&$G$5,'Registry Full'!$D$7:$D$3006,\"<=\"&$K$5))","v":10},{"$nulls":4},{"$f":"IF(Presets!C19=\"\",\"\",Presets!C19)","v":""},{"$f":"IF($C15=\"\",\"\",COUNTIFS('Registry Full'!$F$7:$F$3006,$J15,'Registry Full'!$D$7:$D$3006,\">=\"&$G$5,'Registry Full'!$D$7:$D$3006,\"<=\"&$K$5))","v":0},{"$f":"IF($C15=\"\",\"\",COUNTIFS('Registry Full'!$F$7:$F$3006,$J15,'Registry Full'!$T$7:$T$3006,\"<=\"&$O$5,'Registry Full'!$D$7:$D$3006,\">=\"&$G$5,'Registry Full'!$D$7:$D$3006,\"<=\"&$K$5))","v":0}]
[null,4,{"$f":"IF(Presets!C105=\"\",\"\",Presets!C105)","v":"Р-л Район Тервел"},{"$f":"IF($C16=\"\",\"\",COUNTIFS('Registry Full'!$Q$7:$Q$3006,$C16,'Registry Full'!$D$7:$D$3006,\">=\"&$G$5,'Registry Full'!$D$7:$D$3006,\"<=\"&$K$5))","v":0},{"$f":"IF($C16=\"\",\"\",COUNTIFS('Registry Full'!$Q$7:$Q$3006,$C16,'Registry Full'!$T$7:$T$3006,\"<=\"&$O$5,'Registry Full'!$D$7:$D$3006,\">=\"&$G$5,'Registry Full'!$D$7:$D$3006,\"<=\"&$K$5))","v":0},{"$nulls":4},{"$f":"IF(Presets!C20=\"\",\"\",Presets!C20)","v":""},{"$f":"IF($C16=\"\",\"\",COUNTIFS('Registry Full'!$F$7:$F$3006,$J16,'Registry Full'!$D$7:$D$3006,\">=\"&$G$5,'Registry Full'!$D$7:$D$3006,\"<=\"&$K$5))","v":0},{"$f":"IF($C16=\"\",\"\",COUNTIFS('Registry Full'!$F$7:$F$3006,$J16,'Registry Full'!$T$7:$T$3006,\"<=\"&$O$5,'Registry Full'!$D$7:$D$3006,\">=\"&$G$5,'Registry Full'!$D$7:$D$3006,\"<=\"&$K$5))","v":0}]
[null,5,{"$f":"IF(Presets!C106=\"\",\"\",Presets!C106)","v":"Р-л Район Генерал Тошево"},{"$f":"IF($C17=\"\",\"\",COUNTIFS('Registry Full'!$Q$7:$Q$3006,$C17,'Registry Full'!$D$7:$D$3006,\">=\"&$G$5,'Registry Full'!$D$7:$D$3006,\"<=\"&$K$5))","v":2},{"$f":"IF($C17=\"\",\"\",COUNTIFS('Registry Full'!$Q$7:$Q$3006,$C17,'Registry Full'!$T$7:$T$3006,\"<=\"&$O$5,'Registry Full'!$D$7:$D$3006,\">=\"&$G$5,'Registry Full'!$D$7:$D$3006,\"<=\"&$K$5))","v":2},null,null,"Всичко",null,null,{"$f":"SUM(K13:K16)","v":55},{"$f":"SUM(L13:L16)","v":48}]
[null,6,{"$f":"IF(Presets!C107=\"\",\"\",Presets!C107)","v":"Р-л Район Крушари"},{"$f":"IF($C18=\"\",\"\",COUNTIFS('Registry Full'!$Q$7:$Q$3006,$C18,'Registry Full'!$D$7:$D$3006,\">=\"&$G$5,'Registry Full'!$D$7:$D$3006,\"<=\"&$K$5))","v":0},{"$f":"IF($C18=\"\",\"\",COUNTIFS('Registry Full'!$Q$7:$Q$3006,$C18,'Registry Full'!$T$7:$T$3006,\"<=\"&$O$5,'Registry Full'!$D$7:$D$3006,\">=\"&$G$5,'Registry Full'!$D$7:$D$3006,\"<=\"&$K$5))","v":0},null,null,{"$f":"\"Без Физ./Юрид. лице: \"&Report1!$D$36-Report4!K17","v":"Без Физ./Юрид. лице: 0"}]
[null,7,{"$f":"IF(Presets!C108=\"\",\"\",Presets!C108)","v":"Р-л Район Балчик"},{"$f":"IF($C19=\"\",\"\",COUNTIFS('Registry Full'!$Q$7:$Q$3006,$C19,'Registry Full'!$D$7:$D$3006,\">=\"&$G$5,'Registry Full'!$D$7:$D$3006,\"<=\"&$K$5))","v":8},{"$f":"IF($C19=\"\",\"\",COUNTIFS('Registry Full'!$Q$7:$Q$3006,$C19,'Registry Full'!$T$7:$T$3006,\"<=\"&$O$5,'Registry Full'!$D$7:$D$3006,\">=\"&$G$5,'Registry Full'!$D$7:$D$3006,\"<=\"&$K$5))","v":7}]
[null,8,{"$f":"IF(Presets!C109=\"\",\"\",Presets!C109)","v":"Р-л Район Каварна"},{"$f":"IF($C20=\"\",\"\",COUNTIFS('Registry Full'!$Q$7:$Q$3006,$C20,'Registry Full'!$D$7:$D$3006,\">=\"&$G$5,'Registry Full'!$D$7:$D$3006,\"<=\"&$K$5))","v":3},{"$f":"IF($C20=\"\",\"\",COUNTIFS('Registry Full'!$Q$7:$Q$3006,$C20,'Registry Full'!$T$7:$T$3006,\"<=\"&$O$5,'Registry Full'!$D$7:$D$3006,\">=\"&$G$5,'Registry Full'!$D$7:$D$3006,\"<=\"&$K$5))","v":2}]
[null,9,{"$f":"IF(Presets!C110=\"\",\"\",Presets!C110)","v":"Р-л Район Шабла"},{"$f":"IF($C21=\"\",\"\",COUNTIFS('Registry Full'!$Q$7:$Q$3006,$C21,'Registry Full'!$D$7:$D$3006,\">=\"&$G$5,'Registry Full'!$D$7:$D$3006,\"<=\"&$K$5))","v":0},{"$f":"IF($C21=\"\",\"\",COUNTIFS('Registry Full'!$Q$7:$Q$3006,$C21,'Registry Full'!$T$7:$T$3006,\"<=\"&$O$5,'Registry Full'!$D$7:$D$3006,\">=\"&$G$5,'Registry Full'!$D$7:$D$3006,\"<=\"&$K$5))","v":0}]
[null,"",{"$f":"IF(Presets!C111=\"\",\"\",Presets!C111)","v":""},{"$f":"IF($C22=\"\",\"\",COUNTIFS('Registry Full'!$Q$7:$Q$3006,$C22,'Registry Full'!$D$7:$D$3006,\">=\"&$G$5,'Registry Full'!$D$7:$D$3006,\"<=\"&$K$5))","v":""},{"$f":"IF($C22=\"\",\"\",COUNTIFS('Registry Full'!$Q$7:$Q$3006,$C22,'Registry Full'!$T$7:$T$3006,\"<=\"&$O$5,'Registry Full'!$D$7:$D$3006,\">=\"&$G$5,'Registry Full'!$D$7:$D$3006,\"<=\"&$K$5))","v":""}]
[null,"",{"$f":"IF(Presets!C112=\"\",\"\",Presets!C112)","v":""},{"$f":"IF($C23=\"\",\"\",COUNTIFS('Registry Full'!$Q$7:$Q$3006,$C23,'Registry Full'!$D$7:$D$3006,\">=\"&$G$5,'Registry Full'!$D$7:$D$3006,\"<=\"&$K$5))","v":""},{"$f":"IF($C23=\"\",\"\",COUNTIFS('Registry Full'!$Q$7:$Q$3006,$C23,'Registry Full'!$T$7:$T$3006,\"<=\"&$O$5,'Registry Full'!$D$7:$D$3006,\">=\"&$G$5,'Registry Full'!$D$7:$D$3006,\"<=\"&$K$5))","v":""}]
[null,"",{"$f":"IF(Presets!C113=\"\",\"\",Presets!C113)","v":""},{"$f":"IF($C24=\"\",\"\",COUNTIFS('Registry Full'!$Q$7:$Q$3006,$C24,'Registry Full'!$D$7:$D$3006,\">=\"&$G$5,'Registry Full'!$D$7:$D$3006,\"<=\"&$K$5))","v":""},{"$f":"IF($C24=\"\",\"\",COUNTIFS('Registry Full'!$Q$7:$Q$3006,$C24,'Registry Full'!$T$7:$T$3006,\"<=\"&$O$5,'Registry Full'!$D$7:$D$3006,\">=\"&$G$5,'Registry Full'!$D$7:$D$3006,\"<=\"&$K$5))","v":""}]
[null,{"$error":"#VALUE!"},{"$f":"IF(Presets!C114=\"\",\"\",Presets!C114)","v":"Управител"},{"$f":"IF($C25=\"\",\"\",COUNTIFS('Registry Full'!$Q$7:$Q$3006,$C25,'Registry Full'!$D$7:$D$3006,\">=\"&$G$5,'Registry Full'!$D$7:$D$3006,\"<=\"&$K$5))","v":8},{"$f":"IF($C25=\"\",\"\",COUNTIFS('Registry Full'!$Q$7:$Q$3006,$C25,'Registry Full'!$T$7:$T$3006,\"<=\"&$O$5,'Registry Full'!$D$7:$D$3006,\">=\"&$G$5,'Registry Full'!$D$7:$D$3006,\"<=\"&$K$5))","v":6}]
[null,{"$error":"#VALUE!"},{"$f":"IF(Presets!C115=\"\",\"\",Presets!C115)","v":"Зам.управител"},{"$f":"IF($C26=\"\",\"\",COUNTIFS('Registry Full'!$Q$7:$Q$3006,$C26,'Registry Full'!$D$7:$D$3006,\">=\"&$G$5,'Registry Full'!$D$7:$D$3006,\"<=\"&$K$5))","v":1},{"$f":"IF($C26=\"\",\"\",COUNTIFS('Registry Full'!$Q$7:$Q$3006,$C26,'Registry Full'!$T$7:$T$3006,\"<=\"&$O$5,'Registry Full'!$D$7:$D$3006,\">=\"&$G$5,'Registry Full'!$D$7:$D$3006,\"<=\"&$K$5))","v":1}]
[null,{"$error":"#VALUE!"},{"$f":"IF(Presets!C116=\"\",\"\",Presets!C116)","v":"Гл.Счетоводител"},{"$f":"IF($C27=\"\",\"\",COUNTIFS('Registry Full'!$Q$7:$Q$3006,$C27,'Registry Full'!$D$7:$D$3006,\">=\"&$G$5,'Registry Full'!$D$7:$D$3006,\"<=\"&$K$5))","v":0},{"$f":"IF($C27=\"\",\"\",COUNTIFS('Registry Full'!$Q$7:$Q$3006,$C27,'Registry Full'!$T$7:$T$3006,\"<=\"&$O$5,'Registry Full'!$D$7:$D$3006,\">=\"&$G$5,'Registry Full'!$D$7:$D$3006,\"<=\"&$K$5))","v":0}]
[null,{"$error":"#VALUE!"},{"$f":"IF(Presets!C117=\"\",\"\",Presets!C117)","v":"Р-л Транспорт+Канализация"},{"$f":"IF($C28=\"\",\"\",COUNTIFS('Registry Full'!$Q$7:$Q$3006,$C28,'Registry Full'!$D$7:$D$3006,\">=\"&$G$5,'Registry Full'!$D$7:$D$3006,\"<=\"&$K$5))","v":0},{"$f":"IF($C28=\"\",\"\",COUNTIFS('Registry Full'!$Q$7:$Q$3006,$C28,'Registry Full'!$T$7:$T$3006,\"<=\"&$O$5,'Registry Full'!$D$7:$D$3006,\">=\"&$G$5,'Registry Full'!$D$7:$D$3006,\"<=\"&$K$5))","v":0}]
[null,{"$error":"#VALUE!"},{"$f":"IF(Presets!C118=\"\",\"\",Presets!C118)","v":"Р-л ПТО"},{"$f":"IF($C29=\"\",\"\",COUNTIFS('Registry Full'!$Q$7:$Q$3006,$C29,'Registry Full'!$D$7:$D$3006,\">=\"&$G$5,'Registry Full'!$D$7:$D$3006,\"<=\"&$K$5))","v":0},{"$f":"IF($C29=\"\",\"\",COUNTIFS('Registry Full'!$Q$7:$Q$3006,$C29,'Registry Full'!$T$7:$T$3006,\"<=\"&$O$5,'Registry Full'!$D$7:$D$3006,\">=\"&$G$5,'Registry Full'!$D$7:$D$3006,\"<=\"&$K$5))","v":0}]
[null,{"$error":"#VALUE!"},{"$f":"IF(Presets!C119=\"\",\"\",Presets!C119)","v":"Р-л Обществени поръчки"},{"$f":"IF($C30=\"\",\"\",COUNTIFS('Registry Full'!$Q$7:$Q$3006,$C30,'Registry Full'!$D$7:$D$3006,\">=\"&$G$5,'Registry Full'!$D$7:$D$3006,\"<=\"&$K$5))","v":0},{"$f":"IF($C30=\"\",\"\",COUNTIFS('Registry Full'!$Q$7:$Q$3006,$C30,'Registry Full'!$T$7:$T$3006,\"<=\"&$O$5,'Registry Full'!$D$7:$D$3006,\">=\"&$G$5,'Registry Full'!$D$7:$D$3006,\"<=\"&$K$5))","v":0}]
[null,"",{"$f":"IF(Presets!C120=\"\",\"\",Presets!C120)","v":""},{"$f":"IF($C31=\"\",\"\",COUNTIFS('Registry Full'!$Q$7:$Q$3006,$C31,'Registry Full'!$D$7:$D$3006,\">=\"&$G$5,'Registry Full'!$D$7:$D$3006,\"<=\"&$K$5))","v":""},{"$f":"IF($C31=\"\",\"\",COUNTIFS('Registry Full'!$Q$7:$Q$3006,$C31,'Registry Full'!$T$7:$T$3006,\"<=\"&$O$5,'Registry Full'!$D$7:$D$3006,\">=\"&$G$5,'Registry Full'!$D$7:$D$3006,\"<=\"&$K$5))","v":""}]
[null,"",{"$f":"IF(Presets!C121=\"\",\"\",Presets!C121)","v":""},{"$f":"IF($C32=\"\",\"\",COUNTIFS('Registry Full'!$Q$7:$Q$3006,$C32,'Registry Full'!$D$7:$D$3006,\">=\"&$G$5,'Registry Full'!$D$7:$D$3006,\"<=\"&$K$5))","v":""},{"$f":"IF($C32=\"\",\"\",COUNTIFS('Registry Full'!$Q$7:$Q$3006,$C32,'Registry Full'!$T$7:$T$3006,\"<=\"&$O$5,'Registry Full'!$D$7:$D$3006,\">=\"&$G$5,'Registry Full'!$D$7:$D$3006,\"<=\"&$K$5))","v":""}]
[null,{"$f":"IF(COUNTBLANK(C33)=0,B32+1,\"\")","v":""},{"$f":"IF(Presets!C122=\"\",\"\",Presets!C122)","v":""},{"$f":"IF($C33=\"\",\"\",COUNTIFS('Registry Full'!$Q$7:$Q$3006,$C33,'Registry Full'!$D$7:$D$3006,\">=\"&$G$5,'Registry Full'!$D$7:$D$3006,\"<=\"&$K$5))","v":""},{"$f":"IF($C33=\"\",\"\",COUNTIFS('Registry Full'!$Q$7:$Q$3006,$C33,'Registry Full'!$T$7:$T$3006,\"<=\"&$O$5,'Registry Full'!$D$7:$D$3006,\">=\"&$G$5,'Registry Full'!$D$7:$D$3006,\"<=\"&$K$5))","v":""}]
[null,"",{"$f":"IF(Presets!C123=\"\",\"\",Presets!C123)","v":""},{"$f":"IF($C34=\"\",\"\",COUNTIFS('Registry Full'!$Q$7:$Q$3006,$C34,'Registry Full'!$D$7:$D$3006,\">=\"&$G$5,'Registry Full'!$D$7:$D$3006,\"<=\"&$K$5))","v":""},{"$f":"IF($C34=\"\",\"\",COUNTIFS('Registry Full'!$Q$7:$Q$3006,$C34,'Registry Full'!$T$7:$T$3006,\"<=\"&$O$5,'Registry Full'!$D$7:$D$3006,\">=\"&$G$5,'Registry Full'!$D$7:$D$3006,\"<=\"&$K$5))","v":""}]
[null,null,"Всичко",{"$f":"SUM(D13:D33)","v":54},{"$f":"SUM(E13:E33)","v":47}]
[null,{"$f":"\"Невъзложени жалби: \"&Report1!$D$36-Report4!D35","v":"Невъзложени жалби: 1"}]

{"sheet":"Presets","index":6,"n_rows":119,"n_cols":3,"rows_kept":119}
[]
[null,null,"Получено/ препратено от:"]
[null,{"$f":"COUNTA(C3:C13)","v":9},"Потребител"]
[null,null,"Оператор"]
[null,null,"КЕВР"]
[null,null,"КЗК"]
[null,null,"КЗП"]
[null,null,"МРРБ"]
[null,null,"МОСВ"]
[null,null,"Омбудсман"]
[null,null,"Друго"]
[]
[]
[]
[]
[null,null,"Физическо/юридическо лице"]
[null,{"$f":"COUNTA(C17:C20)","v":2},"ФЛ"]
[null,null,"ЮЛ"]
[]
[]
[]
[]
[null,null,"Тип жалба"]
[null,{"$f":"COUNTA(C24:C29)","v":4},"Писмена"]
[null,null,"Електронна"]
[null,null,"По телефона"]
[null,null,"\"Лице в лице\""]
[]
[]
[]
[]
[null,null,"Тип на оплакването"]
[null,{"$f":"COUNTA(C33:C55)","v":22},"Присъединяване"]
[null,null,"Прекъсване на услугата"]
[null,null,"Липса на вода"]
[null,null,"Проблеми с налягане"]
[null,null,"Лошо качество вода"]
[null,null,"Течове"]
[null,null,"Щети от авария"]
[null,null,"Проверка водомер"]
[null,null,"Грешка в отчитане"]
[null,null,"Неправилно начисляване"]
[null,null,"Разпределение обща вода"]
[null,null,"Грешка в сумата"]
[null,null,"Некачествен ремонт водопр."]
[null,null,"Друго по водоснабдяване"]
[null,null,"Запушване на канализация"]
[null,null,"Наводняване от отпад. води"]
[null,null,"Наводняване от дъжд. води"]
[null,null,"Некачествен ремонт канал"]
[null,null,"Друго по канализация"]
[null,null,"Проблеми с ПСОВ"]
[null,null,"Спорове по ЗОП"]
[null,null,"Друго"]
[]
[]
[]
[null,null,"Резолюция"]
[null,{"$f":"COUNTA(C59:C62)","v":2},"Да"]
[null,null,"Не"]
[]
[]
[]
[]
[null,null,"Статус"]
[null,{"$f":"COUNTA(C66:C75)","v":8},"Препратено"]
[null,null,"Прекратено"]
[null,null,"Даден ход"]
[null,null,"Проучване"]
[null,null,"Оглед"]
[null,null,"Анализ"]
[null,null,"За решение"]
[null,null,"Приключило"]
[]
[]
[]
[]
[null,null,"Експлоатационен район"]
[null,{"$f":"COUNTA(C79:C99)","v":8},"Добрич град"]
[null,null,"Добрич селски район"]
[null,null,"Тервел"]
[null,null,"Генерал Тошево"]
[null,null,"Крушари"]
[null,null,"Балчик"]
[null,null,"Каварна"]
[null,null,"Шабла"]
{"$rows_empty":14}
[null,null,"Длъжност"]
[null,{"$f":"COUNTA(C102:C127)","v":15}," "]
[null,null,"Р-л Район Добрич 1"]
[null,null,"Р-л Район Добрич 2"]
[null,null,"Р-л Район Тервел"]
[null,null,"Р-л Район Генерал Тошево"]
[null,null,"Р-л Район Крушари"]
[null,null,"Р-л Район Балчик"]
[null,null,"Р-л Район Каварна"]
[null,null,"Р-л Район Шабла"]
[]
[]
[]
[null,null,"Управител"]
[null,null,"Зам.управител"]
[null,null,"Гл.Счетоводител"]
[null,null,"Р-л Транспорт+Канализация"]
[null,null,"Р-л ПТО"]
[null,null,"Р-л Обществени поръчки"]

{"sheet":"Instruction","index":7,"n_rows":66,"n_cols":3,"rows_kept":66}
[]
["Инструкции за попълване на регистъра на клиентските оплаквания/жалби:"]
[1,"Пореден номер на постъпилото оплакване - системата автоматично ще го задава"]
[2,"Попълва се краткото наименование на институцията/организацията, от която е препратено оплакването, като възможните опции за избор от падащо меню са:"]
[null,null,"Потребител"]
[null,null,"Оператор"]
[null,null,"КЕВР"]
[null,null,"КЗК"]
[null,null,"КЗП"]
[null,null,"МРРБ"]
[null,null,"МОСВ"]
[null,null,"Омбудсман"]
[null,null,"Друго"]
[3,"Попълва се входящият номер/дата от деловодителската програма на съответната администрация."]
[4,"Датата, на която е входиране оплакването/жалбата в деловодителската програма на съответната администрация - системата го пресмята автоматично"]
[5,"Попълват се имената / наименованието на подателя на оплакването/жалбата"]
[6,"Отбелязва се дали подателят е юридическо или физическо лице - чрез възможност за избор от падащо меню"]
[7,"Отбелязва се типът на оплакването/жалбата, като възможните опции за избор от падащо меню са:"]
[null,null,"Писмена"]
[null,null,"Електронна"]
[null,null,"По телефона"]
[null,null,"\"Лице в лице\""]
[8,"Отбелязва се типа на оплакването/жалбата (естеството на проблема, предмет на оплакването/жалбата), като възможните опции за избор от падащо меню са:"]
[null,null,"Присъединяване"]
[null,null,"Прекъсване на услугата"]
[null,null,"Липса на вода"]
[null,null,"Проблеми с налягане"]
[null,null,"Лошо качество вода"]
[null,null,"Течове"]
[null,null,"Щети от авария"]
[null,null,"Проверка водомер"]
[null,null,"Грешка в отчитане"]
[null,null,"Неправилно начисляване"]
[null,null,"Разпред.обща вода"]
[null,null,"Грешка в сумата"]
[null,null,"Некачествен ремонт водопр."]
[null,null,"Друго по водоснабдяване"]
[null,null,"Запушване на канализация"]
[null,null,"Наводняване от отпад. води"]
[null,null,"Наводняване от дъжд. води"]
[null,null,"Некачествен ремонт канал"]
[null,null,"Друго по канализация"]
[null,null,"Друго по канализация"]
[null,null,"Спорове по ЗОП"]
[null,null,"Друго"]
["от 9 до 13","Попълват се данните за точното местонахождение на проблема "]
["от 14 до 15","Попълва се информация за резолюцията (да/не) и датата"]
[16,"Попълва се информация за статуса на оплакването/жалбата, като възможните опции за избор от падащо меню са (статусът е динамичен, като се актуализира в хода на обработка на оплакването/жалбата): "]
[null,null,"Препратено"]
[null,null,"Прекратено"]
[null,null,"Даден ход"]
[null,null,"Проучване"]
[null,null,"Оглед"]
[null,null,"Анализ"]
[null,null,"За решение"]
[null,null,"Приключило"]
[17,"Попълва се водещата длъжност, на което е възложено да обработи оплакването/жалбата"]
[18,"Попълва се изходящият номер от деловодителската програма на съответната администрация, с който е изпратен отговора (или съотв. номер на протокол за постигане на съгласие)"]
[19,"Попълва се датата на изпращане на отговора към жалбоподателя (или датата на подпиване на протокола за съгласие)"]
[20,"Системата автоматично изчислява броят дни, които са изминали от датата на входиране на жалбата (колонка 4) до датата на отговора (колонка 19). В случай, че на жалбата не е отговорено, се изчислява броят дни до настоящия момент."]
[21,"Попълва се наименованието на институцията, към която е препратено оплакването/жалбата"]
[22,"Попълва се входящият номер/дата от деловодителската програма на институцията, към която е препратена жалбата"]
[23,"Описват се необходимите последващи действия за отстраняване/разрешаване на проблема, предмет на оплакването."]
[24,"Попълва се крайният срок (датата) за разрешаване на проблема, ако се налагат последващи действия."]
[25,"Попълва се датата на документираното разрешаване на проблема"]
[26,"Системата изчислява автоматично броят дни от датата на входиране (колонка 4) до датата на разрешаване на проблема (колонка 25)"]

{"sheet":"Charts","index":8,"n_rows":103,"n_cols":53,"rows_kept":103,"merged":[[0,0,0,17],[1,0,1,17],[2,0,2,17],[3,19,3,21],[4,6,4,7],[4,10,4,11],[4,19,4,21]]}
["ДИАГРАМИ"]
["за постъпили и обработени жалби от потребители на В и К услуги"]
[{"$f":"\"на територията на Асоциация по В и К - \"&Title!$A$14","v":"на територията на Асоциация по В и К - ДОБРИЧ"}]
[{"$nulls":19},"Покажи диаграмите:",{"$nulls":32},"С период"]
[{"$nulls":5},"от дата:",{"$f":"Report2!F5","v":"2021-01-01"},null,null,"до дата:",{"$f":"Report2!J5","v":"2021-12-31"},{"$nulls":8},"С период",{"$nulls":32},"Без период"]
[]
[]
[null,{"$f":"\"Подадени жалби по институция \"&IF($T$5=$BA$4,\"\nот \"&TEXT($G$5,\"d.m.yyyy\")&\" до \"&TEXT($K$5,\"d.m.yyyy\"),\"\")","v":"Подадени жалби по институция \nот 1.1.2021 до 31.12.2021"},{"$nulls":8},{"$f":"\"Подадени жалби по статус \"&IF($T$5=$BA$4,\"\nот \"&TEXT($G$5,\"d.m.yyyy\")&\" до \"&TEXT($K$5,\"d.m.yyyy\"),\"\")","v":"Подадени жалби по статус \nот 1.1.2021 до 31.12.2021"}]
{"$rows_empty":19}
[null,{"$f":"\"Подадени жалби по вид услуга \"&IF($T$5=$BA$4,\"\nот \"&TEXT($G$5,\"d.m.yyyy\")&\" до \"&TEXT($K$5,\"d.m.yyyy\"),\"\")","v":"Подадени жалби по вид услуга \nот 1.1.2021 до 31.12.2021"},{"$nulls":8},{"$f":"\"Подадени жалби по физ./юрид.лице \"&IF($T$5=$BA$4,\"\nот \"&TEXT($G$5,\"d.m.yyyy\")&\" до \"&TEXT($K$5,\"d.m.yyyy\"),\"\")","v":"Подадени жалби по физ./юрид.лице \nот 1.1.2021 до 31.12.2021"}]
[]
[null,"Водоснабдяване",null,{"$f":"Report1!D14+Report1!D15+Report1!D16+Report1!D17+Report1!D18+Report1!D19+Report1!D25+Report1!D26","v":38}]
[null,"Канализация",null,{"$f":"Report1!D27+Report1!D28+Report1!D29+Report1!D30+Report1!D31","v":9}]
[null,"Пречистване",null,{"$f":"Report1!D32","v":0}]
[null,"Присъединяване",null,{"$f":"Report1!D13","v":0}]
[null,"Отчитане и фактуриране",null,{"$f":"Report1!D20+Report1!D21+Report1!D22+Report1!D23+Report1!D24","v":5}]
[null,"Друго (+ЗОП)",null,{"$f":"Report1!D33+Report1!D34","v":3}]
[null,"Всичко",null,{"$f":"SUM(D30:D35)","v":55}]
{"$rows_empty":12}
[null,null,{"$f":"\"Подадени жалби по тип на оплакването \"&IF($T$5=$BA$4,\"\nот \"&TEXT($G$5,\"d.m.yyyy\")&\" до \"&TEXT($K$5,\"d.m.yyyy\"),\"\")","v":"Подадени жалби по тип на оплакването \nот 1.1.2021 до 31.12.2021"}]
{"$rows_empty":41}
[null,null,{"$f":"\"Подадени жалби по експлоатационни райони \"&IF($T$5=$BA$4,\"\nот \"&TEXT($G$5,\"d.m.yyyy\")&\" до \"&TEXT($K$5,\"d.m.yyyy\"),\"\")","v":"Подадени жалби по експлоатационни райони \nот 1.1.2021 до 31.12.2021"}]
[]
[]
[]
[]
[null,null,{"$f":"Report3!D11","v":"Добрич град"},{"$f":"Report3!E11","v":"Добрич селски район"},{"$f":"Report3!F11","v":"Тервел"},{"$f":"Report3!G11","v":"Генерал Тошево"},{"$f":"Report3!H11","v":"Крушари"},{"$f":"Report3!I11","v":"Балчик"},{"$f":"Report3!J11","v":"Каварна"},{"$f":"Report3!K11","v":"Шабла"},{"$f":"Report3!L11","v":0},{"$f":"Report3!M11","v":0},{"$f":"Report3!N11","v":0},{"$f":"Report3!O11","v":0},{"$f":"Report3!P10","v":"Без Експл. район"},"Всичко"]
[null,"Водоснабдяване",{"$f":"Report3!D14+Report3!D15+Report3!D16+Report3!D17+Report3!D18+Report3!D19+Report3!D25+Report3!D26","v":11},{"$f":"Report3!E14+Report3!E15+Report3!E16+Report3!E17+Report3!E18+Report3!E19+Report3!E25+Report3!E26","v":15},{"$f":"Report3!F14+Report3!F15+Report3!F16+Report3!F17+Report3!F18+Report3!F19+Report3!F25+Report3!F26","v":1},{"$f":"Report3!G14+Report3!G15+Report3!G16+Report3!G17+Report3!G18+Report3!G19+Report3!G25+Report3!G26","v":2},{"$f":"Report3!H14+Report3!H15+Report3!H16+Report3!H17+Report3!H18+Report3!H19+Report3!H25+Report3!H26","v":0},{"$f":"Report3!I14+Report3!I15+Report3!I16+Report3!I17+Report3!I18+Report3!I19+Report3!I25+Report3!I26","v":6},{"$f":"Report3!J14+Report3!J15+Report3!J16+Report3!J17+Report3!J18+Report3!J19+Report3!J25+Report3!J26","v":3},{"$f":"Report3!K14+Report3!K15+Report3!K16+Report3!K17+Report3!K18+Report3!K19+Report3!K25+Report3!K26","v":0},{"$f":"Report3!L14+Report3!L15+Report3!L16+Report3!L17+Report3!L18+Report3!L19+Report3!L25+Report3!L26","v":0},{"$f":"Report3!M14+Report3!M15+Report3!M16+Report3!M17+Report3!M18+Report3!M19+Report3!M25+Report3!M26","v":0},{"$f":"Report3!N14+Report3!N15+Report3!N16+Report3!N17+Report3!N18+Report3!N19+Report3!N25+Report3!N26","v":0},{"$f":"Report3!O14+Report3!O15+Report3!O16+Report3!O17+Report3!O18+Report3!O19+Report3!O25+Report3!O26","v":0},{"$f":"Report3!P14+Report3!P15+Report3!P16+Report3!P17+Report3!P18+Report3!P19+Report3!P25+Report3!P26","v":0},{"$f":"SUM(C97:O97)","v":38}]
[null,"Канализация",{"$f":"Report3!D27+Report3!D28+Report3!D29+Report3!D30+Report3!D31","v":9},{"$f":"Report3!E27+Report3!E28+Report3!E29+Report3!E30+Report3!E31","v":0},{"$f":"Report3!F27+Report3!F28+Report3!F29+Report3!F30+Report3!F31","v":0},{"$f":"Report3!G27+Report3!G28+Report3!G29+Report3!G30+Report3!G31","v":0},{"$f":"Report3!H27+Report3!H28+Report3!H29+Report3!H30+Report3!H31","v":0},{"$f":"Report3!I27+Report3!I28+Report3!I29+Report3!I30+Report3!I31","v":0},{"$f":"Report3!J27+Report3!J28+Report3!J29+Report3!J30+Report3!J31","v":0},{"$f":"Report3!K27+Report3!K28+Report3!K29+Report3!K30+Report3!K31","v":0},{"$f":"Report3!L27+Report3!L28+Report3!L29+Report3!L30+Report3!L31","v":0},{"$f":"Report3!M27+Report3!M28+Report3!M29+Report3!M30+Report3!M31","v":0},{"$f":"Report3!N27+Report3!N28+Report3!N29+Report3!N30+Report3!N31","v":0},{"$f":"Report3!O27+Report3!O28+Report3!O29+Report3!O30+Report3!O31","v":0},{"$f":"Report3!P27+Report3!P28+Report3!P29+Report3!P30+Report3!P31","v":0},{"$f":"SUM(C98:O98)","v":9}]
[null,"Пречистване",{"$f":"Report3!D32","v":0},{"$f":"Report3!E32","v":0},{"$f":"Report3!F32","v":0},{"$f":"Report3!G32","v":0},{"$f":"Report3!H32","v":0},{"$f":"Report3!I32","v":0},{"$f":"Report3!J32","v":0},{"$f":"Report3!K32","v":0},{"$f":"Report3!L32","v":0},{"$f":"Report3!M32","v":0},{"$f":"Report3!N32","v":0},{"$f":"Report3!O32","v":0},{"$f":"Report3!P32","v":0},0]
[null,"Присъединяване",{"$f":"Report3!D13","v":0},{"$f":"Report3!E13","v":0},{"$f":"Report3!F13","v":0},{"$f":"Report3!G13","v":0},{"$f":"Report3!H13","v":0},{"$f":"Report3!I13","v":0},{"$f":"Report3!J13","v":0},{"$f":"Report3!K13","v":0},{"$f":"Report3!L13","v":0},{"$f":"Report3!M13","v":0},{"$f":"Report3!N13","v":0},{"$f":"Report3!O13","v":0},{"$f":"Report3!P13","v":0},0]
[null,"Отчитане и фактуриране",{"$f":"Report3!D20+Report3!D21+Report3!D22+Report3!D23+Report3!D24","v":2},{"$f":"Report3!E20+Report3!E21+Report3!E22+Report3!E23+Report3!E24","v":0},{"$f":"Report3!F20+Report3!F21+Report3!F22+Report3!F23+Report3!F24","v":0},{"$f":"Report3!G20+Report3!G21+Report3!G22+Report3!G23+Report3!G24","v":1},{"$f":"Report3!H20+Report3!H21+Report3!H22+Report3!H23+Report3!H24","v":0},{"$f":"Report3!I20+Report3!I21+Report3!I22+Report3!I23+Report3!I24","v":2},{"$f":"Report3!J20+Report3!J21+Report3!J22+Report3!J23+Report3!J24","v":0},{"$f":"Report3!K20+Report3!K21+Report3!K22+Report3!K23+Report3!K24","v":0},{"$f":"Report3!L20+Report3!L21+Report3!L22+Report3!L23+Report3!L24","v":0},{"$f":"Report3!M20+Report3!M21+Report3!M22+Report3!M23+Report3!M24","v":0},{"$f":"Report3!N20+Report3!N21+Report3!N22+Report3!N23+Report3!N24","v":0},{"$f":"Report3!O20+Report3!O21+Report3!O22+Report3!O23+Report3!O24","v":0},{"$f":"Report3!P20+Report3!P21+Report3!P22+Report3!P23+Report3!P24","v":0},5]
[null,"Друго (+ЗОП)",{"$f":"Report3!D33+Report3!D34","v":3},{"$f":"Report3!E33+Report3!E34","v":0},{"$f":"Report3!F33+Report3!F34","v":0},{"$f":"Report3!G33+Report3!G34","v":0},{"$f":"Report3!H33+Report3!H34","v":0},{"$f":"Report3!I33+Report3!I34","v":0},{"$f":"Report3!J33+Report3!J34","v":0},{"$f":"Report3!K33+Report3!K34","v":0},{"$f":"Report3!L33+Report3!L34","v":0},{"$f":"Report3!M33+Report3!M34","v":0},{"$f":"Report3!N33+Report3!N34","v":0},{"$f":"Report3!O33+Report3!O34","v":0},{"$f":"Report3!P33+Report3!P34","v":0},3]
[null,"Всичко",{"$f":"SUM(C97:C102)","v":25},{"$f":"SUM(D97:D102)","v":15},1,3,0,8,3,0,0,0,0,0,0,{"$f":"SUM(P97:P102)","v":55}]